{"text_format":"1","workbook":"xlsx","n_sheets":13,"sheets":["Notes","CDI Data and Charts","ECOLI Data and Charts","SAB Data and Charts","SSI Data and Charts","ECOLI data","SSI data","SAB data","CDI data","year end comp","quarter comp","data for u-p-charts","trend data"],"not_rendered":{"charts":14,"images":0,"macros":1,"external_links":0,"defined_names":4,"comments":0,"pivot_tables":0},"unopened":[],"bounds":{"document_bytes":16777216,"sheet_cells":100000,"rows_first":2000,"rows_last":500,"rows_between":2000,"halvings":0,"cell_chars":16384,"cell_head_chars":4096},"cells_cut":0,"cells_raw":0,"read":"whole","date_system":"1900"}

{"sheet":"Notes","index":0,"n_rows":16,"n_cols":1,"rows_kept":16,"cut":false,"hidden":false,"merged":[]}
["Scotland"]
["Ayrshire & Arran"]
["Borders"]
["Dumfries & Galloway"]
["Fife"]
["Forth Valley"]
["Golden Jubilee"]
["Grampian"]
["Greater Glasgow & Clyde"]
["Highland"]
["Lanarkshire"]
["Lothian"]
["Orkney"]
["Shetland"]
["Tayside"]
["Western Isles"]

{"sheet":"CDI Data and Charts","index":1,"n_rows":50,"n_cols":15,"rows_kept":50,"cut":false,"hidden":false,"merged":[]}
[null,"Scotland",null,null,null,null,null,null,null,null,{"$f":"CONCATENATE(\"Healthcare and community rates for \",B1)","v":"Healthcare and community rates for Scotland"}]
[null,null,null,null,null,null,null,null,null,null,null,"CDIHCAI ",null,"CDICA "]
[null,null,null,"Healthcare associated CDI",null,null,"Community associated CDI ",null,null,null,null,"Healthcare associated CDI",null,"Community associated CDI "]
[null,"Quarter Ending","Cases","Rate per 100 000 bed days","95% CI","Cases","Rate per 100 000 population","95% CI",null,null,null,"% change",null,"% change"]
[null,{"$f":"'CDI data'!B8","v":"2014-12-19"},{"$f":"'CDI data'!D8","v":321},{"$f":"'CDI data'!E8","v":18.751999999999999},{"$f":"CONCATENATE(\"(\",TEXT('CDI data'!F8,\"0.0\"),\" ,\", TEXT('CDI data'!G8,\"0.0\"),\")\")","v":"(16.8 ,20.9)"},{"$f":"'CDI data'!H8","v":121},{"$f":"'CDI data'!I8","v":9.0039999999999996},{"$f":"IFERROR(CONCATENATE(\"(\",TEXT('CDI data'!J8,\"0.0\"),\" ,\", TEXT('CDI data'!K8,\"0.0\"),\")\"),\"-\")","v":"(7.5 ,10.8)"},null,null,"This quarter compared to last (national only)",{"$f":"IFERROR(VLOOKUP(CONCATENATE(L2,$B$1),'quarter comp'!$A1:$H21,4,FALSE),\"-\")","v":-3.5308935858097201},{"$f":"IFERROR(VLOOKUP(CONCATENATE(L2,$B$1),'quarter comp'!$A1:$H21,8,FALSE),\"-\")","v":"Non Significant"},{"$f":"IFERROR(VLOOKUP(CONCATENATE(N2,$B$1),'quarter comp'!$A1:$H21,4,FALSE),\"-\")","v":6.6031746031746099},{"$f":"IFERROR(VLOOKUP(CONCATENATE(N2,$B$1),'quarter comp'!$A1:$H21,8,FALSE),\"-\")","v":"Non Significant"}]
[null,{"$f":"'CDI data'!B9","v":"2015-03-24"},{"$f":"'CDI data'!D9","v":251},{"$f":"'CDI data'!E9","v":14.561999999999999},{"$f":"CONCATENATE(\"(\",TEXT('CDI data'!F9,\"0.0\"),\" ,\", TEXT('CDI data'!G9,\"0.0\"),\")\")","v":"(12.8 ,16.5)"},{"$f":"'CDI data'!H9","v":92},{"$f":"'CDI data'!I9","v":6.9729999999999999},{"$f":"IFERROR(CONCATENATE(\"(\",TEXT('CDI data'!J9,\"0.0\"),\" ,\", TEXT('CDI data'!K9,\"0.0\"),\")\"),\"-\")","v":"(5.6 ,8.6)"},null,null,"Year end compared to previous year end ",{"$f":"IF(IFERROR(VLOOKUP(CONCATENATE(L2,$B$1),'year end comp'!$A$2:$Z$1086,4,FALSE),\"-\")=-100,\"-\",IFERROR(VLOOKUP(CONCATENATE(L2,$B$1),'year end comp'!$A$2:$Z$1086,4,FALSE),\"-\"))","v":-12.7203201265866},{"$f":"IF(IFERROR(VLOOKUP(CONCATENATE(L2,$B$1),'year end comp'!$A$2:$Z$1086,8,FALSE),\"-\")=0,\"-\",IFERROR(VLOOKUP(CONCATENATE(L2,$B$1),'year end comp'!$A$2:$Z$1086,8,FALSE),\"-\"))","v":"Significant"},{"$f":"IFERROR(VLOOKUP(CONCATENATE(N2,$B$1),'year end comp'!$A$2:$Z$1086,4,FALSE),\"-\")","v":-13.7931034482759},{"$f":"IF(IFERROR(VLOOKUP(CONCATENATE(N2,$B$1),'year end comp'!$A$2:$Z$1086,8,FALSE),\"-\")=0,\"-\",IFERROR(VLOOKUP(CONCATENATE(N2,$B$1),'year end comp'!$A$2:$Z$1086,8,FALSE),\"-\"))","v":"Non Significant"}]
[null,{"$f":"'CDI data'!B10","v":"2015-06-24"},{"$f":"'CDI data'!D10","v":308},{"$f":"'CDI data'!E10","v":18.538},{"$f":"CONCATENATE(\"(\",TEXT('CDI data'!F10,\"0.0\"),\" ,\", TEXT('CDI data'!G10,\"0.0\"),\")\")","v":"(16.5 ,20.7)"},{"$f":"'CDI data'!H10","v":98},{"$f":"'CDI data'!I10","v":7.3460000000000001},{"$f":"IFERROR(CONCATENATE(\"(\",TEXT('CDI data'!J10,\"0.0\"),\" ,\", TEXT('CDI data'!K10,\"0.0\"),\")\"),\"-\")","v":"(6.0 ,9.0)"}]
[null,{"$f":"'CDI data'!B11","v":"2015-09-24"},{"$f":"'CDI data'!D11","v":313},{"$f":"'CDI data'!E11","v":19.309999999999999},{"$f":"CONCATENATE(\"(\",TEXT('CDI data'!F11,\"0.0\"),\" ,\", TEXT('CDI data'!G11,\"0.0\"),\")\")","v":"(17.2 ,21.6)"},{"$f":"'CDI data'!H11","v":131},{"$f":"'CDI data'!I11","v":9.7129999999999992},{"$f":"IFERROR(CONCATENATE(\"(\",TEXT('CDI data'!J11,\"0.0\"),\" ,\", TEXT('CDI data'!K11,\"0.0\"),\")\"),\"-\")","v":"(8.1 ,11.5)"}]
[null,{"$f":"'CDI data'!B12","v":"2015-12-24"},{"$f":"'CDI data'!D12","v":367},{"$f":"'CDI data'!E12","v":22.349},{"$f":"CONCATENATE(\"(\",TEXT('CDI data'!F12,\"0.0\"),\" ,\", TEXT('CDI data'!G12,\"0.0\"),\")\")","v":"(20.1 ,24.8)"},{"$f":"'CDI data'!H12","v":116},{"$f":"'CDI data'!I12","v":8.6010000000000009},{"$f":"IFERROR(CONCATENATE(\"(\",TEXT('CDI data'!J12,\"0.0\"),\" ,\", TEXT('CDI data'!K12,\"0.0\"),\")\"),\"-\")","v":"(7.1 ,10.3)"}]
[null,{"$f":"'CDI data'!B13","v":"2016-03-24"},{"$f":"'CDI data'!D13","v":252},{"$f":"'CDI data'!E13","v":15.05},{"$f":"CONCATENATE(\"(\",TEXT('CDI data'!F13,\"0.0\"),\" ,\", TEXT('CDI data'!G13,\"0.0\"),\")\")","v":"(13.2 ,17.0)"},{"$f":"'CDI data'!H13","v":97},{"$f":"'CDI data'!I13","v":7.26},{"$f":"IFERROR(CONCATENATE(\"(\",TEXT('CDI data'!J13,\"0.0\"),\" ,\", TEXT('CDI data'!K13,\"0.0\"),\")\"),\"-\")","v":"(5.9 ,8.9)"}]
[null,{"$f":"'CDI data'!B14","v":"2016-06-24"},{"$f":"'CDI data'!D14","v":250},{"$f":"'CDI data'!E14","v":15.574999999999999},{"$f":"CONCATENATE(\"(\",TEXT('CDI data'!F14,\"0.0\"),\" ,\", TEXT('CDI data'!G14,\"0.0\"),\")\")","v":"(13.7 ,17.6)"},{"$f":"'CDI data'!H14","v":91},{"$f":"'CDI data'!I14","v":6.8109999999999999},{"$f":"IFERROR(CONCATENATE(\"(\",TEXT('CDI data'!J14,\"0.0\"),\" ,\", TEXT('CDI data'!K14,\"0.0\"),\")\"),\"-\")","v":"(5.5 ,8.4)"}]
[null,{"$f":"'CDI data'!B15","v":"2016-09-24"},{"$f":"'CDI data'!D15","v":263},{"$f":"'CDI data'!E15","v":16.562999999999999},{"$f":"CONCATENATE(\"(\",TEXT('CDI data'!F15,\"0.0\"),\" ,\", TEXT('CDI data'!G15,\"0.0\"),\")\")","v":"(14.6 ,18.7)"},{"$f":"'CDI data'!H15","v":119},{"$f":"'CDI data'!I15","v":8.81},{"$f":"IFERROR(CONCATENATE(\"(\",TEXT('CDI data'!J15,\"0.0\"),\" ,\", TEXT('CDI data'!K15,\"0.0\"),\")\"),\"-\")","v":"(7.3 ,10.5)"}]
[null,{"$f":"'CDI data'!B16","v":"2016-12-24"},{"$f":"'CDI data'!D16","v":233},{"$f":"'CDI data'!E16","v":14.638999999999999},{"$f":"CONCATENATE(\"(\",TEXT('CDI data'!F16,\"0.0\"),\" ,\", TEXT('CDI data'!G16,\"0.0\"),\")\")","v":"(12.8 ,16.6)"},{"$f":"'CDI data'!H16","v":94},{"$f":"'CDI data'!I16","v":6.9589999999999996},{"$f":"IFERROR(CONCATENATE(\"(\",TEXT('CDI data'!J16,\"0.0\"),\" ,\", TEXT('CDI data'!K16,\"0.0\"),\")\"),\"-\")","v":"(5.6 ,8.5)"}]
[null,{"$f":"'CDI data'!B17","v":"2017-03-01"},{"$f":"'CDI data'!D17","v":257},{"$f":"'CDI data'!E17","v":16.251999999999999},{"$f":"CONCATENATE(\"(\",TEXT('CDI data'!F17,\"0.0\"),\" ,\", TEXT('CDI data'!G17,\"0.0\"),\")\")","v":"(14.3 ,18.4)"},{"$f":"'CDI data'!H17","v":74},{"$f":"'CDI data'!I17","v":5.57},{"$f":"IFERROR(CONCATENATE(\"(\",TEXT('CDI data'!J17,\"0.0\"),\" ,\", TEXT('CDI data'!K17,\"0.0\"),\")\"),\"-\")","v":"(4.4 ,7.0)"}]
[null,{"$f":"'CDI data'!B18","v":"2017-06-01"},{"$f":"'CDI data'!D18","v":237},{"$f":"'CDI data'!E18","v":15.285},{"$f":"CONCATENATE(\"(\",TEXT('CDI data'!F18,\"0.0\"),\" ,\", TEXT('CDI data'!G18,\"0.0\"),\")\")","v":"(13.4 ,17.4)"},{"$f":"'CDI data'!H18","v":101},{"$f":"'CDI data'!I18","v":7.5179999999999998},{"$f":"IFERROR(CONCATENATE(\"(\",TEXT('CDI data'!J18,\"0.0\"),\" ,\", TEXT('CDI data'!K18,\"0.0\"),\")\"),\"-\")","v":"(6.1 ,9.1)"}]
[null,{"$f":"'CDI data'!B19","v":"2017-09-01"},{"$f":"'CDI data'!D19","v":284},{"$f":"'CDI data'!E19","v":18.456},{"$f":"CONCATENATE(\"(\",TEXT('CDI data'!F19,\"0.0\"),\" ,\", TEXT('CDI data'!G19,\"0.0\"),\")\")","v":"(16.4 ,20.7)"},{"$f":"'CDI data'!H19","v":107},{"$f":"'CDI data'!I19","v":7.8789999999999996},{"$f":"IFERROR(CONCATENATE(\"(\",TEXT('CDI data'!J19,\"0.0\"),\" ,\", TEXT('CDI data'!K19,\"0.0\"),\")\"),\"-\")","v":"(6.5 ,9.5)"}]
[null,{"$f":"'CDI data'!B20","v":"2017-12-01"},{"$f":"'CDI data'!D20","v":234},{"$f":"'CDI data'!E20","v":14.856999999999999},{"$f":"CONCATENATE(\"(\",TEXT('CDI data'!F20,\"0.0\"),\" ,\", TEXT('CDI data'!G20,\"0.0\"),\")\")","v":"(13.0 ,16.9)"},{"$f":"'CDI data'!H20","v":75},{"$f":"'CDI data'!I20","v":5.5220000000000002},{"$f":"IFERROR(CONCATENATE(\"(\",TEXT('CDI data'!J20,\"0.0\"),\" ,\", TEXT('CDI data'!K20,\"0.0\"),\")\"),\"-\")","v":"(4.3 ,6.9)"}]
[null,{"$f":"'CDI data'!B21","v":"2018-03-01"},{"$f":"'CDI data'!D21","v":228},{"$f":"'CDI data'!E21","v":14.382999999999999},{"$f":"CONCATENATE(\"(\",TEXT('CDI data'!F21,\"0.0\"),\" ,\", TEXT('CDI data'!G21,\"0.0\"),\")\")","v":"(12.6 ,16.4)"},{"$f":"'CDI data'!H21","v":86},{"$f":"'CDI data'!I21","v":6.468},{"$f":"IFERROR(CONCATENATE(\"(\",TEXT('CDI data'!J21,\"0.0\"),\" ,\", TEXT('CDI data'!K21,\"0.0\"),\")\"),\"-\")","v":"(5.2 ,8.0)"}]
[null,{"$f":"'CDI data'!B22","v":"2018-06-01"},{"$f":"'CDI data'!D22","v":244},{"$f":"'CDI data'!E22","v":15.996},{"$f":"CONCATENATE(\"(\",TEXT('CDI data'!F22,\"0.0\"),\" ,\", TEXT('CDI data'!G22,\"0.0\"),\")\")","v":"(14.1 ,18.1)"},{"$f":"'CDI data'!H22","v":102},{"$f":"'CDI data'!I22","v":7.5869999999999997},{"$f":"IFERROR(CONCATENATE(\"(\",TEXT('CDI data'!J22,\"0.0\"),\" ,\", TEXT('CDI data'!K22,\"0.0\"),\")\"),\"-\")","v":"(6.2 ,9.2)"}]
[null,{"$f":"'CDI data'!B23","v":"2018-09-01"},{"$f":"'CDI data'!D23","v":255},{"$f":"'CDI data'!E23","v":16.869},{"$f":"CONCATENATE(\"(\",TEXT('CDI data'!F23,\"0.0\"),\" ,\", TEXT('CDI data'!G23,\"0.0\"),\")\")","v":"(14.9 ,19.1)"},{"$f":"'CDI data'!H23","v":92},{"$f":"'CDI data'!I23","v":6.7690000000000001},{"$f":"IFERROR(CONCATENATE(\"(\",TEXT('CDI data'!J23,\"0.0\"),\" ,\", TEXT('CDI data'!K23,\"0.0\"),\")\"),\"-\")","v":"(5.5 ,8.3)"}]
[null,{"$f":"'CDI data'!B24","v":"2018-12-01"},{"$f":"'CDI data'!D24","v":220},{"$f":"'CDI data'!E24","v":14.452999999999999},{"$f":"CONCATENATE(\"(\",TEXT('CDI data'!F24,\"0.0\"),\" ,\", TEXT('CDI data'!G24,\"0.0\"),\")\")","v":"(12.6 ,16.5)"},{"$f":"'CDI data'!H24","v":86},{"$f":"'CDI data'!I24","v":6.3280000000000003},{"$f":"IFERROR(CONCATENATE(\"(\",TEXT('CDI data'!J24,\"0.0\"),\" ,\", TEXT('CDI data'!K24,\"0.0\"),\")\"),\"-\")","v":"(5.1 ,7.8)"}]
[null,{"$f":"'CDI data'!B25","v":"2019-03-01"},{"$f":"'CDI data'!D25","v":186},{"$f":"'CDI data'!E25","v":12.09},{"$f":"CONCATENATE(\"(\",TEXT('CDI data'!F25,\"0.0\"),\" ,\", TEXT('CDI data'!G25,\"0.0\"),\")\")","v":"(10.4 ,14.0)"},{"$f":"'CDI data'!H25","v":50},{"$f":"'CDI data'!I25","v":3.7469999999999999},{"$f":"IFERROR(CONCATENATE(\"(\",TEXT('CDI data'!J25,\"0.0\"),\" ,\", TEXT('CDI data'!K25,\"0.0\"),\")\"),\"-\")","v":"(2.8 ,4.9)"}]
[null,{"$f":"'CDI data'!B26","v":"2019-06-01"},{"$f":"'CDI data'!D26","v":184},{"$f":"'CDI data'!E26","v":12.215},{"$f":"CONCATENATE(\"(\",TEXT('CDI data'!F26,\"0.0\"),\" ,\", TEXT('CDI data'!G26,\"0.0\"),\")\")","v":"(10.5 ,14.1)"},{"$f":"'CDI data'!H26","v":66},{"$f":"'CDI data'!I26","v":4.8920000000000003},{"$f":"IFERROR(CONCATENATE(\"(\",TEXT('CDI data'!J26,\"0.0\"),\" ,\", TEXT('CDI data'!K26,\"0.0\"),\")\"),\"-\")","v":"(3.8 ,6.2)"}]
[null,{"$f":"'CDI data'!B27","v":"2019-09-01"},{"$f":"'CDI data'!D27","v":207},{"$f":"'CDI data'!E27","v":13.736000000000001},{"$f":"CONCATENATE(\"(\",TEXT('CDI data'!F27,\"0.0\"),\" ,\", TEXT('CDI data'!G27,\"0.0\"),\")\")","v":"(11.9 ,15.7)"},{"$f":"'CDI data'!H27","v":72},{"$f":"'CDI data'!I27","v":5.2789999999999999},{"$f":"IFERROR(CONCATENATE(\"(\",TEXT('CDI data'!J27,\"0.0\"),\" ,\", TEXT('CDI data'!K27,\"0.0\"),\")\"),\"-\")","v":"(4.1 ,6.6)"}]
[null,{"$f":"'CDI data'!B28","v":"2019-12-01"},{"$f":"'CDI data'!D28","v":231},{"$f":"'CDI data'!E28","v":15.084},{"$f":"CONCATENATE(\"(\",TEXT('CDI data'!F28,\"0.0\"),\" ,\", TEXT('CDI data'!G28,\"0.0\"),\")\")","v":"(13.2 ,17.2)"},{"$f":"'CDI data'!H28","v":63},{"$f":"'CDI data'!I28","v":4.6189999999999998},{"$f":"IFERROR(CONCATENATE(\"(\",TEXT('CDI data'!J28,\"0.0\"),\" ,\", TEXT('CDI data'!K28,\"0.0\"),\")\"),\"-\")","v":"(3.5 ,5.9)"}]
[null,{"$f":"'CDI data'!B29","v":"2020-03-01"},{"$f":"'CDI data'!D29","v":201},{"$f":"'CDI data'!E29","v":13.618},{"$f":"CONCATENATE(\"(\",TEXT('CDI data'!F29,\"0.0\"),\" ,\", TEXT('CDI data'!G29,\"0.0\"),\")\")","v":"(11.8 ,15.6)"},{"$f":"'CDI data'!H29","v":46},{"$f":"'CDI data'!I29","v":3.42},{"$f":"IFERROR(CONCATENATE(\"(\",TEXT('CDI data'!J29,\"0.0\"),\" ,\", TEXT('CDI data'!K29,\"0.0\"),\")\"),\"-\")","v":"(2.5 ,4.6)"}]
[null,{"$f":"'CDI data'!B30","v":"2020-06-01"},{"$f":"'CDI data'!D30","v":166},{"$f":"'CDI data'!E30","v":15.356999999999999},{"$f":"CONCATENATE(\"(\",TEXT('CDI data'!F30,\"0.0\"),\" ,\", TEXT('CDI data'!G30,\"0.0\"),\")\")","v":"(13.1 ,17.9)"},{"$f":"'CDI data'!H30","v":80},{"$f":"'CDI data'!I30","v":5.9489999999999998},{"$f":"IFERROR(CONCATENATE(\"(\",TEXT('CDI data'!J30,\"0.0\"),\" ,\", TEXT('CDI data'!K30,\"0.0\"),\")\"),\"-\")","v":"(4.7 ,7.4)"}]
[null,{"$f":"'CDI data'!B31","v":"2020-09-01"},{"$f":"'CDI data'!D31","v":227},{"$f":"'CDI data'!E31","v":17.408200000000001},{"$f":"CONCATENATE(\"(\",TEXT('CDI data'!F31,\"0.0\"),\" ,\", TEXT('CDI data'!G31,\"0.0\"),\")\")","v":"(15.2 ,19.8)"},{"$f":"'CDI data'!H31","v":90},{"$f":"'CDI data'!I31","v":6.6195000000000004},{"$f":"IFERROR(CONCATENATE(\"(\",TEXT('CDI data'!J31,\"0.0\"),\" ,\", TEXT('CDI data'!K31,\"0.0\"),\")\"),\"-\")","v":"(5.3 ,8.1)"}]
[null,{"$f":"'CDI data'!B32","v":"2020-12-31"},{"$f":"'CDI data'!D32","v":222},{"$f":"'CDI data'!E32","v":16.350100000000001},{"$f":"CONCATENATE(\"(\",TEXT('CDI data'!F32,\"0.0\"),\" ,\", TEXT('CDI data'!G32,\"0.0\"),\")\")","v":"(14.3 ,18.6)"},{"$f":"'CDI data'!H32","v":56},{"$f":"'CDI data'!I32","v":4.1188000000000002},{"$f":"IFERROR(CONCATENATE(\"(\",TEXT('CDI data'!J32,\"0.0\"),\" ,\", TEXT('CDI data'!K32,\"0.0\"),\")\"),\"-\")","v":"(3.1 ,5.3)"}]
[null,{"$f":"'CDI data'!B33","v":"2021-03-31"},{"$f":"'CDI data'!D33","v":213},{"$f":"'CDI data'!E33","v":15.7562},{"$f":"CONCATENATE(\"(\",TEXT('CDI data'!F33,\"0.0\"),\" ,\", TEXT('CDI data'!G33,\"0.0\"),\")\")","v":"(13.7 ,18.0)"},{"$f":"'CDI data'!H33","v":49},{"$f":"'CDI data'!I33","v":3.6713},{"$f":"IFERROR(CONCATENATE(\"(\",TEXT('CDI data'!J33,\"0.0\"),\" ,\", TEXT('CDI data'!K33,\"0.0\"),\")\"),\"-\")","v":"(2.7 ,4.9)"}]
[null,{"$f":"'CDI data'!B34","v":"2021-06-30"},{"$f":"'CDI data'!D34","v":203},{"$f":"'CDI data'!E34","v":14.560700000000001},{"$f":"CONCATENATE(\"(\",TEXT('CDI data'!F34,\"0.0\"),\" ,\", TEXT('CDI data'!G34,\"0.0\"),\")\")","v":"(12.6 ,16.7)"},{"$f":"'CDI data'!H34","v":74},{"$f":"'CDI data'!I34","v":5.4833999999999996},{"$f":"IFERROR(CONCATENATE(\"(\",TEXT('CDI data'!J34,\"0.0\"),\" ,\", TEXT('CDI data'!K34,\"0.0\"),\")\"),\"-\")","v":"(4.3 ,6.9)"}]
[null,{"$f":"'CDI data'!B35","v":"2021-09-01"},{"$f":"'CDI data'!D35","v":245},{"$f":"'CDI data'!E35","v":16.823},{"$f":"CONCATENATE(\"(\",TEXT('CDI data'!F35,\"0.0\"),\" ,\", TEXT('CDI data'!G35,\"0.0\"),\")\")","v":"(14.8 ,19.1)"},{"$f":"'CDI data'!H35","v":87},{"$f":"'CDI data'!I35","v":6.3766999999999996},{"$f":"IFERROR(CONCATENATE(\"(\",TEXT('CDI data'!J35,\"0.0\"),\" ,\", TEXT('CDI data'!K35,\"0.0\"),\")\"),\"-\")","v":"(5.1 ,7.9)"}]
[null,{"$f":"'CDI data'!B36","v":"2021-12-31"},{"$f":"'CDI data'!D36","v":197},{"$f":"'CDI data'!E36","v":13.187799999999999},{"$f":"CONCATENATE(\"(\",TEXT('CDI data'!F36,\"0.0\"),\" ,\", TEXT('CDI data'!G36,\"0.0\"),\")\")","v":"(11.4 ,15.2)"},{"$f":"'CDI data'!H36","v":67},{"$f":"'CDI data'!I36","v":4.9108000000000001},{"$f":"IFERROR(CONCATENATE(\"(\",TEXT('CDI data'!J36,\"0.0\"),\" ,\", TEXT('CDI data'!K36,\"0.0\"),\")\"),\"-\")","v":"(3.8 ,6.2)"}]
[null,{"$f":"'CDI data'!B37","v":"2022-03-31"},{"$f":"'CDI data'!D37","v":187},{"$f":"'CDI data'!E37","v":12.626099999999999},{"$f":"CONCATENATE(\"(\",TEXT('CDI data'!F37,\"0.0\"),\" ,\", TEXT('CDI data'!G37,\"0.0\"),\")\")","v":"(10.9 ,14.6)"},{"$f":"'CDI data'!H37","v":43},{"$f":"'CDI data'!I37","v":3.2016},{"$f":"IFERROR(CONCATENATE(\"(\",TEXT('CDI data'!J37,\"0.0\"),\" ,\", TEXT('CDI data'!K37,\"0.0\"),\")\"),\"-\")","v":"(2.3 ,4.3)"}]
[null,{"$f":"'CDI data'!B38","v":"2022-06-30"},{"$f":"'CDI data'!D38","v":217},{"$f":"'CDI data'!E38","v":14.3109},{"$f":"CONCATENATE(\"(\",TEXT('CDI data'!F38,\"0.0\"),\" ,\", TEXT('CDI data'!G38,\"0.0\"),\")\")","v":"(12.5 ,16.3)"},{"$f":"'CDI data'!H38","v":66},{"$f":"'CDI data'!I38","v":4.8600000000000003},{"$f":"IFERROR(CONCATENATE(\"(\",TEXT('CDI data'!J38,\"0.0\"),\" ,\", TEXT('CDI data'!K38,\"0.0\"),\")\"),\"-\")","v":"(3.8 ,6.2)"}]
[null,{"$f":"'CDI data'!B39","v":"2022-09-30"},{"$f":"'CDI data'!D39","v":202},{"$f":"'CDI data'!E39","v":13.068199999999999},{"$f":"CONCATENATE(\"(\",TEXT('CDI data'!F39,\"0.0\"),\" ,\", TEXT('CDI data'!G39,\"0.0\"),\")\")","v":"(11.3 ,15.0)"},{"$f":"'CDI data'!H39","v":82},{"$f":"'CDI data'!I39","v":5.9725999999999999},{"$f":"IFERROR(CONCATENATE(\"(\",TEXT('CDI data'!J39,\"0.0\"),\" ,\", TEXT('CDI data'!K39,\"0.0\"),\")\"),\"-\")","v":"(4.8 ,7.4)"}]
[null,{"$f":"'CDI data'!B40","v":"2022-12-31"},{"$f":"'CDI data'!D40","v":212},{"$f":"'CDI data'!E40","v":13.5113},{"$f":"CONCATENATE(\"(\",TEXT('CDI data'!F40,\"0.0\"),\" ,\", TEXT('CDI data'!G40,\"0.0\"),\")\")","v":"(11.8 ,15.5)"},{"$f":"'CDI data'!H40","v":44},{"$f":"'CDI data'!I40","v":3.2048000000000001},{"$f":"IFERROR(CONCATENATE(\"(\",TEXT('CDI data'!J40,\"0.0\"),\" ,\", TEXT('CDI data'!K40,\"0.0\"),\")\"),\"-\")","v":"(2.3 ,4.3)"}]
[null,{"$f":"'CDI data'!B41","v":"2023-03-31"},{"$f":"'CDI data'!D41","v":211},{"$f":"'CDI data'!E41","v":13.4488},{"$f":"CONCATENATE(\"(\",TEXT('CDI data'!F41,\"0.0\"),\" ,\", TEXT('CDI data'!G41,\"0.0\"),\")\")","v":"(11.7 ,15.4)"},{"$f":"'CDI data'!H41","v":57},{"$f":"'CDI data'!I41","v":4.2106000000000003},{"$f":"IFERROR(CONCATENATE(\"(\",TEXT('CDI data'!J41,\"0.0\"),\" ,\", TEXT('CDI data'!K41,\"0.0\"),\")\"),\"-\")","v":"(3.2 ,5.5)"}]
[null,{"$f":"'CDI data'!B42","v":"2023-06-30"},{"$f":"'CDI data'!D42","v":244},{"$f":"'CDI data'!E42","v":15.7967},{"$f":"CONCATENATE(\"(\",TEXT('CDI data'!F42,\"0.0\"),\" ,\", TEXT('CDI data'!G42,\"0.0\"),\")\")","v":"(13.9 ,17.9)"},{"$f":"'CDI data'!H42","v":70},{"$f":"'CDI data'!I42","v":5.1140999999999996},{"$f":"IFERROR(CONCATENATE(\"(\",TEXT('CDI data'!J42,\"0.0\"),\" ,\", TEXT('CDI data'!K42,\"0.0\"),\")\"),\"-\")","v":"(4.0 ,6.5)"}]
[null,{"$f":"'CDI data'!B43","v":"2023-09-30"},{"$f":"'CDI data'!D43","v":239},{"$f":"'CDI data'!E43","v":15.542299999999999},{"$f":"CONCATENATE(\"(\",TEXT('CDI data'!F43,\"0.0\"),\" ,\", TEXT('CDI data'!G43,\"0.0\"),\")\")","v":"(13.6 ,17.6)"},{"$f":"'CDI data'!H43","v":86},{"$f":"'CDI data'!I43","v":6.2146999999999997},{"$f":"IFERROR(CONCATENATE(\"(\",TEXT('CDI data'!J43,\"0.0\"),\" ,\", TEXT('CDI data'!K43,\"0.0\"),\")\"),\"-\")","v":"(5.0 ,7.7)"}]
[null,{"$f":"'CDI data'!B44","v":"2023-12-31"},{"$f":"'CDI data'!D44","v":223},{"$f":"'CDI data'!E44","v":14.2393},{"$f":"CONCATENATE(\"(\",TEXT('CDI data'!F44,\"0.0\"),\" ,\", TEXT('CDI data'!G44,\"0.0\"),\")\")","v":"(12.4 ,16.2)"},{"$f":"'CDI data'!H44","v":79},{"$f":"'CDI data'!I44","v":5.7088999999999999},{"$f":"IFERROR(CONCATENATE(\"(\",TEXT('CDI data'!J44,\"0.0\"),\" ,\", TEXT('CDI data'!K44,\"0.0\"),\")\"),\"-\")","v":"(4.5 ,7.1)"}]
[null,{"$f":"'CDI data'!B45","v":"2024-03-31"},{"$f":"'CDI data'!D45","v":202},{"$f":"'CDI data'!E45","v":12.698700000000001},{"$f":"CONCATENATE(\"(\",TEXT('CDI data'!F45,\"0.0\"),\" ,\", TEXT('CDI data'!G45,\"0.0\"),\")\")","v":"(11.0 ,14.6)"},{"$f":"'CDI data'!H45","v":93},{"$f":"'CDI data'!I45","v":6.7432999999999996},{"$f":"IFERROR(CONCATENATE(\"(\",TEXT('CDI data'!J45,\"0.0\"),\" ,\", TEXT('CDI data'!K45,\"0.0\"),\")\"),\"-\")","v":"(5.4 ,8.3)"}]
[null,{"$f":"'CDI data'!B46","v":"2024-06-30"},{"$f":"'CDI data'!D46","v":266},{"$f":"'CDI data'!E46","v":17.0701},{"$f":"CONCATENATE(\"(\",TEXT('CDI data'!F46,\"0.0\"),\" ,\", TEXT('CDI data'!G46,\"0.0\"),\")\")","v":"(15.1 ,19.2)"},{"$f":"'CDI data'!H46","v":94},{"$f":"'CDI data'!I46","v":6.8158000000000003},{"$f":"IFERROR(CONCATENATE(\"(\",TEXT('CDI data'!J46,\"0.0\"),\" ,\", TEXT('CDI data'!K46,\"0.0\"),\")\"),\"-\")","v":"(5.5 ,8.3)"}]
[null,{"$f":"'CDI data'!B47","v":"2024-09-30"},{"$f":"'CDI data'!D47","v":285},{"$f":"'CDI data'!E47","v":18.358000000000001},{"$f":"CONCATENATE(\"(\",TEXT('CDI data'!F47,\"0.0\"),\" ,\", TEXT('CDI data'!G47,\"0.0\"),\")\")","v":"(16.3 ,20.6)"},{"$f":"'CDI data'!H47","v":105},{"$f":"'CDI data'!I47","v":7.5305999999999997},{"$f":"IFERROR(CONCATENATE(\"(\",TEXT('CDI data'!J47,\"0.0\"),\" ,\", TEXT('CDI data'!K47,\"0.0\"),\")\"),\"-\")","v":"(6.2 ,9.1)"}]
[null,{"$f":"'CDI data'!B48","v":"2024-12-31"},{"$f":"'CDI data'!D48","v":282},{"$f":"'CDI data'!E48","v":18.073599999999999},{"$f":"CONCATENATE(\"(\",TEXT('CDI data'!F48,\"0.0\"),\" ,\", TEXT('CDI data'!G48,\"0.0\"),\")\")","v":"(16.0 ,20.3)"},{"$f":"'CDI data'!H48","v":85},{"$f":"'CDI data'!I48","v":6.0961999999999996},{"$f":"IFERROR(CONCATENATE(\"(\",TEXT('CDI data'!J48,\"0.0\"),\" ,\", TEXT('CDI data'!K48,\"0.0\"),\")\"),\"-\")","v":"(4.9 ,7.5)"}]
[null,{"$f":"'CDI data'!B49","v":"2025-03-31"},{"$f":"'CDI data'!D49","v":208},{"$f":"'CDI data'!E49","v":13.4003},{"$f":"CONCATENATE(\"(\",TEXT('CDI data'!F49,\"0.0\"),\" ,\", TEXT('CDI data'!G49,\"0.0\"),\")\")","v":"(11.6 ,15.4)"},{"$f":"'CDI data'!H49","v":64},{"$f":"'CDI data'!I49","v":4.6792999999999996},{"$f":"IFERROR(CONCATENATE(\"(\",TEXT('CDI data'!J49,\"0.0\"),\" ,\", TEXT('CDI data'!K49,\"0.0\"),\")\"),\"-\")","v":"(3.6 ,6.0)"}]
[null,{"$f":"'CDI data'!B50","v":"2025-06-30"},{"$f":"'CDI data'!D50","v":213},{"$f":"'CDI data'!E50","v":13.9619},{"$f":"CONCATENATE(\"(\",TEXT('CDI data'!F50,\"0.0\"),\" ,\", TEXT('CDI data'!G50,\"0.0\"),\")\")","v":"(12.1 ,16.0)"},{"$f":"'CDI data'!H50","v":73},{"$f":"'CDI data'!I50","v":5.2786999999999997},{"$f":"IFERROR(CONCATENATE(\"(\",TEXT('CDI data'!J50,\"0.0\"),\" ,\", TEXT('CDI data'!K50,\"0.0\"),\")\"),\"-\")","v":"(4.1 ,6.6)"}]
[null,{"$f":"'CDI data'!B51","v":"2025-09-30"},{"$f":"'CDI data'!D51","v":246},{"$f":"'CDI data'!E51","v":16.148900000000001},{"$f":"CONCATENATE(\"(\",TEXT('CDI data'!F51,\"0.0\"),\" ,\", TEXT('CDI data'!G51,\"0.0\"),\")\")","v":"(14.2 ,18.3)"},{"$f":"'CDI data'!H51","v":84},{"$f":"'CDI data'!I51","v":6.0080999999999998},{"$f":"IFERROR(CONCATENATE(\"(\",TEXT('CDI data'!J51,\"0.0\"),\" ,\", TEXT('CDI data'!K51,\"0.0\"),\")\"),\"-\")","v":"(4.8 ,7.4)"}]
[null,{"$f":"'CDI data'!B52","v":"2025-12-31"},{"$f":"'CDI data'!D52","v":221},{"$f":"'CDI data'!E52","v":14.403700000000001},{"$f":"CONCATENATE(\"(\",TEXT('CDI data'!F52,\"0.0\"),\" ,\", TEXT('CDI data'!G52,\"0.0\"),\")\")","v":"(12.6 ,16.4)"},{"$f":"'CDI data'!H52","v":70},{"$f":"'CDI data'!I52","v":5.0067000000000004},{"$f":"IFERROR(CONCATENATE(\"(\",TEXT('CDI data'!J52,\"0.0\"),\" ,\", TEXT('CDI data'!K52,\"0.0\"),\")\"),\"-\")","v":"(3.9 ,6.3)"}]
[null,{"$f":"'CDI data'!B53","v":"2026-03-31"},{"$f":"'CDI data'!D53","v":214},{"$f":"'CDI data'!E53","v":13.895099999999999},{"$f":"CONCATENATE(\"(\",TEXT('CDI data'!F53,\"0.0\"),\" ,\", TEXT('CDI data'!G53,\"0.0\"),\")\")","v":"(12.1 ,15.9)"},{"$f":"'CDI data'!H53","v":73},{"$f":"'CDI data'!I53","v":5.3372999999999999},{"$f":"IFERROR(CONCATENATE(\"(\",TEXT('CDI data'!J53,\"0.0\"),\" ,\", TEXT('CDI data'!K53,\"0.0\"),\")\"),\"-\")","v":"(4.2 ,6.7)"}]

{"sheet":"ECOLI Data and Charts","index":2,"n_rows":43,"n_cols":15,"rows_kept":43,"cut":false,"hidden":false,"merged":[]}
[null,"Scotland",null,null,null,null,null,null,null,null,{"$f":"CONCATENATE(\"Healthcare and community rates for \",B1)","v":"Healthcare and community rates for Scotland"}]
[null,null,null,null,null,null,null,null,null,null,null,"ECBHCAI ",null,"ECBCOM "]
[null,null,null,"Healthcare associated ECB",null,null,"Community associated ECB",null,null,null,null,"Healthcare associated  ECB",null,"Community associated ECB"]
[null,"Quarter Ending","Cases","Rate per 100 000 bed days","95% CI","Cases","Rate per 100 000 Population","95% CI",null,null,null,"% change",null,"% change"]
[null,{"$f":"'ECOLI data'!B8","v":"2016-09-24"},{"$f":"'ECOLI data'!D8","v":581},{"$f":"'ECOLI data'!E8","v":36.588999999999999},{"$f":"CONCATENATE(\"(\",TEXT('ECOLI data'!F8,\"0.0\"),\" ,\", TEXT('ECOLI data'!G8,\"0.0\"),\")\")","v":"(33.7 ,39.7)"},{"$f":"'ECOLI data'!H8","v":720},{"$f":"'ECOLI data'!I8","v":53.304000000000002},{"$f":"IFERROR(CONCATENATE(\"(\",TEXT('ECOLI data'!J8,\"0.0\"),\" ,\", TEXT('ECOLI data'!K8,\"0.0\"),\")\"),\"-\")","v":"(49.5 ,57.3)"},null,null,"This quarter compared to last (national only)",{"$f":"IFERROR(VLOOKUP(CONCATENATE(L2,$B$1),'quarter comp'!$A1:$H21,4,FALSE),\"-\")","v":-2.9257527986582899},{"$f":"IFERROR(VLOOKUP(CONCATENATE(L2,$B$1),'quarter comp'!$A1:$H21,8,FALSE),\"-\")","v":"Non Significant"},{"$f":"IFERROR(VLOOKUP(CONCATENATE(N2,$B$1),'quarter comp'!$A1:$H21,4,FALSE),\"-\")","v":5.6524981357196102},{"$f":"IFERROR(VLOOKUP(CONCATENATE(N2,$B$1),'quarter comp'!$A1:$H21,8,FALSE),\"-\")","v":"Non Significant"}]
[null,{"$f":"'ECOLI data'!B9","v":"2016-12-24"},{"$f":"'ECOLI data'!D9","v":564},{"$f":"'ECOLI data'!E9","v":35.433999999999997},{"$f":"CONCATENATE(\"(\",TEXT('ECOLI data'!F9,\"0.0\"),\" ,\", TEXT('ECOLI data'!G9,\"0.0\"),\")\")","v":"(32.6 ,38.5)"},{"$f":"'ECOLI data'!H9","v":631},{"$f":"'ECOLI data'!I9","v":46.715000000000003},{"$f":"IFERROR(CONCATENATE(\"(\",TEXT('ECOLI data'!J9,\"0.0\"),\" ,\", TEXT('ECOLI data'!K9,\"0.0\"),\")\"),\"-\")","v":"(43.1 ,50.5)"},null,null,"Year end compared to previous year end ",{"$f":"VLOOKUP(CONCATENATE(L2,$B$1),'year end comp'!$A$2:$Z$1086,4,FALSE)","v":8.0356459047254596},{"$f":"VLOOKUP(CONCATENATE(L2,$B$1),'year end comp'!$A$2:$Z$1086,8,FALSE)","v":"Significant"},{"$f":"IFERROR(VLOOKUP(CONCATENATE(N2,$B$1),'year end comp'!$A$2:$Z$1086,4,FALSE),\"-\")","v":5.4012345679012403},{"$f":"IFERROR(VLOOKUP(CONCATENATE(N2,$B$1),'year end comp'!$A$2:$Z$1086,8,FALSE),\"-\")","v":"Non Significant"}]
[null,{"$f":"'ECOLI data'!B10","v":"2017-03-01"},{"$f":"'ECOLI data'!D10","v":547},{"$f":"'ECOLI data'!E10","v":34.591000000000001},{"$f":"CONCATENATE(\"(\",TEXT('ECOLI data'!F10,\"0.0\"),\" ,\", TEXT('ECOLI data'!G10,\"0.0\"),\")\")","v":"(31.8 ,37.6)"},{"$f":"'ECOLI data'!H10","v":570},{"$f":"'ECOLI data'!I10","v":42.902000000000001},{"$f":"IFERROR(CONCATENATE(\"(\",TEXT('ECOLI data'!J10,\"0.0\"),\" ,\", TEXT('ECOLI data'!K10,\"0.0\"),\")\"),\"-\")","v":"(39.5 ,46.6)"}]
[null,{"$f":"'ECOLI data'!B11","v":"2017-06-01"},{"$f":"'ECOLI data'!D11","v":539},{"$f":"'ECOLI data'!E11","v":34.761000000000003},{"$f":"CONCATENATE(\"(\",TEXT('ECOLI data'!F11,\"0.0\"),\" ,\", TEXT('ECOLI data'!G11,\"0.0\"),\")\")","v":"(31.9 ,37.8)"},{"$f":"'ECOLI data'!H11","v":657},{"$f":"'ECOLI data'!I11","v":48.906999999999996},{"$f":"IFERROR(CONCATENATE(\"(\",TEXT('ECOLI data'!J11,\"0.0\"),\" ,\", TEXT('ECOLI data'!K11,\"0.0\"),\")\"),\"-\")","v":"(45.2 ,52.8)"}]
[null,{"$f":"'ECOLI data'!B12","v":"2017-09-01"},{"$f":"'ECOLI data'!D12","v":585},{"$f":"'ECOLI data'!E12","v":38.015999999999998},{"$f":"CONCATENATE(\"(\",TEXT('ECOLI data'!F12,\"0.0\"),\" ,\", TEXT('ECOLI data'!G12,\"0.0\"),\")\")","v":"(35.0 ,41.2)"},{"$f":"'ECOLI data'!H12","v":677},{"$f":"'ECOLI data'!I12","v":49.847999999999999},{"$f":"IFERROR(CONCATENATE(\"(\",TEXT('ECOLI data'!J12,\"0.0\"),\" ,\", TEXT('ECOLI data'!K12,\"0.0\"),\")\"),\"-\")","v":"(46.2 ,53.7)"}]
[null,{"$f":"'ECOLI data'!B13","v":"2017-12-01"},{"$f":"'ECOLI data'!D13","v":531},{"$f":"'ECOLI data'!E13","v":33.715000000000003},{"$f":"CONCATENATE(\"(\",TEXT('ECOLI data'!F13,\"0.0\"),\" ,\", TEXT('ECOLI data'!G13,\"0.0\"),\")\")","v":"(30.9 ,36.7)"},{"$f":"'ECOLI data'!H13","v":656},{"$f":"'ECOLI data'!I13","v":48.302},{"$f":"IFERROR(CONCATENATE(\"(\",TEXT('ECOLI data'!J13,\"0.0\"),\" ,\", TEXT('ECOLI data'!K13,\"0.0\"),\")\"),\"-\")","v":"(44.7 ,52.1)"}]
[null,{"$f":"'ECOLI data'!B14","v":"2018-03-01"},{"$f":"'ECOLI data'!D14","v":524},{"$f":"'ECOLI data'!E14","v":33.055},{"$f":"CONCATENATE(\"(\",TEXT('ECOLI data'!F14,\"0.0\"),\" ,\", TEXT('ECOLI data'!G14,\"0.0\"),\")\")","v":"(30.3 ,36.0)"},{"$f":"'ECOLI data'!H14","v":578},{"$f":"'ECOLI data'!I14","v":43.472999999999999},{"$f":"IFERROR(CONCATENATE(\"(\",TEXT('ECOLI data'!J14,\"0.0\"),\" ,\", TEXT('ECOLI data'!K14,\"0.0\"),\")\"),\"-\")","v":"(40.0 ,47.2)"}]
[null,{"$f":"'ECOLI data'!B15","v":"2018-06-01"},{"$f":"'ECOLI data'!D15","v":580},{"$f":"'ECOLI data'!E15","v":38.024000000000001},{"$f":"CONCATENATE(\"(\",TEXT('ECOLI data'!F15,\"0.0\"),\" ,\", TEXT('ECOLI data'!G15,\"0.0\"),\")\")","v":"(35.0 ,41.2)"},{"$f":"'ECOLI data'!H15","v":598},{"$f":"'ECOLI data'!I15","v":44.482999999999997},{"$f":"IFERROR(CONCATENATE(\"(\",TEXT('ECOLI data'!J15,\"0.0\"),\" ,\", TEXT('ECOLI data'!K15,\"0.0\"),\")\"),\"-\")","v":"(41.0 ,48.2)"}]
[null,{"$f":"'ECOLI data'!B16","v":"2018-09-01"},{"$f":"'ECOLI data'!D16","v":606},{"$f":"'ECOLI data'!E16","v":40.088999999999999},{"$f":"CONCATENATE(\"(\",TEXT('ECOLI data'!F16,\"0.0\"),\" ,\", TEXT('ECOLI data'!G16,\"0.0\"),\")\")","v":"(37.0 ,43.4)"},{"$f":"'ECOLI data'!H16","v":667},{"$f":"'ECOLI data'!I16","v":49.076000000000001},{"$f":"IFERROR(CONCATENATE(\"(\",TEXT('ECOLI data'!J16,\"0.0\"),\" ,\", TEXT('ECOLI data'!K16,\"0.0\"),\")\"),\"-\")","v":"(45.4 ,52.9)"}]
[null,{"$f":"'ECOLI data'!B17","v":"2018-12-01"},{"$f":"'ECOLI data'!D17","v":582},{"$f":"'ECOLI data'!E17","v":38.234000000000002},{"$f":"CONCATENATE(\"(\",TEXT('ECOLI data'!F17,\"0.0\"),\" ,\", TEXT('ECOLI data'!G17,\"0.0\"),\")\")","v":"(35.2 ,41.5)"},{"$f":"'ECOLI data'!H17","v":603},{"$f":"'ECOLI data'!I17","v":44.366999999999997},{"$f":"IFERROR(CONCATENATE(\"(\",TEXT('ECOLI data'!J17,\"0.0\"),\" ,\", TEXT('ECOLI data'!K17,\"0.0\"),\")\"),\"-\")","v":"(40.9 ,48.1)"}]
[null,{"$f":"'ECOLI data'!B18","v":"2019-03-01"},{"$f":"'ECOLI data'!D18","v":573},{"$f":"'ECOLI data'!E18","v":37.244},{"$f":"CONCATENATE(\"(\",TEXT('ECOLI data'!F18,\"0.0\"),\" ,\", TEXT('ECOLI data'!G18,\"0.0\"),\")\")","v":"(34.3 ,40.4)"},{"$f":"'ECOLI data'!H18","v":598},{"$f":"'ECOLI data'!I18","v":44.819000000000003},{"$f":"IFERROR(CONCATENATE(\"(\",TEXT('ECOLI data'!J18,\"0.0\"),\" ,\", TEXT('ECOLI data'!K18,\"0.0\"),\")\"),\"-\")","v":"(41.3 ,48.6)"}]
[null,{"$f":"'ECOLI data'!B19","v":"2019-06-01"},{"$f":"'ECOLI data'!D19","v":584},{"$f":"'ECOLI data'!E19","v":38.771000000000001},{"$f":"CONCATENATE(\"(\",TEXT('ECOLI data'!F19,\"0.0\"),\" ,\", TEXT('ECOLI data'!G19,\"0.0\"),\")\")","v":"(35.7 ,42.0)"},{"$f":"'ECOLI data'!H19","v":604},{"$f":"'ECOLI data'!I19","v":44.771000000000001},{"$f":"IFERROR(CONCATENATE(\"(\",TEXT('ECOLI data'!J19,\"0.0\"),\" ,\", TEXT('ECOLI data'!K19,\"0.0\"),\")\"),\"-\")","v":"(41.3 ,48.5)"}]
[null,{"$f":"'ECOLI data'!B20","v":"2019-09-01"},{"$f":"'ECOLI data'!D20","v":608},{"$f":"'ECOLI data'!E20","v":40.345999999999997},{"$f":"CONCATENATE(\"(\",TEXT('ECOLI data'!F20,\"0.0\"),\" ,\", TEXT('ECOLI data'!G20,\"0.0\"),\")\")","v":"(37.2 ,43.7)"},{"$f":"'ECOLI data'!H20","v":606},{"$f":"'ECOLI data'!I20","v":44.430999999999997},{"$f":"IFERROR(CONCATENATE(\"(\",TEXT('ECOLI data'!J20,\"0.0\"),\" ,\", TEXT('ECOLI data'!K20,\"0.0\"),\")\"),\"-\")","v":"(41.0 ,48.1)"}]
[null,{"$f":"'ECOLI data'!B21","v":"2019-12-01"},{"$f":"'ECOLI data'!D21","v":626},{"$f":"'ECOLI data'!E21","v":40.875999999999998},{"$f":"CONCATENATE(\"(\",TEXT('ECOLI data'!F21,\"0.0\"),\" ,\", TEXT('ECOLI data'!G21,\"0.0\"),\")\")","v":"(37.7 ,44.2)"},{"$f":"'ECOLI data'!H21","v":568},{"$f":"'ECOLI data'!I21","v":41.645000000000003},{"$f":"IFERROR(CONCATENATE(\"(\",TEXT('ECOLI data'!J21,\"0.0\"),\" ,\", TEXT('ECOLI data'!K21,\"0.0\"),\")\"),\"-\")","v":"(38.3 ,45.2)"}]
[null,{"$f":"'ECOLI data'!B22","v":"2020-03-01"},{"$f":"'ECOLI data'!D22","v":538},{"$f":"'ECOLI data'!E22","v":36.451000000000001},{"$f":"CONCATENATE(\"(\",TEXT('ECOLI data'!F22,\"0.0\"),\" ,\", TEXT('ECOLI data'!G22,\"0.0\"),\")\")","v":"(33.4 ,39.7)"},{"$f":"'ECOLI data'!H22","v":515},{"$f":"'ECOLI data'!I22","v":38.295000000000002},{"$f":"IFERROR(CONCATENATE(\"(\",TEXT('ECOLI data'!J22,\"0.0\"),\" ,\", TEXT('ECOLI data'!K22,\"0.0\"),\")\"),\"-\")","v":"(35.1 ,41.8)"}]
[null,{"$f":"'ECOLI data'!B23","v":"2020-06-01"},{"$f":"'ECOLI data'!D23","v":429},{"$f":"'ECOLI data'!E23","v":39.686999999999998},{"$f":"CONCATENATE(\"(\",TEXT('ECOLI data'!F23,\"0.0\"),\" ,\", TEXT('ECOLI data'!G23,\"0.0\"),\")\")","v":"(36.0 ,43.6)"},{"$f":"'ECOLI data'!H23","v":488},{"$f":"'ECOLI data'!I23","v":36.286999999999999},{"$f":"IFERROR(CONCATENATE(\"(\",TEXT('ECOLI data'!J23,\"0.0\"),\" ,\", TEXT('ECOLI data'!K23,\"0.0\"),\")\"),\"-\")","v":"(33.1 ,39.7)"}]
[null,{"$f":"'ECOLI data'!B24","v":"2020-09-01"},{"$f":"'ECOLI data'!D24","v":547},{"$f":"'ECOLI data'!E24","v":41.948399999999999},{"$f":"CONCATENATE(\"(\",TEXT('ECOLI data'!F24,\"0.0\"),\" ,\", TEXT('ECOLI data'!G24,\"0.0\"),\")\")","v":"(38.5 ,45.6)"},{"$f":"'ECOLI data'!H24","v":614},{"$f":"'ECOLI data'!I24","v":45.1599},{"$f":"IFERROR(CONCATENATE(\"(\",TEXT('ECOLI data'!J24,\"0.0\"),\" ,\", TEXT('ECOLI data'!K24,\"0.0\"),\")\"),\"-\")","v":"(41.7 ,48.9)"}]
[null,{"$f":"'ECOLI data'!B25","v":"2020-12-31"},{"$f":"'ECOLI data'!D25","v":555},{"$f":"'ECOLI data'!E25","v":40.8752},{"$f":"CONCATENATE(\"(\",TEXT('ECOLI data'!F25,\"0.0\"),\" ,\", TEXT('ECOLI data'!G25,\"0.0\"),\")\")","v":"(37.5 ,44.4)"},{"$f":"'ECOLI data'!H25","v":521},{"$f":"'ECOLI data'!I25","v":38.319699999999997},{"$f":"IFERROR(CONCATENATE(\"(\",TEXT('ECOLI data'!J25,\"0.0\"),\" ,\", TEXT('ECOLI data'!K25,\"0.0\"),\")\"),\"-\")","v":"(35.1 ,41.8)"}]
[null,{"$f":"'ECOLI data'!B26","v":"2021-03-31"},{"$f":"'ECOLI data'!D26","v":468},{"$f":"'ECOLI data'!E26","v":34.619300000000003},{"$f":"CONCATENATE(\"(\",TEXT('ECOLI data'!F26,\"0.0\"),\" ,\", TEXT('ECOLI data'!G26,\"0.0\"),\")\")","v":"(31.6 ,37.9)"},{"$f":"'ECOLI data'!H26","v":493},{"$f":"'ECOLI data'!I26","v":36.9375},{"$f":"IFERROR(CONCATENATE(\"(\",TEXT('ECOLI data'!J26,\"0.0\"),\" ,\", TEXT('ECOLI data'!K26,\"0.0\"),\")\"),\"-\")","v":"(33.7 ,40.3)"}]
[null,{"$f":"'ECOLI data'!B27","v":"2021-06-30"},{"$f":"'ECOLI data'!D27","v":532},{"$f":"'ECOLI data'!E27","v":38.158999999999999},{"$f":"CONCATENATE(\"(\",TEXT('ECOLI data'!F27,\"0.0\"),\" ,\", TEXT('ECOLI data'!G27,\"0.0\"),\")\")","v":"(35.0 ,41.5)"},{"$f":"'ECOLI data'!H27","v":570},{"$f":"'ECOLI data'!I27","v":42.237299999999998},{"$f":"IFERROR(CONCATENATE(\"(\",TEXT('ECOLI data'!J27,\"0.0\"),\" ,\", TEXT('ECOLI data'!K27,\"0.0\"),\")\"),\"-\")","v":"(38.8 ,45.9)"}]
[null,{"$f":"'ECOLI data'!B28","v":"2021-09-01"},{"$f":"'ECOLI data'!D28","v":604},{"$f":"'ECOLI data'!E28","v":41.4739},{"$f":"CONCATENATE(\"(\",TEXT('ECOLI data'!F28,\"0.0\"),\" ,\", TEXT('ECOLI data'!G28,\"0.0\"),\")\")","v":"(38.2 ,44.9)"},{"$f":"'ECOLI data'!H28","v":566},{"$f":"'ECOLI data'!I28","v":41.484999999999999},{"$f":"IFERROR(CONCATENATE(\"(\",TEXT('ECOLI data'!J28,\"0.0\"),\" ,\", TEXT('ECOLI data'!K28,\"0.0\"),\")\"),\"-\")","v":"(38.1 ,45.0)"}]
[null,{"$f":"'ECOLI data'!B29","v":"2021-12-01"},{"$f":"'ECOLI data'!D29","v":509},{"$f":"'ECOLI data'!E29","v":34.073999999999998},{"$f":"CONCATENATE(\"(\",TEXT('ECOLI data'!F29,\"0.0\"),\" ,\", TEXT('ECOLI data'!G29,\"0.0\"),\")\")","v":"(31.2 ,37.2)"},{"$f":"'ECOLI data'!H29","v":549},{"$f":"'ECOLI data'!I29","v":40.238999999999997},{"$f":"IFERROR(CONCATENATE(\"(\",TEXT('ECOLI data'!J29,\"0.0\"),\" ,\", TEXT('ECOLI data'!K29,\"0.0\"),\")\"),\"-\")","v":"(36.9 ,43.8)"}]
[null,{"$f":"'ECOLI data'!B30","v":"2022-03-01"},{"$f":"'ECOLI data'!D30","v":452},{"$f":"'ECOLI data'!E30","v":30.518799999999999},{"$f":"CONCATENATE(\"(\",TEXT('ECOLI data'!F30,\"0.0\"),\" ,\", TEXT('ECOLI data'!G30,\"0.0\"),\")\")","v":"(27.8 ,33.5)"},{"$f":"'ECOLI data'!H30","v":528},{"$f":"'ECOLI data'!I30","v":39.312199999999997},{"$f":"IFERROR(CONCATENATE(\"(\",TEXT('ECOLI data'!J30,\"0.0\"),\" ,\", TEXT('ECOLI data'!K30,\"0.0\"),\")\"),\"-\")","v":"(36.0 ,42.8)"}]
[null,{"$f":"'ECOLI data'!B31","v":"2022-06-01"},{"$f":"'ECOLI data'!D31","v":528},{"$f":"'ECOLI data'!E31","v":34.820900000000002},{"$f":"CONCATENATE(\"(\",TEXT('ECOLI data'!F31,\"0.0\"),\" ,\", TEXT('ECOLI data'!G31,\"0.0\"),\")\")","v":"(31.9 ,37.9)"},{"$f":"'ECOLI data'!H31","v":529},{"$f":"'ECOLI data'!I31","v":38.953800000000001},{"$f":"IFERROR(CONCATENATE(\"(\",TEXT('ECOLI data'!J31,\"0.0\"),\" ,\", TEXT('ECOLI data'!K31,\"0.0\"),\")\"),\"-\")","v":"(35.7 ,42.4)"}]
[null,{"$f":"'ECOLI data'!B32","v":"2022-09-30"},{"$f":"'ECOLI data'!D32","v":560},{"$f":"'ECOLI data'!E32","v":36.228700000000003},{"$f":"CONCATENATE(\"(\",TEXT('ECOLI data'!F32,\"0.0\"),\" ,\", TEXT('ECOLI data'!G32,\"0.0\"),\")\")","v":"(33.3 ,39.4)"},{"$f":"'ECOLI data'!H32","v":577},{"$f":"'ECOLI data'!I32","v":42.026499999999999},{"$f":"IFERROR(CONCATENATE(\"(\",TEXT('ECOLI data'!J32,\"0.0\"),\" ,\", TEXT('ECOLI data'!K32,\"0.0\"),\")\"),\"-\")","v":"(38.7 ,45.6)"}]
[null,{"$f":"'ECOLI data'!B33","v":"2022-12-31"},{"$f":"'ECOLI data'!D33","v":549},{"$f":"'ECOLI data'!E33","v":34.9893},{"$f":"CONCATENATE(\"(\",TEXT('ECOLI data'!F33,\"0.0\"),\" ,\", TEXT('ECOLI data'!G33,\"0.0\"),\")\")","v":"(32.1 ,38.0)"},{"$f":"'ECOLI data'!H33","v":495},{"$f":"'ECOLI data'!I33","v":36.054000000000002},{"$f":"IFERROR(CONCATENATE(\"(\",TEXT('ECOLI data'!J33,\"0.0\"),\" ,\", TEXT('ECOLI data'!K33,\"0.0\"),\")\"),\"-\")","v":"(32.9 ,39.4)"}]
[null,{"$f":"'ECOLI data'!B34","v":"2023-03-31"},{"$f":"'ECOLI data'!D34","v":588},{"$f":"'ECOLI data'!E34","v":37.478299999999997},{"$f":"CONCATENATE(\"(\",TEXT('ECOLI data'!F34,\"0.0\"),\" ,\", TEXT('ECOLI data'!G34,\"0.0\"),\")\")","v":"(34.5 ,40.6)"},{"$f":"'ECOLI data'!H34","v":497},{"$f":"'ECOLI data'!I34","v":36.7136},{"$f":"IFERROR(CONCATENATE(\"(\",TEXT('ECOLI data'!J34,\"0.0\"),\" ,\", TEXT('ECOLI data'!K34,\"0.0\"),\")\"),\"-\")","v":"(33.6 ,40.1)"}]
[null,{"$f":"'ECOLI data'!B35","v":"2023-06-30"},{"$f":"'ECOLI data'!D35","v":581},{"$f":"'ECOLI data'!E35","v":37.6143},{"$f":"CONCATENATE(\"(\",TEXT('ECOLI data'!F35,\"0.0\"),\" ,\", TEXT('ECOLI data'!G35,\"0.0\"),\")\")","v":"(34.6 ,40.8)"},{"$f":"'ECOLI data'!H35","v":502},{"$f":"'ECOLI data'!I35","v":36.675400000000003},{"$f":"IFERROR(CONCATENATE(\"(\",TEXT('ECOLI data'!J35,\"0.0\"),\" ,\", TEXT('ECOLI data'!K35,\"0.0\"),\")\"),\"-\")","v":"(33.5 ,40.0)"}]
[null,{"$f":"'ECOLI data'!B36","v":"2023-09-30"},{"$f":"'ECOLI data'!D36","v":580},{"$f":"'ECOLI data'!E36","v":37.717799999999997},{"$f":"CONCATENATE(\"(\",TEXT('ECOLI data'!F36,\"0.0\"),\" ,\", TEXT('ECOLI data'!G36,\"0.0\"),\")\")","v":"(34.7 ,40.9)"},{"$f":"'ECOLI data'!H36","v":575},{"$f":"'ECOLI data'!I36","v":41.552100000000003},{"$f":"IFERROR(CONCATENATE(\"(\",TEXT('ECOLI data'!J36,\"0.0\"),\" ,\", TEXT('ECOLI data'!K36,\"0.0\"),\")\"),\"-\")","v":"(38.2 ,45.1)"}]
[null,{"$f":"'ECOLI data'!B37","v":"2023-12-31"},{"$f":"'ECOLI data'!D37","v":544},{"$f":"'ECOLI data'!E37","v":34.736199999999997},{"$f":"CONCATENATE(\"(\",TEXT('ECOLI data'!F37,\"0.0\"),\" ,\", TEXT('ECOLI data'!G37,\"0.0\"),\")\")","v":"(31.9 ,37.8)"},{"$f":"'ECOLI data'!H37","v":442},{"$f":"'ECOLI data'!I37","v":31.940899999999999},{"$f":"IFERROR(CONCATENATE(\"(\",TEXT('ECOLI data'!J37,\"0.0\"),\" ,\", TEXT('ECOLI data'!K37,\"0.0\"),\")\"),\"-\")","v":"(29.0 ,35.1)"}]
[null,{"$f":"'ECOLI data'!B38","v":"2024-03-31"},{"$f":"'ECOLI data'!D38","v":565},{"$f":"'ECOLI data'!E38","v":35.518700000000003},{"$f":"CONCATENATE(\"(\",TEXT('ECOLI data'!F38,\"0.0\"),\" ,\", TEXT('ECOLI data'!G38,\"0.0\"),\")\")","v":"(32.6 ,38.6)"},{"$f":"'ECOLI data'!H38","v":504},{"$f":"'ECOLI data'!I38","v":36.5443},{"$f":"IFERROR(CONCATENATE(\"(\",TEXT('ECOLI data'!J38,\"0.0\"),\" ,\", TEXT('ECOLI data'!K38,\"0.0\"),\")\"),\"-\")","v":"(33.4 ,39.9)"}]
[null,{"$f":"'ECOLI data'!B39","v":"2024-06-30"},{"$f":"'ECOLI data'!D39","v":614},{"$f":"'ECOLI data'!E39","v":39.402500000000003},{"$f":"CONCATENATE(\"(\",TEXT('ECOLI data'!F39,\"0.0\"),\" ,\", TEXT('ECOLI data'!G39,\"0.0\"),\")\")","v":"(36.3 ,42.6)"},{"$f":"'ECOLI data'!H39","v":490},{"$f":"'ECOLI data'!I39","v":35.529200000000003},{"$f":"IFERROR(CONCATENATE(\"(\",TEXT('ECOLI data'!J39,\"0.0\"),\" ,\", TEXT('ECOLI data'!K39,\"0.0\"),\")\"),\"-\")","v":"(32.5 ,38.8)"}]
[null,{"$f":"'ECOLI data'!B40","v":"2024-09-30"},{"$f":"'ECOLI data'!D40","v":618},{"$f":"'ECOLI data'!E40","v":39.8078},{"$f":"CONCATENATE(\"(\",TEXT('ECOLI data'!F40,\"0.0\"),\" ,\", TEXT('ECOLI data'!G40,\"0.0\"),\")\")","v":"(36.7 ,43.1)"},{"$f":"'ECOLI data'!H40","v":514},{"$f":"'ECOLI data'!I40","v":36.8643},{"$f":"IFERROR(CONCATENATE(\"(\",TEXT('ECOLI data'!J40,\"0.0\"),\" ,\", TEXT('ECOLI data'!K40,\"0.0\"),\")\"),\"-\")","v":"(33.7 ,40.2)"}]
[null,{"$f":"'ECOLI data'!B41","v":"2024-12-31"},{"$f":"'ECOLI data'!D41","v":576},{"$f":"'ECOLI data'!E41","v":36.9163},{"$f":"CONCATENATE(\"(\",TEXT('ECOLI data'!F41,\"0.0\"),\" ,\", TEXT('ECOLI data'!G41,\"0.0\"),\")\")","v":"(34.0 ,40.1)"},{"$f":"'ECOLI data'!H41","v":494},{"$f":"'ECOLI data'!I41","v":35.429900000000004},{"$f":"IFERROR(CONCATENATE(\"(\",TEXT('ECOLI data'!J41,\"0.0\"),\" ,\", TEXT('ECOLI data'!K41,\"0.0\"),\")\"),\"-\")","v":"(32.4 ,38.7)"}]
[null,{"$f":"'ECOLI data'!B42","v":"2025-03-31"},{"$f":"'ECOLI data'!D42","v":604},{"$f":"'ECOLI data'!E42","v":38.912500000000001},{"$f":"CONCATENATE(\"(\",TEXT('ECOLI data'!F42,\"0.0\"),\" ,\", TEXT('ECOLI data'!G42,\"0.0\"),\")\")","v":"(35.9 ,42.1)"},{"$f":"'ECOLI data'!H42","v":446},{"$f":"'ECOLI data'!I42","v":32.608800000000002},{"$f":"IFERROR(CONCATENATE(\"(\",TEXT('ECOLI data'!J42,\"0.0\"),\" ,\", TEXT('ECOLI data'!K42,\"0.0\"),\")\"),\"-\")","v":"(29.7 ,35.8)"}]
[null,{"$f":"'ECOLI data'!B43","v":"2025-06-30"},{"$f":"'ECOLI data'!D43","v":672},{"$f":"'ECOLI data'!E43","v":44.048900000000003},{"$f":"CONCATENATE(\"(\",TEXT('ECOLI data'!F43,\"0.0\"),\" ,\", TEXT('ECOLI data'!G43,\"0.0\"),\")\")","v":"(40.8 ,47.5)"},{"$f":"'ECOLI data'!H43","v":565},{"$f":"'ECOLI data'!I43","v":40.855400000000003},{"$f":"IFERROR(CONCATENATE(\"(\",TEXT('ECOLI data'!J43,\"0.0\"),\" ,\", TEXT('ECOLI data'!K43,\"0.0\"),\")\"),\"-\")","v":"(37.6 ,44.4)"}]
[null,{"$f":"'ECOLI data'!B44","v":"2025-09-30"},{"$f":"'ECOLI data'!D44","v":658},{"$f":"'ECOLI data'!E44","v":43.195},{"$f":"CONCATENATE(\"(\",TEXT('ECOLI data'!F44,\"0.0\"),\" ,\", TEXT('ECOLI data'!G44,\"0.0\"),\")\")","v":"(40.0 ,46.6)"},{"$f":"'ECOLI data'!H44","v":575},{"$f":"'ECOLI data'!I44","v":41.126600000000003},{"$f":"IFERROR(CONCATENATE(\"(\",TEXT('ECOLI data'!J44,\"0.0\"),\" ,\", TEXT('ECOLI data'!K44,\"0.0\"),\")\"),\"-\")","v":"(37.8 ,44.6)"}]
[null,{"$f":"'ECOLI data'!B45","v":"2025-12-31"},{"$f":"'ECOLI data'!D45","v":625},{"$f":"'ECOLI data'!E45","v":40.734299999999998},{"$f":"CONCATENATE(\"(\",TEXT('ECOLI data'!F45,\"0.0\"),\" ,\", TEXT('ECOLI data'!G45,\"0.0\"),\")\")","v":"(37.6 ,44.1)"},{"$f":"'ECOLI data'!H45","v":447},{"$f":"'ECOLI data'!I45","v":31.971399999999999},{"$f":"IFERROR(CONCATENATE(\"(\",TEXT('ECOLI data'!J45,\"0.0\"),\" ,\", TEXT('ECOLI data'!K45,\"0.0\"),\")\"),\"-\")","v":"(29.1 ,35.1)"}]
[null,{"$f":"'ECOLI data'!B46","v":"2026-03-31"},{"$f":"'ECOLI data'!D46","v":609},{"$f":"'ECOLI data'!E46","v":39.5426},{"$f":"CONCATENATE(\"(\",TEXT('ECOLI data'!F46,\"0.0\"),\" ,\", TEXT('ECOLI data'!G46,\"0.0\"),\")\")","v":"(36.5 ,42.8)"},{"$f":"'ECOLI data'!H46","v":462},{"$f":"'ECOLI data'!I46","v":33.778599999999997},{"$f":"IFERROR(CONCATENATE(\"(\",TEXT('ECOLI data'!J46,\"0.0\"),\" ,\", TEXT('ECOLI data'!K46,\"0.0\"),\")\"),\"-\")","v":"(30.8 ,37.0)"}]

{"sheet":"SAB Data and Charts","index":3,"n_rows":50,"n_cols":14,"rows_kept":50,"cut":false,"hidden":false,"merged":[]}
[null,"Scotland",null,null,null,null,null,null,null,{"$f":"CONCATENATE(\"Healthcare and community rates for \",B1)","v":"Healthcare and community rates for Scotland"}]
[null,null,null,null,null,null,null,null,null,null,"SABHCAI ",null,"SABCAUN "]
[null,null,null,"Healthcare associated SAB",null,null,"Community associated SAB",null,null,null,"Healthcare associated SAB infection ",null,"Community associated SAB infection "]
[null,"Quarter Ending","Cases","Rate per 100 000 bed days","95% CI","Cases","Rate per 100 000 population","95% CI",null,null,"% change",null,"% change"]
[null,{"$f":"'SAB data'!B8","v":"2014-12-19"},{"$f":"'SAB data'!D8","v":275},{"$f":"'SAB data'!E8","v":16.065000000000001},{"$f":"CONCATENATE(\"(\",TEXT('SAB data'!F8,\"0.0\"),\" ,\", TEXT('SAB data'!G8,\"0.0\"),\")\")","v":"(14.2 ,18.1)"},{"$f":"'SAB data'!H8","v":119},{"$f":"'SAB data'!I8","v":8.8550000000000004},{"$f":"IFERROR(CONCATENATE(\"(\",TEXT('SAB data'!J8,\"0.0\"),\" ,\", TEXT('SAB data'!K8,\"0.0\"),\")\"),\"-\")","v":"(7.3 ,10.6)"},null,"This quarter compared to last (national only)",{"$f":"IFERROR(VLOOKUP(CONCATENATE(K2,$B$1),'quarter comp'!$A1:$H21,4,FALSE),\"-\")","v":2.8041476536586201},{"$f":"IFERROR(VLOOKUP(CONCATENATE(K2,$B$1),'quarter comp'!$A1:$H21,8,FALSE),\"-\")","v":"Non Significant"},{"$f":"IFERROR(VLOOKUP(CONCATENATE(M2,$B$1),'quarter comp'!$A1:$H21,4,FALSE),\"-\")","v":6.0942760942760899},{"$f":"IFERROR(VLOOKUP(CONCATENATE(M2,$B$1),'quarter comp'!$A1:$H21,8,FALSE),\"-\")","v":"Non Significant"}]
[null,{"$f":"'SAB data'!B9","v":"2015-03-24"},{"$f":"'SAB data'!D9","v":263},{"$f":"'SAB data'!E9","v":15.257999999999999},{"$f":"CONCATENATE(\"(\",TEXT('SAB data'!F9,\"0.0\"),\" ,\", TEXT('SAB data'!G9,\"0.0\"),\")\")","v":"(13.5 ,17.2)"},{"$f":"'SAB data'!H9","v":126},{"$f":"'SAB data'!I9","v":9.5500000000000007},{"$f":"IFERROR(CONCATENATE(\"(\",TEXT('SAB data'!J9,\"0.0\"),\" ,\", TEXT('SAB data'!K9,\"0.0\"),\")\"),\"-\")","v":"(8.0 ,11.4)"},null,"Year end compared to previous year end ",{"$f":"VLOOKUP(CONCATENATE(K2,$B$1),'year end comp'!$A$2:$Z$1086,4,FALSE)","v":3.30578918618858},{"$f":"VLOOKUP(CONCATENATE(K2,$B$1),'year end comp'!$A$2:$Z$1086,8,FALSE)","v":"Non Significant"},{"$f":"IF(IFERROR(VLOOKUP(CONCATENATE(M2,$B$1),'year end comp'!$A$2:$Z$1086,4,FALSE),\"-\")=-100,\"-\",IFERROR(VLOOKUP(CONCATENATE(M2,$B$1),'year end comp'!$A$2:$Z$1086,4,FALSE),\"-\"))","v":0.36429872495444598},{"$f":"IF(IFERROR(VLOOKUP(CONCATENATE(M2,$B$1),'year end comp'!$A$2:$Z$1086,8,FALSE),\"-\")=0,\"-\",IFERROR(VLOOKUP(CONCATENATE(M2,$B$1),'year end comp'!$A$2:$Z$1086,8,FALSE),\"-\"))","v":"Non Significant"}]
[null,{"$f":"'SAB data'!B10","v":"2015-06-24"},{"$f":"'SAB data'!D10","v":284},{"$f":"'SAB data'!E10","v":17.094000000000001},{"$f":"CONCATENATE(\"(\",TEXT('SAB data'!F10,\"0.0\"),\" ,\", TEXT('SAB data'!G10,\"0.0\"),\")\")","v":"(15.2 ,19.2)"},{"$f":"'SAB data'!H10","v":131},{"$f":"'SAB data'!I10","v":9.82},{"$f":"IFERROR(CONCATENATE(\"(\",TEXT('SAB data'!J10,\"0.0\"),\" ,\", TEXT('SAB data'!K10,\"0.0\"),\")\"),\"-\")","v":"(8.2 ,11.7)"}]
[null,{"$f":"'SAB data'!B11","v":"2015-09-24"},{"$f":"'SAB data'!D11","v":275},{"$f":"'SAB data'!E11","v":16.966000000000001},{"$f":"CONCATENATE(\"(\",TEXT('SAB data'!F11,\"0.0\"),\" ,\", TEXT('SAB data'!G11,\"0.0\"),\")\")","v":"(15.0 ,19.1)"},{"$f":"'SAB data'!H11","v":113},{"$f":"'SAB data'!I11","v":8.3789999999999996},{"$f":"IFERROR(CONCATENATE(\"(\",TEXT('SAB data'!J11,\"0.0\"),\" ,\", TEXT('SAB data'!K11,\"0.0\"),\")\"),\"-\")","v":"(6.9 ,10.1)"}]
[null,{"$f":"'SAB data'!B12","v":"2015-12-24"},{"$f":"'SAB data'!D12","v":303},{"$f":"'SAB data'!E12","v":18.451000000000001},{"$f":"CONCATENATE(\"(\",TEXT('SAB data'!F12,\"0.0\"),\" ,\", TEXT('SAB data'!G12,\"0.0\"),\")\")","v":"(16.4 ,20.7)"},{"$f":"'SAB data'!H12","v":104},{"$f":"'SAB data'!I12","v":7.7110000000000003},{"$f":"IFERROR(CONCATENATE(\"(\",TEXT('SAB data'!J12,\"0.0\"),\" ,\", TEXT('SAB data'!K12,\"0.0\"),\")\"),\"-\")","v":"(6.3 ,9.3)"}]
[null,{"$f":"'SAB data'!B13","v":"2016-03-24"},{"$f":"'SAB data'!D13","v":279},{"$f":"'SAB data'!E13","v":16.661999999999999},{"$f":"CONCATENATE(\"(\",TEXT('SAB data'!F13,\"0.0\"),\" ,\", TEXT('SAB data'!G13,\"0.0\"),\")\")","v":"(14.8 ,18.7)"},{"$f":"'SAB data'!H13","v":139},{"$f":"'SAB data'!I13","v":10.404},{"$f":"IFERROR(CONCATENATE(\"(\",TEXT('SAB data'!J13,\"0.0\"),\" ,\", TEXT('SAB data'!K13,\"0.0\"),\")\"),\"-\")","v":"(8.7 ,12.3)"}]
[null,{"$f":"'SAB data'!B14","v":"2016-06-24"},{"$f":"'SAB data'!D14","v":260},{"$f":"'SAB data'!E14","v":16.198},{"$f":"CONCATENATE(\"(\",TEXT('SAB data'!F14,\"0.0\"),\" ,\", TEXT('SAB data'!G14,\"0.0\"),\")\")","v":"(14.3 ,18.3)"},{"$f":"'SAB data'!H14","v":121},{"$f":"'SAB data'!I14","v":9.0559999999999992},{"$f":"IFERROR(CONCATENATE(\"(\",TEXT('SAB data'!J14,\"0.0\"),\" ,\", TEXT('SAB data'!K14,\"0.0\"),\")\"),\"-\")","v":"(7.5 ,10.8)"}]
[null,{"$f":"'SAB data'!B15","v":"2016-09-24"},{"$f":"'SAB data'!D15","v":273},{"$f":"'SAB data'!E15","v":17.193000000000001},{"$f":"CONCATENATE(\"(\",TEXT('SAB data'!F15,\"0.0\"),\" ,\", TEXT('SAB data'!G15,\"0.0\"),\")\")","v":"(15.2 ,19.4)"},{"$f":"'SAB data'!H15","v":127},{"$f":"'SAB data'!I15","v":9.4019999999999992},{"$f":"IFERROR(CONCATENATE(\"(\",TEXT('SAB data'!J15,\"0.0\"),\" ,\", TEXT('SAB data'!K15,\"0.0\"),\")\"),\"-\")","v":"(7.8 ,11.2)"}]
[null,{"$f":"'SAB data'!B16","v":"2016-12-24"},{"$f":"'SAB data'!D16","v":265},{"$f":"'SAB data'!E16","v":16.649000000000001},{"$f":"CONCATENATE(\"(\",TEXT('SAB data'!F16,\"0.0\"),\" ,\", TEXT('SAB data'!G16,\"0.0\"),\")\")","v":"(14.7 ,18.8)"},{"$f":"'SAB data'!H16","v":135},{"$f":"'SAB data'!I16","v":9.9949999999999992},{"$f":"IFERROR(CONCATENATE(\"(\",TEXT('SAB data'!J16,\"0.0\"),\" ,\", TEXT('SAB data'!K16,\"0.0\"),\")\"),\"-\")","v":"(8.4 ,11.8)"}]
[null,{"$f":"'SAB data'!B17","v":"2017-03-01"},{"$f":"'SAB data'!D17","v":259},{"$f":"'SAB data'!E17","v":16.379000000000001},{"$f":"CONCATENATE(\"(\",TEXT('SAB data'!F17,\"0.0\"),\" ,\", TEXT('SAB data'!G17,\"0.0\"),\")\")","v":"(14.4 ,18.5)"},{"$f":"'SAB data'!H17","v":142},{"$f":"'SAB data'!I17","v":10.688000000000001},{"$f":"IFERROR(CONCATENATE(\"(\",TEXT('SAB data'!J17,\"0.0\"),\" ,\", TEXT('SAB data'!K17,\"0.0\"),\")\"),\"-\")","v":"(9.0 ,12.6)"}]
[null,{"$f":"'SAB data'!B18","v":"2017-06-01"},{"$f":"'SAB data'!D18","v":248},{"$f":"'SAB data'!E18","v":15.994},{"$f":"CONCATENATE(\"(\",TEXT('SAB data'!F18,\"0.0\"),\" ,\", TEXT('SAB data'!G18,\"0.0\"),\")\")","v":"(14.1 ,18.1)"},{"$f":"'SAB data'!H18","v":126},{"$f":"'SAB data'!I18","v":9.3789999999999996},{"$f":"IFERROR(CONCATENATE(\"(\",TEXT('SAB data'!J18,\"0.0\"),\" ,\", TEXT('SAB data'!K18,\"0.0\"),\")\"),\"-\")","v":"(7.8 ,11.2)"}]
[null,{"$f":"'SAB data'!B19","v":"2017-09-01"},{"$f":"'SAB data'!D19","v":278},{"$f":"'SAB data'!E19","v":18.065999999999999},{"$f":"CONCATENATE(\"(\",TEXT('SAB data'!F19,\"0.0\"),\" ,\", TEXT('SAB data'!G19,\"0.0\"),\")\")","v":"(16.0 ,20.3)"},{"$f":"'SAB data'!H19","v":127},{"$f":"'SAB data'!I19","v":9.3510000000000009},{"$f":"IFERROR(CONCATENATE(\"(\",TEXT('SAB data'!J19,\"0.0\"),\" ,\", TEXT('SAB data'!K19,\"0.0\"),\")\"),\"-\")","v":"(7.8 ,11.1)"}]
[null,{"$f":"'SAB data'!B20","v":"2017-12-01"},{"$f":"'SAB data'!D20","v":262},{"$f":"'SAB data'!E20","v":16.635000000000002},{"$f":"CONCATENATE(\"(\",TEXT('SAB data'!F20,\"0.0\"),\" ,\", TEXT('SAB data'!G20,\"0.0\"),\")\")","v":"(14.7 ,18.8)"},{"$f":"'SAB data'!H20","v":132},{"$f":"'SAB data'!I20","v":9.7189999999999994},{"$f":"IFERROR(CONCATENATE(\"(\",TEXT('SAB data'!J20,\"0.0\"),\" ,\", TEXT('SAB data'!K20,\"0.0\"),\")\"),\"-\")","v":"(8.1 ,11.5)"}]
[null,{"$f":"'SAB data'!B21","v":"2018-03-01"},{"$f":"'SAB data'!D21","v":296},{"$f":"'SAB data'!E21","v":18.672000000000001},{"$f":"CONCATENATE(\"(\",TEXT('SAB data'!F21,\"0.0\"),\" ,\", TEXT('SAB data'!G21,\"0.0\"),\")\")","v":"(16.6 ,20.9)"},{"$f":"'SAB data'!H21","v":135},{"$f":"'SAB data'!I21","v":10.153700000000001},{"$f":"IFERROR(CONCATENATE(\"(\",TEXT('SAB data'!J21,\"0.0\"),\" ,\", TEXT('SAB data'!K21,\"0.0\"),\")\"),\"-\")","v":"(8.5 ,12.0)"}]
[null,{"$f":"'SAB data'!B22","v":"2018-06-01"},{"$f":"'SAB data'!D22","v":264},{"$f":"'SAB data'!E22","v":17.308},{"$f":"CONCATENATE(\"(\",TEXT('SAB data'!F22,\"0.0\"),\" ,\", TEXT('SAB data'!G22,\"0.0\"),\")\")","v":"(15.3 ,19.5)"},{"$f":"'SAB data'!H22","v":123},{"$f":"'SAB data'!I22","v":9.1494999999999997},{"$f":"IFERROR(CONCATENATE(\"(\",TEXT('SAB data'!J22,\"0.0\"),\" ,\", TEXT('SAB data'!K22,\"0.0\"),\")\"),\"-\")","v":"(7.6 ,10.9)"}]
[null,{"$f":"'SAB data'!B23","v":"2018-09-01"},{"$f":"'SAB data'!D23","v":253},{"$f":"'SAB data'!E23","v":16.736999999999998},{"$f":"CONCATENATE(\"(\",TEXT('SAB data'!F23,\"0.0\"),\" ,\", TEXT('SAB data'!G23,\"0.0\"),\")\")","v":"(14.7 ,18.9)"},{"$f":"'SAB data'!H23","v":132},{"$f":"'SAB data'!I23","v":9.7119999999999997},{"$f":"IFERROR(CONCATENATE(\"(\",TEXT('SAB data'!J23,\"0.0\"),\" ,\", TEXT('SAB data'!K23,\"0.0\"),\")\"),\"-\")","v":"(8.1 ,11.5)"}]
[null,{"$f":"'SAB data'!B24","v":"2018-12-01"},{"$f":"'SAB data'!D24","v":269},{"$f":"'SAB data'!E24","v":17.672000000000001},{"$f":"CONCATENATE(\"(\",TEXT('SAB data'!F24,\"0.0\"),\" ,\", TEXT('SAB data'!G24,\"0.0\"),\")\")","v":"(15.6 ,19.9)"},{"$f":"'SAB data'!H24","v":113},{"$f":"'SAB data'!I24","v":8.3140000000000001},{"$f":"IFERROR(CONCATENATE(\"(\",TEXT('SAB data'!J24,\"0.0\"),\" ,\", TEXT('SAB data'!K24,\"0.0\"),\")\"),\"-\")","v":"(6.9 ,10.0)"}]
[null,{"$f":"'SAB data'!B25","v":"2019-03-01"},{"$f":"'SAB data'!D25","v":240},{"$f":"'SAB data'!E25","v":15.6},{"$f":"CONCATENATE(\"(\",TEXT('SAB data'!F25,\"0.0\"),\" ,\", TEXT('SAB data'!G25,\"0.0\"),\")\")","v":"(13.7 ,17.7)"},{"$f":"'SAB data'!H25","v":144},{"$f":"'SAB data'!I25","v":10.792},{"$f":"IFERROR(CONCATENATE(\"(\",TEXT('SAB data'!J25,\"0.0\"),\" ,\", TEXT('SAB data'!K25,\"0.0\"),\")\"),\"-\")","v":"(9.1 ,12.7)"}]
[null,{"$f":"'SAB data'!B26","v":"2019-06-01"},{"$f":"'SAB data'!D26","v":251},{"$f":"'SAB data'!E26","v":16.664000000000001},{"$f":"CONCATENATE(\"(\",TEXT('SAB data'!F26,\"0.0\"),\" ,\", TEXT('SAB data'!G26,\"0.0\"),\")\")","v":"(14.7 ,18.9)"},{"$f":"'SAB data'!H26","v":133},{"$f":"'SAB data'!I26","v":9.8580000000000005},{"$f":"IFERROR(CONCATENATE(\"(\",TEXT('SAB data'!J26,\"0.0\"),\" ,\", TEXT('SAB data'!K26,\"0.0\"),\")\"),\"-\")","v":"(8.3 ,11.7)"}]
[null,{"$f":"'SAB data'!B27","v":"2019-09-01"},{"$f":"'SAB data'!D27","v":264},{"$f":"'SAB data'!E27","v":17.518999999999998},{"$f":"CONCATENATE(\"(\",TEXT('SAB data'!F27,\"0.0\"),\" ,\", TEXT('SAB data'!G27,\"0.0\"),\")\")","v":"(15.5 ,19.8)"},{"$f":"'SAB data'!H27","v":102},{"$f":"'SAB data'!I27","v":7.4779999999999998},{"$f":"IFERROR(CONCATENATE(\"(\",TEXT('SAB data'!J27,\"0.0\"),\" ,\", TEXT('SAB data'!K27,\"0.0\"),\")\"),\"-\")","v":"(6.1 ,9.1)"}]
[null,{"$f":"'SAB data'!B28","v":"2019-12-01"},{"$f":"'SAB data'!D28","v":233},{"$f":"'SAB data'!E28","v":15.214},{"$f":"CONCATENATE(\"(\",TEXT('SAB data'!F28,\"0.0\"),\" ,\", TEXT('SAB data'!G28,\"0.0\"),\")\")","v":"(13.3 ,17.3)"},{"$f":"'SAB data'!H28","v":132},{"$f":"'SAB data'!I28","v":9.6780000000000008},{"$f":"IFERROR(CONCATENATE(\"(\",TEXT('SAB data'!J28,\"0.0\"),\" ,\", TEXT('SAB data'!K28,\"0.0\"),\")\"),\"-\")","v":"(8.1 ,11.5)"}]
[null,{"$f":"'SAB data'!B29","v":"2020-03-01"},{"$f":"'SAB data'!D29","v":241},{"$f":"'SAB data'!E29","v":16.327999999999999},{"$f":"CONCATENATE(\"(\",TEXT('SAB data'!F29,\"0.0\"),\" ,\", TEXT('SAB data'!G29,\"0.0\"),\")\")","v":"(14.3 ,18.5)"},{"$f":"'SAB data'!H29","v":149},{"$f":"'SAB data'!I29","v":11.079000000000001},{"$f":"IFERROR(CONCATENATE(\"(\",TEXT('SAB data'!J29,\"0.0\"),\" ,\", TEXT('SAB data'!K29,\"0.0\"),\")\"),\"-\")","v":"(9.4 ,13.0)"}]
[null,{"$f":"'SAB data'!B30","v":"2020-06-01"},{"$f":"'SAB data'!D30","v":219},{"$f":"'SAB data'!E30","v":20.260000000000002},{"$f":"CONCATENATE(\"(\",TEXT('SAB data'!F30,\"0.0\"),\" ,\", TEXT('SAB data'!G30,\"0.0\"),\")\")","v":"(17.7 ,23.1)"},{"$f":"'SAB data'!H30","v":132},{"$f":"'SAB data'!I30","v":9.8149999999999995},{"$f":"IFERROR(CONCATENATE(\"(\",TEXT('SAB data'!J30,\"0.0\"),\" ,\", TEXT('SAB data'!K30,\"0.0\"),\")\"),\"-\")","v":"(8.2 ,11.6)"}]
[null,{"$f":"'SAB data'!B31","v":"2020-09-01"},{"$f":"'SAB data'!D31","v":224},{"$f":"'SAB data'!E31","v":17.178100000000001},{"$f":"CONCATENATE(\"(\",TEXT('SAB data'!F31,\"0.0\"),\" ,\", TEXT('SAB data'!G31,\"0.0\"),\")\")","v":"(15.0 ,19.6)"},{"$f":"'SAB data'!H31","v":149},{"$f":"'SAB data'!I31","v":10.959},{"$f":"IFERROR(CONCATENATE(\"(\",TEXT('SAB data'!J31,\"0.0\"),\" ,\", TEXT('SAB data'!K31,\"0.0\"),\")\"),\"-\")","v":"(9.3 ,12.9)"}]
[null,{"$f":"'SAB data'!B32","v":"2020-12-01"},{"$f":"'SAB data'!D32","v":256},{"$f":"'SAB data'!E32","v":18.854099999999999},{"$f":"CONCATENATE(\"(\",TEXT('SAB data'!F32,\"0.0\"),\" ,\", TEXT('SAB data'!G32,\"0.0\"),\")\")","v":"(16.6 ,21.3)"},{"$f":"'SAB data'!H32","v":131},{"$f":"'SAB data'!I32","v":9.6350999999999996},{"$f":"IFERROR(CONCATENATE(\"(\",TEXT('SAB data'!J32,\"0.0\"),\" ,\", TEXT('SAB data'!K32,\"0.0\"),\")\"),\"-\")","v":"(8.1 ,11.4)"}]
[null,{"$f":"'SAB data'!B33","v":"2021-03-31"},{"$f":"'SAB data'!D33","v":248},{"$f":"'SAB data'!E33","v":18.345300000000002},{"$f":"CONCATENATE(\"(\",TEXT('SAB data'!F33,\"0.0\"),\" ,\", TEXT('SAB data'!G33,\"0.0\"),\")\")","v":"(16.1 ,20.8)"},{"$f":"'SAB data'!H33","v":140},{"$f":"'SAB data'!I33","v":10.4893},{"$f":"IFERROR(CONCATENATE(\"(\",TEXT('SAB data'!J33,\"0.0\"),\" ,\", TEXT('SAB data'!K33,\"0.0\"),\")\"),\"-\")","v":"(8.8 ,12.4)"}]
[null,{"$f":"'SAB data'!B34","v":"2021-06-30"},{"$f":"'SAB data'!D34","v":260},{"$f":"'SAB data'!E34","v":18.649100000000001},{"$f":"CONCATENATE(\"(\",TEXT('SAB data'!F34,\"0.0\"),\" ,\", TEXT('SAB data'!G34,\"0.0\"),\")\")","v":"(16.5 ,21.1)"},{"$f":"'SAB data'!H34","v":148},{"$f":"'SAB data'!I34","v":10.966900000000001},{"$f":"IFERROR(CONCATENATE(\"(\",TEXT('SAB data'!J34,\"0.0\"),\" ,\", TEXT('SAB data'!K34,\"0.0\"),\")\"),\"-\")","v":"(9.3 ,12.9)"}]
[null,{"$f":"'SAB data'!B35","v":"2021-09-30"},{"$f":"'SAB data'!D35","v":268},{"$f":"'SAB data'!E35","v":18.4023},{"$f":"CONCATENATE(\"(\",TEXT('SAB data'!F35,\"0.0\"),\" ,\", TEXT('SAB data'!G35,\"0.0\"),\")\")","v":"(16.3 ,20.7)"},{"$f":"'SAB data'!H35","v":132},{"$f":"'SAB data'!I35","v":9.6750000000000007},{"$f":"IFERROR(CONCATENATE(\"(\",TEXT('SAB data'!J35,\"0.0\"),\" ,\", TEXT('SAB data'!K35,\"0.0\"),\")\"),\"-\")","v":"(8.1 ,11.5)"}]
[null,{"$f":"'SAB data'!B36","v":"2021-12-31"},{"$f":"'SAB data'!D36","v":259},{"$f":"'SAB data'!E36","v":17.3383},{"$f":"CONCATENATE(\"(\",TEXT('SAB data'!F36,\"0.0\"),\" ,\", TEXT('SAB data'!G36,\"0.0\"),\")\")","v":"(15.3 ,19.6)"},{"$f":"'SAB data'!H36","v":136},{"$f":"'SAB data'!I36","v":9.9680999999999997},{"$f":"IFERROR(CONCATENATE(\"(\",TEXT('SAB data'!J36,\"0.0\"),\" ,\", TEXT('SAB data'!K36,\"0.0\"),\")\"),\"-\")","v":"(8.4 ,11.8)"}]
[null,{"$f":"'SAB data'!B37","v":"2022-03-31"},{"$f":"'SAB data'!D37","v":241},{"$f":"'SAB data'!E37","v":16.272200000000002},{"$f":"CONCATENATE(\"(\",TEXT('SAB data'!F37,\"0.0\"),\" ,\", TEXT('SAB data'!G37,\"0.0\"),\")\")","v":"(14.3 ,18.5)"},{"$f":"'SAB data'!H37","v":130},{"$f":"'SAB data'!I37","v":9.6791},{"$f":"IFERROR(CONCATENATE(\"(\",TEXT('SAB data'!J37,\"0.0\"),\" ,\", TEXT('SAB data'!K37,\"0.0\"),\")\"),\"-\")","v":"(8.1 ,11.5)"}]
[null,{"$f":"'SAB data'!B38","v":"2022-06-30"},{"$f":"'SAB data'!D38","v":262},{"$f":"'SAB data'!E38","v":17.278500000000001},{"$f":"CONCATENATE(\"(\",TEXT('SAB data'!F38,\"0.0\"),\" ,\", TEXT('SAB data'!G38,\"0.0\"),\")\")","v":"(15.2 ,19.5)"},{"$f":"'SAB data'!H38","v":139},{"$f":"'SAB data'!I38","v":10.2355},{"$f":"IFERROR(CONCATENATE(\"(\",TEXT('SAB data'!J38,\"0.0\"),\" ,\", TEXT('SAB data'!K38,\"0.0\"),\")\"),\"-\")","v":"(8.6 ,12.1)"}]
[null,{"$f":"'SAB data'!B39","v":"2022-09-30"},{"$f":"'SAB data'!D39","v":264},{"$f":"'SAB data'!E39","v":17.0792},{"$f":"CONCATENATE(\"(\",TEXT('SAB data'!F39,\"0.0\"),\" ,\", TEXT('SAB data'!G39,\"0.0\"),\")\")","v":"(15.1 ,19.3)"},{"$f":"'SAB data'!H39","v":121},{"$f":"'SAB data'!I39","v":8.8132000000000001},{"$f":"IFERROR(CONCATENATE(\"(\",TEXT('SAB data'!J39,\"0.0\"),\" ,\", TEXT('SAB data'!K39,\"0.0\"),\")\"),\"-\")","v":"(7.3 ,10.5)"}]
[null,{"$f":"'SAB data'!B40","v":"2022-12-31"},{"$f":"'SAB data'!D40","v":302},{"$f":"'SAB data'!E40","v":19.247299999999999},{"$f":"CONCATENATE(\"(\",TEXT('SAB data'!F40,\"0.0\"),\" ,\", TEXT('SAB data'!G40,\"0.0\"),\")\")","v":"(17.1 ,21.5)"},{"$f":"'SAB data'!H40","v":131},{"$f":"'SAB data'!I40","v":9.5416000000000007},{"$f":"IFERROR(CONCATENATE(\"(\",TEXT('SAB data'!J40,\"0.0\"),\" ,\", TEXT('SAB data'!K40,\"0.0\"),\")\"),\"-\")","v":"(8.0 ,11.3)"}]
[null,{"$f":"'SAB data'!B41","v":"2023-03-31"},{"$f":"'SAB data'!D41","v":300},{"$f":"'SAB data'!E41","v":19.121600000000001},{"$f":"CONCATENATE(\"(\",TEXT('SAB data'!F41,\"0.0\"),\" ,\", TEXT('SAB data'!G41,\"0.0\"),\")\")","v":"(17.0 ,21.4)"},{"$f":"'SAB data'!H41","v":133},{"$f":"'SAB data'!I41","v":9.8247999999999998},{"$f":"IFERROR(CONCATENATE(\"(\",TEXT('SAB data'!J41,\"0.0\"),\" ,\", TEXT('SAB data'!K41,\"0.0\"),\")\"),\"-\")","v":"(8.2 ,11.6)"}]
[null,{"$f":"'SAB data'!B42","v":"2023-06-30"},{"$f":"'SAB data'!D42","v":283},{"$f":"'SAB data'!E42","v":18.3216},{"$f":"CONCATENATE(\"(\",TEXT('SAB data'!F42,\"0.0\"),\" ,\", TEXT('SAB data'!G42,\"0.0\"),\")\")","v":"(16.2 ,20.6)"},{"$f":"'SAB data'!H42","v":140},{"$f":"'SAB data'!I42","v":10.228199999999999},{"$f":"IFERROR(CONCATENATE(\"(\",TEXT('SAB data'!J42,\"0.0\"),\" ,\", TEXT('SAB data'!K42,\"0.0\"),\")\"),\"-\")","v":"(8.6 ,12.1)"}]
[null,{"$f":"'SAB data'!B43","v":"2023-09-30"},{"$f":"'SAB data'!D43","v":278},{"$f":"'SAB data'!E43","v":18.078499999999998},{"$f":"CONCATENATE(\"(\",TEXT('SAB data'!F43,\"0.0\"),\" ,\", TEXT('SAB data'!G43,\"0.0\"),\")\")","v":"(16.0 ,20.3)"},{"$f":"'SAB data'!H43","v":140},{"$f":"'SAB data'!I43","v":10.117000000000001},{"$f":"IFERROR(CONCATENATE(\"(\",TEXT('SAB data'!J43,\"0.0\"),\" ,\", TEXT('SAB data'!K43,\"0.0\"),\")\"),\"-\")","v":"(8.5 ,11.9)"}]
[null,{"$f":"'SAB data'!B44","v":"2023-12-31"},{"$f":"'SAB data'!D44","v":301},{"$f":"'SAB data'!E44","v":19.219799999999999},{"$f":"CONCATENATE(\"(\",TEXT('SAB data'!F44,\"0.0\"),\" ,\", TEXT('SAB data'!G44,\"0.0\"),\")\")","v":"(17.1 ,21.5)"},{"$f":"'SAB data'!H44","v":137},{"$f":"'SAB data'!I44","v":9.9001999999999999},{"$f":"IFERROR(CONCATENATE(\"(\",TEXT('SAB data'!J44,\"0.0\"),\" ,\", TEXT('SAB data'!K44,\"0.0\"),\")\"),\"-\")","v":"(8.3 ,11.7)"}]
[null,{"$f":"'SAB data'!B45","v":"2024-03-31"},{"$f":"'SAB data'!D45","v":271},{"$f":"'SAB data'!E45","v":17.0364},{"$f":"CONCATENATE(\"(\",TEXT('SAB data'!F45,\"0.0\"),\" ,\", TEXT('SAB data'!G45,\"0.0\"),\")\")","v":"(15.1 ,19.2)"},{"$f":"'SAB data'!H45","v":148},{"$f":"'SAB data'!I45","v":10.731299999999999},{"$f":"IFERROR(CONCATENATE(\"(\",TEXT('SAB data'!J45,\"0.0\"),\" ,\", TEXT('SAB data'!K45,\"0.0\"),\")\"),\"-\")","v":"(9.1 ,12.6)"}]
[null,{"$f":"'SAB data'!B46","v":"2024-06-30"},{"$f":"'SAB data'!D46","v":270},{"$f":"'SAB data'!E46","v":17.326799999999999},{"$f":"CONCATENATE(\"(\",TEXT('SAB data'!F46,\"0.0\"),\" ,\", TEXT('SAB data'!G46,\"0.0\"),\")\")","v":"(15.3 ,19.5)"},{"$f":"'SAB data'!H46","v":136},{"$f":"'SAB data'!I46","v":9.8612000000000002},{"$f":"IFERROR(CONCATENATE(\"(\",TEXT('SAB data'!J46,\"0.0\"),\" ,\", TEXT('SAB data'!K46,\"0.0\"),\")\"),\"-\")","v":"(8.3 ,11.7)"}]
[null,{"$f":"'SAB data'!B47","v":"2024-09-30"},{"$f":"'SAB data'!D47","v":313},{"$f":"'SAB data'!E47","v":20.1616},{"$f":"CONCATENATE(\"(\",TEXT('SAB data'!F47,\"0.0\"),\" ,\", TEXT('SAB data'!G47,\"0.0\"),\")\")","v":"(18.0 ,22.5)"},{"$f":"'SAB data'!H47","v":143},{"$f":"'SAB data'!I47","v":10.256},{"$f":"IFERROR(CONCATENATE(\"(\",TEXT('SAB data'!J47,\"0.0\"),\" ,\", TEXT('SAB data'!K47,\"0.0\"),\")\"),\"-\")","v":"(8.6 ,12.1)"}]
[null,{"$f":"'SAB data'!B48","v":"2024-12-31"},{"$f":"'SAB data'!D48","v":287},{"$f":"'SAB data'!E48","v":18.394100000000002},{"$f":"CONCATENATE(\"(\",TEXT('SAB data'!F48,\"0.0\"),\" ,\", TEXT('SAB data'!G48,\"0.0\"),\")\")","v":"(16.3 ,20.7)"},{"$f":"'SAB data'!H48","v":147},{"$f":"'SAB data'!I48","v":10.542899999999999},{"$f":"IFERROR(CONCATENATE(\"(\",TEXT('SAB data'!J48,\"0.0\"),\" ,\", TEXT('SAB data'!K48,\"0.0\"),\")\"),\"-\")","v":"(8.9 ,12.4)"}]
[null,{"$f":"'SAB data'!B49","v":"2025-03-31"},{"$f":"'SAB data'!D49","v":283},{"$f":"'SAB data'!E49","v":18.232199999999999},{"$f":"CONCATENATE(\"(\",TEXT('SAB data'!F49,\"0.0\"),\" ,\", TEXT('SAB data'!G49,\"0.0\"),\")\")","v":"(16.2 ,20.5)"},{"$f":"'SAB data'!H49","v":123},{"$f":"'SAB data'!I49","v":8.9930000000000003},{"$f":"IFERROR(CONCATENATE(\"(\",TEXT('SAB data'!J49,\"0.0\"),\" ,\", TEXT('SAB data'!K49,\"0.0\"),\")\"),\"-\")","v":"(7.5 ,10.7)"}]
[null,{"$f":"'SAB data'!B50","v":"2025-06-30"},{"$f":"'SAB data'!D50","v":303},{"$f":"'SAB data'!E50","v":19.8613},{"$f":"CONCATENATE(\"(\",TEXT('SAB data'!F50,\"0.0\"),\" ,\", TEXT('SAB data'!G50,\"0.0\"),\")\")","v":"(17.7 ,22.2)"},{"$f":"'SAB data'!H50","v":156},{"$f":"'SAB data'!I50","v":11.2804},{"$f":"IFERROR(CONCATENATE(\"(\",TEXT('SAB data'!J50,\"0.0\"),\" ,\", TEXT('SAB data'!K50,\"0.0\"),\")\"),\"-\")","v":"(9.6 ,13.2)"}]
[null,{"$f":"'SAB data'!B51","v":"2025-09-30"},{"$f":"'SAB data'!D51","v":296},{"$f":"'SAB data'!E51","v":19.4312},{"$f":"CONCATENATE(\"(\",TEXT('SAB data'!F51,\"0.0\"),\" ,\", TEXT('SAB data'!G51,\"0.0\"),\")\")","v":"(17.3 ,21.8)"},{"$f":"'SAB data'!H51","v":126},{"$f":"'SAB data'!I51","v":9.0121000000000002},{"$f":"IFERROR(CONCATENATE(\"(\",TEXT('SAB data'!J51,\"0.0\"),\" ,\", TEXT('SAB data'!K51,\"0.0\"),\")\"),\"-\")","v":"(7.5 ,10.7)"}]
[null,{"$f":"'SAB data'!B52","v":"2025-12-31"},{"$f":"'SAB data'!D52","v":282},{"$f":"'SAB data'!E52","v":18.379300000000001},{"$f":"CONCATENATE(\"(\",TEXT('SAB data'!F52,\"0.0\"),\" ,\", TEXT('SAB data'!G52,\"0.0\"),\")\")","v":"(16.3 ,20.7)"},{"$f":"'SAB data'!H52","v":132},{"$f":"'SAB data'!I52","v":9.4412000000000003},{"$f":"IFERROR(CONCATENATE(\"(\",TEXT('SAB data'!J52,\"0.0\"),\" ,\", TEXT('SAB data'!K52,\"0.0\"),\")\"),\"-\")","v":"(7.9 ,11.2)"}]
[null,{"$f":"'SAB data'!B53","v":"2026-03-31"},{"$f":"'SAB data'!D53","v":291},{"$f":"'SAB data'!E53","v":18.8947},{"$f":"CONCATENATE(\"(\",TEXT('SAB data'!F53,\"0.0\"),\" ,\", TEXT('SAB data'!G53,\"0.0\"),\")\")","v":"(16.8 ,21.2)"},{"$f":"'SAB data'!H53","v":137},{"$f":"'SAB data'!I53","v":10.0166},{"$f":"IFERROR(CONCATENATE(\"(\",TEXT('SAB data'!J53,\"0.0\"),\" ,\", TEXT('SAB data'!K53,\"0.0\"),\")\"),\"-\")","v":"(8.4 ,11.8)"}]

{"sheet":"SSI Data and Charts","index":4,"n_rows":53,"n_cols":17,"rows_kept":53,"cut":false,"hidden":false,"merged":[]}
[null,"Scotland",null,null,null,null,null,null,null,null,null,null,{"$f":"CONCATENATE(\"% SSI for \",B1)","v":"% SSI for Scotland"}]
[]
[null,null,null,"Casesarean Birth",null,null,null,"Hip Arthroplasty",null,null,null,null,null,"SSI Caesarean Birth",null,"SSI Hip Arthoplasty"]
[null,"Quarter Ending","SSI to day 10","Procedures","SSI Incidence (%)","95% CI","SSI inpatient & readmission to day 30","Procedures","SSI Incidence (%)","95% CI",null,null,null,"% change",null,"% change"]
[null,{"$f":"'SSI data'!B8","v":"2014-03-24"},{"$f":"'SSI data'!D8","v":61},{"$f":"'SSI data'!L8","v":3998},{"$f":"'SSI data'!E8","v":1.526},{"$f":"IFERROR(CONCATENATE(\"(\",TEXT('SSI data'!F8,\"0.0\"),\" ,\", TEXT('SSI data'!G8,\"0.0\"),\")\"),\"-\")","v":"(1.2 ,2.0)"},{"$f":"'SSI data'!H8","v":16},{"$f":"'SSI data'!M8","v":2106},{"$f":"'SSI data'!I8","v":0.76},{"$f":"IFERROR(CONCATENATE(\"(\",TEXT('SSI data'!J8,\"0.0\"),\", \", TEXT('SSI data'!K8,\"0.0\"),\")\"),\"-\")","v":"(0.5, 1.2)"},null,null,"Year end compared to previous year end ",{"$f":"IFERROR(ROUND(VLOOKUP(CONCATENATE(N3,$B$1),'year end comp'!$A$2:$Z$1086,4,FALSE),2),\"-\")","v":"-"},{"$f":"IF(IFERROR(VLOOKUP(CONCATENATE(N3,$B$1),'year end comp'!$A$2:$Z$1086,8,FALSE),\"-\")=0,\"-\",IFERROR(VLOOKUP(CONCATENATE(N3,$B$1),'year end comp'!$A$2:$Z$1086,8,FALSE),\"-\"))","v":"-"},{"$f":"IFERROR(ROUND(VLOOKUP(CONCATENATE(P3,$B$1),'year end comp'!$A$2:$Z$1086,4,FALSE),2),\"-\")","v":"-"},{"$f":"IF(IFERROR(VLOOKUP(CONCATENATE(P3,$B$1),'year end comp'!$A$2:$Z$1086,8,FALSE),\"-\")=0,\"-\",IFERROR(VLOOKUP(CONCATENATE(P3,$B$1),'year end comp'!$A$2:$Z$1086,8,FALSE),\"-\"))","v":"-"}]
[null,{"$f":"'SSI data'!B9","v":"2014-06-27"},{"$f":"'SSI data'!D9","v":58},{"$f":"'SSI data'!L9","v":4103},{"$f":"'SSI data'!E9","v":1.4139999999999999},{"$f":"IFERROR(CONCATENATE(\"(\",TEXT('SSI data'!F9,\"0.0\"),\" ,\", TEXT('SSI data'!G9,\"0.0\"),\")\"),\"-\")","v":"(1.1 ,1.8)"},{"$f":"'SSI data'!H9","v":13},{"$f":"'SSI data'!M9","v":2098},{"$f":"'SSI data'!I9","v":0.62},{"$f":"IFERROR(CONCATENATE(\"(\",TEXT('SSI data'!J9,\"0.0\"),\" ,\", TEXT('SSI data'!K9,\"0.0\"),\")\"),\"-\")","v":"(0.4 ,1.1)"}]
[null,{"$f":"'SSI data'!B10","v":"2014-09-30"},{"$f":"'SSI data'!D10","v":58},{"$f":"'SSI data'!L10","v":4563},{"$f":"'SSI data'!E10","v":1.2709999999999999},{"$f":"IFERROR(CONCATENATE(\"(\",TEXT('SSI data'!F10,\"0.0\"),\" ,\", TEXT('SSI data'!G10,\"0.0\"),\")\"),\"-\")","v":"(1.0 ,1.6)"},{"$f":"'SSI data'!H10","v":16},{"$f":"'SSI data'!M10","v":2125},{"$f":"'SSI data'!I10","v":0.753},{"$f":"IFERROR(CONCATENATE(\"(\",TEXT('SSI data'!J10,\"0.0\"),\" ,\", TEXT('SSI data'!K10,\"0.0\"),\")\"),\"-\")","v":"(0.5 ,1.2)"}]
[null,{"$f":"'SSI data'!B11","v":"2014-12-19"},{"$f":"'SSI data'!D11","v":61},{"$f":"'SSI data'!L11","v":4261},{"$f":"'SSI data'!E11","v":1.4319999999999999},{"$f":"IFERROR(CONCATENATE(\"(\",TEXT('SSI data'!F11,\"0.0\"),\" ,\", TEXT('SSI data'!G11,\"0.0\"),\")\"),\"-\")","v":"(1.1 ,1.8)"},{"$f":"'SSI data'!H11","v":12},{"$f":"'SSI data'!M11","v":1974},{"$f":"'SSI data'!I11","v":0.60799999999999998},{"$f":"IFERROR(CONCATENATE(\"(\",TEXT('SSI data'!J11,\"0.0\"),\" ,\", TEXT('SSI data'!K11,\"0.0\"),\")\"),\"-\")","v":"(0.3 ,1.1)"}]
[null,{"$f":"'SSI data'!B12","v":"2015-03-24"},{"$f":"'SSI data'!D12","v":47},{"$f":"'SSI data'!L12","v":3966},{"$f":"'SSI data'!E12","v":1.1850000000000001},{"$f":"IFERROR(CONCATENATE(\"(\",TEXT('SSI data'!F12,\"0.0\"),\" ,\", TEXT('SSI data'!G12,\"0.0\"),\")\"),\"-\")","v":"(0.9 ,1.6)"},{"$f":"'SSI data'!H12","v":18},{"$f":"'SSI data'!M12","v":1959},{"$f":"'SSI data'!I12","v":0.91900000000000004},{"$f":"IFERROR(CONCATENATE(\"(\",TEXT('SSI data'!J12,\"0.0\"),\" ,\", TEXT('SSI data'!K12,\"0.0\"),\")\"),\"-\")","v":"(0.6 ,1.4)"}]
[null,{"$f":"'SSI data'!B13","v":"2015-06-24"},{"$f":"'SSI data'!D13","v":56},{"$f":"'SSI data'!L13","v":4358},{"$f":"'SSI data'!E13","v":1.2849999999999999},{"$f":"IFERROR(CONCATENATE(\"(\",TEXT('SSI data'!F13,\"0.0\"),\" ,\", TEXT('SSI data'!G13,\"0.0\"),\")\"),\"-\")","v":"(1.0 ,1.7)"},{"$f":"'SSI data'!H13","v":18},{"$f":"'SSI data'!M13","v":2159},{"$f":"'SSI data'!I13","v":0.83399999999999996},{"$f":"IFERROR(CONCATENATE(\"(\",TEXT('SSI data'!J13,\"0.0\"),\" ,\", TEXT('SSI data'!K13,\"0.0\"),\")\"),\"-\")","v":"(0.5 ,1.3)"}]
[null,{"$f":"'SSI data'!B14","v":"2015-09-24"},{"$f":"'SSI data'!D14","v":56},{"$f":"'SSI data'!L14","v":4511},{"$f":"'SSI data'!E14","v":1.2410000000000001},{"$f":"IFERROR(CONCATENATE(\"(\",TEXT('SSI data'!F14,\"0.0\"),\" ,\", TEXT('SSI data'!G14,\"0.0\"),\")\"),\"-\")","v":"(1.0 ,1.6)"},{"$f":"'SSI data'!H14","v":10},{"$f":"'SSI data'!M14","v":2135},{"$f":"'SSI data'!I14","v":0.46800000000000003},{"$f":"IFERROR(CONCATENATE(\"(\",TEXT('SSI data'!J14,\"0.0\"),\" ,\", TEXT('SSI data'!K14,\"0.0\"),\")\"),\"-\")","v":"(0.3 ,0.9)"}]
[null,{"$f":"'SSI data'!B15","v":"2015-12-24"},{"$f":"'SSI data'!D15","v":60},{"$f":"'SSI data'!L15","v":4300},{"$f":"'SSI data'!E15","v":1.395},{"$f":"IFERROR(CONCATENATE(\"(\",TEXT('SSI data'!F15,\"0.0\"),\" ,\", TEXT('SSI data'!G15,\"0.0\"),\")\"),\"-\")","v":"(1.1 ,1.8)"},{"$f":"'SSI data'!H15","v":15},{"$f":"'SSI data'!M15","v":2191},{"$f":"'SSI data'!I15","v":0.68500000000000005},{"$f":"IFERROR(CONCATENATE(\"(\",TEXT('SSI data'!J15,\"0.0\"),\" ,\", TEXT('SSI data'!K15,\"0.0\"),\")\"),\"-\")","v":"(0.4 ,1.1)"}]
[null,{"$f":"'SSI data'!B16","v":"2016-03-24"},{"$f":"'SSI data'!D16","v":58},{"$f":"'SSI data'!L16","v":4023},{"$f":"'SSI data'!E16","v":1.4419999999999999},{"$f":"IFERROR(CONCATENATE(\"(\",TEXT('SSI data'!F16,\"0.0\"),\" ,\", TEXT('SSI data'!G16,\"0.0\"),\")\"),\"-\")","v":"(1.1 ,1.9)"},{"$f":"'SSI data'!H16","v":7},{"$f":"'SSI data'!M16","v":2173},{"$f":"'SSI data'!I16","v":0.32200000000000001},{"$f":"IFERROR(CONCATENATE(\"(\",TEXT('SSI data'!J16,\"0.0\"),\" ,\", TEXT('SSI data'!K16,\"0.0\"),\")\"),\"-\")","v":"(0.2 ,0.7)"}]
[null,{"$f":"'SSI data'!B17","v":"2016-06-24"},{"$f":"'SSI data'!D17","v":78},{"$f":"'SSI data'!L17","v":4448},{"$f":"'SSI data'!E17","v":1.754},{"$f":"IFERROR(CONCATENATE(\"(\",TEXT('SSI data'!F17,\"0.0\"),\" ,\", TEXT('SSI data'!G17,\"0.0\"),\")\"),\"-\")","v":"(1.4 ,2.2)"},{"$f":"'SSI data'!H17","v":17},{"$f":"'SSI data'!M17","v":2318},{"$f":"'SSI data'!I17","v":0.73299999999999998},{"$f":"IFERROR(CONCATENATE(\"(\",TEXT('SSI data'!J17,\"0.0\"),\" ,\", TEXT('SSI data'!K17,\"0.0\"),\")\"),\"-\")","v":"(0.5 ,1.2)"}]
[null,{"$f":"'SSI data'!B18","v":"2016-09-24"},{"$f":"'SSI data'!D18","v":71},{"$f":"'SSI data'!L18","v":4446},{"$f":"'SSI data'!E18","v":1.597},{"$f":"IFERROR(CONCATENATE(\"(\",TEXT('SSI data'!F18,\"0.0\"),\" ,\", TEXT('SSI data'!G18,\"0.0\"),\")\"),\"-\")","v":"(1.3 ,2.0)"},{"$f":"'SSI data'!H18","v":14},{"$f":"'SSI data'!M18","v":2153},{"$f":"'SSI data'!I18","v":0.65},{"$f":"IFERROR(CONCATENATE(\"(\",TEXT('SSI data'!J18,\"0.0\"),\" ,\", TEXT('SSI data'!K18,\"0.0\"),\")\"),\"-\")","v":"(0.4 ,1.1)"}]
[null,{"$f":"'SSI data'!B19","v":"2016-12-24"},{"$f":"'SSI data'!D19","v":51},{"$f":"'SSI data'!L19","v":4258},{"$f":"'SSI data'!E19","v":1.198},{"$f":"IFERROR(CONCATENATE(\"(\",TEXT('SSI data'!F19,\"0.0\"),\" ,\", TEXT('SSI data'!G19,\"0.0\"),\")\"),\"-\")","v":"(0.9 ,1.6)"},{"$f":"'SSI data'!H19","v":17},{"$f":"'SSI data'!M19","v":2226},{"$f":"'SSI data'!I19","v":0.76400000000000001},{"$f":"IFERROR(CONCATENATE(\"(\",TEXT('SSI data'!J19,\"0.0\"),\" ,\", TEXT('SSI data'!K19,\"0.0\"),\")\"),\"-\")","v":"(0.5 ,1.2)"}]
[null,{"$f":"'SSI data'!B20","v":"2017-03-01"},{"$f":"'SSI data'!D20","v":58},{"$f":"'SSI data'!L20","v":4047},{"$f":"'SSI data'!E20","v":1.4330000000000001},{"$f":"IFERROR(CONCATENATE(\"(\",TEXT('SSI data'!F20,\"0.0\"),\" ,\", TEXT('SSI data'!G20,\"0.0\"),\")\"),\"-\")","v":"(1.1 ,1.8)"},{"$f":"'SSI data'!H20","v":12},{"$f":"'SSI data'!M20","v":2164},{"$f":"'SSI data'!I20","v":0.55500000000000005},{"$f":"IFERROR(CONCATENATE(\"(\",TEXT('SSI data'!J20,\"0.0\"),\" ,\", TEXT('SSI data'!K20,\"0.0\"),\")\"),\"-\")","v":"(0.3 ,1.0)"}]
[null,{"$f":"'SSI data'!B21","v":"2017-06-01"},{"$f":"'SSI data'!D21","v":51},{"$f":"'SSI data'!L21","v":4115},{"$f":"'SSI data'!E21","v":1.2390000000000001},{"$f":"IFERROR(CONCATENATE(\"(\",TEXT('SSI data'!F21,\"0.0\"),\" ,\", TEXT('SSI data'!G21,\"0.0\"),\")\"),\"-\")","v":"(0.9 ,1.6)"},{"$f":"'SSI data'!H21","v":19},{"$f":"'SSI data'!M21","v":2301},{"$f":"'SSI data'!I21","v":0.82599999999999996},{"$f":"IFERROR(CONCATENATE(\"(\",TEXT('SSI data'!J21,\"0.0\"),\" ,\", TEXT('SSI data'!K21,\"0.0\"),\")\"),\"-\")","v":"(0.5 ,1.3)"}]
[null,{"$f":"'SSI data'!B22","v":"2017-09-01"},{"$f":"'SSI data'!D22","v":58},{"$f":"'SSI data'!L22","v":4514},{"$f":"'SSI data'!E22","v":1.2849999999999999},{"$f":"IFERROR(CONCATENATE(\"(\",TEXT('SSI data'!F22,\"0.0\"),\" ,\", TEXT('SSI data'!G22,\"0.0\"),\")\"),\"-\")","v":"(1.0 ,1.7)"},{"$f":"'SSI data'!H22","v":9},{"$f":"'SSI data'!M22","v":2077},{"$f":"'SSI data'!I22","v":0.433},{"$f":"IFERROR(CONCATENATE(\"(\",TEXT('SSI data'!J22,\"0.0\"),\" ,\", TEXT('SSI data'!K22,\"0.0\"),\")\"),\"-\")","v":"(0.2 ,0.8)"}]
[null,{"$f":"'SSI data'!B23","v":"2017-12-01"},{"$f":"'SSI data'!D23","v":66},{"$f":"'SSI data'!L23","v":4224},{"$f":"'SSI data'!E23","v":1.5629999999999999},{"$f":"IFERROR(CONCATENATE(\"(\",TEXT('SSI data'!F23,\"0.0\"),\" ,\", TEXT('SSI data'!G23,\"0.0\"),\")\"),\"-\")","v":"(1.2 ,2.0)"},{"$f":"'SSI data'!H23","v":16},{"$f":"'SSI data'!M23","v":2071},{"$f":"'SSI data'!I23","v":0.77300000000000002},{"$f":"IFERROR(CONCATENATE(\"(\",TEXT('SSI data'!J23,\"0.0\"),\" ,\", TEXT('SSI data'!K23,\"0.0\"),\")\"),\"-\")","v":"(0.5 ,1.3)"}]
[null,{"$f":"'SSI data'!B24","v":"2018-03-01"},{"$f":"'SSI data'!D24","v":64},{"$f":"'SSI data'!L24","v":3975},{"$f":"'SSI data'!E24","v":1.61},{"$f":"IFERROR(CONCATENATE(\"(\",TEXT('SSI data'!F24,\"0.0\"),\" ,\", TEXT('SSI data'!G24,\"0.0\"),\")\"),\"-\")","v":"(1.3 ,2.1)"},{"$f":"'SSI data'!H24","v":17},{"$f":"'SSI data'!M24","v":2008},{"$f":"'SSI data'!I24","v":0.84699999999999998},{"$f":"IFERROR(CONCATENATE(\"(\",TEXT('SSI data'!J24,\"0.0\"),\" ,\", TEXT('SSI data'!K24,\"0.0\"),\")\"),\"-\")","v":"(0.5 ,1.4)"}]
[null,{"$f":"'SSI data'!B25","v":"2018-06-01"},{"$f":"'SSI data'!D25","v":61},{"$f":"'SSI data'!L25","v":4191},{"$f":"'SSI data'!E25","v":1.4550000000000001},{"$f":"IFERROR(CONCATENATE(\"(\",TEXT('SSI data'!F25,\"0.0\"),\" ,\", TEXT('SSI data'!G25,\"0.0\"),\")\"),\"-\")","v":"(1.1 ,1.9)"},{"$f":"'SSI data'!H25","v":18},{"$f":"'SSI data'!M25","v":2270},{"$f":"'SSI data'!I25","v":0.79300000000000004},{"$f":"IFERROR(CONCATENATE(\"(\",TEXT('SSI data'!J25,\"0.0\"),\" ,\", TEXT('SSI data'!K25,\"0.0\"),\")\"),\"-\")","v":"(0.5 ,1.3)"}]
[null,{"$f":"'SSI data'!B26","v":"2018-09-01"},{"$f":"'SSI data'!D26","v":66},{"$f":"'SSI data'!L26","v":4293},{"$f":"'SSI data'!E26","v":1.5369999999999999},{"$f":"IFERROR(CONCATENATE(\"(\",TEXT('SSI data'!F26,\"0.0\"),\" ,\", TEXT('SSI data'!G26,\"0.0\"),\")\"),\"-\")","v":"(1.2 ,2.0)"},{"$f":"'SSI data'!H26","v":13},{"$f":"'SSI data'!M26","v":2155},{"$f":"'SSI data'!I26","v":0.60299999999999998},{"$f":"IFERROR(CONCATENATE(\"(\",TEXT('SSI data'!J26,\"0.0\"),\" ,\", TEXT('SSI data'!K26,\"0.0\"),\")\"),\"-\")","v":"(0.4 ,1.0)"}]
[null,{"$f":"'SSI data'!B27","v":"2018-12-01"},{"$f":"'SSI data'!D27","v":59},{"$f":"'SSI data'!L27","v":4346},{"$f":"'SSI data'!E27","v":1.3580000000000001},{"$f":"IFERROR(CONCATENATE(\"(\",TEXT('SSI data'!F27,\"0.0\"),\" ,\", TEXT('SSI data'!G27,\"0.0\"),\")\"),\"-\")","v":"(1.1 ,1.7)"},{"$f":"'SSI data'!H27","v":16},{"$f":"'SSI data'!M27","v":2276},{"$f":"'SSI data'!I27","v":0.70299999999999996},{"$f":"IFERROR(CONCATENATE(\"(\",TEXT('SSI data'!J27,\"0.0\"),\" ,\", TEXT('SSI data'!K27,\"0.0\"),\")\"),\"-\")","v":"(0.4 ,1.1)"}]
[null,{"$f":"'SSI data'!B28","v":"2019-03-01"},{"$f":"'SSI data'!D28","v":64},{"$f":"'SSI data'!L28","v":4051},{"$f":"'SSI data'!E28","v":1.58},{"$f":"IFERROR(CONCATENATE(\"(\",TEXT('SSI data'!F28,\"0.0\"),\" ,\", TEXT('SSI data'!G28,\"0.0\"),\")\"),\"-\")","v":"(1.2 ,2.0)"},{"$f":"'SSI data'!H28","v":8},{"$f":"'SSI data'!M28","v":2146},{"$f":"'SSI data'!I28","v":0.373},{"$f":"IFERROR(CONCATENATE(\"(\",TEXT('SSI data'!J28,\"0.0\"),\" ,\", TEXT('SSI data'!K28,\"0.0\"),\")\"),\"-\")","v":"(0.2 ,0.7)"}]
[null,{"$f":"'SSI data'!B29","v":"2019-06-01"},{"$f":"'SSI data'!D29","v":43},{"$f":"'SSI data'!L29","v":4118},{"$f":"'SSI data'!E29","v":1.044},{"$f":"IFERROR(CONCATENATE(\"(\",TEXT('SSI data'!F29,\"0.0\"),\" ,\", TEXT('SSI data'!G29,\"0.0\"),\")\"),\"-\")","v":"(0.8 ,1.4)"},{"$f":"'SSI data'!H29","v":10},{"$f":"'SSI data'!M29","v":2257},{"$f":"'SSI data'!I29","v":0.443},{"$f":"IFERROR(CONCATENATE(\"(\",TEXT('SSI data'!J29,\"0.0\"),\" ,\", TEXT('SSI data'!K29,\"0.0\"),\")\"),\"-\")","v":"(0.2 ,0.8)"}]
[null,{"$f":"'SSI data'!B30","v":"2019-09-01"},{"$f":"'SSI data'!D30","v":51},{"$f":"'SSI data'!L30","v":4408},{"$f":"'SSI data'!E30","v":1.157},{"$f":"IFERROR(CONCATENATE(\"(\",TEXT('SSI data'!F30,\"0.0\"),\" ,\", TEXT('SSI data'!G30,\"0.0\"),\")\"),\"-\")","v":"(0.9 ,1.5)"},{"$f":"'SSI data'!H30","v":17},{"$f":"'SSI data'!M30","v":2121},{"$f":"'SSI data'!I30","v":0.80200000000000005},{"$f":"IFERROR(CONCATENATE(\"(\",TEXT('SSI data'!J30,\"0.0\"),\" ,\", TEXT('SSI data'!K30,\"0.0\"),\")\"),\"-\")","v":"(0.5 ,1.3)"}]
[null,{"$f":"'SSI data'!B31","v":"2019-12-01"},{"$f":"'SSI data'!D31","v":35},{"$f":"'SSI data'!L31","v":4112},{"$f":"'SSI data'!E31","v":0.85099999999999998},{"$f":"IFERROR(CONCATENATE(\"(\",TEXT('SSI data'!F31,\"0.0\"),\" ,\", TEXT('SSI data'!G31,\"0.0\"),\")\"),\"-\")","v":"(0.6 ,1.2)"},{"$f":"'SSI data'!H31","v":17},{"$f":"'SSI data'!M31","v":2145},{"$f":"'SSI data'!I31","v":0.79300000000000004},{"$f":"IFERROR(CONCATENATE(\"(\",TEXT('SSI data'!J31,\"0.0\"),\" ,\", TEXT('SSI data'!K31,\"0.0\"),\")\"),\"-\")","v":"(0.5 ,1.3)"}]
[null,{"$f":"'SSI data'!B32","v":"2020-03-01"},{"$f":"'SSI data'!D32","v":"-"},{"$f":"'SSI data'!L32","v":"-"},{"$f":"'SSI data'!E32","v":"-"},{"$f":"IFERROR(CONCATENATE(\"(\",TEXT('SSI data'!F32,\"0.0\"),\" ,\", TEXT('SSI data'!G32,\"0.0\"),\")\"),\"-\")","v":"(- ,-)"},{"$f":"'SSI data'!H32","v":"-"},{"$f":"'SSI data'!M32","v":"-"},{"$f":"'SSI data'!I32","v":"-"},{"$f":"IFERROR(CONCATENATE(\"(\",TEXT('SSI data'!J32,\"0.0\"),\" ,\", TEXT('SSI data'!K32,\"0.0\"),\")\"),\"-\")","v":"(- ,-)"}]
[null,{"$f":"'SSI data'!B33","v":"2020-06-01"},{"$f":"'SSI data'!D33","v":"-"},{"$f":"'SSI data'!L33","v":"-"},{"$f":"'SSI data'!E33","v":"-"},{"$f":"IFERROR(CONCATENATE(\"(\",TEXT('SSI data'!F33,\"0.0\"),\" ,\", TEXT('SSI data'!G33,\"0.0\"),\")\"),\"-\")","v":"(- ,-)"},{"$f":"'SSI data'!H33","v":"-"},{"$f":"'SSI data'!M33","v":"-"},{"$f":"'SSI data'!I33","v":"-"},{"$f":"IFERROR(CONCATENATE(\"(\",TEXT('SSI data'!J33,\"0.0\"),\" ,\", TEXT('SSI data'!K33,\"0.0\"),\")\"),\"-\")","v":"(- ,-)"}]
[null,{"$f":"'SSI data'!B34","v":"2020-09-01"},{"$f":"'SSI data'!D34","v":"-"},{"$f":"'SSI data'!L34","v":"-"},{"$f":"'SSI data'!E34","v":"-"},{"$f":"IFERROR(CONCATENATE(\"(\",TEXT('SSI data'!F34,\"0.0\"),\" ,\", TEXT('SSI data'!G34,\"0.0\"),\")\"),\"-\")","v":"(- ,-)"},{"$f":"'SSI data'!H34","v":"-"},{"$f":"'SSI data'!M34","v":"-"},{"$f":"'SSI data'!I34","v":"-"},{"$f":"IFERROR(CONCATENATE(\"(\",TEXT('SSI data'!J34,\"0.0\"),\" ,\", TEXT('SSI data'!K34,\"0.0\"),\")\"),\"-\")","v":"(- ,-)"}]
[null,{"$f":"'SSI data'!B35","v":"2020-12-31"},{"$f":"'SSI data'!D35","v":"-"},{"$f":"'SSI data'!L35","v":"-"},{"$f":"'SSI data'!E35","v":"-"},{"$f":"IFERROR(CONCATENATE(\"(\",TEXT('SSI data'!F35,\"0.0\"),\" ,\", TEXT('SSI data'!G35,\"0.0\"),\")\"),\"-\")","v":"(- ,-)"},{"$f":"'SSI data'!H35","v":"-"},{"$f":"'SSI data'!M35","v":"-"},{"$f":"'SSI data'!I35","v":"-"},{"$f":"IFERROR(CONCATENATE(\"(\",TEXT('SSI data'!J35,\"0.0\"),\" ,\", TEXT('SSI data'!K35,\"0.0\"),\")\"),\"-\")","v":"(- ,-)"}]
[null,{"$f":"'SSI data'!B36","v":"2021-03-31"},{"$f":"'SSI data'!D36","v":"-"},{"$f":"'SSI data'!L36","v":"-"},{"$f":"'SSI data'!E36","v":"-"},{"$f":"IFERROR(CONCATENATE(\"(\",TEXT('SSI data'!F36,\"0.0\"),\" ,\", TEXT('SSI data'!G36,\"0.0\"),\")\"),\"-\")","v":"(- ,-)"},{"$f":"'SSI data'!H36","v":"-"},{"$f":"'SSI data'!M36","v":"-"},{"$f":"'SSI data'!I36","v":"-"},{"$f":"IFERROR(CONCATENATE(\"(\",TEXT('SSI data'!J36,\"0.0\"),\" ,\", TEXT('SSI data'!K36,\"0.0\"),\")\"),\"-\")","v":"(- ,-)"}]
[null,{"$f":"'SSI data'!B37","v":"2021-06-30"},{"$f":"'SSI data'!D37","v":"-"},{"$f":"'SSI data'!L37","v":"-"},{"$f":"'SSI data'!E37","v":"-"},{"$f":"IFERROR(CONCATENATE(\"(\",TEXT('SSI data'!F37,\"0.0\"),\" ,\", TEXT('SSI data'!G37,\"0.0\"),\")\"),\"-\")","v":"(- ,-)"},{"$f":"'SSI data'!H37","v":"-"},{"$f":"'SSI data'!M37","v":"-"},{"$f":"'SSI data'!I37","v":"-"},{"$f":"IFERROR(CONCATENATE(\"(\",TEXT('SSI data'!J37,\"0.0\"),\" ,\", TEXT('SSI data'!K37,\"0.0\"),\")\"),\"-\")","v":"(- ,-)"}]
[null,{"$f":"'SSI data'!B38","v":"2021-09-30"},{"$f":"'SSI data'!D38","v":"-"},{"$f":"'SSI data'!L38","v":"-"},{"$f":"'SSI data'!E38","v":"-"},{"$f":"IFERROR(CONCATENATE(\"(\",TEXT('SSI data'!F38,\"0.0\"),\" ,\", TEXT('SSI data'!G38,\"0.0\"),\")\"),\"-\")","v":"(- ,-)"},{"$f":"'SSI data'!H38","v":"-"},{"$f":"'SSI data'!M38","v":"-"},{"$f":"'SSI data'!I38","v":"-"},{"$f":"IFERROR(CONCATENATE(\"(\",TEXT('SSI data'!J38,\"0.0\"),\" ,\", TEXT('SSI data'!K38,\"0.0\"),\")\"),\"-\")","v":"(- ,-)"}]
[null,{"$f":"'SSI data'!B39","v":"2021-12-31"},{"$f":"'SSI data'!D39","v":"-"},{"$f":"'SSI data'!L39","v":"-"},{"$f":"'SSI data'!E39","v":"-"},{"$f":"IFERROR(CONCATENATE(\"(\",TEXT('SSI data'!F39,\"0.0\"),\" ,\", TEXT('SSI data'!G39,\"0.0\"),\")\"),\"-\")","v":"(- ,-)"},{"$f":"'SSI data'!H39","v":"-"},{"$f":"'SSI data'!M39","v":"-"},{"$f":"'SSI data'!I39","v":"-"},{"$f":"IFERROR(CONCATENATE(\"(\",TEXT('SSI data'!J39,\"0.0\"),\" ,\", TEXT('SSI data'!K39,\"0.0\"),\")\"),\"-\")","v":"(- ,-)"}]
[null,{"$f":"'SSI data'!B40","v":"2022-03-31"},{"$f":"'SSI data'!D40","v":"-"},{"$f":"'SSI data'!L40","v":"-"},{"$f":"'SSI data'!E40","v":"-"},{"$f":"IFERROR(CONCATENATE(\"(\",TEXT('SSI data'!F40,\"0.0\"),\" ,\", TEXT('SSI data'!G40,\"0.0\"),\")\"),\"-\")","v":"(- ,-)"},{"$f":"'SSI data'!H40","v":"-"},{"$f":"'SSI data'!M40","v":"-"},{"$f":"'SSI data'!I40","v":"-"},{"$f":"IFERROR(CONCATENATE(\"(\",TEXT('SSI data'!J40,\"0.0\"),\" ,\", TEXT('SSI data'!K40,\"0.0\"),\")\"),\"-\")","v":"(- ,-)"}]
[null,{"$f":"'SSI data'!B41","v":"2022-06-30"},{"$f":"'SSI data'!D41","v":"-"},{"$f":"'SSI data'!L41","v":"-"},{"$f":"'SSI data'!E41","v":"-"},{"$f":"IFERROR(CONCATENATE(\"(\",TEXT('SSI data'!F41,\"0.0\"),\" ,\", TEXT('SSI data'!G41,\"0.0\"),\")\"),\"-\")","v":"(- ,-)"},{"$f":"'SSI data'!H41","v":"-"},{"$f":"'SSI data'!M41","v":"-"},{"$f":"'SSI data'!I41","v":"-"},{"$f":"IFERROR(CONCATENATE(\"(\",TEXT('SSI data'!J41,\"0.0\"),\" ,\", TEXT('SSI data'!K41,\"0.0\"),\")\"),\"-\")","v":"(- ,-)"}]
[null,{"$f":"'SSI data'!B42","v":"2022-09-30"},{"$f":"'SSI data'!D42","v":"-"},{"$f":"'SSI data'!L42","v":"-"},{"$f":"'SSI data'!E42","v":"-"},{"$f":"IFERROR(CONCATENATE(\"(\",TEXT('SSI data'!F42,\"0.0\"),\" ,\", TEXT('SSI data'!G42,\"0.0\"),\")\"),\"-\")","v":"(- ,-)"},{"$f":"'SSI data'!H42","v":"-"},{"$f":"'SSI data'!M42","v":"-"},{"$f":"'SSI data'!I42","v":"-"},{"$f":"IFERROR(CONCATENATE(\"(\",TEXT('SSI data'!J42,\"0.0\"),\" ,\", TEXT('SSI data'!K42,\"0.0\"),\")\"),\"-\")","v":"(- ,-)"}]
[null,{"$f":"'SSI data'!B43","v":"2022-12-31"},{"$f":"'SSI data'!D43","v":"-"},{"$f":"'SSI data'!L43","v":"-"},{"$f":"'SSI data'!E43","v":"-"},{"$f":"IFERROR(CONCATENATE(\"(\",TEXT('SSI data'!F43,\"0.0\"),\" ,\", TEXT('SSI data'!G43,\"0.0\"),\")\"),\"-\")","v":"(- ,-)"},{"$f":"'SSI data'!H43","v":"-"},{"$f":"'SSI data'!M43","v":"-"},{"$f":"'SSI data'!I43","v":"-"},{"$f":"IFERROR(CONCATENATE(\"(\",TEXT('SSI data'!J43,\"0.0\"),\" ,\", TEXT('SSI data'!K43,\"0.0\"),\")\"),\"-\")","v":"(- ,-)"}]
[null,{"$f":"'SSI data'!B44","v":"2023-03-31"},{"$f":"'SSI data'!D44","v":"-"},{"$f":"'SSI data'!L44","v":"-"},{"$f":"'SSI data'!E44","v":"-"},{"$f":"IFERROR(CONCATENATE(\"(\",TEXT('SSI data'!F44,\"0.0\"),\" ,\", TEXT('SSI data'!G44,\"0.0\"),\")\"),\"-\")","v":"(- ,-)"},{"$f":"'SSI data'!H44","v":"-"},{"$f":"'SSI data'!M44","v":"-"},{"$f":"'SSI data'!I44","v":"-"},{"$f":"IFERROR(CONCATENATE(\"(\",TEXT('SSI data'!J44,\"0.0\"),\" ,\", TEXT('SSI data'!K44,\"0.0\"),\")\"),\"-\")","v":"(- ,-)"}]
[null,{"$f":"'SSI data'!B45","v":"2023-06-30"},{"$f":"'SSI data'!D45","v":"-"},{"$f":"'SSI data'!L45","v":"-"},{"$f":"'SSI data'!E45","v":"-"},{"$f":"IFERROR(CONCATENATE(\"(\",TEXT('SSI data'!F45,\"0.0\"),\" ,\", TEXT('SSI data'!G45,\"0.0\"),\")\"),\"-\")","v":"(- ,-)"},{"$f":"'SSI data'!H45","v":"-"},{"$f":"'SSI data'!M45","v":"-"},{"$f":"'SSI data'!I45","v":"-"},{"$f":"IFERROR(CONCATENATE(\"(\",TEXT('SSI data'!J45,\"0.0\"),\" ,\", TEXT('SSI data'!K45,\"0.0\"),\")\"),\"-\")","v":"(- ,-)"}]
[null,{"$f":"'SSI data'!B46","v":"2023-09-30"},{"$f":"'SSI data'!D46","v":"-"},{"$f":"'SSI data'!L46","v":"-"},{"$f":"'SSI data'!E46","v":"-"},{"$f":"IFERROR(CONCATENATE(\"(\",TEXT('SSI data'!F46,\"0.0\"),\" ,\", TEXT('SSI data'!G46,\"0.0\"),\")\"),\"-\")","v":"(- ,-)"},{"$f":"'SSI data'!H46","v":"-"},{"$f":"'SSI data'!M46","v":"-"},{"$f":"'SSI data'!I46","v":"-"},{"$f":"IFERROR(CONCATENATE(\"(\",TEXT('SSI data'!J46,\"0.0\"),\" ,\", TEXT('SSI data'!K46,\"0.0\"),\")\"),\"-\")","v":"(- ,-)"}]
[null,{"$f":"'SSI data'!B47","v":"2023-12-31"},{"$f":"'SSI data'!D47","v":"-"},{"$f":"'SSI data'!L47","v":"-"},{"$f":"'SSI data'!E47","v":"-"},{"$f":"IFERROR(CONCATENATE(\"(\",TEXT('SSI data'!F47,\"0.0\"),\" ,\", TEXT('SSI data'!G47,\"0.0\"),\")\"),\"-\")","v":"(- ,-)"},{"$f":"'SSI data'!H47","v":"-"},{"$f":"'SSI data'!M47","v":"-"},{"$f":"'SSI data'!I47","v":"-"},{"$f":"IFERROR(CONCATENATE(\"(\",TEXT('SSI data'!J47,\"0.0\"),\" ,\", TEXT('SSI data'!K47,\"0.0\"),\")\"),\"-\")","v":"(- ,-)"}]
[null,{"$f":"'SSI data'!B48","v":"2024-03-31"},{"$f":"'SSI data'!D48","v":"-"},{"$f":"'SSI data'!L48","v":"-"},{"$f":"'SSI data'!E48","v":"-"},{"$f":"IFERROR(CONCATENATE(\"(\",TEXT('SSI data'!F48,\"0.0\"),\" ,\", TEXT('SSI data'!G48,\"0.0\"),\")\"),\"-\")","v":"(- ,-)"},{"$f":"'SSI data'!H48","v":"-"},{"$f":"'SSI data'!M48","v":"-"},{"$f":"'SSI data'!I48","v":"-"},{"$f":"IFERROR(CONCATENATE(\"(\",TEXT('SSI data'!J48,\"0.0\"),\" ,\", TEXT('SSI data'!K48,\"0.0\"),\")\"),\"-\")","v":"(- ,-)"}]
[null,{"$f":"'SSI data'!B49","v":"2024-06-30"},{"$f":"'SSI data'!D49","v":"-"},{"$f":"'SSI data'!L49","v":"-"},{"$f":"'SSI data'!E49","v":"-"},{"$f":"IFERROR(CONCATENATE(\"(\",TEXT('SSI data'!F49,\"0.0\"),\" ,\", TEXT('SSI data'!G49,\"0.0\"),\")\"),\"-\")","v":"(- ,-)"},{"$f":"'SSI data'!H49","v":"-"},{"$f":"'SSI data'!M49","v":"-"},{"$f":"'SSI data'!I49","v":"-"},{"$f":"IFERROR(CONCATENATE(\"(\",TEXT('SSI data'!J49,\"0.0\"),\" ,\", TEXT('SSI data'!K49,\"0.0\"),\")\"),\"-\")","v":"(- ,-)"}]
[null,{"$f":"'SSI data'!B50","v":"2024-09-30"},{"$f":"'SSI data'!D50","v":"-"},{"$f":"'SSI data'!L50","v":"-"},{"$f":"'SSI data'!E50","v":"-"},{"$f":"IFERROR(CONCATENATE(\"(\",TEXT('SSI data'!F50,\"0.0\"),\" ,\", TEXT('SSI data'!G50,\"0.0\"),\")\"),\"-\")","v":"(- ,-)"},{"$f":"'SSI data'!H50","v":"-"},{"$f":"'SSI data'!M50","v":"-"},{"$f":"'SSI data'!I50","v":"-"},{"$f":"IFERROR(CONCATENATE(\"(\",TEXT('SSI data'!J50,\"0.0\"),\" ,\", TEXT('SSI data'!K50,\"0.0\"),\")\"),\"-\")","v":"(- ,-)"}]
[null,{"$f":"'SSI data'!B51","v":"2024-12-31"},{"$f":"'SSI data'!D51","v":"-"},{"$f":"'SSI data'!L51","v":"-"},{"$f":"'SSI data'!E51","v":"-"},{"$f":"IFERROR(CONCATENATE(\"(\",TEXT('SSI data'!F51,\"0.0\"),\" ,\", TEXT('SSI data'!G51,\"0.0\"),\")\"),\"-\")","v":"(- ,-)"},{"$f":"'SSI data'!H51","v":"-"},{"$f":"'SSI data'!M51","v":"-"},{"$f":"'SSI data'!I51","v":"-"},{"$f":"IFERROR(CONCATENATE(\"(\",TEXT('SSI data'!J51,\"0.0\"),\" ,\", TEXT('SSI data'!K51,\"0.0\"),\")\"),\"-\")","v":"(- ,-)"}]
[null,{"$f":"'SSI data'!B52","v":"2025-03-31"},{"$f":"'SSI data'!D52","v":"-"},{"$f":"'SSI data'!L52","v":"-"},{"$f":"'SSI data'!E52","v":"-"},{"$f":"IFERROR(CONCATENATE(\"(\",TEXT('SSI data'!F52,\"0.0\"),\" ,\", TEXT('SSI data'!G52,\"0.0\"),\")\"),\"-\")","v":"(- ,-)"},{"$f":"'SSI data'!H52","v":"-"},{"$f":"'SSI data'!M52","v":"-"},{"$f":"'SSI data'!I52","v":"-"},{"$f":"IFERROR(CONCATENATE(\"(\",TEXT('SSI data'!J52,\"0.0\"),\" ,\", TEXT('SSI data'!K52,\"0.0\"),\")\"),\"-\")","v":"(- ,-)"}]
[null,{"$f":"'SSI data'!B53","v":"2025-06-30"},{"$f":"'SSI data'!D53","v":"-"},{"$f":"'SSI data'!L53","v":"-"},{"$f":"'SSI data'!E53","v":"-"},{"$f":"IFERROR(CONCATENATE(\"(\",TEXT('SSI data'!F53,\"0.0\"),\" ,\", TEXT('SSI data'!G53,\"0.0\"),\")\"),\"-\")","v":"(- ,-)"},{"$f":"'SSI data'!H53","v":"-"},{"$f":"'SSI data'!M53","v":"-"},{"$f":"'SSI data'!I53","v":"-"},{"$f":"IFERROR(CONCATENATE(\"(\",TEXT('SSI data'!J53,\"0.0\"),\" ,\", TEXT('SSI data'!K53,\"0.0\"),\")\"),\"-\")","v":"(- ,-)"}]
[null,{"$f":"'SSI data'!B54","v":"2025-09-30"},{"$f":"'SSI data'!D54","v":"-"},{"$f":"'SSI data'!L54","v":"-"},{"$f":"'SSI data'!E54","v":"-"},{"$f":"IFERROR(CONCATENATE(\"(\",TEXT('SSI data'!F54,\"0.0\"),\" ,\", TEXT('SSI data'!G54,\"0.0\"),\")\"),\"-\")","v":"(- ,-)"},{"$f":"'SSI data'!H54","v":"-"},{"$f":"'SSI data'!M54","v":"-"},{"$f":"'SSI data'!I54","v":"-"},{"$f":"IFERROR(CONCATENATE(\"(\",TEXT('SSI data'!J54,\"0.0\"),\" ,\", TEXT('SSI data'!K54,\"0.0\"),\")\"),\"-\")","v":"(- ,-)"}]
[null,{"$f":"'SSI data'!B55","v":"2025-12-31"},{"$f":"'SSI data'!D55","v":"-"},{"$f":"'SSI data'!L55","v":"-"},{"$f":"'SSI data'!E55","v":"-"},{"$f":"IFERROR(CONCATENATE(\"(\",TEXT('SSI data'!F55,\"0.0\"),\" ,\", TEXT('SSI data'!G55,\"0.0\"),\")\"),\"-\")","v":"(- ,-)"},{"$f":"'SSI data'!H55","v":"-"},{"$f":"'SSI data'!M55","v":"-"},{"$f":"'SSI data'!I55","v":"-"},{"$f":"IFERROR(CONCATENATE(\"(\",TEXT('SSI data'!J55,\"0.0\"),\" ,\", TEXT('SSI data'!K55,\"0.0\"),\")\"),\"-\")","v":"(- ,-)"}]
[null,{"$f":"'SSI data'!B56","v":"2026-03-31"},{"$f":"'SSI data'!D56","v":"-"},{"$f":"'SSI data'!L56","v":"-"},{"$f":"'SSI data'!E56","v":"-"},{"$f":"IFERROR(CONCATENATE(\"(\",TEXT('SSI data'!F56,\"0.0\"),\" ,\", TEXT('SSI data'!G56,\"0.0\"),\")\"),\"-\")","v":"(- ,-)"},{"$f":"'SSI data'!H56","v":"-"},{"$f":"'SSI data'!M56","v":"-"},{"$f":"'SSI data'!I56","v":"-"},{"$f":"IFERROR(CONCATENATE(\"(\",TEXT('SSI data'!J56,\"0.0\"),\" ,\", TEXT('SSI data'!K56,\"0.0\"),\")\"),\"-\")","v":"(- ,-)"}]

{"sheet":"ECOLI data","index":5,"n_rows":46,"n_cols":30,"rows_kept":46,"cut":false,"hidden":true,"merged":[]}
["Trend data",null,null,null,null,null,null,null,null,null,null,null,null,null,null,null,null,"u-chart data"]
[]
["add a new line for current quarter"]
[null,null,null,null,null,null,null,null,null,null,null,null,null,null,null,null,null,null,null,null,"change this"]
[null,null,null,"ECBHCAI","ECBHCAI","ECBHCAI","ECBHCAI","ECBCOM","ECBCOM","ECBCOM","ECBCOM","ECBHCAI","ECBCOM",null,null,null,null,null,null,"current quarter end","2026-03-31",3,4,5,6,null,3,4,5,6]
[null,null,null,2,4,5,6,2,4,5,6,3,3]
[null,null,"ref","Healthcare associated Cases","Healthcare associated rate","Healthcare associated lower CI","Healthcare associated upper CI","Community associatedCases","Community associated rate","Community associated lower CI","Community associated upper CI","ALL beds","Pop",null,null,null,null,null,null,null,null,"ECBHCAI",null,null,null,null,"ECBCOM"]
[201603,"2016-09-24",{"$f":"CONCATENATE(A8,'ECOLI Data and Charts'!B$1)","v":"201603Scotland"},{"$f":"VLOOKUP(CONCATENATE(D$5,$C8),'trend data'!$A$2:$O$11161,D$6,FALSE)","v":581},{"$f":"ROUND(VLOOKUP(CONCATENATE(E$5,$C8),'trend data'!$A$2:$O$11161,E$6,FALSE),3)","v":36.588999999999999},{"$f":"ROUND(VLOOKUP(CONCATENATE(F$5,$C8),'trend data'!$A$2:$O$11161,F$6,FALSE),3)","v":33.673999999999999},{"$f":"ROUND(VLOOKUP(CONCATENATE(G$5,$C8),'trend data'!$A$2:$O$11161,G$6,FALSE),3)","v":39.689},{"$f":"IFERROR(VLOOKUP(CONCATENATE(H$5,$C8),'trend data'!$A$2:$O$11161,H$6,FALSE),\"-\")","v":720},{"$f":"IFERROR(ROUND(VLOOKUP(CONCATENATE(I$5,$C8),'trend data'!$A$2:$O$11161,I$6,FALSE),3),\"-\")","v":53.304000000000002},{"$f":"IFERROR(ROUND(VLOOKUP(CONCATENATE(J$5,$C8),'trend data'!$A$2:$O$11161,J$6,FALSE),3),\"-\")","v":49.481000000000002},{"$f":"IFERROR(ROUND(VLOOKUP(CONCATENATE(K$5,$C8),'trend data'!$A$2:$O$11161,K$6,FALSE),3),\"-\")","v":57.344000000000001},{"$f":"VLOOKUP(CONCATENATE(L$5,$C8),'trend data'!$A$2:$O$11161,L$6,FALSE)","v":1587890},{"$f":"ROUND(VLOOKUP(CONCATENATE(M$5,$C8),'trend data'!$A$2:$O$11161,M$6,FALSE),2)","v":1350740.98},null,null,null,null,"change to last 12 quarters",null,null,null,"Healthcare associated rate","Healthcare associated av rate","Healthcare associated UWL 2sd","Healthcare associated UCL 3sd",null,"Community associated rate","Community associated av rate","Community associated UWL 2sd","Community associated UCL 3 sd"]
[201604,"2016-12-24",{"$f":"CONCATENATE(A9,'ECOLI Data and Charts'!B$1)","v":"201604Scotland"},{"$f":"VLOOKUP(CONCATENATE(D$5,$C9),'trend data'!$A$2:$O$11161,D$6,FALSE)","v":564},{"$f":"ROUND(VLOOKUP(CONCATENATE(E$5,$C9),'trend data'!$A$2:$O$11161,E$6,FALSE),3)","v":35.433999999999997},{"$f":"ROUND(VLOOKUP(CONCATENATE(F$5,$C9),'trend data'!$A$2:$O$11161,F$6,FALSE),3)","v":32.57},{"$f":"ROUND(VLOOKUP(CONCATENATE(G$5,$C9),'trend data'!$A$2:$O$11161,G$6,FALSE),3)","v":38.482999999999997},{"$f":"IFERROR(VLOOKUP(CONCATENATE(H$5,$C9),'trend data'!$A$2:$O$11161,H$6,FALSE),\"-\")","v":631},{"$f":"IFERROR(ROUND(VLOOKUP(CONCATENATE(I$5,$C9),'trend data'!$A$2:$O$11161,I$6,FALSE),3),\"-\")","v":46.715000000000003},{"$f":"IFERROR(ROUND(VLOOKUP(CONCATENATE(J$5,$C9),'trend data'!$A$2:$O$11161,J$6,FALSE),3),\"-\")","v":43.140999999999998},{"$f":"IFERROR(ROUND(VLOOKUP(CONCATENATE(K$5,$C9),'trend data'!$A$2:$O$11161,K$6,FALSE),3),\"-\")","v":50.506999999999998},{"$f":"VLOOKUP(CONCATENATE(L$5,$C9),'trend data'!$A$2:$O$11161,L$6,FALSE)","v":1591683},{"$f":"ROUND(VLOOKUP(CONCATENATE(M$5,$C9),'trend data'!$A$2:$O$11161,M$6,FALSE),2)","v":1350740.98},null,null,null,null,{"$f":"YEAR(U9)&\"0\"&IF(MONTH(U9)<4,1,IF(MONTH(U9)<7,2,IF(MONTH(U9)<10,3,4)))","v":"202302"},{"$f":"CONCATENATE(V$7,$R9,'ECOLI Data and Charts'!B$1)","v":"ECBHCAI202302Scotland"},1,{"$f":"U10-92","v":"2023-06-23"},{"$f":"ROUND(VLOOKUP($S9,'data for u-p-charts'!$A$2:$F$5000,V$5,FALSE),2)","v":37.61},{"$f":"ROUND(VLOOKUP($S9,'data for u-p-charts'!$A$2:$F$5000,W$5,FALSE),2)","v":38.81},{"$f":"ROUND(VLOOKUP($S9,'data for u-p-charts'!$A$2:$F$5000,X$5,FALSE),2)","v":41.98},{"$f":"ROUND(VLOOKUP($S9,'data for u-p-charts'!$A$2:$F$5000,Y$5,FALSE),2)","v":43.57},{"$f":"CONCATENATE(AA$7,$R9,'ECOLI Data and Charts'!$B$1)","v":"ECBCOM202302Scotland"},{"$f":"ROUND(VLOOKUP($Z9,'data for u-p-charts'!$A$2:$F$5000,AA$5,FALSE),2)","v":36.68},{"$f":"ROUND(VLOOKUP($Z9,'data for u-p-charts'!$A$2:$F$5000,AB$5,FALSE),2)","v":36.49},{"$f":"ROUND(VLOOKUP($Z9,'data for u-p-charts'!$A$2:$F$5000,AC$5,FALSE),2)","v":39.75},{"$f":"ROUND(VLOOKUP($Z9,'data for u-p-charts'!$A$2:$F$5000,AD$5,FALSE),2)","v":41.39}]
[201701,"2017-03-01",{"$f":"CONCATENATE(A10,'ECOLI Data and Charts'!B$1)","v":"201701Scotland"},{"$f":"VLOOKUP(CONCATENATE(D$5,$C10),'trend data'!$A$2:$O$11161,D$6,FALSE)","v":547},{"$f":"ROUND(VLOOKUP(CONCATENATE(E$5,$C10),'trend data'!$A$2:$O$11161,E$6,FALSE),3)","v":34.591000000000001},{"$f":"ROUND(VLOOKUP(CONCATENATE(F$5,$C10),'trend data'!$A$2:$O$11161,F$6,FALSE),3)","v":31.751999999999999},{"$f":"ROUND(VLOOKUP(CONCATENATE(G$5,$C10),'trend data'!$A$2:$O$11161,G$6,FALSE),3)","v":37.615000000000002},{"$f":"IFERROR(VLOOKUP(CONCATENATE(H$5,$C10),'trend data'!$A$2:$O$11161,H$6,FALSE),\"-\")","v":570},{"$f":"IFERROR(ROUND(VLOOKUP(CONCATENATE(I$5,$C10),'trend data'!$A$2:$O$11161,I$6,FALSE),3),\"-\")","v":42.902000000000001},{"$f":"IFERROR(ROUND(VLOOKUP(CONCATENATE(J$5,$C10),'trend data'!$A$2:$O$11161,J$6,FALSE),3),\"-\")","v":39.451999999999998},{"$f":"IFERROR(ROUND(VLOOKUP(CONCATENATE(K$5,$C10),'trend data'!$A$2:$O$11161,K$6,FALSE),3),\"-\")","v":46.573999999999998},{"$f":"VLOOKUP(CONCATENATE(L$5,$C10),'trend data'!$A$2:$O$11161,L$6,FALSE)","v":1581339},{"$f":"ROUND(VLOOKUP(CONCATENATE(M$5,$C10),'trend data'!$A$2:$O$11161,M$6,FALSE),2)","v":1328597.26},null,null,null,null,{"$f":"YEAR(U10)&\"0\"&IF(MONTH(U10)<4,1,IF(MONTH(U10)<7,2,IF(MONTH(U10)<10,3,4)))","v":"202303"},{"$f":"CONCATENATE(V$7,R10,'ECOLI Data and Charts'!B$1)","v":"ECBHCAI202303Scotland"},2,"2023-09-23",{"$f":"ROUND(VLOOKUP($S10,'data for u-p-charts'!$A$2:$F$5000,V$5,FALSE),2)","v":37.72},{"$f":"ROUND(VLOOKUP($S10,'data for u-p-charts'!$A$2:$F$5000,W$5,FALSE),2)","v":38.81},{"$f":"ROUND(VLOOKUP($S10,'data for u-p-charts'!$A$2:$F$5000,X$5,FALSE),2)","v":41.99},{"$f":"ROUND(VLOOKUP($S10,'data for u-p-charts'!$A$2:$F$5000,Y$5,FALSE),2)","v":43.58},{"$f":"CONCATENATE(AA$7,$R10,'ECOLI Data and Charts'!$B$1)","v":"ECBCOM202303Scotland"},{"$f":"ROUND(VLOOKUP($Z10,'data for u-p-charts'!$A$2:$F$5000,AA$5,FALSE),2)","v":41.55},{"$f":"ROUND(VLOOKUP($Z10,'data for u-p-charts'!$A$2:$F$5000,AB$5,FALSE),2)","v":36.49},{"$f":"ROUND(VLOOKUP($Z10,'data for u-p-charts'!$A$2:$F$5000,AC$5,FALSE),2)","v":39.729999999999997},{"$f":"ROUND(VLOOKUP($Z10,'data for u-p-charts'!$A$2:$F$5000,AD$5,FALSE),2)","v":41.36}]
[201702,"2017-06-01",{"$f":"CONCATENATE(A11,'ECOLI Data and Charts'!B$1)","v":"201702Scotland"},{"$f":"VLOOKUP(CONCATENATE(D$5,$C11),'trend data'!$A$2:$O$11161,D$6,FALSE)","v":539},{"$f":"ROUND(VLOOKUP(CONCATENATE(E$5,$C11),'trend data'!$A$2:$O$11161,E$6,FALSE),3)","v":34.761000000000003},{"$f":"ROUND(VLOOKUP(CONCATENATE(F$5,$C11),'trend data'!$A$2:$O$11161,F$6,FALSE),3)","v":31.888000000000002},{"$f":"ROUND(VLOOKUP(CONCATENATE(G$5,$C11),'trend data'!$A$2:$O$11161,G$6,FALSE),3)","v":37.823999999999998},{"$f":"IFERROR(VLOOKUP(CONCATENATE(H$5,$C11),'trend data'!$A$2:$O$11161,H$6,FALSE),\"-\")","v":657},{"$f":"IFERROR(ROUND(VLOOKUP(CONCATENATE(I$5,$C11),'trend data'!$A$2:$O$11161,I$6,FALSE),3),\"-\")","v":48.906999999999996},{"$f":"IFERROR(ROUND(VLOOKUP(CONCATENATE(J$5,$C11),'trend data'!$A$2:$O$11161,J$6,FALSE),3),\"-\")","v":45.238},{"$f":"IFERROR(ROUND(VLOOKUP(CONCATENATE(K$5,$C11),'trend data'!$A$2:$O$11161,K$6,FALSE),3),\"-\")","v":52.793999999999997},{"$f":"VLOOKUP(CONCATENATE(L$5,$C11),'trend data'!$A$2:$O$11161,L$6,FALSE)","v":1550567},{"$f":"ROUND(VLOOKUP(CONCATENATE(M$5,$C11),'trend data'!$A$2:$O$11161,M$6,FALSE),2)","v":1343359.45},null,null,null,null,{"$f":"YEAR(U11)&\"0\"&IF(MONTH(U11)<4,1,IF(MONTH(U11)<7,2,IF(MONTH(U11)<10,3,4)))","v":"202304"},{"$f":"CONCATENATE(V$7,R11,'ECOLI Data and Charts'!B$1)","v":"ECBHCAI202304Scotland"},3,"2023-12-24",{"$f":"ROUND(VLOOKUP($S11,'data for u-p-charts'!$A$2:$F$5000,V$5,FALSE),2)","v":34.74},{"$f":"ROUND(VLOOKUP($S11,'data for u-p-charts'!$A$2:$F$5000,W$5,FALSE),2)","v":38.81},{"$f":"ROUND(VLOOKUP($S11,'data for u-p-charts'!$A$2:$F$5000,X$5,FALSE),2)","v":41.96},{"$f":"ROUND(VLOOKUP($S11,'data for u-p-charts'!$A$2:$F$5000,Y$5,FALSE),2)","v":43.54},{"$f":"CONCATENATE(AA$7,$R11,'ECOLI Data and Charts'!$B$1)","v":"ECBCOM202304Scotland"},{"$f":"ROUND(VLOOKUP($Z11,'data for u-p-charts'!$A$2:$F$5000,AA$5,FALSE),2)","v":31.94},{"$f":"ROUND(VLOOKUP($Z11,'data for u-p-charts'!$A$2:$F$5000,AB$5,FALSE),2)","v":36.49},{"$f":"ROUND(VLOOKUP($Z11,'data for u-p-charts'!$A$2:$F$5000,AC$5,FALSE),2)","v":39.729999999999997},{"$f":"ROUND(VLOOKUP($Z11,'data for u-p-charts'!$A$2:$F$5000,AD$5,FALSE),2)","v":41.36}]
[201703,"2017-09-01",{"$f":"CONCATENATE(A12,'ECOLI Data and Charts'!B$1)","v":"201703Scotland"},{"$f":"VLOOKUP(CONCATENATE(D$5,$C12),'trend data'!$A$2:$O$11161,D$6,FALSE)","v":585},{"$f":"ROUND(VLOOKUP(CONCATENATE(E$5,$C12),'trend data'!$A$2:$O$11161,E$6,FALSE),3)","v":38.015999999999998},{"$f":"ROUND(VLOOKUP(CONCATENATE(F$5,$C12),'trend data'!$A$2:$O$11161,F$6,FALSE),3)","v":34.997},{"$f":"ROUND(VLOOKUP(CONCATENATE(G$5,$C12),'trend data'!$A$2:$O$11161,G$6,FALSE),3)","v":41.225000000000001},{"$f":"IFERROR(VLOOKUP(CONCATENATE(H$5,$C12),'trend data'!$A$2:$O$11161,H$6,FALSE),\"-\")","v":677},{"$f":"IFERROR(ROUND(VLOOKUP(CONCATENATE(I$5,$C12),'trend data'!$A$2:$O$11161,I$6,FALSE),3),\"-\")","v":49.847999999999999},{"$f":"IFERROR(ROUND(VLOOKUP(CONCATENATE(J$5,$C12),'trend data'!$A$2:$O$11161,J$6,FALSE),3),\"-\")","v":46.162999999999997},{"$f":"IFERROR(ROUND(VLOOKUP(CONCATENATE(K$5,$C12),'trend data'!$A$2:$O$11161,K$6,FALSE),3),\"-\")","v":53.749000000000002},{"$f":"VLOOKUP(CONCATENATE(L$5,$C12),'trend data'!$A$2:$O$11161,L$6,FALSE)","v":1538826},{"$f":"ROUND(VLOOKUP(CONCATENATE(M$5,$C12),'trend data'!$A$2:$O$11161,M$6,FALSE),2)","v":1358121.64},null,null,null,null,"202401",{"$f":"CONCATENATE(V$7,R12,'ECOLI Data and Charts'!B$1)","v":"ECBHCAI202401Scotland"},4,"2024-03-25",{"$f":"ROUND(VLOOKUP($S12,'data for u-p-charts'!$A$2:$F$5000,V$5,FALSE),2)","v":35.520000000000003},{"$f":"ROUND(VLOOKUP($S12,'data for u-p-charts'!$A$2:$F$5000,W$5,FALSE),2)","v":38.81},{"$f":"ROUND(VLOOKUP($S12,'data for u-p-charts'!$A$2:$F$5000,X$5,FALSE),2)","v":41.94},{"$f":"ROUND(VLOOKUP($S12,'data for u-p-charts'!$A$2:$F$5000,Y$5,FALSE),2)","v":43.5},{"$f":"CONCATENATE(AA$7,$R12,'ECOLI Data and Charts'!$B$1)","v":"ECBCOM202401Scotland"},{"$f":"ROUND(VLOOKUP($Z12,'data for u-p-charts'!$A$2:$F$5000,AA$5,FALSE),2)","v":36.54},{"$f":"ROUND(VLOOKUP($Z12,'data for u-p-charts'!$A$2:$F$5000,AB$5,FALSE),2)","v":36.49},{"$f":"ROUND(VLOOKUP($Z12,'data for u-p-charts'!$A$2:$F$5000,AC$5,FALSE),2)","v":39.74},{"$f":"ROUND(VLOOKUP($Z12,'data for u-p-charts'!$A$2:$F$5000,AD$5,FALSE),2)","v":41.37}]
[201704,"2017-12-01",{"$f":"CONCATENATE(A13,'ECOLI Data and Charts'!B$1)","v":"201704Scotland"},{"$f":"VLOOKUP(CONCATENATE(D$5,$C13),'trend data'!$A$2:$O$11161,D$6,FALSE)","v":531},{"$f":"ROUND(VLOOKUP(CONCATENATE(E$5,$C13),'trend data'!$A$2:$O$11161,E$6,FALSE),3)","v":33.715000000000003},{"$f":"ROUND(VLOOKUP(CONCATENATE(F$5,$C13),'trend data'!$A$2:$O$11161,F$6,FALSE),3)","v":30.908000000000001},{"$f":"ROUND(VLOOKUP(CONCATENATE(G$5,$C13),'trend data'!$A$2:$O$11161,G$6,FALSE),3)","v":36.709000000000003},{"$f":"IFERROR(VLOOKUP(CONCATENATE(H$5,$C13),'trend data'!$A$2:$O$11161,H$6,FALSE),\"-\")","v":656},{"$f":"IFERROR(ROUND(VLOOKUP(CONCATENATE(I$5,$C13),'trend data'!$A$2:$O$11161,I$6,FALSE),3),\"-\")","v":48.302},{"$f":"IFERROR(ROUND(VLOOKUP(CONCATENATE(J$5,$C13),'trend data'!$A$2:$O$11161,J$6,FALSE),3),\"-\")","v":44.676000000000002},{"$f":"IFERROR(ROUND(VLOOKUP(CONCATENATE(K$5,$C13),'trend data'!$A$2:$O$11161,K$6,FALSE),3),\"-\")","v":52.143999999999998},{"$f":"VLOOKUP(CONCATENATE(L$5,$C13),'trend data'!$A$2:$O$11161,L$6,FALSE)","v":1574967},{"$f":"ROUND(VLOOKUP(CONCATENATE(M$5,$C13),'trend data'!$A$2:$O$11161,M$6,FALSE),2)","v":1358121.64},null,null,null,null,"202402",{"$f":"CONCATENATE(V$7,R13,'ECOLI Data and Charts'!B$1)","v":"ECBHCAI202402Scotland"},5,"2024-06-25",{"$f":"ROUND(VLOOKUP($S13,'data for u-p-charts'!$A$2:$F$5000,V$5,FALSE),2)","v":39.4},{"$f":"ROUND(VLOOKUP($S13,'data for u-p-charts'!$A$2:$F$5000,W$5,FALSE),2)","v":38.81},{"$f":"ROUND(VLOOKUP($S13,'data for u-p-charts'!$A$2:$F$5000,X$5,FALSE),2)","v":41.97},{"$f":"ROUND(VLOOKUP($S13,'data for u-p-charts'!$A$2:$F$5000,Y$5,FALSE),2)","v":43.55},{"$f":"CONCATENATE(AA$7,$R13,'ECOLI Data and Charts'!$B$1)","v":"ECBCOM202402Scotland"},{"$f":"ROUND(VLOOKUP($Z13,'data for u-p-charts'!$A$2:$F$5000,AA$5,FALSE),2)","v":35.53},{"$f":"ROUND(VLOOKUP($Z13,'data for u-p-charts'!$A$2:$F$5000,AB$5,FALSE),2)","v":36.49},{"$f":"ROUND(VLOOKUP($Z13,'data for u-p-charts'!$A$2:$F$5000,AC$5,FALSE),2)","v":39.74},{"$f":"ROUND(VLOOKUP($Z13,'data for u-p-charts'!$A$2:$F$5000,AD$5,FALSE),2)","v":41.37}]
[201801,"2018-03-01",{"$f":"CONCATENATE(A14,'ECOLI Data and Charts'!B$1)","v":"201801Scotland"},{"$f":"IFERROR(VLOOKUP(CONCATENATE(D$5,$C14),'trend data'!$A$2:$O$11161,D$6,FALSE),\"-\")","v":524},{"$f":"ROUND(VLOOKUP(CONCATENATE(E$5,$C14),'trend data'!$A$2:$O$11161,E$6,FALSE),3)","v":33.055},{"$f":"ROUND(VLOOKUP(CONCATENATE(F$5,$C14),'trend data'!$A$2:$O$11161,F$6,FALSE),3)","v":30.285},{"$f":"ROUND(VLOOKUP(CONCATENATE(G$5,$C14),'trend data'!$A$2:$O$11161,G$6,FALSE),3)","v":36.01},{"$f":"IFERROR(VLOOKUP(CONCATENATE(H$5,$C14),'trend data'!$A$2:$O$11161,H$6,FALSE),\"-\")","v":578},{"$f":"IFERROR(ROUND(VLOOKUP(CONCATENATE(I$5,$C14),'trend data'!$A$2:$O$11161,I$6,FALSE),3),\"-\")","v":43.472999999999999},{"$f":"IFERROR(ROUND(VLOOKUP(CONCATENATE(J$5,$C14),'trend data'!$A$2:$O$11161,J$6,FALSE),3),\"-\")","v":40.000999999999998},{"$f":"IFERROR(ROUND(VLOOKUP(CONCATENATE(K$5,$C14),'trend data'!$A$2:$O$11161,K$6,FALSE),3),\"-\")","v":47.165999999999997},{"$f":"VLOOKUP(CONCATENATE(L$5,$C14),'trend data'!$A$2:$O$11161,L$6,FALSE)","v":1585233},{"$f":"ROUND(VLOOKUP(CONCATENATE(M$5,$C14),'trend data'!$A$2:$O$11161,M$6,FALSE),2)","v":1329558.8999999999},null,null,null,null,"202403",{"$f":"CONCATENATE(V$7,R14,'ECOLI Data and Charts'!B$1)","v":"ECBHCAI202403Scotland"},6,"2024-09-25",{"$f":"ROUND(VLOOKUP($S14,'data for u-p-charts'!$A$2:$F$5000,V$5,FALSE),2)","v":39.81},{"$f":"ROUND(VLOOKUP($S14,'data for u-p-charts'!$A$2:$F$5000,W$5,FALSE),2)","v":38.81},{"$f":"ROUND(VLOOKUP($S14,'data for u-p-charts'!$A$2:$F$5000,X$5,FALSE),2)","v":41.98},{"$f":"ROUND(VLOOKUP($S14,'data for u-p-charts'!$A$2:$F$5000,Y$5,FALSE),2)","v":43.56},{"$f":"CONCATENATE(AA$7,$R14,'ECOLI Data and Charts'!$B$1)","v":"ECBCOM202403Scotland"},{"$f":"ROUND(VLOOKUP($Z14,'data for u-p-charts'!$A$2:$F$5000,AA$5,FALSE),2)","v":36.86},{"$f":"ROUND(VLOOKUP($Z14,'data for u-p-charts'!$A$2:$F$5000,AB$5,FALSE),2)","v":36.49},{"$f":"ROUND(VLOOKUP($Z14,'data for u-p-charts'!$A$2:$F$5000,AC$5,FALSE),2)","v":39.72},{"$f":"ROUND(VLOOKUP($Z14,'data for u-p-charts'!$A$2:$F$5000,AD$5,FALSE),2)","v":41.34}]
[201802,"2018-06-01",{"$f":"CONCATENATE(A15,'ECOLI Data and Charts'!B$1)","v":"201802Scotland"},{"$f":"IFERROR(VLOOKUP(CONCATENATE(D$5,$C15),'trend data'!$A$2:$O$11161,D$6,FALSE),\"-\")","v":580},{"$f":"ROUND(VLOOKUP(CONCATENATE(E$5,$C15),'trend data'!$A$2:$O$11161,E$6,FALSE),3)","v":38.024000000000001},{"$f":"ROUND(VLOOKUP(CONCATENATE(F$5,$C15),'trend data'!$A$2:$O$11161,F$6,FALSE),3)","v":34.991999999999997},{"$f":"ROUND(VLOOKUP(CONCATENATE(G$5,$C15),'trend data'!$A$2:$O$11161,G$6,FALSE),3)","v":41.249000000000002},{"$f":"IFERROR(VLOOKUP(CONCATENATE(H$5,$C15),'trend data'!$A$2:$O$11161,H$6,FALSE),\"-\")","v":598},{"$f":"IFERROR(ROUND(VLOOKUP(CONCATENATE(I$5,$C15),'trend data'!$A$2:$O$11161,I$6,FALSE),3),\"-\")","v":44.482999999999997},{"$f":"IFERROR(ROUND(VLOOKUP(CONCATENATE(J$5,$C15),'trend data'!$A$2:$O$11161,J$6,FALSE),3),\"-\")","v":40.988999999999997},{"$f":"IFERROR(ROUND(VLOOKUP(CONCATENATE(K$5,$C15),'trend data'!$A$2:$O$11161,K$6,FALSE),3),\"-\")","v":48.195999999999998},{"$f":"VLOOKUP(CONCATENATE(L$5,$C15),'trend data'!$A$2:$O$11161,L$6,FALSE)","v":1525345},{"$f":"ROUND(VLOOKUP(CONCATENATE(M$5,$C15),'trend data'!$A$2:$O$11161,M$6,FALSE),2)","v":1344331.78},null,null,null,null,"202404",{"$f":"CONCATENATE(V$7,R15,'ECOLI Data and Charts'!B$1)","v":"ECBHCAI202404Scotland"},7,"2024-12-26",{"$f":"ROUND(VLOOKUP($S15,'data for u-p-charts'!$A$2:$F$5000,V$5,FALSE),2)","v":36.92},{"$f":"ROUND(VLOOKUP($S15,'data for u-p-charts'!$A$2:$F$5000,W$5,FALSE),2)","v":38.81},{"$f":"ROUND(VLOOKUP($S15,'data for u-p-charts'!$A$2:$F$5000,X$5,FALSE),2)","v":41.97},{"$f":"ROUND(VLOOKUP($S15,'data for u-p-charts'!$A$2:$F$5000,Y$5,FALSE),2)","v":43.55},{"$f":"CONCATENATE(AA$7,$R15,'ECOLI Data and Charts'!$B$1)","v":"ECBCOM202404Scotland"},{"$f":"ROUND(VLOOKUP($Z15,'data for u-p-charts'!$A$2:$F$5000,AA$5,FALSE),2)","v":35.43},{"$f":"ROUND(VLOOKUP($Z15,'data for u-p-charts'!$A$2:$F$5000,AB$5,FALSE),2)","v":36.49},{"$f":"ROUND(VLOOKUP($Z15,'data for u-p-charts'!$A$2:$F$5000,AC$5,FALSE),2)","v":39.72},{"$f":"ROUND(VLOOKUP($Z15,'data for u-p-charts'!$A$2:$F$5000,AD$5,FALSE),2)","v":41.34}]
[201803,"2018-09-01",{"$f":"CONCATENATE(A16,'ECOLI Data and Charts'!B$1)","v":"201803Scotland"},{"$f":"IFERROR(VLOOKUP(CONCATENATE(D$5,$C16),'trend data'!$A$2:$O$11161,D$6,FALSE),\"-\")","v":606},{"$f":"ROUND(VLOOKUP(CONCATENATE(E$5,$C16),'trend data'!$A$2:$O$11161,E$6,FALSE),3)","v":40.088999999999999},{"$f":"ROUND(VLOOKUP(CONCATENATE(F$5,$C16),'trend data'!$A$2:$O$11161,F$6,FALSE),3)","v":36.960999999999999},{"$f":"ROUND(VLOOKUP(CONCATENATE(G$5,$C16),'trend data'!$A$2:$O$11161,G$6,FALSE),3)","v":43.411999999999999},{"$f":"IFERROR(VLOOKUP(CONCATENATE(H$5,$C16),'trend data'!$A$2:$O$11161,H$6,FALSE),\"-\")","v":667},{"$f":"IFERROR(ROUND(VLOOKUP(CONCATENATE(I$5,$C16),'trend data'!$A$2:$O$11161,I$6,FALSE),3),\"-\")","v":49.076000000000001},{"$f":"IFERROR(ROUND(VLOOKUP(CONCATENATE(J$5,$C16),'trend data'!$A$2:$O$11161,J$6,FALSE),3),\"-\")","v":45.421999999999997},{"$f":"IFERROR(ROUND(VLOOKUP(CONCATENATE(K$5,$C16),'trend data'!$A$2:$O$11161,K$6,FALSE),3),\"-\")","v":52.947000000000003},{"$f":"VLOOKUP(CONCATENATE(L$5,$C16),'trend data'!$A$2:$O$11161,L$6,FALSE)","v":1511620},{"$f":"ROUND(VLOOKUP(CONCATENATE(M$5,$C16),'trend data'!$A$2:$O$11161,M$6,FALSE),2)","v":1359104.66},null,null,null,null,"202501",{"$f":"CONCATENATE(V$7,R16,'ECOLI Data and Charts'!B$1)","v":"ECBHCAI202501Scotland"},8,"2025-03-28",{"$f":"ROUND(VLOOKUP($S16,'data for u-p-charts'!$A$2:$F$5000,V$5,FALSE),2)","v":38.909999999999997},{"$f":"ROUND(VLOOKUP($S16,'data for u-p-charts'!$A$2:$F$5000,W$5,FALSE),2)","v":38.81},{"$f":"ROUND(VLOOKUP($S16,'data for u-p-charts'!$A$2:$F$5000,X$5,FALSE),2)","v":41.98},{"$f":"ROUND(VLOOKUP($S16,'data for u-p-charts'!$A$2:$F$5000,Y$5,FALSE),2)","v":43.56},{"$f":"CONCATENATE(AA$7,$R16,'ECOLI Data and Charts'!$B$1)","v":"ECBCOM202501Scotland"},{"$f":"ROUND(VLOOKUP($Z16,'data for u-p-charts'!$A$2:$F$5000,AA$5,FALSE),2)","v":32.61},{"$f":"ROUND(VLOOKUP($Z16,'data for u-p-charts'!$A$2:$F$5000,AB$5,FALSE),2)","v":36.49},{"$f":"ROUND(VLOOKUP($Z16,'data for u-p-charts'!$A$2:$F$5000,AC$5,FALSE),2)","v":39.75},{"$f":"ROUND(VLOOKUP($Z16,'data for u-p-charts'!$A$2:$F$5000,AD$5,FALSE),2)","v":41.39}]
[201804,"2018-12-01",{"$f":"CONCATENATE(A17,'ECOLI Data and Charts'!B$1)","v":"201804Scotland"},{"$f":"IFERROR(VLOOKUP(CONCATENATE(D$5,$C17),'trend data'!$A$2:$O$11161,D$6,FALSE),\"-\")","v":582},{"$f":"ROUND(VLOOKUP(CONCATENATE(E$5,$C17),'trend data'!$A$2:$O$11161,E$6,FALSE),3)","v":38.234000000000002},{"$f":"ROUND(VLOOKUP(CONCATENATE(F$5,$C17),'trend data'!$A$2:$O$11161,F$6,FALSE),3)","v":35.19},{"$f":"ROUND(VLOOKUP(CONCATENATE(G$5,$C17),'trend data'!$A$2:$O$11161,G$6,FALSE),3)","v":41.47},{"$f":"IFERROR(VLOOKUP(CONCATENATE(H$5,$C17),'trend data'!$A$2:$O$11161,H$6,FALSE),\"-\")","v":603},{"$f":"IFERROR(ROUND(VLOOKUP(CONCATENATE(I$5,$C17),'trend data'!$A$2:$O$11161,I$6,FALSE),3),\"-\")","v":44.366999999999997},{"$f":"IFERROR(ROUND(VLOOKUP(CONCATENATE(J$5,$C17),'trend data'!$A$2:$O$11161,J$6,FALSE),3),\"-\")","v":40.896000000000001},{"$f":"IFERROR(ROUND(VLOOKUP(CONCATENATE(K$5,$C17),'trend data'!$A$2:$O$11161,K$6,FALSE),3),\"-\")","v":48.054000000000002},{"$f":"VLOOKUP(CONCATENATE(L$5,$C17),'trend data'!$A$2:$O$11161,L$6,FALSE)","v":1522217},{"$f":"ROUND(VLOOKUP(CONCATENATE(M$5,$C17),'trend data'!$A$2:$O$11161,M$6,FALSE),2)","v":1359104.66},null,null,null,null,"202502",{"$f":"CONCATENATE(V$7,R17,'ECOLI Data and Charts'!B$1)","v":"ECBHCAI202502Scotland"},9,"2025-06-28",{"$f":"ROUND(VLOOKUP($S17,'data for u-p-charts'!$A$2:$F$5000,V$5,FALSE),2)","v":44.05},{"$f":"ROUND(VLOOKUP($S17,'data for u-p-charts'!$A$2:$F$5000,W$5,FALSE),2)","v":38.81},{"$f":"ROUND(VLOOKUP($S17,'data for u-p-charts'!$A$2:$F$5000,X$5,FALSE),2)","v":42},{"$f":"ROUND(VLOOKUP($S17,'data for u-p-charts'!$A$2:$F$5000,Y$5,FALSE),2)","v":43.6},{"$f":"CONCATENATE(AA$7,$R17,'ECOLI Data and Charts'!$B$1)","v":"ECBCOM202502Scotland"},{"$f":"ROUND(VLOOKUP($Z17,'data for u-p-charts'!$A$2:$F$5000,AA$5,FALSE),2)","v":40.86},{"$f":"ROUND(VLOOKUP($Z17,'data for u-p-charts'!$A$2:$F$5000,AB$5,FALSE),2)","v":36.49},{"$f":"ROUND(VLOOKUP($Z17,'data for u-p-charts'!$A$2:$F$5000,AC$5,FALSE),2)","v":39.74},{"$f":"ROUND(VLOOKUP($Z17,'data for u-p-charts'!$A$2:$F$5000,AD$5,FALSE),2)","v":41.36}]
[201901,"2019-03-01",{"$f":"CONCATENATE(A18,'ECOLI Data and Charts'!B$1)","v":"201901Scotland"},{"$f":"IFERROR(VLOOKUP(CONCATENATE(D$5,$C18),'trend data'!$A$2:$O$11161,D$6,FALSE),\"-\")","v":573},{"$f":"ROUND(VLOOKUP(CONCATENATE(E$5,$C18),'trend data'!$A$2:$O$11161,E$6,FALSE),3)","v":37.244},{"$f":"ROUND(VLOOKUP(CONCATENATE(F$5,$C18),'trend data'!$A$2:$O$11161,F$6,FALSE),3)","v":34.256},{"$f":"ROUND(VLOOKUP(CONCATENATE(G$5,$C18),'trend data'!$A$2:$O$11161,G$6,FALSE),3)","v":40.421999999999997},{"$f":"IFERROR(VLOOKUP(CONCATENATE(H$5,$C18),'trend data'!$A$2:$O$11161,H$6,FALSE),\"-\")","v":598},{"$f":"IFERROR(ROUND(VLOOKUP(CONCATENATE(I$5,$C18),'trend data'!$A$2:$O$11161,I$6,FALSE),3),\"-\")","v":44.819000000000003},{"$f":"IFERROR(ROUND(VLOOKUP(CONCATENATE(J$5,$C18),'trend data'!$A$2:$O$11161,J$6,FALSE),3),\"-\")","v":41.298000000000002},{"$f":"IFERROR(ROUND(VLOOKUP(CONCATENATE(K$5,$C18),'trend data'!$A$2:$O$11161,K$6,FALSE),3),\"-\")","v":48.558999999999997},{"$f":"VLOOKUP(CONCATENATE(L$5,$C18),'trend data'!$A$2:$O$11161,L$6,FALSE)","v":1538510},{"$f":"ROUND(VLOOKUP(CONCATENATE(M$5,$C18),'trend data'!$A$2:$O$11161,M$6,FALSE),2)","v":1334268.49},null,null,null,null,"202503",{"$f":"CONCATENATE(V$7,R18,'ECOLI Data and Charts'!B$1)","v":"ECBHCAI202503Scotland"},10,"2025-09-28",{"$f":"ROUND(VLOOKUP($S18,'data for u-p-charts'!$A$2:$F$5000,V$5,FALSE),2)","v":43.2},{"$f":"ROUND(VLOOKUP($S18,'data for u-p-charts'!$A$2:$F$5000,W$5,FALSE),2)","v":38.81},{"$f":"ROUND(VLOOKUP($S18,'data for u-p-charts'!$A$2:$F$5000,X$5,FALSE),2)","v":42.01},{"$f":"ROUND(VLOOKUP($S18,'data for u-p-charts'!$A$2:$F$5000,Y$5,FALSE),2)","v":43.6},{"$f":"CONCATENATE(AA$7,$R18,'ECOLI Data and Charts'!$B$1)","v":"ECBCOM202503Scotland"},{"$f":"ROUND(VLOOKUP($Z18,'data for u-p-charts'!$A$2:$F$5000,AA$5,FALSE),2)","v":41.13},{"$f":"ROUND(VLOOKUP($Z18,'data for u-p-charts'!$A$2:$F$5000,AB$5,FALSE),2)","v":36.49},{"$f":"ROUND(VLOOKUP($Z18,'data for u-p-charts'!$A$2:$F$5000,AC$5,FALSE),2)","v":39.72},{"$f":"ROUND(VLOOKUP($Z18,'data for u-p-charts'!$A$2:$F$5000,AD$5,FALSE),2)","v":41.33}]
[201902,"2019-06-01",{"$f":"CONCATENATE(A19,'ECOLI Data and Charts'!B$1)","v":"201902Scotland"},{"$f":"IFERROR(VLOOKUP(CONCATENATE(D$5,$C19),'trend data'!$A$2:$O$11161,D$6,FALSE),\"-\")","v":584},{"$f":"ROUND(VLOOKUP(CONCATENATE(E$5,$C19),'trend data'!$A$2:$O$11161,E$6,FALSE),3)","v":38.771000000000001},{"$f":"ROUND(VLOOKUP(CONCATENATE(F$5,$C19),'trend data'!$A$2:$O$11161,F$6,FALSE),3)","v":35.69},{"$f":"ROUND(VLOOKUP(CONCATENATE(G$5,$C19),'trend data'!$A$2:$O$11161,G$6,FALSE),3)","v":42.046999999999997},{"$f":"IFERROR(VLOOKUP(CONCATENATE(H$5,$C19),'trend data'!$A$2:$O$11161,H$6,FALSE),\"-\")","v":604},{"$f":"IFERROR(ROUND(VLOOKUP(CONCATENATE(I$5,$C19),'trend data'!$A$2:$O$11161,I$6,FALSE),3),\"-\")","v":44.771000000000001},{"$f":"IFERROR(ROUND(VLOOKUP(CONCATENATE(J$5,$C19),'trend data'!$A$2:$O$11161,J$6,FALSE),3),\"-\")","v":41.271000000000001},{"$f":"IFERROR(ROUND(VLOOKUP(CONCATENATE(K$5,$C19),'trend data'!$A$2:$O$11161,K$6,FALSE),3),\"-\")","v":48.488},{"$f":"VLOOKUP(CONCATENATE(L$5,$C19),'trend data'!$A$2:$O$11161,L$6,FALSE)","v":1506284},{"$f":"ROUND(VLOOKUP(CONCATENATE(M$5,$C19),'trend data'!$A$2:$O$11161,M$6,FALSE),2)","v":1349093.7},null,null,null,null,"202504",{"$f":"CONCATENATE(V$7,R19,'ECOLI Data and Charts'!B$1)","v":"ECBHCAI202504Scotland"},11,{"$f":"U20-92","v":"2025-12-29"},{"$f":"ROUND(VLOOKUP($S19,'data for u-p-charts'!$A$2:$F$5000,V$5,FALSE),2)","v":40.729999999999997},{"$f":"ROUND(VLOOKUP($S19,'data for u-p-charts'!$A$2:$F$5000,W$5,FALSE),2)","v":38.81},{"$f":"ROUND(VLOOKUP($S19,'data for u-p-charts'!$A$2:$F$5000,X$5,FALSE),2)","v":41.99},{"$f":"ROUND(VLOOKUP($S19,'data for u-p-charts'!$A$2:$F$5000,Y$5,FALSE),2)","v":43.59},{"$f":"CONCATENATE(AA$7,$R19,'ECOLI Data and Charts'!$B$1)","v":"ECBCOM202504Scotland"},{"$f":"ROUND(VLOOKUP($Z19,'data for u-p-charts'!$A$2:$F$5000,AA$5,FALSE),2)","v":31.97},{"$f":"ROUND(VLOOKUP($Z19,'data for u-p-charts'!$A$2:$F$5000,AB$5,FALSE),2)","v":36.49},{"$f":"ROUND(VLOOKUP($Z19,'data for u-p-charts'!$A$2:$F$5000,AC$5,FALSE),2)","v":39.72},{"$f":"ROUND(VLOOKUP($Z19,'data for u-p-charts'!$A$2:$F$5000,AD$5,FALSE),2)","v":41.33}]
[201903,"2019-09-01",{"$f":"CONCATENATE(A20,'ECOLI Data and Charts'!B$1)","v":"201903Scotland"},{"$f":"IFERROR(VLOOKUP(CONCATENATE(D$5,$C20),'trend data'!$A$2:$O$11161,D$6,FALSE),\"-\")","v":608},{"$f":"ROUND(VLOOKUP(CONCATENATE(E$5,$C20),'trend data'!$A$2:$O$11161,E$6,FALSE),3)","v":40.345999999999997},{"$f":"ROUND(VLOOKUP(CONCATENATE(F$5,$C20),'trend data'!$A$2:$O$11161,F$6,FALSE),3)","v":37.201999999999998},{"$f":"ROUND(VLOOKUP(CONCATENATE(G$5,$C20),'trend data'!$A$2:$O$11161,G$6,FALSE),3)","v":43.683999999999997},{"$f":"IFERROR(VLOOKUP(CONCATENATE(H$5,$C20),'trend data'!$A$2:$O$11161,H$6,FALSE),\"-\")","v":606},{"$f":"IFERROR(ROUND(VLOOKUP(CONCATENATE(I$5,$C20),'trend data'!$A$2:$O$11161,I$6,FALSE),3),\"-\")","v":44.430999999999997},{"$f":"IFERROR(ROUND(VLOOKUP(CONCATENATE(J$5,$C20),'trend data'!$A$2:$O$11161,J$6,FALSE),3),\"-\")","v":40.963000000000001},{"$f":"IFERROR(ROUND(VLOOKUP(CONCATENATE(K$5,$C20),'trend data'!$A$2:$O$11161,K$6,FALSE),3),\"-\")","v":48.113999999999997},{"$f":"VLOOKUP(CONCATENATE(L$5,$C20),'trend data'!$A$2:$O$11161,L$6,FALSE)","v":1506970},{"$f":"ROUND(VLOOKUP(CONCATENATE(M$5,$C20),'trend data'!$A$2:$O$11161,M$6,FALSE),2)","v":1363918.9},null,null,null,null,"202601",{"$f":"CONCATENATE(V$7,R20,'ECOLI Data and Charts'!B$1)","v":"ECBHCAI202601Scotland"},12,{"$f":"U5","v":"2026-03-31"},{"$f":"ROUND(VLOOKUP($S20,'data for u-p-charts'!$A$2:$F$5000,V$5,FALSE),2)","v":39.54},{"$f":"ROUND(VLOOKUP($S20,'data for u-p-charts'!$A$2:$F$5000,W$5,FALSE),2)","v":38.81},{"$f":"ROUND(VLOOKUP($S20,'data for u-p-charts'!$A$2:$F$5000,X$5,FALSE),2)","v":41.99},{"$f":"ROUND(VLOOKUP($S20,'data for u-p-charts'!$A$2:$F$5000,Y$5,FALSE),2)","v":43.58},{"$f":"CONCATENATE(AA$7,$R20,'ECOLI Data and Charts'!$B$1)","v":"ECBCOM202601Scotland"},{"$f":"ROUND(VLOOKUP($Z20,'data for u-p-charts'!$A$2:$F$5000,AA$5,FALSE),2)","v":33.78},{"$f":"ROUND(VLOOKUP($Z20,'data for u-p-charts'!$A$2:$F$5000,AB$5,FALSE),2)","v":36.49},{"$f":"ROUND(VLOOKUP($Z20,'data for u-p-charts'!$A$2:$F$5000,AC$5,FALSE),2)","v":39.75},{"$f":"ROUND(VLOOKUP($Z20,'data for u-p-charts'!$A$2:$F$5000,AD$5,FALSE),2)","v":41.39}]
[201904,"2019-12-01",{"$f":"CONCATENATE(A21,'ECOLI Data and Charts'!B$1)","v":"201904Scotland"},{"$f":"IFERROR(VLOOKUP(CONCATENATE(D$5,$C21),'trend data'!$A$2:$O$11161,D$6,FALSE),\"-\")","v":626},{"$f":"ROUND(VLOOKUP(CONCATENATE(E$5,$C21),'trend data'!$A$2:$O$11161,E$6,FALSE),3)","v":40.875999999999998},{"$f":"ROUND(VLOOKUP(CONCATENATE(F$5,$C21),'trend data'!$A$2:$O$11161,F$6,FALSE),3)","v":37.735999999999997},{"$f":"ROUND(VLOOKUP(CONCATENATE(G$5,$C21),'trend data'!$A$2:$O$11161,G$6,FALSE),3)","v":44.207000000000001},{"$f":"IFERROR(VLOOKUP(CONCATENATE(H$5,$C21),'trend data'!$A$2:$O$11161,H$6,FALSE),\"-\")","v":568},{"$f":"IFERROR(ROUND(VLOOKUP(CONCATENATE(I$5,$C21),'trend data'!$A$2:$O$11161,I$6,FALSE),3),\"-\")","v":41.645000000000003},{"$f":"IFERROR(ROUND(VLOOKUP(CONCATENATE(J$5,$C21),'trend data'!$A$2:$O$11161,J$6,FALSE),3),\"-\")","v":38.29},{"$f":"IFERROR(ROUND(VLOOKUP(CONCATENATE(K$5,$C21),'trend data'!$A$2:$O$11161,K$6,FALSE),3),\"-\")","v":45.215000000000003},{"$f":"VLOOKUP(CONCATENATE(L$5,$C21),'trend data'!$A$2:$O$11161,L$6,FALSE)","v":1531462},{"$f":"ROUND(VLOOKUP(CONCATENATE(M$5,$C21),'trend data'!$A$2:$O$11161,M$6,FALSE),2)","v":1363918.9}]
[202001,"2020-03-01",{"$f":"CONCATENATE(A22,'ECOLI Data and Charts'!B$1)","v":"202001Scotland"},{"$f":"IFERROR(VLOOKUP(CONCATENATE(D$5,$C22),'trend data'!$A$2:$O$11161,D$6,FALSE),\"-\")","v":538},{"$f":"ROUND(VLOOKUP(CONCATENATE(E$5,$C22),'trend data'!$A$2:$O$11161,E$6,FALSE),3)","v":36.451000000000001},{"$f":"ROUND(VLOOKUP(CONCATENATE(F$5,$C22),'trend data'!$A$2:$O$11161,F$6,FALSE),3)","v":33.436},{"$f":"ROUND(VLOOKUP(CONCATENATE(G$5,$C22),'trend data'!$A$2:$O$11161,G$6,FALSE),3)","v":39.665999999999997},{"$f":"IFERROR(VLOOKUP(CONCATENATE(H$5,$C22),'trend data'!$A$2:$O$11161,H$6,FALSE),\"-\")","v":515},{"$f":"IFERROR(ROUND(VLOOKUP(CONCATENATE(I$5,$C22),'trend data'!$A$2:$O$11161,I$6,FALSE),3),\"-\")","v":38.295000000000002},{"$f":"IFERROR(ROUND(VLOOKUP(CONCATENATE(J$5,$C22),'trend data'!$A$2:$O$11161,J$6,FALSE),3),\"-\")","v":35.058},{"$f":"IFERROR(ROUND(VLOOKUP(CONCATENATE(K$5,$C22),'trend data'!$A$2:$O$11161,K$6,FALSE),3),\"-\")","v":41.75},{"$f":"VLOOKUP(CONCATENATE(L$5,$C22),'trend data'!$A$2:$O$11161,L$6,FALSE)","v":1475950},{"$f":"ROUND(VLOOKUP(CONCATENATE(M$5,$C22),'trend data'!$A$2:$O$11161,M$6,FALSE),2)","v":1344835.79}]
[202002,"2020-06-01",{"$f":"CONCATENATE(A23,'ECOLI Data and Charts'!B$1)","v":"202002Scotland"},{"$f":"IFERROR(VLOOKUP(CONCATENATE(D$5,$C23),'trend data'!$A$2:$O$11161,D$6,FALSE),\"-\")","v":429},{"$f":"ROUND(VLOOKUP(CONCATENATE(E$5,$C23),'trend data'!$A$2:$O$11161,E$6,FALSE),3)","v":39.686999999999998},{"$f":"ROUND(VLOOKUP(CONCATENATE(F$5,$C23),'trend data'!$A$2:$O$11161,F$6,FALSE),3)","v":36.020000000000003},{"$f":"ROUND(VLOOKUP(CONCATENATE(G$5,$C23),'trend data'!$A$2:$O$11161,G$6,FALSE),3)","v":43.627000000000002},{"$f":"IFERROR(VLOOKUP(CONCATENATE(H$5,$C23),'trend data'!$A$2:$O$11161,H$6,FALSE),\"-\")","v":488},{"$f":"IFERROR(ROUND(VLOOKUP(CONCATENATE(I$5,$C23),'trend data'!$A$2:$O$11161,I$6,FALSE),3),\"-\")","v":36.286999999999999},{"$f":"IFERROR(ROUND(VLOOKUP(CONCATENATE(J$5,$C23),'trend data'!$A$2:$O$11161,J$6,FALSE),3),\"-\")","v":33.137999999999998},{"$f":"IFERROR(ROUND(VLOOKUP(CONCATENATE(K$5,$C23),'trend data'!$A$2:$O$11161,K$6,FALSE),3),\"-\")","v":39.654000000000003},{"$f":"VLOOKUP(CONCATENATE(L$5,$C23),'trend data'!$A$2:$O$11161,L$6,FALSE)","v":1080949},{"$f":"ROUND(VLOOKUP(CONCATENATE(M$5,$C23),'trend data'!$A$2:$O$11161,M$6,FALSE),2)","v":1344835.79}]
[202003,"2020-09-01",{"$f":"CONCATENATE(A24,'ECOLI Data and Charts'!B$1)","v":"202003Scotland"},{"$f":"IFERROR(VLOOKUP(CONCATENATE(D$5,$C24),'trend data'!$A$2:$O$11161,D$6,FALSE),\"-\")","v":547},{"$f":"ROUND(VLOOKUP(CONCATENATE(E$5,$C24),'trend data'!$A$2:$O$11161,E$6,FALSE),4)","v":41.948399999999999},{"$f":"ROUND(VLOOKUP(CONCATENATE(F$5,$C24),'trend data'!$A$2:$O$11161,F$6,FALSE),4)","v":38.506100000000004},{"$f":"ROUND(VLOOKUP(CONCATENATE(G$5,$C24),'trend data'!$A$2:$O$11161,G$6,FALSE),4)","v":45.6158},{"$f":"IFERROR(VLOOKUP(CONCATENATE(H$5,$C24),'trend data'!$A$2:$O$11161,H$6,FALSE),\"-\")","v":614},{"$f":"IFERROR(ROUND(VLOOKUP(CONCATENATE(I$5,$C24),'trend data'!$A$2:$O$11161,I$6,FALSE),4),\"-\")","v":45.1599},{"$f":"IFERROR(ROUND(VLOOKUP(CONCATENATE(J$5,$C24),'trend data'!$A$2:$O$11161,J$6,FALSE),4),\"-\")","v":41.657899999999998},{"$f":"IFERROR(ROUND(VLOOKUP(CONCATENATE(K$5,$C24),'trend data'!$A$2:$O$11161,K$6,FALSE),4),\"-\")","v":48.877600000000001},{"$f":"VLOOKUP(CONCATENATE(L$5,$C24),'trend data'!$A$2:$O$11161,L$6,FALSE)","v":1303983},{"$f":"ROUND(VLOOKUP(CONCATENATE(M$5,$C24),'trend data'!$A$2:$O$11161,M$6,FALSE),2)","v":1359614.21}]
[202004,"2020-12-31",{"$f":"CONCATENATE(A25,'ECOLI Data and Charts'!B$1)","v":"202004Scotland"},{"$f":"IFERROR(VLOOKUP(CONCATENATE(D$5,$C25),'trend data'!$A$2:$O$11161,D$6,FALSE),\"-\")","v":555},{"$f":"ROUND(VLOOKUP(CONCATENATE(E$5,$C25),'trend data'!$A$2:$O$11161,E$6,FALSE),4)","v":40.8752},{"$f":"ROUND(VLOOKUP(CONCATENATE(F$5,$C25),'trend data'!$A$2:$O$11161,F$6,FALSE),4)","v":37.544699999999999},{"$f":"ROUND(VLOOKUP(CONCATENATE(G$5,$C25),'trend data'!$A$2:$O$11161,G$6,FALSE),4)","v":44.421799999999998},{"$f":"IFERROR(VLOOKUP(CONCATENATE(H$5,$C25),'trend data'!$A$2:$O$11161,H$6,FALSE),\"-\")","v":521},{"$f":"IFERROR(ROUND(VLOOKUP(CONCATENATE(I$5,$C25),'trend data'!$A$2:$O$11161,I$6,FALSE),4),\"-\")","v":38.319699999999997},{"$f":"IFERROR(ROUND(VLOOKUP(CONCATENATE(J$5,$C25),'trend data'!$A$2:$O$11161,J$6,FALSE),4),\"-\")","v":35.099400000000003},{"$f":"IFERROR(ROUND(VLOOKUP(CONCATENATE(K$5,$C25),'trend data'!$A$2:$O$11161,K$6,FALSE),4),\"-\")","v":41.756},{"$f":"VLOOKUP(CONCATENATE(L$5,$C25),'trend data'!$A$2:$O$11161,L$6,FALSE)","v":1357793},{"$f":"ROUND(VLOOKUP(CONCATENATE(M$5,$C25),'trend data'!$A$2:$O$11161,M$6,FALSE),2)","v":1359614.21}]
[202101,"2021-03-31",{"$f":"CONCATENATE(A26,'ECOLI Data and Charts'!B$1)","v":"202101Scotland"},{"$f":"IFERROR(VLOOKUP(CONCATENATE(D$5,$C26),'trend data'!$A$2:$O$11161,D$6,FALSE),\"-\")","v":468},{"$f":"ROUND(VLOOKUP(CONCATENATE(E$5,$C26),'trend data'!$A$2:$O$11161,E$6,FALSE),4)","v":34.619300000000003},{"$f":"ROUND(VLOOKUP(CONCATENATE(F$5,$C26),'trend data'!$A$2:$O$11161,F$6,FALSE),4)","v":31.5533},{"$f":"ROUND(VLOOKUP(CONCATENATE(G$5,$C26),'trend data'!$A$2:$O$11161,G$6,FALSE),4)","v":37.902700000000003},{"$f":"IFERROR(VLOOKUP(CONCATENATE(H$5,$C26),'trend data'!$A$2:$O$11161,H$6,FALSE),\"-\")","v":493},{"$f":"IFERROR(ROUND(VLOOKUP(CONCATENATE(I$5,$C26),'trend data'!$A$2:$O$11161,I$6,FALSE),4),\"-\")","v":36.9375},{"$f":"IFERROR(ROUND(VLOOKUP(CONCATENATE(J$5,$C26),'trend data'!$A$2:$O$11161,J$6,FALSE),4),\"-\")","v":33.7483},{"$f":"IFERROR(ROUND(VLOOKUP(CONCATENATE(K$5,$C26),'trend data'!$A$2:$O$11161,K$6,FALSE),4),\"-\")","v":40.346800000000002},{"$f":"VLOOKUP(CONCATENATE(L$5,$C26),'trend data'!$A$2:$O$11161,L$6,FALSE)","v":1351847},{"$f":"ROUND(VLOOKUP(CONCATENATE(M$5,$C26),'trend data'!$A$2:$O$11161,M$6,FALSE),2)","v":1334687.67}]
[202102,"2021-06-30",{"$f":"CONCATENATE(A27,'ECOLI Data and Charts'!B$1)","v":"202102Scotland"},{"$f":"IFERROR(VLOOKUP(CONCATENATE(D$5,$C27),'trend data'!$A$2:$O$11161,D$6,FALSE),\"-\")","v":532},{"$f":"ROUND(VLOOKUP(CONCATENATE(E$5,$C27),'trend data'!$A$2:$O$11161,E$6,FALSE),4)","v":38.158999999999999},{"$f":"ROUND(VLOOKUP(CONCATENATE(F$5,$C27),'trend data'!$A$2:$O$11161,F$6,FALSE),4)","v":34.984699999999997},{"$f":"ROUND(VLOOKUP(CONCATENATE(G$5,$C27),'trend data'!$A$2:$O$11161,G$6,FALSE),4)","v":41.543799999999997},{"$f":"IFERROR(VLOOKUP(CONCATENATE(H$5,$C27),'trend data'!$A$2:$O$11161,H$6,FALSE),\"-\")","v":570},{"$f":"IFERROR(ROUND(VLOOKUP(CONCATENATE(I$5,$C27),'trend data'!$A$2:$O$11161,I$6,FALSE),4),\"-\")","v":42.237299999999998},{"$f":"IFERROR(ROUND(VLOOKUP(CONCATENATE(J$5,$C27),'trend data'!$A$2:$O$11161,J$6,FALSE),4),\"-\")","v":38.840499999999999},{"$f":"IFERROR(ROUND(VLOOKUP(CONCATENATE(K$5,$C27),'trend data'!$A$2:$O$11161,K$6,FALSE),4),\"-\")","v":45.851599999999998},{"$f":"VLOOKUP(CONCATENATE(L$5,$C27),'trend data'!$A$2:$O$11161,L$6,FALSE)","v":1394168},{"$f":"ROUND(VLOOKUP(CONCATENATE(M$5,$C27),'trend data'!$A$2:$O$11161,M$6,FALSE),2)","v":1349517.53}]
[202103,"2021-09-01",{"$f":"CONCATENATE(A28,'ECOLI Data and Charts'!B$1)","v":"202103Scotland"},{"$f":"IFERROR(VLOOKUP(CONCATENATE(D$5,$C28),'trend data'!$A$2:$O$11161,D$6,FALSE),\"-\")","v":604},{"$f":"ROUND(VLOOKUP(CONCATENATE(E$5,$C28),'trend data'!$A$2:$O$11161,E$6,FALSE),4)","v":41.4739},{"$f":"ROUND(VLOOKUP(CONCATENATE(F$5,$C28),'trend data'!$A$2:$O$11161,F$6,FALSE),4)","v":38.231699999999996},{"$f":"ROUND(VLOOKUP(CONCATENATE(G$5,$C28),'trend data'!$A$2:$O$11161,G$6,FALSE),4)","v":44.917400000000001},{"$f":"IFERROR(VLOOKUP(CONCATENATE(H$5,$C28),'trend data'!$A$2:$O$11161,H$6,FALSE),\"-\")","v":566},{"$f":"IFERROR(ROUND(VLOOKUP(CONCATENATE(I$5,$C28),'trend data'!$A$2:$O$11161,I$6,FALSE),4),\"-\")","v":41.484999999999999},{"$f":"IFERROR(ROUND(VLOOKUP(CONCATENATE(J$5,$C28),'trend data'!$A$2:$O$11161,J$6,FALSE),4),\"-\")","v":38.1372},{"$f":"IFERROR(ROUND(VLOOKUP(CONCATENATE(K$5,$C28),'trend data'!$A$2:$O$11161,K$6,FALSE),4),\"-\")","v":45.048000000000002},{"$f":"VLOOKUP(CONCATENATE(L$5,$C28),'trend data'!$A$2:$O$11161,L$6,FALSE)","v":1456339},{"$f":"ROUND(VLOOKUP(CONCATENATE(M$5,$C28),'trend data'!$A$2:$O$11161,M$6,FALSE),2)","v":1364347.4}]
[202104,"2021-12-01",{"$f":"CONCATENATE(A29,'ECOLI Data and Charts'!B$1)","v":"202104Scotland"},{"$f":"IFERROR(VLOOKUP(CONCATENATE(D$5,$C29),'trend data'!$A$2:$O$11161,D$6,FALSE),\"-\")","v":509},{"$f":"ROUND(VLOOKUP(CONCATENATE(E$5,$C29),'trend data'!$A$2:$O$11161,E$6,FALSE),4)","v":34.073999999999998},{"$f":"ROUND(VLOOKUP(CONCATENATE(F$5,$C29),'trend data'!$A$2:$O$11161,F$6,FALSE),4)","v":31.177700000000002},{"$f":"ROUND(VLOOKUP(CONCATENATE(G$5,$C29),'trend data'!$A$2:$O$11161,G$6,FALSE),4)","v":37.167000000000002},{"$f":"IFERROR(VLOOKUP(CONCATENATE(H$5,$C29),'trend data'!$A$2:$O$11161,H$6,FALSE),\"-\")","v":549},{"$f":"IFERROR(ROUND(VLOOKUP(CONCATENATE(I$5,$C29),'trend data'!$A$2:$O$11161,I$6,FALSE),4),\"-\")","v":40.238999999999997},{"$f":"IFERROR(ROUND(VLOOKUP(CONCATENATE(J$5,$C29),'trend data'!$A$2:$O$11161,J$6,FALSE),4),\"-\")","v":36.942900000000002},{"$f":"IFERROR(ROUND(VLOOKUP(CONCATENATE(K$5,$C29),'trend data'!$A$2:$O$11161,K$6,FALSE),4),\"-\")","v":43.750300000000003},{"$f":"VLOOKUP(CONCATENATE(L$5,$C29),'trend data'!$A$2:$O$11161,L$6,FALSE)","v":1493807},{"$f":"ROUND(VLOOKUP(CONCATENATE(M$5,$C29),'trend data'!$A$2:$O$11161,M$6,FALSE),2)","v":1364347.4}]
[202201,"2022-03-01",{"$f":"CONCATENATE(A30,'ECOLI Data and Charts'!B$1)","v":"202201Scotland"},{"$f":"IFERROR(VLOOKUP(CONCATENATE(D$5,$C30),'trend data'!$A$2:$O$11161,D$6,FALSE),\"-\")","v":452},{"$f":"ROUND(VLOOKUP(CONCATENATE(E$5,$C30),'trend data'!$A$2:$O$11161,E$6,FALSE),4)","v":30.518799999999999},{"$f":"ROUND(VLOOKUP(CONCATENATE(F$5,$C30),'trend data'!$A$2:$O$11161,F$6,FALSE),4)","v":27.7697},{"$f":"ROUND(VLOOKUP(CONCATENATE(G$5,$C30),'trend data'!$A$2:$O$11161,G$6,FALSE),4)","v":33.4664},{"$f":"IFERROR(VLOOKUP(CONCATENATE(H$5,$C30),'trend data'!$A$2:$O$11161,H$6,FALSE),\"-\")","v":528},{"$f":"IFERROR(ROUND(VLOOKUP(CONCATENATE(I$5,$C30),'trend data'!$A$2:$O$11161,I$6,FALSE),4),\"-\")","v":39.312199999999997},{"$f":"IFERROR(ROUND(VLOOKUP(CONCATENATE(J$5,$C30),'trend data'!$A$2:$O$11161,J$6,FALSE),4),\"-\")","v":36.029899999999998},{"$f":"IFERROR(ROUND(VLOOKUP(CONCATENATE(K$5,$C30),'trend data'!$A$2:$O$11161,K$6,FALSE),4),\"-\")","v":42.813000000000002},{"$f":"VLOOKUP(CONCATENATE(L$5,$C30),'trend data'!$A$2:$O$11161,L$6,FALSE)","v":1481054},{"$f":"ROUND(VLOOKUP(CONCATENATE(M$5,$C30),'trend data'!$A$2:$O$11161,M$6,FALSE),2)","v":1343095.89}]
[202202,"2022-06-01",{"$f":"CONCATENATE(A31,'ECOLI Data and Charts'!B$1)","v":"202202Scotland"},{"$f":"IFERROR(VLOOKUP(CONCATENATE(D$5,$C31),'trend data'!$A$2:$O$11161,D$6,FALSE),\"-\")","v":528},{"$f":"ROUND(VLOOKUP(CONCATENATE(E$5,$C31),'trend data'!$A$2:$O$11161,E$6,FALSE),4)","v":34.820900000000002},{"$f":"ROUND(VLOOKUP(CONCATENATE(F$5,$C31),'trend data'!$A$2:$O$11161,F$6,FALSE),4)","v":31.913599999999999},{"$f":"ROUND(VLOOKUP(CONCATENATE(G$5,$C31),'trend data'!$A$2:$O$11161,G$6,FALSE),4)","v":37.921799999999998},{"$f":"IFERROR(VLOOKUP(CONCATENATE(H$5,$C31),'trend data'!$A$2:$O$11161,H$6,FALSE),\"-\")","v":529},{"$f":"IFERROR(ROUND(VLOOKUP(CONCATENATE(I$5,$C31),'trend data'!$A$2:$O$11161,I$6,FALSE),4),\"-\")","v":38.953800000000001},{"$f":"IFERROR(ROUND(VLOOKUP(CONCATENATE(J$5,$C31),'trend data'!$A$2:$O$11161,J$6,FALSE),4),\"-\")","v":35.704500000000003},{"$f":"IFERROR(ROUND(VLOOKUP(CONCATENATE(K$5,$C31),'trend data'!$A$2:$O$11161,K$6,FALSE),4),\"-\")","v":42.4193},{"$f":"VLOOKUP(CONCATENATE(L$5,$C31),'trend data'!$A$2:$O$11161,L$6,FALSE)","v":1516331},{"$f":"ROUND(VLOOKUP(CONCATENATE(M$5,$C31),'trend data'!$A$2:$O$11161,M$6,FALSE),2)","v":1358019.18}]
[202203,"2022-09-30",{"$f":"CONCATENATE(A32,'ECOLI Data and Charts'!B$1)","v":"202203Scotland"},{"$f":"IFERROR(VLOOKUP(CONCATENATE(D$5,$C32),'trend data'!$A$2:$O$11161,D$6,FALSE),\"-\")","v":560},{"$f":"ROUND(VLOOKUP(CONCATENATE(E$5,$C32),'trend data'!$A$2:$O$11161,E$6,FALSE),4)","v":36.228700000000003},{"$f":"ROUND(VLOOKUP(CONCATENATE(F$5,$C32),'trend data'!$A$2:$O$11161,F$6,FALSE),4)","v":33.289700000000003},{"$f":"ROUND(VLOOKUP(CONCATENATE(G$5,$C32),'trend data'!$A$2:$O$11161,G$6,FALSE),4)","v":39.357500000000002},{"$f":"IFERROR(VLOOKUP(CONCATENATE(H$5,$C32),'trend data'!$A$2:$O$11161,H$6,FALSE),\"-\")","v":577},{"$f":"IFERROR(ROUND(VLOOKUP(CONCATENATE(I$5,$C32),'trend data'!$A$2:$O$11161,I$6,FALSE),4),\"-\")","v":42.026499999999999},{"$f":"IFERROR(ROUND(VLOOKUP(CONCATENATE(J$5,$C32),'trend data'!$A$2:$O$11161,J$6,FALSE),4),\"-\")","v":38.666800000000002},{"$f":"IFERROR(ROUND(VLOOKUP(CONCATENATE(K$5,$C32),'trend data'!$A$2:$O$11161,K$6,FALSE),4),\"-\")","v":45.6},{"$f":"VLOOKUP(CONCATENATE(L$5,$C32),'trend data'!$A$2:$O$11161,L$6,FALSE)","v":1545737},{"$f":"ROUND(VLOOKUP(CONCATENATE(M$5,$C32),'trend data'!$A$2:$O$11161,M$6,FALSE),2)","v":1372942.47}]
[202204,"2022-12-31",{"$f":"CONCATENATE(A33,'ECOLI Data and Charts'!B$1)","v":"202204Scotland"},{"$f":"IFERROR(VLOOKUP(CONCATENATE(D$5,$C33),'trend data'!$A$2:$O$11161,D$6,FALSE),\"-\")","v":549},{"$f":"ROUND(VLOOKUP(CONCATENATE(E$5,$C33),'trend data'!$A$2:$O$11161,E$6,FALSE),4)","v":34.9893},{"$f":"ROUND(VLOOKUP(CONCATENATE(F$5,$C33),'trend data'!$A$2:$O$11161,F$6,FALSE),4)","v":32.123199999999997},{"$f":"ROUND(VLOOKUP(CONCATENATE(G$5,$C33),'trend data'!$A$2:$O$11161,G$6,FALSE),4)","v":38.042499999999997},{"$f":"IFERROR(VLOOKUP(CONCATENATE(H$5,$C33),'trend data'!$A$2:$O$11161,H$6,FALSE),\"-\")","v":495},{"$f":"IFERROR(ROUND(VLOOKUP(CONCATENATE(I$5,$C33),'trend data'!$A$2:$O$11161,I$6,FALSE),4),\"-\")","v":36.054000000000002},{"$f":"IFERROR(ROUND(VLOOKUP(CONCATENATE(J$5,$C33),'trend data'!$A$2:$O$11161,J$6,FALSE),4),\"-\")","v":32.947200000000002},{"$f":"IFERROR(ROUND(VLOOKUP(CONCATENATE(K$5,$C33),'trend data'!$A$2:$O$11161,K$6,FALSE),4),\"-\")","v":39.374600000000001},{"$f":"VLOOKUP(CONCATENATE(L$5,$C33),'trend data'!$A$2:$O$11161,L$6,FALSE)","v":1569052},{"$f":"ROUND(VLOOKUP(CONCATENATE(M$5,$C33),'trend data'!$A$2:$O$11161,M$6,FALSE),2)","v":1372942.47}]
[202301,"2023-03-31",{"$f":"CONCATENATE(A34,'ECOLI Data and Charts'!B$1)","v":"202301Scotland"},{"$f":"IFERROR(VLOOKUP(CONCATENATE(D$5,$C34),'trend data'!$A$2:$O$11161,D$6,FALSE),\"-\")","v":588},{"$f":"ROUND(VLOOKUP(CONCATENATE(E$5,$C34),'trend data'!$A$2:$O$11161,E$6,FALSE),4)","v":37.478299999999997},{"$f":"ROUND(VLOOKUP(CONCATENATE(F$5,$C34),'trend data'!$A$2:$O$11161,F$6,FALSE),4)","v":34.509700000000002},{"$f":"ROUND(VLOOKUP(CONCATENATE(G$5,$C34),'trend data'!$A$2:$O$11161,G$6,FALSE),4)","v":40.633899999999997},{"$f":"IFERROR(VLOOKUP(CONCATENATE(H$5,$C34),'trend data'!$A$2:$O$11161,H$6,FALSE),\"-\")","v":497},{"$f":"IFERROR(ROUND(VLOOKUP(CONCATENATE(I$5,$C34),'trend data'!$A$2:$O$11161,I$6,FALSE),4),\"-\")","v":36.7136},{"$f":"IFERROR(ROUND(VLOOKUP(CONCATENATE(J$5,$C34),'trend data'!$A$2:$O$11161,J$6,FALSE),4),\"-\")","v":33.556199999999997},{"$f":"IFERROR(ROUND(VLOOKUP(CONCATENATE(K$5,$C34),'trend data'!$A$2:$O$11161,K$6,FALSE),4),\"-\")","v":40.087899999999998},{"$f":"VLOOKUP(CONCATENATE(L$5,$C34),'trend data'!$A$2:$O$11161,L$6,FALSE)","v":1568908},{"$f":"ROUND(VLOOKUP(CONCATENATE(M$5,$C34),'trend data'!$A$2:$O$11161,M$6,FALSE),2)","v":1353723.29}]
[202302,"2023-06-30",{"$f":"CONCATENATE(A35,'ECOLI Data and Charts'!B$1)","v":"202302Scotland"},{"$f":"IFERROR(VLOOKUP(CONCATENATE(D$5,$C35),'trend data'!$A$2:$O$11161,D$6,FALSE),\"-\")","v":581},{"$f":"ROUND(VLOOKUP(CONCATENATE(E$5,$C35),'trend data'!$A$2:$O$11161,E$6,FALSE),4)","v":37.6143},{"$f":"ROUND(VLOOKUP(CONCATENATE(F$5,$C35),'trend data'!$A$2:$O$11161,F$6,FALSE),4)","v":34.6175},{"$f":"ROUND(VLOOKUP(CONCATENATE(G$5,$C35),'trend data'!$A$2:$O$11161,G$6,FALSE),4)","v":40.801200000000001},{"$f":"IFERROR(VLOOKUP(CONCATENATE(H$5,$C35),'trend data'!$A$2:$O$11161,H$6,FALSE),\"-\")","v":502},{"$f":"IFERROR(ROUND(VLOOKUP(CONCATENATE(I$5,$C35),'trend data'!$A$2:$O$11161,I$6,FALSE),4),\"-\")","v":36.675400000000003},{"$f":"IFERROR(ROUND(VLOOKUP(CONCATENATE(J$5,$C35),'trend data'!$A$2:$O$11161,J$6,FALSE),4),\"-\")","v":33.536799999999999},{"$f":"IFERROR(ROUND(VLOOKUP(CONCATENATE(K$5,$C35),'trend data'!$A$2:$O$11161,K$6,FALSE),4),\"-\")","v":40.028700000000001},{"$f":"VLOOKUP(CONCATENATE(L$5,$C35),'trend data'!$A$2:$O$11161,L$6,FALSE)","v":1544624},{"$f":"ROUND(VLOOKUP(CONCATENATE(M$5,$C35),'trend data'!$A$2:$O$11161,M$6,FALSE),2)","v":1368764.66}]
[202303,"2023-09-30",{"$f":"CONCATENATE(A36,'ECOLI Data and Charts'!B$1)","v":"202303Scotland"},{"$f":"IFERROR(VLOOKUP(CONCATENATE(D$5,$C36),'trend data'!$A$2:$O$11161,D$6,FALSE),\"-\")","v":580},{"$f":"ROUND(VLOOKUP(CONCATENATE(E$5,$C36),'trend data'!$A$2:$O$11161,E$6,FALSE),4)","v":37.717799999999997},{"$f":"ROUND(VLOOKUP(CONCATENATE(F$5,$C36),'trend data'!$A$2:$O$11161,F$6,FALSE),4)","v":34.710099999999997},{"$f":"ROUND(VLOOKUP(CONCATENATE(G$5,$C36),'trend data'!$A$2:$O$11161,G$6,FALSE),4)","v":40.916200000000003},{"$f":"IFERROR(VLOOKUP(CONCATENATE(H$5,$C36),'trend data'!$A$2:$O$11161,H$6,FALSE),\"-\")","v":575},{"$f":"IFERROR(ROUND(VLOOKUP(CONCATENATE(I$5,$C36),'trend data'!$A$2:$O$11161,I$6,FALSE),4),\"-\")","v":41.552100000000003},{"$f":"IFERROR(ROUND(VLOOKUP(CONCATENATE(J$5,$C36),'trend data'!$A$2:$O$11161,J$6,FALSE),4),\"-\")","v":38.224600000000002},{"$f":"IFERROR(ROUND(VLOOKUP(CONCATENATE(K$5,$C36),'trend data'!$A$2:$O$11161,K$6,FALSE),4),\"-\")","v":45.0916},{"$f":"VLOOKUP(CONCATENATE(L$5,$C36),'trend data'!$A$2:$O$11161,L$6,FALSE)","v":1537737},{"$f":"ROUND(VLOOKUP(CONCATENATE(M$5,$C36),'trend data'!$A$2:$O$11161,M$6,FALSE),2)","v":1383806.03}]
[202304,"2023-12-31",{"$f":"CONCATENATE(A37,'ECOLI Data and Charts'!B$1)","v":"202304Scotland"},{"$f":"IFERROR(VLOOKUP(CONCATENATE(D$5,$C37),'trend data'!$A$2:$O$11161,D$6,FALSE),\"-\")","v":544},{"$f":"ROUND(VLOOKUP(CONCATENATE(E$5,$C37),'trend data'!$A$2:$O$11161,E$6,FALSE),4)","v":34.736199999999997},{"$f":"ROUND(VLOOKUP(CONCATENATE(F$5,$C37),'trend data'!$A$2:$O$11161,F$6,FALSE),4)","v":31.8781},{"$f":"ROUND(VLOOKUP(CONCATENATE(G$5,$C37),'trend data'!$A$2:$O$11161,G$6,FALSE),4)","v":37.781799999999997},{"$f":"IFERROR(VLOOKUP(CONCATENATE(H$5,$C37),'trend data'!$A$2:$O$11161,H$6,FALSE),\"-\")","v":442},{"$f":"IFERROR(ROUND(VLOOKUP(CONCATENATE(I$5,$C37),'trend data'!$A$2:$O$11161,I$6,FALSE),4),\"-\")","v":31.940899999999999},{"$f":"IFERROR(ROUND(VLOOKUP(CONCATENATE(J$5,$C37),'trend data'!$A$2:$O$11161,J$6,FALSE),4),\"-\")","v":29.0321},{"$f":"IFERROR(ROUND(VLOOKUP(CONCATENATE(K$5,$C37),'trend data'!$A$2:$O$11161,K$6,FALSE),4),\"-\")","v":35.062199999999997},{"$f":"VLOOKUP(CONCATENATE(L$5,$C37),'trend data'!$A$2:$O$11161,L$6,FALSE)","v":1566090},{"$f":"ROUND(VLOOKUP(CONCATENATE(M$5,$C37),'trend data'!$A$2:$O$11161,M$6,FALSE),2)","v":1383806.03}]
[202401,"2024-03-31",{"$f":"CONCATENATE(A38,'ECOLI Data and Charts'!B$1)","v":"202401Scotland"},{"$f":"IFERROR(VLOOKUP(CONCATENATE(D$5,$C38),'trend data'!$A$2:$O$11161,D$6,FALSE),\"-\")","v":565},{"$f":"ROUND(VLOOKUP(CONCATENATE(E$5,$C38),'trend data'!$A$2:$O$11161,E$6,FALSE),4)","v":35.518700000000003},{"$f":"ROUND(VLOOKUP(CONCATENATE(F$5,$C38),'trend data'!$A$2:$O$11161,F$6,FALSE),4)","v":32.649900000000002},{"$f":"ROUND(VLOOKUP(CONCATENATE(G$5,$C38),'trend data'!$A$2:$O$11161,G$6,FALSE),4)","v":38.572099999999999},{"$f":"IFERROR(VLOOKUP(CONCATENATE(H$5,$C38),'trend data'!$A$2:$O$11161,H$6,FALSE),\"-\")","v":504},{"$f":"IFERROR(ROUND(VLOOKUP(CONCATENATE(I$5,$C38),'trend data'!$A$2:$O$11161,I$6,FALSE),4),\"-\")","v":36.5443},{"$f":"IFERROR(ROUND(VLOOKUP(CONCATENATE(J$5,$C38),'trend data'!$A$2:$O$11161,J$6,FALSE),4),\"-\")","v":33.423000000000002},{"$f":"IFERROR(ROUND(VLOOKUP(CONCATENATE(K$5,$C38),'trend data'!$A$2:$O$11161,K$6,FALSE),4),\"-\")","v":39.878700000000002},{"$f":"VLOOKUP(CONCATENATE(L$5,$C38),'trend data'!$A$2:$O$11161,L$6,FALSE)","v":1590711},{"$f":"ROUND(VLOOKUP(CONCATENATE(M$5,$C38),'trend data'!$A$2:$O$11161,M$6,FALSE),2)","v":1379147.27}]
[202402,"2024-06-30",{"$f":"CONCATENATE(A39,'ECOLI Data and Charts'!B$1)","v":"202402Scotland"},{"$f":"IFERROR(VLOOKUP(CONCATENATE(D$5,$C39),'trend data'!$A$2:$O$11161,D$6,FALSE),\"-\")","v":614},{"$f":"ROUND(VLOOKUP(CONCATENATE(E$5,$C39),'trend data'!$A$2:$O$11161,E$6,FALSE),4)","v":39.402500000000003},{"$f":"ROUND(VLOOKUP(CONCATENATE(F$5,$C39),'trend data'!$A$2:$O$11161,F$6,FALSE),4)","v":36.347000000000001},{"$f":"ROUND(VLOOKUP(CONCATENATE(G$5,$C39),'trend data'!$A$2:$O$11161,G$6,FALSE),4)","v":42.646299999999997},{"$f":"IFERROR(VLOOKUP(CONCATENATE(H$5,$C39),'trend data'!$A$2:$O$11161,H$6,FALSE),\"-\")","v":490},{"$f":"IFERROR(ROUND(VLOOKUP(CONCATENATE(I$5,$C39),'trend data'!$A$2:$O$11161,I$6,FALSE),4),\"-\")","v":35.529200000000003},{"$f":"IFERROR(ROUND(VLOOKUP(CONCATENATE(J$5,$C39),'trend data'!$A$2:$O$11161,J$6,FALSE),4),\"-\")","v":32.452500000000001},{"$f":"IFERROR(ROUND(VLOOKUP(CONCATENATE(K$5,$C39),'trend data'!$A$2:$O$11161,K$6,FALSE),4),\"-\")","v":38.819000000000003},{"$f":"VLOOKUP(CONCATENATE(L$5,$C39),'trend data'!$A$2:$O$11161,L$6,FALSE)","v":1558276},{"$f":"ROUND(VLOOKUP(CONCATENATE(M$5,$C39),'trend data'!$A$2:$O$11161,M$6,FALSE),2)","v":1379147.27}]
[202403,"2024-09-30",{"$f":"CONCATENATE(A40,'ECOLI Data and Charts'!B$1)","v":"202403Scotland"},{"$f":"IFERROR(VLOOKUP(CONCATENATE(D$5,$C40),'trend data'!$A$2:$O$11161,D$6,FALSE),\"-\")","v":618},{"$f":"ROUND(VLOOKUP(CONCATENATE(E$5,$C40),'trend data'!$A$2:$O$11161,E$6,FALSE),4)","v":39.8078},{"$f":"ROUND(VLOOKUP(CONCATENATE(F$5,$C40),'trend data'!$A$2:$O$11161,F$6,FALSE),4)","v":36.730699999999999},{"$f":"ROUND(VLOOKUP(CONCATENATE(G$5,$C40),'trend data'!$A$2:$O$11161,G$6,FALSE),4)","v":43.073900000000002},{"$f":"IFERROR(VLOOKUP(CONCATENATE(H$5,$C40),'trend data'!$A$2:$O$11161,H$6,FALSE),\"-\")","v":514},{"$f":"IFERROR(ROUND(VLOOKUP(CONCATENATE(I$5,$C40),'trend data'!$A$2:$O$11161,I$6,FALSE),4),\"-\")","v":36.8643},{"$f":"IFERROR(ROUND(VLOOKUP(CONCATENATE(J$5,$C40),'trend data'!$A$2:$O$11161,J$6,FALSE),4),\"-\")","v":33.745699999999999},{"$f":"IFERROR(ROUND(VLOOKUP(CONCATENATE(K$5,$C40),'trend data'!$A$2:$O$11161,K$6,FALSE),4),\"-\")","v":40.1935},{"$f":"VLOOKUP(CONCATENATE(L$5,$C40),'trend data'!$A$2:$O$11161,L$6,FALSE)","v":1552458},{"$f":"ROUND(VLOOKUP(CONCATENATE(M$5,$C40),'trend data'!$A$2:$O$11161,M$6,FALSE),2)","v":1394302.73}]
[202404,"2024-12-31",{"$f":"CONCATENATE(A41,'ECOLI Data and Charts'!B$1)","v":"202404Scotland"},{"$f":"IFERROR(VLOOKUP(CONCATENATE(D$5,$C41),'trend data'!$A$2:$O$11161,D$6,FALSE),\"-\")","v":576},{"$f":"ROUND(VLOOKUP(CONCATENATE(E$5,$C41),'trend data'!$A$2:$O$11161,E$6,FALSE),4)","v":36.9163},{"$f":"ROUND(VLOOKUP(CONCATENATE(F$5,$C41),'trend data'!$A$2:$O$11161,F$6,FALSE),4)","v":33.962600000000002},{"$f":"ROUND(VLOOKUP(CONCATENATE(G$5,$C41),'trend data'!$A$2:$O$11161,G$6,FALSE),4)","v":40.058100000000003},{"$f":"IFERROR(VLOOKUP(CONCATENATE(H$5,$C41),'trend data'!$A$2:$O$11161,H$6,FALSE),\"-\")","v":494},{"$f":"IFERROR(ROUND(VLOOKUP(CONCATENATE(I$5,$C41),'trend data'!$A$2:$O$11161,I$6,FALSE),4),\"-\")","v":35.429900000000004},{"$f":"IFERROR(ROUND(VLOOKUP(CONCATENATE(J$5,$C41),'trend data'!$A$2:$O$11161,J$6,FALSE),4),\"-\")","v":32.373899999999999},{"$f":"IFERROR(ROUND(VLOOKUP(CONCATENATE(K$5,$C41),'trend data'!$A$2:$O$11161,K$6,FALSE),4),\"-\")","v":38.696599999999997},{"$f":"VLOOKUP(CONCATENATE(L$5,$C41),'trend data'!$A$2:$O$11161,L$6,FALSE)","v":1560286},{"$f":"ROUND(VLOOKUP(CONCATENATE(M$5,$C41),'trend data'!$A$2:$O$11161,M$6,FALSE),2)","v":1394302.73}]
[202501,"2025-03-31",{"$f":"CONCATENATE(A42,'ECOLI Data and Charts'!B$1)","v":"202501Scotland"},{"$f":"IFERROR(VLOOKUP(CONCATENATE(D$5,$C42),'trend data'!$A$2:$O$11161,D$6,FALSE),\"-\")","v":604},{"$f":"ROUND(VLOOKUP(CONCATENATE(E$5,$C42),'trend data'!$A$2:$O$11161,E$6,FALSE),4)","v":38.912500000000001},{"$f":"ROUND(VLOOKUP(CONCATENATE(F$5,$C42),'trend data'!$A$2:$O$11161,F$6,FALSE),4)","v":35.870600000000003},{"$f":"ROUND(VLOOKUP(CONCATENATE(G$5,$C42),'trend data'!$A$2:$O$11161,G$6,FALSE),4)","v":42.143500000000003},{"$f":"IFERROR(VLOOKUP(CONCATENATE(H$5,$C42),'trend data'!$A$2:$O$11161,H$6,FALSE),\"-\")","v":446},{"$f":"IFERROR(ROUND(VLOOKUP(CONCATENATE(I$5,$C42),'trend data'!$A$2:$O$11161,I$6,FALSE),4),\"-\")","v":32.608800000000002},{"$f":"IFERROR(ROUND(VLOOKUP(CONCATENATE(J$5,$C42),'trend data'!$A$2:$O$11161,J$6,FALSE),4),\"-\")","v":29.652200000000001},{"$f":"IFERROR(ROUND(VLOOKUP(CONCATENATE(K$5,$C42),'trend data'!$A$2:$O$11161,K$6,FALSE),4),\"-\")","v":35.7804},{"$f":"VLOOKUP(CONCATENATE(L$5,$C42),'trend data'!$A$2:$O$11161,L$6,FALSE)","v":1552199},{"$f":"ROUND(VLOOKUP(CONCATENATE(M$5,$C42),'trend data'!$A$2:$O$11161,M$6,FALSE),2)","v":1367728.77}]
[202502,"2025-06-30",{"$f":"CONCATENATE(A43,'ECOLI Data and Charts'!B$1)","v":"202502Scotland"},{"$f":"IFERROR(VLOOKUP(CONCATENATE(D$5,$C43),'trend data'!$A$2:$O$11161,D$6,FALSE),\"-\")","v":672},{"$f":"ROUND(VLOOKUP(CONCATENATE(E$5,$C43),'trend data'!$A$2:$O$11161,E$6,FALSE),4)","v":44.048900000000003},{"$f":"ROUND(VLOOKUP(CONCATENATE(F$5,$C43),'trend data'!$A$2:$O$11161,F$6,FALSE),4)","v":40.780900000000003},{"$f":"ROUND(VLOOKUP(CONCATENATE(G$5,$C43),'trend data'!$A$2:$O$11161,G$6,FALSE),4)","v":47.509099999999997},{"$f":"IFERROR(VLOOKUP(CONCATENATE(H$5,$C43),'trend data'!$A$2:$O$11161,H$6,FALSE),\"-\")","v":565},{"$f":"IFERROR(ROUND(VLOOKUP(CONCATENATE(I$5,$C43),'trend data'!$A$2:$O$11161,I$6,FALSE),4),\"-\")","v":40.855400000000003},{"$f":"IFERROR(ROUND(VLOOKUP(CONCATENATE(J$5,$C43),'trend data'!$A$2:$O$11161,J$6,FALSE),4),\"-\")","v":37.555500000000002},{"$f":"IFERROR(ROUND(VLOOKUP(CONCATENATE(K$5,$C43),'trend data'!$A$2:$O$11161,K$6,FALSE),4),\"-\")","v":44.367600000000003},{"$f":"VLOOKUP(CONCATENATE(L$5,$C43),'trend data'!$A$2:$O$11161,L$6,FALSE)","v":1525577},{"$f":"ROUND(VLOOKUP(CONCATENATE(M$5,$C43),'trend data'!$A$2:$O$11161,M$6,FALSE),2)","v":1382925.75}]
[202503,"2025-09-30",{"$f":"CONCATENATE(A44,'ECOLI Data and Charts'!B$1)","v":"202503Scotland"},{"$f":"IFERROR(VLOOKUP(CONCATENATE(D$5,$C44),'trend data'!$A$2:$O$11161,D$6,FALSE),\"-\")","v":658},{"$f":"ROUND(VLOOKUP(CONCATENATE(E$5,$C44),'trend data'!$A$2:$O$11161,E$6,FALSE),4)","v":43.195},{"$f":"ROUND(VLOOKUP(CONCATENATE(F$5,$C44),'trend data'!$A$2:$O$11161,F$6,FALSE),4)","v":39.957099999999997},{"$f":"ROUND(VLOOKUP(CONCATENATE(G$5,$C44),'trend data'!$A$2:$O$11161,G$6,FALSE),4)","v":46.625399999999999},{"$f":"IFERROR(VLOOKUP(CONCATENATE(H$5,$C44),'trend data'!$A$2:$O$11161,H$6,FALSE),\"-\")","v":575},{"$f":"IFERROR(ROUND(VLOOKUP(CONCATENATE(I$5,$C44),'trend data'!$A$2:$O$11161,I$6,FALSE),4),\"-\")","v":41.126600000000003},{"$f":"IFERROR(ROUND(VLOOKUP(CONCATENATE(J$5,$C44),'trend data'!$A$2:$O$11161,J$6,FALSE),4),\"-\")","v":37.833199999999998},{"$f":"IFERROR(ROUND(VLOOKUP(CONCATENATE(K$5,$C44),'trend data'!$A$2:$O$11161,K$6,FALSE),4),\"-\")","v":44.629899999999999},{"$f":"VLOOKUP(CONCATENATE(L$5,$C44),'trend data'!$A$2:$O$11161,L$6,FALSE)","v":1523323},{"$f":"ROUND(VLOOKUP(CONCATENATE(M$5,$C44),'trend data'!$A$2:$O$11161,M$6,FALSE),2)","v":1398122.74}]
[202504,"2025-12-31",{"$f":"CONCATENATE(A45,'ECOLI Data and Charts'!B$1)","v":"202504Scotland"},{"$f":"IFERROR(VLOOKUP(CONCATENATE(D$5,$C45),'trend data'!$A$2:$O$11161,D$6,FALSE),\"-\")","v":625},{"$f":"ROUND(VLOOKUP(CONCATENATE(E$5,$C45),'trend data'!$A$2:$O$11161,E$6,FALSE),4)","v":40.734299999999998},{"$f":"ROUND(VLOOKUP(CONCATENATE(F$5,$C45),'trend data'!$A$2:$O$11161,F$6,FALSE),4)","v":37.602899999999998},{"$f":"ROUND(VLOOKUP(CONCATENATE(G$5,$C45),'trend data'!$A$2:$O$11161,G$6,FALSE),4)","v":44.057000000000002},{"$f":"IFERROR(VLOOKUP(CONCATENATE(H$5,$C45),'trend data'!$A$2:$O$11161,H$6,FALSE),\"-\")","v":447},{"$f":"IFERROR(ROUND(VLOOKUP(CONCATENATE(I$5,$C45),'trend data'!$A$2:$O$11161,I$6,FALSE),4),\"-\")","v":31.971399999999999},{"$f":"IFERROR(ROUND(VLOOKUP(CONCATENATE(J$5,$C45),'trend data'!$A$2:$O$11161,J$6,FALSE),4),\"-\")","v":29.075800000000001},{"$f":"IFERROR(ROUND(VLOOKUP(CONCATENATE(K$5,$C45),'trend data'!$A$2:$O$11161,K$6,FALSE),4),\"-\")","v":35.077399999999997},{"$f":"VLOOKUP(CONCATENATE(L$5,$C45),'trend data'!$A$2:$O$11161,L$6,FALSE)","v":1534332},{"$f":"ROUND(VLOOKUP(CONCATENATE(M$5,$C45),'trend data'!$A$2:$O$11161,M$6,FALSE),2)","v":1398122.74}]
[202601,"2026-03-31",{"$f":"CONCATENATE(A46,'ECOLI Data and Charts'!B$1)","v":"202601Scotland"},{"$f":"IFERROR(VLOOKUP(CONCATENATE(D$5,$C46),'trend data'!$A$2:$O$11161,D$6,FALSE),\"-\")","v":609},{"$f":"ROUND(VLOOKUP(CONCATENATE(E$5,$C46),'trend data'!$A$2:$O$11161,E$6,FALSE),4)","v":39.5426},{"$f":"ROUND(VLOOKUP(CONCATENATE(F$5,$C46),'trend data'!$A$2:$O$11161,F$6,FALSE),4)","v":36.463900000000002},{"$f":"ROUND(VLOOKUP(CONCATENATE(G$5,$C46),'trend data'!$A$2:$O$11161,G$6,FALSE),4)","v":42.811700000000002},{"$f":"IFERROR(VLOOKUP(CONCATENATE(H$5,$C46),'trend data'!$A$2:$O$11161,H$6,FALSE),\"-\")","v":462},{"$f":"IFERROR(ROUND(VLOOKUP(CONCATENATE(I$5,$C46),'trend data'!$A$2:$O$11161,I$6,FALSE),4),\"-\")","v":33.778599999999997},{"$f":"IFERROR(ROUND(VLOOKUP(CONCATENATE(J$5,$C46),'trend data'!$A$2:$O$11161,J$6,FALSE),4),\"-\")","v":30.7682},{"$f":"IFERROR(ROUND(VLOOKUP(CONCATENATE(K$5,$C46),'trend data'!$A$2:$O$11161,K$6,FALSE),4),\"-\")","v":37.003999999999998},{"$f":"VLOOKUP(CONCATENATE(L$5,$C46),'trend data'!$A$2:$O$11161,L$6,FALSE)","v":1540113},{"$f":"ROUND(VLOOKUP(CONCATENATE(M$5,$C46),'trend data'!$A$2:$O$11161,M$6,FALSE),2)","v":1367728.77}]

{"sheet":"SSI data","index":6,"n_rows":56,"n_cols":29,"rows_kept":56,"cut":false,"hidden":true,"merged":[]}
["Trend data",null,null,null,null,null,null,null,null,null,null,null,null,null,null,null,"data for u-charts"]
[]
["add a new line for current quarter"]
[null,null,null,null,null,null,null,null,null,null,null,null,null,null,null,null,null,null,null,"change this"]
[null,null,null,"SSICSEC","SSICSEC","SSICSEC","SSICSEC","SSIHIP","SSIHIP","SSIHIP","SSIHIP","SSICSEC","SSIHIP",null,null,null,null,null,"current quarter end","2026-03-31",3,4,5,6,null,3,4,5,6]
[null,null,null,2,4,5,6,2,4,5,6,3,3]
[null,null,"ref","C SEC cases","C SEC prop","C SEC_lower_CI","C SEC_upper_CI","HIP cases","HIP prop","HIP_lower_CI","HIP_upper_CI","C SEC OPS","HIP OPS",null,null,null,null,null,null,null,"SSICSEC",null,null,null,null,"SSIHIP"]
["201401","2014-03-24",{"$f":"CONCATENATE(A8,'SSI Data and Charts'!B$1)","v":"201401Scotland"},{"$f":"IFERROR(VLOOKUP(CONCATENATE(D$5,$C8),'trend data'!$A$2:$O$11161,D$6,FALSE),\"-\")","v":61},{"$f":"IFERROR(ROUND(VLOOKUP(CONCATENATE(E$5,$C8),'trend data'!$A$2:$O$11161,E$6,FALSE),3),\"-\")","v":1.526},{"$f":"IFERROR(ROUND(VLOOKUP(CONCATENATE(F$5,$C8),'trend data'!$A$2:$O$11161,F$6,FALSE),3),\"-\")","v":1.19},{"$f":"IFERROR(ROUND(VLOOKUP(CONCATENATE(G$5,$C8),'trend data'!$A$2:$O$11161,G$6,FALSE),3),\"-\")","v":1.9550000000000001},{"$f":"IFERROR(VLOOKUP(CONCATENATE(H$5,$C8),'trend data'!$A$2:$O$11161,H$6,FALSE),\"-\")","v":16},{"$f":"IFERROR(ROUND(VLOOKUP(CONCATENATE(I$5,$C8),'trend data'!$A$2:$O$11161,I$6,FALSE),3),\"-\")","v":0.76},{"$f":"IFERROR(ROUND(VLOOKUP(CONCATENATE(J$5,$C8),'trend data'!$A$2:$O$11161,J$6,FALSE),3),\"-\")","v":0.46800000000000003},{"$f":"IFERROR(ROUND(VLOOKUP(CONCATENATE(K$5,$C8),'trend data'!$A$2:$O$11161,K$6,FALSE),3),\"-\")","v":1.2310000000000001},{"$f":"IFERROR(VLOOKUP(CONCATENATE(L$5,$C8),'trend data'!$A$2:$O$11161,L$6,FALSE),\"-\")","v":3998},{"$f":"IFERROR(VLOOKUP(CONCATENATE(M$5,$C8),'trend data'!$A$2:$O$11161,M$6,FALSE),\"-\")","v":2106},null,null,null,"change to last 12 quarters",null,null,null,"C SEC prop","C SEC av prop","C SEC UWL 2sd","C SEC UCL 3sd",null,"HIP prop","HIP av prop","HIP UWL 2sd","HIP UCL 3 sd"]
["201402","2014-06-27",{"$f":"CONCATENATE(A9,'SSI Data and Charts'!B$1)","v":"201402Scotland"},{"$f":"IFERROR(VLOOKUP(CONCATENATE(D$5,$C9),'trend data'!$A$2:$O$11161,D$6,FALSE),\"-\")","v":58},{"$f":"IFERROR(ROUND(VLOOKUP(CONCATENATE(E$5,$C9),'trend data'!$A$2:$O$11161,E$6,FALSE),3),\"-\")","v":1.4139999999999999},{"$f":"IFERROR(ROUND(VLOOKUP(CONCATENATE(F$5,$C9),'trend data'!$A$2:$O$11161,F$6,FALSE),3),\"-\")","v":1.095},{"$f":"IFERROR(ROUND(VLOOKUP(CONCATENATE(G$5,$C9),'trend data'!$A$2:$O$11161,G$6,FALSE),3),\"-\")","v":1.823},{"$f":"IFERROR(VLOOKUP(CONCATENATE(H$5,$C9),'trend data'!$A$2:$O$11161,H$6,FALSE),\"-\")","v":13},{"$f":"IFERROR(ROUND(VLOOKUP(CONCATENATE(I$5,$C9),'trend data'!$A$2:$O$11161,I$6,FALSE),3),\"-\")","v":0.62},{"$f":"IFERROR(ROUND(VLOOKUP(CONCATENATE(J$5,$C9),'trend data'!$A$2:$O$11161,J$6,FALSE),3),\"-\")","v":0.36199999999999999},{"$f":"IFERROR(ROUND(VLOOKUP(CONCATENATE(K$5,$C9),'trend data'!$A$2:$O$11161,K$6,FALSE),3),\"-\")","v":1.0569999999999999},{"$f":"IFERROR(VLOOKUP(CONCATENATE(L$5,$C9),'trend data'!$A$2:$O$11161,L$6,FALSE),\"-\")","v":4103},{"$f":"IFERROR(VLOOKUP(CONCATENATE(M$5,$C9),'trend data'!$A$2:$O$11161,M$6,FALSE),\"-\")","v":2098},null,null,null,{"$f":"YEAR(T9)&\"0\"&IF(MONTH(T9)<4,1,IF(MONTH(T9)<7,2,IF(MONTH(T9)<10,3,4)))","v":"202302"},{"$f":"CONCATENATE(U$7,$Q9,'SSI Data and Charts'!B$1)","v":"SSICSEC202302Scotland"},1,{"$f":"T10-92","v":"2023-06-23"},{"$f":"ROUND(VLOOKUP($R9,'data for u-p-charts'!$A$2:$F$5000,U$5,FALSE),2)","v":{"$error":"#N/A"}},{"$f":"ROUND(VLOOKUP($R9,'data for u-p-charts'!$A$2:$F$5000,V$5,FALSE),2)","v":{"$error":"#N/A"}},{"$f":"ROUND(VLOOKUP($R9,'data for u-p-charts'!$A$2:$F$5000,W$5,FALSE),2)","v":{"$error":"#N/A"}},{"$f":"ROUND(VLOOKUP($R9,'data for u-p-charts'!$A$2:$F$5000,X$5,FALSE),2)","v":{"$error":"#N/A"}},{"$f":"CONCATENATE(Z$7,$Q9,'SSI Data and Charts'!$B$1)","v":"SSIHIP202302Scotland"},{"$f":"ROUND(VLOOKUP($Y9,'data for u-p-charts'!$A$2:$F$5000,Z$5,FALSE),2)","v":{"$error":"#N/A"}},{"$f":"ROUND(VLOOKUP($Y9,'data for u-p-charts'!$A$2:$F$5000,AA$5,FALSE),2)","v":{"$error":"#N/A"}},{"$f":"ROUND(VLOOKUP($Y9,'data for u-p-charts'!$A$2:$F$5000,AB$5,FALSE),2)","v":{"$error":"#N/A"}},{"$f":"ROUND(VLOOKUP($Y9,'data for u-p-charts'!$A$2:$F$5000,AC$5,FALSE),2)","v":{"$error":"#N/A"}}]
["201403","2014-09-30",{"$f":"CONCATENATE(A10,'SSI Data and Charts'!B$1)","v":"201403Scotland"},{"$f":"IFERROR(VLOOKUP(CONCATENATE(D$5,$C10),'trend data'!$A$2:$O$11161,D$6,FALSE),\"-\")","v":58},{"$f":"IFERROR(ROUND(VLOOKUP(CONCATENATE(E$5,$C10),'trend data'!$A$2:$O$11161,E$6,FALSE),3),\"-\")","v":1.2709999999999999},{"$f":"IFERROR(ROUND(VLOOKUP(CONCATENATE(F$5,$C10),'trend data'!$A$2:$O$11161,F$6,FALSE),3),\"-\")","v":0.98499999999999999},{"$f":"IFERROR(ROUND(VLOOKUP(CONCATENATE(G$5,$C10),'trend data'!$A$2:$O$11161,G$6,FALSE),3),\"-\")","v":1.64},{"$f":"IFERROR(VLOOKUP(CONCATENATE(H$5,$C10),'trend data'!$A$2:$O$11161,H$6,FALSE),\"-\")","v":16},{"$f":"IFERROR(ROUND(VLOOKUP(CONCATENATE(I$5,$C10),'trend data'!$A$2:$O$11161,I$6,FALSE),3),\"-\")","v":0.753},{"$f":"IFERROR(ROUND(VLOOKUP(CONCATENATE(J$5,$C10),'trend data'!$A$2:$O$11161,J$6,FALSE),3),\"-\")","v":0.46400000000000002},{"$f":"IFERROR(ROUND(VLOOKUP(CONCATENATE(K$5,$C10),'trend data'!$A$2:$O$11161,K$6,FALSE),3),\"-\")","v":1.22},{"$f":"IFERROR(VLOOKUP(CONCATENATE(L$5,$C10),'trend data'!$A$2:$O$11161,L$6,FALSE),\"-\")","v":4563},{"$f":"IFERROR(VLOOKUP(CONCATENATE(M$5,$C10),'trend data'!$A$2:$O$11161,M$6,FALSE),\"-\")","v":2125},null,null,null,{"$f":"YEAR(T10)&\"0\"&IF(MONTH(T10)<4,1,IF(MONTH(T10)<7,2,IF(MONTH(T10)<10,3,4)))","v":"202303"},{"$f":"CONCATENATE(U$7,$Q10,'SSI Data and Charts'!B$1)","v":"SSICSEC202303Scotland"},2,"2023-09-23",{"$f":"ROUND(VLOOKUP($R10,'data for u-p-charts'!$A$2:$F$5000,U$5,FALSE),2)","v":{"$error":"#N/A"}},{"$f":"ROUND(VLOOKUP($R10,'data for u-p-charts'!$A$2:$F$5000,V$5,FALSE),2)","v":{"$error":"#N/A"}},{"$f":"ROUND(VLOOKUP($R10,'data for u-p-charts'!$A$2:$F$5000,W$5,FALSE),2)","v":{"$error":"#N/A"}},{"$f":"ROUND(VLOOKUP($R10,'data for u-p-charts'!$A$2:$F$5000,X$5,FALSE),2)","v":{"$error":"#N/A"}},{"$f":"CONCATENATE(Z$7,$Q10,'SSI Data and Charts'!$B$1)","v":"SSIHIP202303Scotland"},{"$f":"ROUND(VLOOKUP($Y10,'data for u-p-charts'!$A$2:$F$5000,Z$5,FALSE),2)","v":{"$error":"#N/A"}},{"$f":"ROUND(VLOOKUP($Y10,'data for u-p-charts'!$A$2:$F$5000,AA$5,FALSE),2)","v":{"$error":"#N/A"}},{"$f":"ROUND(VLOOKUP($Y10,'data for u-p-charts'!$A$2:$F$5000,AB$5,FALSE),2)","v":{"$error":"#N/A"}},{"$f":"ROUND(VLOOKUP($Y10,'data for u-p-charts'!$A$2:$F$5000,AC$5,FALSE),2)","v":{"$error":"#N/A"}}]
[201404,"2014-12-19",{"$f":"CONCATENATE(A11,'SSI Data and Charts'!B$1)","v":"201404Scotland"},{"$f":"IFERROR(VLOOKUP(CONCATENATE(D$5,$C11),'trend data'!$A$2:$O$11161,D$6,FALSE),\"-\")","v":61},{"$f":"IFERROR(ROUND(VLOOKUP(CONCATENATE(E$5,$C11),'trend data'!$A$2:$O$11161,E$6,FALSE),3),\"-\")","v":1.4319999999999999},{"$f":"IFERROR(ROUND(VLOOKUP(CONCATENATE(F$5,$C11),'trend data'!$A$2:$O$11161,F$6,FALSE),3),\"-\")","v":1.1160000000000001},{"$f":"IFERROR(ROUND(VLOOKUP(CONCATENATE(G$5,$C11),'trend data'!$A$2:$O$11161,G$6,FALSE),3),\"-\")","v":1.835},{"$f":"IFERROR(VLOOKUP(CONCATENATE(H$5,$C11),'trend data'!$A$2:$O$11161,H$6,FALSE),\"-\")","v":12},{"$f":"IFERROR(ROUND(VLOOKUP(CONCATENATE(I$5,$C11),'trend data'!$A$2:$O$11161,I$6,FALSE),3),\"-\")","v":0.60799999999999998},{"$f":"IFERROR(ROUND(VLOOKUP(CONCATENATE(J$5,$C11),'trend data'!$A$2:$O$11161,J$6,FALSE),3),\"-\")","v":0.34799999999999998},{"$f":"IFERROR(ROUND(VLOOKUP(CONCATENATE(K$5,$C11),'trend data'!$A$2:$O$11161,K$6,FALSE),3),\"-\")","v":1.06},{"$f":"IFERROR(VLOOKUP(CONCATENATE(L$5,$C11),'trend data'!$A$2:$O$11161,L$6,FALSE),\"-\")","v":4261},{"$f":"IFERROR(VLOOKUP(CONCATENATE(M$5,$C11),'trend data'!$A$2:$O$11161,M$6,FALSE),\"-\")","v":1974},null,null,null,"202304",{"$f":"CONCATENATE(U$7,$Q11,'SSI Data and Charts'!B$1)","v":"SSICSEC202304Scotland"},3,"2023-12-24",{"$f":"ROUND(VLOOKUP($R11,'data for u-p-charts'!$A$2:$F$5000,U$5,FALSE),2)","v":{"$error":"#N/A"}},{"$f":"ROUND(VLOOKUP($R11,'data for u-p-charts'!$A$2:$F$5000,V$5,FALSE),2)","v":{"$error":"#N/A"}},{"$f":"ROUND(VLOOKUP($R11,'data for u-p-charts'!$A$2:$F$5000,W$5,FALSE),2)","v":{"$error":"#N/A"}},{"$f":"ROUND(VLOOKUP($R11,'data for u-p-charts'!$A$2:$F$5000,X$5,FALSE),2)","v":{"$error":"#N/A"}},{"$f":"CONCATENATE(Z$7,$Q11,'SSI Data and Charts'!$B$1)","v":"SSIHIP202304Scotland"},{"$f":"ROUND(VLOOKUP($Y11,'data for u-p-charts'!$A$2:$F$5000,Z$5,FALSE),2)","v":{"$error":"#N/A"}},{"$f":"ROUND(VLOOKUP($Y11,'data for u-p-charts'!$A$2:$F$5000,AA$5,FALSE),2)","v":{"$error":"#N/A"}},{"$f":"ROUND(VLOOKUP($Y11,'data for u-p-charts'!$A$2:$F$5000,AB$5,FALSE),2)","v":{"$error":"#N/A"}},{"$f":"ROUND(VLOOKUP($Y11,'data for u-p-charts'!$A$2:$F$5000,AC$5,FALSE),2)","v":{"$error":"#N/A"}}]
[201501,"2015-03-24",{"$f":"CONCATENATE(A12,'SSI Data and Charts'!B$1)","v":"201501Scotland"},{"$f":"IFERROR(VLOOKUP(CONCATENATE(D$5,$C12),'trend data'!$A$2:$O$11161,D$6,FALSE),\"-\")","v":47},{"$f":"IFERROR(ROUND(VLOOKUP(CONCATENATE(E$5,$C12),'trend data'!$A$2:$O$11161,E$6,FALSE),3),\"-\")","v":1.1850000000000001},{"$f":"IFERROR(ROUND(VLOOKUP(CONCATENATE(F$5,$C12),'trend data'!$A$2:$O$11161,F$6,FALSE),3),\"-\")","v":0.89200000000000002},{"$f":"IFERROR(ROUND(VLOOKUP(CONCATENATE(G$5,$C12),'trend data'!$A$2:$O$11161,G$6,FALSE),3),\"-\")","v":1.5720000000000001},{"$f":"IFERROR(VLOOKUP(CONCATENATE(H$5,$C12),'trend data'!$A$2:$O$11161,H$6,FALSE),\"-\")","v":18},{"$f":"IFERROR(ROUND(VLOOKUP(CONCATENATE(I$5,$C12),'trend data'!$A$2:$O$11161,I$6,FALSE),3),\"-\")","v":0.91900000000000004},{"$f":"IFERROR(ROUND(VLOOKUP(CONCATENATE(J$5,$C12),'trend data'!$A$2:$O$11161,J$6,FALSE),3),\"-\")","v":0.58199999999999996},{"$f":"IFERROR(ROUND(VLOOKUP(CONCATENATE(K$5,$C12),'trend data'!$A$2:$O$11161,K$6,FALSE),3),\"-\")","v":1.448},{"$f":"IFERROR(VLOOKUP(CONCATENATE(L$5,$C12),'trend data'!$A$2:$O$11161,L$6,FALSE),\"-\")","v":3966},{"$f":"IFERROR(VLOOKUP(CONCATENATE(M$5,$C12),'trend data'!$A$2:$O$11161,M$6,FALSE),\"-\")","v":1959},null,null,null,"202401",{"$f":"CONCATENATE(U$7,$Q12,'SSI Data and Charts'!B$1)","v":"SSICSEC202401Scotland"},4,"2024-03-25",{"$f":"ROUND(VLOOKUP($R12,'data for u-p-charts'!$A$2:$F$5000,U$5,FALSE),2)","v":{"$error":"#N/A"}},{"$f":"ROUND(VLOOKUP($R12,'data for u-p-charts'!$A$2:$F$5000,V$5,FALSE),2)","v":{"$error":"#N/A"}},{"$f":"ROUND(VLOOKUP($R12,'data for u-p-charts'!$A$2:$F$5000,W$5,FALSE),2)","v":{"$error":"#N/A"}},{"$f":"ROUND(VLOOKUP($R12,'data for u-p-charts'!$A$2:$F$5000,X$5,FALSE),2)","v":{"$error":"#N/A"}},{"$f":"CONCATENATE(Z$7,$Q12,'SSI Data and Charts'!$B$1)","v":"SSIHIP202401Scotland"},{"$f":"ROUND(VLOOKUP($Y12,'data for u-p-charts'!$A$2:$F$5000,Z$5,FALSE),2)","v":{"$error":"#N/A"}},{"$f":"ROUND(VLOOKUP($Y12,'data for u-p-charts'!$A$2:$F$5000,AA$5,FALSE),2)","v":{"$error":"#N/A"}},{"$f":"ROUND(VLOOKUP($Y12,'data for u-p-charts'!$A$2:$F$5000,AB$5,FALSE),2)","v":{"$error":"#N/A"}},{"$f":"ROUND(VLOOKUP($Y12,'data for u-p-charts'!$A$2:$F$5000,AC$5,FALSE),2)","v":{"$error":"#N/A"}}]
[201502,"2015-06-24",{"$f":"CONCATENATE(A13,'SSI Data and Charts'!B$1)","v":"201502Scotland"},{"$f":"IFERROR(VLOOKUP(CONCATENATE(D$5,$C13),'trend data'!$A$2:$O$11161,D$6,FALSE),\"-\")","v":56},{"$f":"IFERROR(ROUND(VLOOKUP(CONCATENATE(E$5,$C13),'trend data'!$A$2:$O$11161,E$6,FALSE),3),\"-\")","v":1.2849999999999999},{"$f":"IFERROR(ROUND(VLOOKUP(CONCATENATE(F$5,$C13),'trend data'!$A$2:$O$11161,F$6,FALSE),3),\"-\")","v":0.99099999999999999},{"$f":"IFERROR(ROUND(VLOOKUP(CONCATENATE(G$5,$C13),'trend data'!$A$2:$O$11161,G$6,FALSE),3),\"-\")","v":1.665},{"$f":"IFERROR(VLOOKUP(CONCATENATE(H$5,$C13),'trend data'!$A$2:$O$11161,H$6,FALSE),\"-\")","v":18},{"$f":"IFERROR(ROUND(VLOOKUP(CONCATENATE(I$5,$C13),'trend data'!$A$2:$O$11161,I$6,FALSE),3),\"-\")","v":0.83399999999999996},{"$f":"IFERROR(ROUND(VLOOKUP(CONCATENATE(J$5,$C13),'trend data'!$A$2:$O$11161,J$6,FALSE),3),\"-\")","v":0.52800000000000002},{"$f":"IFERROR(ROUND(VLOOKUP(CONCATENATE(K$5,$C13),'trend data'!$A$2:$O$11161,K$6,FALSE),3),\"-\")","v":1.3140000000000001},{"$f":"IFERROR(VLOOKUP(CONCATENATE(L$5,$C13),'trend data'!$A$2:$O$11161,L$6,FALSE),\"-\")","v":4358},{"$f":"IFERROR(VLOOKUP(CONCATENATE(M$5,$C13),'trend data'!$A$2:$O$11161,M$6,FALSE),\"-\")","v":2159},null,null,null,"202402",{"$f":"CONCATENATE(U$7,$Q13,'SSI Data and Charts'!B$1)","v":"SSICSEC202402Scotland"},5,"2024-06-25",{"$f":"ROUND(VLOOKUP($R13,'data for u-p-charts'!$A$2:$F$5000,U$5,FALSE),2)","v":{"$error":"#N/A"}},{"$f":"ROUND(VLOOKUP($R13,'data for u-p-charts'!$A$2:$F$5000,V$5,FALSE),2)","v":{"$error":"#N/A"}},{"$f":"ROUND(VLOOKUP($R13,'data for u-p-charts'!$A$2:$F$5000,W$5,FALSE),2)","v":{"$error":"#N/A"}},{"$f":"ROUND(VLOOKUP($R13,'data for u-p-charts'!$A$2:$F$5000,X$5,FALSE),2)","v":{"$error":"#N/A"}},{"$f":"CONCATENATE(Z$7,$Q13,'SSI Data and Charts'!$B$1)","v":"SSIHIP202402Scotland"},{"$f":"ROUND(VLOOKUP($Y13,'data for u-p-charts'!$A$2:$F$5000,Z$5,FALSE),2)","v":{"$error":"#N/A"}},{"$f":"ROUND(VLOOKUP($Y13,'data for u-p-charts'!$A$2:$F$5000,AA$5,FALSE),2)","v":{"$error":"#N/A"}},{"$f":"ROUND(VLOOKUP($Y13,'data for u-p-charts'!$A$2:$F$5000,AB$5,FALSE),2)","v":{"$error":"#N/A"}},{"$f":"ROUND(VLOOKUP($Y13,'data for u-p-charts'!$A$2:$F$5000,AC$5,FALSE),2)","v":{"$error":"#N/A"}}]
[201503,"2015-09-24",{"$f":"CONCATENATE(A14,'SSI Data and Charts'!B$1)","v":"201503Scotland"},{"$f":"IFERROR(VLOOKUP(CONCATENATE(D$5,$C14),'trend data'!$A$2:$O$11161,D$6,FALSE),\"-\")","v":56},{"$f":"IFERROR(ROUND(VLOOKUP(CONCATENATE(E$5,$C14),'trend data'!$A$2:$O$11161,E$6,FALSE),3),\"-\")","v":1.2410000000000001},{"$f":"IFERROR(ROUND(VLOOKUP(CONCATENATE(F$5,$C14),'trend data'!$A$2:$O$11161,F$6,FALSE),3),\"-\")","v":0.95699999999999996},{"$f":"IFERROR(ROUND(VLOOKUP(CONCATENATE(G$5,$C14),'trend data'!$A$2:$O$11161,G$6,FALSE),3),\"-\")","v":1.609},{"$f":"IFERROR(VLOOKUP(CONCATENATE(H$5,$C14),'trend data'!$A$2:$O$11161,H$6,FALSE),\"-\")","v":10},{"$f":"IFERROR(ROUND(VLOOKUP(CONCATENATE(I$5,$C14),'trend data'!$A$2:$O$11161,I$6,FALSE),3),\"-\")","v":0.46800000000000003},{"$f":"IFERROR(ROUND(VLOOKUP(CONCATENATE(J$5,$C14),'trend data'!$A$2:$O$11161,J$6,FALSE),3),\"-\")","v":0.255},{"$f":"IFERROR(ROUND(VLOOKUP(CONCATENATE(K$5,$C14),'trend data'!$A$2:$O$11161,K$6,FALSE),3),\"-\")","v":0.86},{"$f":"IFERROR(VLOOKUP(CONCATENATE(L$5,$C14),'trend data'!$A$2:$O$11161,L$6,FALSE),\"-\")","v":4511},{"$f":"IFERROR(VLOOKUP(CONCATENATE(M$5,$C14),'trend data'!$A$2:$O$11161,M$6,FALSE),\"-\")","v":2135},null,null,null,"202403",{"$f":"CONCATENATE(U$7,$Q14,'SSI Data and Charts'!B$1)","v":"SSICSEC202403Scotland"},6,"2024-09-25",{"$f":"ROUND(VLOOKUP($R14,'data for u-p-charts'!$A$2:$F$5000,U$5,FALSE),2)","v":{"$error":"#N/A"}},{"$f":"ROUND(VLOOKUP($R14,'data for u-p-charts'!$A$2:$F$5000,V$5,FALSE),2)","v":{"$error":"#N/A"}},{"$f":"ROUND(VLOOKUP($R14,'data for u-p-charts'!$A$2:$F$5000,W$5,FALSE),2)","v":{"$error":"#N/A"}},{"$f":"ROUND(VLOOKUP($R14,'data for u-p-charts'!$A$2:$F$5000,X$5,FALSE),2)","v":{"$error":"#N/A"}},{"$f":"CONCATENATE(Z$7,$Q14,'SSI Data and Charts'!$B$1)","v":"SSIHIP202403Scotland"},{"$f":"ROUND(VLOOKUP($Y14,'data for u-p-charts'!$A$2:$F$5000,Z$5,FALSE),2)","v":{"$error":"#N/A"}},{"$f":"ROUND(VLOOKUP($Y14,'data for u-p-charts'!$A$2:$F$5000,AA$5,FALSE),2)","v":{"$error":"#N/A"}},{"$f":"ROUND(VLOOKUP($Y14,'data for u-p-charts'!$A$2:$F$5000,AB$5,FALSE),2)","v":{"$error":"#N/A"}},{"$f":"ROUND(VLOOKUP($Y14,'data for u-p-charts'!$A$2:$F$5000,AC$5,FALSE),2)","v":{"$error":"#N/A"}}]
[201504,"2015-12-24",{"$f":"CONCATENATE(A15,'SSI Data and Charts'!B$1)","v":"201504Scotland"},{"$f":"IFERROR(VLOOKUP(CONCATENATE(D$5,$C15),'trend data'!$A$2:$O$11161,D$6,FALSE),\"-\")","v":60},{"$f":"IFERROR(ROUND(VLOOKUP(CONCATENATE(E$5,$C15),'trend data'!$A$2:$O$11161,E$6,FALSE),3),\"-\")","v":1.395},{"$f":"IFERROR(ROUND(VLOOKUP(CONCATENATE(F$5,$C15),'trend data'!$A$2:$O$11161,F$6,FALSE),3),\"-\")","v":1.0860000000000001},{"$f":"IFERROR(ROUND(VLOOKUP(CONCATENATE(G$5,$C15),'trend data'!$A$2:$O$11161,G$6,FALSE),3),\"-\")","v":1.792},{"$f":"IFERROR(VLOOKUP(CONCATENATE(H$5,$C15),'trend data'!$A$2:$O$11161,H$6,FALSE),\"-\")","v":15},{"$f":"IFERROR(ROUND(VLOOKUP(CONCATENATE(I$5,$C15),'trend data'!$A$2:$O$11161,I$6,FALSE),3),\"-\")","v":0.68500000000000005},{"$f":"IFERROR(ROUND(VLOOKUP(CONCATENATE(J$5,$C15),'trend data'!$A$2:$O$11161,J$6,FALSE),3),\"-\")","v":0.41499999999999998},{"$f":"IFERROR(ROUND(VLOOKUP(CONCATENATE(K$5,$C15),'trend data'!$A$2:$O$11161,K$6,FALSE),3),\"-\")","v":1.127},{"$f":"IFERROR(VLOOKUP(CONCATENATE(L$5,$C15),'trend data'!$A$2:$O$11161,L$6,FALSE),\"-\")","v":4300},{"$f":"IFERROR(VLOOKUP(CONCATENATE(M$5,$C15),'trend data'!$A$2:$O$11161,M$6,FALSE),\"-\")","v":2191},null,null,null,"202404",{"$f":"CONCATENATE(U$7,$Q15,'SSI Data and Charts'!B$1)","v":"SSICSEC202404Scotland"},7,"2024-12-26",{"$f":"ROUND(VLOOKUP($R15,'data for u-p-charts'!$A$2:$F$5000,U$5,FALSE),2)","v":{"$error":"#N/A"}},{"$f":"ROUND(VLOOKUP($R15,'data for u-p-charts'!$A$2:$F$5000,V$5,FALSE),2)","v":{"$error":"#N/A"}},{"$f":"ROUND(VLOOKUP($R15,'data for u-p-charts'!$A$2:$F$5000,W$5,FALSE),2)","v":{"$error":"#N/A"}},{"$f":"ROUND(VLOOKUP($R15,'data for u-p-charts'!$A$2:$F$5000,X$5,FALSE),2)","v":{"$error":"#N/A"}},{"$f":"CONCATENATE(Z$7,$Q15,'SSI Data and Charts'!$B$1)","v":"SSIHIP202404Scotland"},{"$f":"ROUND(VLOOKUP($Y15,'data for u-p-charts'!$A$2:$F$5000,Z$5,FALSE),2)","v":{"$error":"#N/A"}},{"$f":"ROUND(VLOOKUP($Y15,'data for u-p-charts'!$A$2:$F$5000,AA$5,FALSE),2)","v":{"$error":"#N/A"}},{"$f":"ROUND(VLOOKUP($Y15,'data for u-p-charts'!$A$2:$F$5000,AB$5,FALSE),2)","v":{"$error":"#N/A"}},{"$f":"ROUND(VLOOKUP($Y15,'data for u-p-charts'!$A$2:$F$5000,AC$5,FALSE),2)","v":{"$error":"#N/A"}}]
[201601,"2016-03-24",{"$f":"CONCATENATE(A16,'SSI Data and Charts'!B$1)","v":"201601Scotland"},{"$f":"IFERROR(VLOOKUP(CONCATENATE(D$5,$C16),'trend data'!$A$2:$O$11161,D$6,FALSE),\"-\")","v":58},{"$f":"IFERROR(ROUND(VLOOKUP(CONCATENATE(E$5,$C16),'trend data'!$A$2:$O$11161,E$6,FALSE),3),\"-\")","v":1.4419999999999999},{"$f":"IFERROR(ROUND(VLOOKUP(CONCATENATE(F$5,$C16),'trend data'!$A$2:$O$11161,F$6,FALSE),3),\"-\")","v":1.117},{"$f":"IFERROR(ROUND(VLOOKUP(CONCATENATE(G$5,$C16),'trend data'!$A$2:$O$11161,G$6,FALSE),3),\"-\")","v":1.859},{"$f":"IFERROR(VLOOKUP(CONCATENATE(H$5,$C16),'trend data'!$A$2:$O$11161,H$6,FALSE),\"-\")","v":7},{"$f":"IFERROR(ROUND(VLOOKUP(CONCATENATE(I$5,$C16),'trend data'!$A$2:$O$11161,I$6,FALSE),3),\"-\")","v":0.32200000000000001},{"$f":"IFERROR(ROUND(VLOOKUP(CONCATENATE(J$5,$C16),'trend data'!$A$2:$O$11161,J$6,FALSE),3),\"-\")","v":0.156},{"$f":"IFERROR(ROUND(VLOOKUP(CONCATENATE(K$5,$C16),'trend data'!$A$2:$O$11161,K$6,FALSE),3),\"-\")","v":0.66300000000000003},{"$f":"IFERROR(VLOOKUP(CONCATENATE(L$5,$C16),'trend data'!$A$2:$O$11161,L$6,FALSE),\"-\")","v":4023},{"$f":"IFERROR(VLOOKUP(CONCATENATE(M$5,$C16),'trend data'!$A$2:$O$11161,M$6,FALSE),\"-\")","v":2173},null,null,null,"202501",{"$f":"CONCATENATE(U$7,$Q16,'SSI Data and Charts'!B$1)","v":"SSICSEC202501Scotland"},8,"2025-03-28",{"$f":"ROUND(VLOOKUP($R16,'data for u-p-charts'!$A$2:$F$5000,U$5,FALSE),2)","v":{"$error":"#N/A"}},{"$f":"ROUND(VLOOKUP($R16,'data for u-p-charts'!$A$2:$F$5000,V$5,FALSE),2)","v":{"$error":"#N/A"}},{"$f":"ROUND(VLOOKUP($R16,'data for u-p-charts'!$A$2:$F$5000,W$5,FALSE),2)","v":{"$error":"#N/A"}},{"$f":"ROUND(VLOOKUP($R16,'data for u-p-charts'!$A$2:$F$5000,X$5,FALSE),2)","v":{"$error":"#N/A"}},{"$f":"CONCATENATE(Z$7,$Q16,'SSI Data and Charts'!$B$1)","v":"SSIHIP202501Scotland"},{"$f":"ROUND(VLOOKUP($Y16,'data for u-p-charts'!$A$2:$F$5000,Z$5,FALSE),2)","v":{"$error":"#N/A"}},{"$f":"ROUND(VLOOKUP($Y16,'data for u-p-charts'!$A$2:$F$5000,AA$5,FALSE),2)","v":{"$error":"#N/A"}},{"$f":"ROUND(VLOOKUP($Y16,'data for u-p-charts'!$A$2:$F$5000,AB$5,FALSE),2)","v":{"$error":"#N/A"}},{"$f":"ROUND(VLOOKUP($Y16,'data for u-p-charts'!$A$2:$F$5000,AC$5,FALSE),2)","v":{"$error":"#N/A"}}]
[201602,"2016-06-24",{"$f":"CONCATENATE(A17,'SSI Data and Charts'!B$1)","v":"201602Scotland"},{"$f":"IFERROR(VLOOKUP(CONCATENATE(D$5,$C17),'trend data'!$A$2:$O$11161,D$6,FALSE),\"-\")","v":78},{"$f":"IFERROR(ROUND(VLOOKUP(CONCATENATE(E$5,$C17),'trend data'!$A$2:$O$11161,E$6,FALSE),3),\"-\")","v":1.754},{"$f":"IFERROR(ROUND(VLOOKUP(CONCATENATE(F$5,$C17),'trend data'!$A$2:$O$11161,F$6,FALSE),3),\"-\")","v":1.407},{"$f":"IFERROR(ROUND(VLOOKUP(CONCATENATE(G$5,$C17),'trend data'!$A$2:$O$11161,G$6,FALSE),3),\"-\")","v":2.1829999999999998},{"$f":"IFERROR(VLOOKUP(CONCATENATE(H$5,$C17),'trend data'!$A$2:$O$11161,H$6,FALSE),\"-\")","v":17},{"$f":"IFERROR(ROUND(VLOOKUP(CONCATENATE(I$5,$C17),'trend data'!$A$2:$O$11161,I$6,FALSE),3),\"-\")","v":0.73299999999999998},{"$f":"IFERROR(ROUND(VLOOKUP(CONCATENATE(J$5,$C17),'trend data'!$A$2:$O$11161,J$6,FALSE),3),\"-\")","v":0.45800000000000002},{"$f":"IFERROR(ROUND(VLOOKUP(CONCATENATE(K$5,$C17),'trend data'!$A$2:$O$11161,K$6,FALSE),3),\"-\")","v":1.171},{"$f":"IFERROR(VLOOKUP(CONCATENATE(L$5,$C17),'trend data'!$A$2:$O$11161,L$6,FALSE),\"-\")","v":4448},{"$f":"IFERROR(VLOOKUP(CONCATENATE(M$5,$C17),'trend data'!$A$2:$O$11161,M$6,FALSE),\"-\")","v":2318},null,null,null,"202502",{"$f":"CONCATENATE(U$7,$Q17,'SSI Data and Charts'!B$1)","v":"SSICSEC202502Scotland"},9,"2025-06-28",{"$f":"ROUND(VLOOKUP($R17,'data for u-p-charts'!$A$2:$F$5000,U$5,FALSE),2)","v":{"$error":"#N/A"}},{"$f":"ROUND(VLOOKUP($R17,'data for u-p-charts'!$A$2:$F$5000,V$5,FALSE),2)","v":{"$error":"#N/A"}},{"$f":"ROUND(VLOOKUP($R17,'data for u-p-charts'!$A$2:$F$5000,W$5,FALSE),2)","v":{"$error":"#N/A"}},{"$f":"ROUND(VLOOKUP($R17,'data for u-p-charts'!$A$2:$F$5000,X$5,FALSE),2)","v":{"$error":"#N/A"}},{"$f":"CONCATENATE(Z$7,$Q17,'SSI Data and Charts'!$B$1)","v":"SSIHIP202502Scotland"},{"$f":"ROUND(VLOOKUP($Y17,'data for u-p-charts'!$A$2:$F$5000,Z$5,FALSE),2)","v":{"$error":"#N/A"}},{"$f":"ROUND(VLOOKUP($Y17,'data for u-p-charts'!$A$2:$F$5000,AA$5,FALSE),2)","v":{"$error":"#N/A"}},{"$f":"ROUND(VLOOKUP($Y17,'data for u-p-charts'!$A$2:$F$5000,AB$5,FALSE),2)","v":{"$error":"#N/A"}},{"$f":"ROUND(VLOOKUP($Y17,'data for u-p-charts'!$A$2:$F$5000,AC$5,FALSE),2)","v":{"$error":"#N/A"}}]
[201603,"2016-09-24",{"$f":"CONCATENATE(A18,'SSI Data and Charts'!B$1)","v":"201603Scotland"},{"$f":"IFERROR(VLOOKUP(CONCATENATE(D$5,$C18),'trend data'!$A$2:$O$11161,D$6,FALSE),\"-\")","v":71},{"$f":"IFERROR(ROUND(VLOOKUP(CONCATENATE(E$5,$C18),'trend data'!$A$2:$O$11161,E$6,FALSE),3),\"-\")","v":1.597},{"$f":"IFERROR(ROUND(VLOOKUP(CONCATENATE(F$5,$C18),'trend data'!$A$2:$O$11161,F$6,FALSE),3),\"-\")","v":1.268},{"$f":"IFERROR(ROUND(VLOOKUP(CONCATENATE(G$5,$C18),'trend data'!$A$2:$O$11161,G$6,FALSE),3),\"-\")","v":2.0089999999999999},{"$f":"IFERROR(VLOOKUP(CONCATENATE(H$5,$C18),'trend data'!$A$2:$O$11161,H$6,FALSE),\"-\")","v":14},{"$f":"IFERROR(ROUND(VLOOKUP(CONCATENATE(I$5,$C18),'trend data'!$A$2:$O$11161,I$6,FALSE),3),\"-\")","v":0.65},{"$f":"IFERROR(ROUND(VLOOKUP(CONCATENATE(J$5,$C18),'trend data'!$A$2:$O$11161,J$6,FALSE),3),\"-\")","v":0.38800000000000001},{"$f":"IFERROR(ROUND(VLOOKUP(CONCATENATE(K$5,$C18),'trend data'!$A$2:$O$11161,K$6,FALSE),3),\"-\")","v":1.089},{"$f":"IFERROR(VLOOKUP(CONCATENATE(L$5,$C18),'trend data'!$A$2:$O$11161,L$6,FALSE),\"-\")","v":4446},{"$f":"IFERROR(VLOOKUP(CONCATENATE(M$5,$C18),'trend data'!$A$2:$O$11161,M$6,FALSE),\"-\")","v":2153},null,null,null,"202503",{"$f":"CONCATENATE(U$7,$Q18,'SSI Data and Charts'!B$1)","v":"SSICSEC202503Scotland"},10,"2025-09-28",{"$f":"ROUND(VLOOKUP($R18,'data for u-p-charts'!$A$2:$F$5000,U$5,FALSE),2)","v":{"$error":"#N/A"}},{"$f":"ROUND(VLOOKUP($R18,'data for u-p-charts'!$A$2:$F$5000,V$5,FALSE),2)","v":{"$error":"#N/A"}},{"$f":"ROUND(VLOOKUP($R18,'data for u-p-charts'!$A$2:$F$5000,W$5,FALSE),2)","v":{"$error":"#N/A"}},{"$f":"ROUND(VLOOKUP($R18,'data for u-p-charts'!$A$2:$F$5000,X$5,FALSE),2)","v":{"$error":"#N/A"}},{"$f":"CONCATENATE(Z$7,$Q18,'SSI Data and Charts'!$B$1)","v":"SSIHIP202503Scotland"},{"$f":"ROUND(VLOOKUP($Y18,'data for u-p-charts'!$A$2:$F$5000,Z$5,FALSE),2)","v":{"$error":"#N/A"}},{"$f":"ROUND(VLOOKUP($Y18,'data for u-p-charts'!$A$2:$F$5000,AA$5,FALSE),2)","v":{"$error":"#N/A"}},{"$f":"ROUND(VLOOKUP($Y18,'data for u-p-charts'!$A$2:$F$5000,AB$5,FALSE),2)","v":{"$error":"#N/A"}},{"$f":"ROUND(VLOOKUP($Y18,'data for u-p-charts'!$A$2:$F$5000,AC$5,FALSE),2)","v":{"$error":"#N/A"}}]
[201604,"2016-12-24",{"$f":"CONCATENATE(A19,'SSI Data and Charts'!B$1)","v":"201604Scotland"},{"$f":"IFERROR(VLOOKUP(CONCATENATE(D$5,$C19),'trend data'!$A$2:$O$11161,D$6,FALSE),\"-\")","v":51},{"$f":"IFERROR(ROUND(VLOOKUP(CONCATENATE(E$5,$C19),'trend data'!$A$2:$O$11161,E$6,FALSE),3),\"-\")","v":1.198},{"$f":"IFERROR(ROUND(VLOOKUP(CONCATENATE(F$5,$C19),'trend data'!$A$2:$O$11161,F$6,FALSE),3),\"-\")","v":0.91200000000000003},{"$f":"IFERROR(ROUND(VLOOKUP(CONCATENATE(G$5,$C19),'trend data'!$A$2:$O$11161,G$6,FALSE),3),\"-\")","v":1.571},{"$f":"IFERROR(VLOOKUP(CONCATENATE(H$5,$C19),'trend data'!$A$2:$O$11161,H$6,FALSE),\"-\")","v":17},{"$f":"IFERROR(ROUND(VLOOKUP(CONCATENATE(I$5,$C19),'trend data'!$A$2:$O$11161,I$6,FALSE),3),\"-\")","v":0.76400000000000001},{"$f":"IFERROR(ROUND(VLOOKUP(CONCATENATE(J$5,$C19),'trend data'!$A$2:$O$11161,J$6,FALSE),3),\"-\")","v":0.47699999999999998},{"$f":"IFERROR(ROUND(VLOOKUP(CONCATENATE(K$5,$C19),'trend data'!$A$2:$O$11161,K$6,FALSE),3),\"-\")","v":1.22},{"$f":"IFERROR(VLOOKUP(CONCATENATE(L$5,$C19),'trend data'!$A$2:$O$11161,L$6,FALSE),\"-\")","v":4258},{"$f":"IFERROR(VLOOKUP(CONCATENATE(M$5,$C19),'trend data'!$A$2:$O$11161,M$6,FALSE),\"-\")","v":2226},null,null,null,"202504",{"$f":"CONCATENATE(U$7,$Q19,'SSI Data and Charts'!B$1)","v":"SSICSEC202504Scotland"},11,{"$f":"T20-92","v":"2025-12-29"},{"$f":"ROUND(VLOOKUP($R19,'data for u-p-charts'!$A$2:$F$5000,U$5,FALSE),2)","v":{"$error":"#N/A"}},{"$f":"ROUND(VLOOKUP($R19,'data for u-p-charts'!$A$2:$F$5000,V$5,FALSE),2)","v":{"$error":"#N/A"}},{"$f":"ROUND(VLOOKUP($R19,'data for u-p-charts'!$A$2:$F$5000,W$5,FALSE),2)","v":{"$error":"#N/A"}},{"$f":"ROUND(VLOOKUP($R19,'data for u-p-charts'!$A$2:$F$5000,X$5,FALSE),2)","v":{"$error":"#N/A"}},{"$f":"CONCATENATE(Z$7,$Q19,'SSI Data and Charts'!$B$1)","v":"SSIHIP202504Scotland"},{"$f":"ROUND(VLOOKUP($Y19,'data for u-p-charts'!$A$2:$F$5000,Z$5,FALSE),2)","v":{"$error":"#N/A"}},{"$f":"ROUND(VLOOKUP($Y19,'data for u-p-charts'!$A$2:$F$5000,AA$5,FALSE),2)","v":{"$error":"#N/A"}},{"$f":"ROUND(VLOOKUP($Y19,'data for u-p-charts'!$A$2:$F$5000,AB$5,FALSE),2)","v":{"$error":"#N/A"}},{"$f":"ROUND(VLOOKUP($Y19,'data for u-p-charts'!$A$2:$F$5000,AC$5,FALSE),2)","v":{"$error":"#N/A"}}]
[201701,"2017-03-01",{"$f":"CONCATENATE(A20,'SSI Data and Charts'!B$1)","v":"201701Scotland"},{"$f":"IFERROR(VLOOKUP(CONCATENATE(D$5,$C20),'trend data'!$A$2:$O$11161,D$6,FALSE),\"-\")","v":58},{"$f":"IFERROR(ROUND(VLOOKUP(CONCATENATE(E$5,$C20),'trend data'!$A$2:$O$11161,E$6,FALSE),3),\"-\")","v":1.4330000000000001},{"$f":"IFERROR(ROUND(VLOOKUP(CONCATENATE(F$5,$C20),'trend data'!$A$2:$O$11161,F$6,FALSE),3),\"-\")","v":1.1100000000000001},{"$f":"IFERROR(ROUND(VLOOKUP(CONCATENATE(G$5,$C20),'trend data'!$A$2:$O$11161,G$6,FALSE),3),\"-\")","v":1.8480000000000001},{"$f":"IFERROR(VLOOKUP(CONCATENATE(H$5,$C20),'trend data'!$A$2:$O$11161,H$6,FALSE),\"-\")","v":12},{"$f":"IFERROR(ROUND(VLOOKUP(CONCATENATE(I$5,$C20),'trend data'!$A$2:$O$11161,I$6,FALSE),3),\"-\")","v":0.55500000000000005},{"$f":"IFERROR(ROUND(VLOOKUP(CONCATENATE(J$5,$C20),'trend data'!$A$2:$O$11161,J$6,FALSE),3),\"-\")","v":0.317},{"$f":"IFERROR(ROUND(VLOOKUP(CONCATENATE(K$5,$C20),'trend data'!$A$2:$O$11161,K$6,FALSE),3),\"-\")","v":0.96699999999999997},{"$f":"IFERROR(VLOOKUP(CONCATENATE(L$5,$C20),'trend data'!$A$2:$O$11161,L$6,FALSE),\"-\")","v":4047},{"$f":"IFERROR(VLOOKUP(CONCATENATE(M$5,$C20),'trend data'!$A$2:$O$11161,M$6,FALSE),\"-\")","v":2164},null,null,null,"202601",{"$f":"CONCATENATE(U$7,$Q20,'SSI Data and Charts'!B$1)","v":"SSICSEC202601Scotland"},12,{"$f":"T5","v":"2026-03-31"},{"$f":"ROUND(VLOOKUP($R20,'data for u-p-charts'!$A$2:$F$5000,U$5,FALSE),2)","v":{"$error":"#N/A"}},{"$f":"ROUND(VLOOKUP($R20,'data for u-p-charts'!$A$2:$F$5000,V$5,FALSE),2)","v":{"$error":"#N/A"}},{"$f":"ROUND(VLOOKUP($R20,'data for u-p-charts'!$A$2:$F$5000,W$5,FALSE),2)","v":{"$error":"#N/A"}},{"$f":"ROUND(VLOOKUP($R20,'data for u-p-charts'!$A$2:$F$5000,X$5,FALSE),2)","v":{"$error":"#N/A"}},{"$f":"CONCATENATE(Z$7,$Q20,'SSI Data and Charts'!$B$1)","v":"SSIHIP202601Scotland"},{"$f":"ROUND(VLOOKUP($Y20,'data for u-p-charts'!$A$2:$F$5000,Z$5,FALSE),2)","v":{"$error":"#N/A"}},{"$f":"ROUND(VLOOKUP($Y20,'data for u-p-charts'!$A$2:$F$5000,AA$5,FALSE),2)","v":{"$error":"#N/A"}},{"$f":"ROUND(VLOOKUP($Y20,'data for u-p-charts'!$A$2:$F$5000,AB$5,FALSE),2)","v":{"$error":"#N/A"}},{"$f":"ROUND(VLOOKUP($Y20,'data for u-p-charts'!$A$2:$F$5000,AC$5,FALSE),2)","v":{"$error":"#N/A"}}]
[201702,"2017-06-01",{"$f":"CONCATENATE(A21,'SSI Data and Charts'!B$1)","v":"201702Scotland"},{"$f":"IFERROR(VLOOKUP(CONCATENATE(D$5,$C21),'trend data'!$A$2:$O$11161,D$6,FALSE),\"-\")","v":51},{"$f":"IFERROR(ROUND(VLOOKUP(CONCATENATE(E$5,$C21),'trend data'!$A$2:$O$11161,E$6,FALSE),3),\"-\")","v":1.2390000000000001},{"$f":"IFERROR(ROUND(VLOOKUP(CONCATENATE(F$5,$C21),'trend data'!$A$2:$O$11161,F$6,FALSE),3),\"-\")","v":0.94399999999999995},{"$f":"IFERROR(ROUND(VLOOKUP(CONCATENATE(G$5,$C21),'trend data'!$A$2:$O$11161,G$6,FALSE),3),\"-\")","v":1.6259999999999999},{"$f":"IFERROR(VLOOKUP(CONCATENATE(H$5,$C21),'trend data'!$A$2:$O$11161,H$6,FALSE),\"-\")","v":19},{"$f":"IFERROR(ROUND(VLOOKUP(CONCATENATE(I$5,$C21),'trend data'!$A$2:$O$11161,I$6,FALSE),3),\"-\")","v":0.82599999999999996},{"$f":"IFERROR(ROUND(VLOOKUP(CONCATENATE(J$5,$C21),'trend data'!$A$2:$O$11161,J$6,FALSE),3),\"-\")","v":0.52900000000000003},{"$f":"IFERROR(ROUND(VLOOKUP(CONCATENATE(K$5,$C21),'trend data'!$A$2:$O$11161,K$6,FALSE),3),\"-\")","v":1.286},{"$f":"IFERROR(VLOOKUP(CONCATENATE(L$5,$C21),'trend data'!$A$2:$O$11161,L$6,FALSE),\"-\")","v":4115},{"$f":"IFERROR(VLOOKUP(CONCATENATE(M$5,$C21),'trend data'!$A$2:$O$11161,M$6,FALSE),\"-\")","v":2301}]
[201703,"2017-09-01",{"$f":"CONCATENATE(A22,'SSI Data and Charts'!B$1)","v":"201703Scotland"},{"$f":"IFERROR(VLOOKUP(CONCATENATE(D$5,$C22),'trend data'!$A$2:$O$11161,D$6,FALSE),\"-\")","v":58},{"$f":"IFERROR(ROUND(VLOOKUP(CONCATENATE(E$5,$C22),'trend data'!$A$2:$O$11161,E$6,FALSE),3),\"-\")","v":1.2849999999999999},{"$f":"IFERROR(ROUND(VLOOKUP(CONCATENATE(F$5,$C22),'trend data'!$A$2:$O$11161,F$6,FALSE),3),\"-\")","v":0.995},{"$f":"IFERROR(ROUND(VLOOKUP(CONCATENATE(G$5,$C22),'trend data'!$A$2:$O$11161,G$6,FALSE),3),\"-\")","v":1.657},{"$f":"IFERROR(VLOOKUP(CONCATENATE(H$5,$C22),'trend data'!$A$2:$O$11161,H$6,FALSE),\"-\")","v":9},{"$f":"IFERROR(ROUND(VLOOKUP(CONCATENATE(I$5,$C22),'trend data'!$A$2:$O$11161,I$6,FALSE),3),\"-\")","v":0.433},{"$f":"IFERROR(ROUND(VLOOKUP(CONCATENATE(J$5,$C22),'trend data'!$A$2:$O$11161,J$6,FALSE),3),\"-\")","v":0.22800000000000001},{"$f":"IFERROR(ROUND(VLOOKUP(CONCATENATE(K$5,$C22),'trend data'!$A$2:$O$11161,K$6,FALSE),3),\"-\")","v":0.82199999999999995},{"$f":"IFERROR(VLOOKUP(CONCATENATE(L$5,$C22),'trend data'!$A$2:$O$11161,L$6,FALSE),\"-\")","v":4514},{"$f":"IFERROR(VLOOKUP(CONCATENATE(M$5,$C22),'trend data'!$A$2:$O$11161,M$6,FALSE),\"-\")","v":2077}]
[201704,"2017-12-01",{"$f":"CONCATENATE(A23,'SSI Data and Charts'!B$1)","v":"201704Scotland"},{"$f":"IFERROR(VLOOKUP(CONCATENATE(D$5,$C23),'trend data'!$A$2:$O$11161,D$6,FALSE),\"-\")","v":66},{"$f":"IFERROR(ROUND(VLOOKUP(CONCATENATE(E$5,$C23),'trend data'!$A$2:$O$11161,E$6,FALSE),3),\"-\")","v":1.5629999999999999},{"$f":"IFERROR(ROUND(VLOOKUP(CONCATENATE(F$5,$C23),'trend data'!$A$2:$O$11161,F$6,FALSE),3),\"-\")","v":1.23},{"$f":"IFERROR(ROUND(VLOOKUP(CONCATENATE(G$5,$C23),'trend data'!$A$2:$O$11161,G$6,FALSE),3),\"-\")","v":1.9830000000000001},{"$f":"IFERROR(VLOOKUP(CONCATENATE(H$5,$C23),'trend data'!$A$2:$O$11161,H$6,FALSE),\"-\")","v":16},{"$f":"IFERROR(ROUND(VLOOKUP(CONCATENATE(I$5,$C23),'trend data'!$A$2:$O$11161,I$6,FALSE),3),\"-\")","v":0.77300000000000002},{"$f":"IFERROR(ROUND(VLOOKUP(CONCATENATE(J$5,$C23),'trend data'!$A$2:$O$11161,J$6,FALSE),3),\"-\")","v":0.47599999999999998},{"$f":"IFERROR(ROUND(VLOOKUP(CONCATENATE(K$5,$C23),'trend data'!$A$2:$O$11161,K$6,FALSE),3),\"-\")","v":1.2509999999999999},{"$f":"IFERROR(VLOOKUP(CONCATENATE(L$5,$C23),'trend data'!$A$2:$O$11161,L$6,FALSE),\"-\")","v":4224},{"$f":"IFERROR(VLOOKUP(CONCATENATE(M$5,$C23),'trend data'!$A$2:$O$11161,M$6,FALSE),\"-\")","v":2071}]
[201801,"2018-03-01",{"$f":"CONCATENATE(A24,'SSI Data and Charts'!B$1)","v":"201801Scotland"},{"$f":"IFERROR(VLOOKUP(CONCATENATE(D$5,$C24),'trend data'!$A$2:$O$11161,D$6,FALSE),\"-\")","v":64},{"$f":"IFERROR(ROUND(VLOOKUP(CONCATENATE(E$5,$C24),'trend data'!$A$2:$O$11161,E$6,FALSE),3),\"-\")","v":1.61},{"$f":"IFERROR(ROUND(VLOOKUP(CONCATENATE(F$5,$C24),'trend data'!$A$2:$O$11161,F$6,FALSE),3),\"-\")","v":1.2629999999999999},{"$f":"IFERROR(ROUND(VLOOKUP(CONCATENATE(G$5,$C24),'trend data'!$A$2:$O$11161,G$6,FALSE),3),\"-\")","v":2.0510000000000002},{"$f":"IFERROR(VLOOKUP(CONCATENATE(H$5,$C24),'trend data'!$A$2:$O$11161,H$6,FALSE),\"-\")","v":17},{"$f":"IFERROR(ROUND(VLOOKUP(CONCATENATE(I$5,$C24),'trend data'!$A$2:$O$11161,I$6,FALSE),3),\"-\")","v":0.84699999999999998},{"$f":"IFERROR(ROUND(VLOOKUP(CONCATENATE(J$5,$C24),'trend data'!$A$2:$O$11161,J$6,FALSE),3),\"-\")","v":0.52900000000000003},{"$f":"IFERROR(ROUND(VLOOKUP(CONCATENATE(K$5,$C24),'trend data'!$A$2:$O$11161,K$6,FALSE),3),\"-\")","v":1.3520000000000001},{"$f":"IFERROR(VLOOKUP(CONCATENATE(L$5,$C24),'trend data'!$A$2:$O$11161,L$6,FALSE),\"-\")","v":3975},{"$f":"IFERROR(VLOOKUP(CONCATENATE(M$5,$C24),'trend data'!$A$2:$O$11161,M$6,FALSE),\"-\")","v":2008}]
[201802,"2018-06-01",{"$f":"CONCATENATE(A25,'SSI Data and Charts'!B$1)","v":"201802Scotland"},{"$f":"IFERROR(VLOOKUP(CONCATENATE(D$5,$C25),'trend data'!$A$2:$O$11161,D$6,FALSE),\"-\")","v":61},{"$f":"IFERROR(ROUND(VLOOKUP(CONCATENATE(E$5,$C25),'trend data'!$A$2:$O$11161,E$6,FALSE),3),\"-\")","v":1.4550000000000001},{"$f":"IFERROR(ROUND(VLOOKUP(CONCATENATE(F$5,$C25),'trend data'!$A$2:$O$11161,F$6,FALSE),3),\"-\")","v":1.135},{"$f":"IFERROR(ROUND(VLOOKUP(CONCATENATE(G$5,$C25),'trend data'!$A$2:$O$11161,G$6,FALSE),3),\"-\")","v":1.865},{"$f":"IFERROR(VLOOKUP(CONCATENATE(H$5,$C25),'trend data'!$A$2:$O$11161,H$6,FALSE),\"-\")","v":18},{"$f":"IFERROR(ROUND(VLOOKUP(CONCATENATE(I$5,$C25),'trend data'!$A$2:$O$11161,I$6,FALSE),3),\"-\")","v":0.79300000000000004},{"$f":"IFERROR(ROUND(VLOOKUP(CONCATENATE(J$5,$C25),'trend data'!$A$2:$O$11161,J$6,FALSE),3),\"-\")","v":0.502},{"$f":"IFERROR(ROUND(VLOOKUP(CONCATENATE(K$5,$C25),'trend data'!$A$2:$O$11161,K$6,FALSE),3),\"-\")","v":1.25},{"$f":"IFERROR(VLOOKUP(CONCATENATE(L$5,$C25),'trend data'!$A$2:$O$11161,L$6,FALSE),\"-\")","v":4191},{"$f":"IFERROR(VLOOKUP(CONCATENATE(M$5,$C25),'trend data'!$A$2:$O$11161,M$6,FALSE),\"-\")","v":2270}]
[201803,"2018-09-01",{"$f":"CONCATENATE(A26,'SSI Data and Charts'!B$1)","v":"201803Scotland"},{"$f":"IFERROR(VLOOKUP(CONCATENATE(D$5,$C26),'trend data'!$A$2:$O$11161,D$6,FALSE),\"-\")","v":66},{"$f":"IFERROR(ROUND(VLOOKUP(CONCATENATE(E$5,$C26),'trend data'!$A$2:$O$11161,E$6,FALSE),3),\"-\")","v":1.5369999999999999},{"$f":"IFERROR(ROUND(VLOOKUP(CONCATENATE(F$5,$C26),'trend data'!$A$2:$O$11161,F$6,FALSE),3),\"-\")","v":1.21},{"$f":"IFERROR(ROUND(VLOOKUP(CONCATENATE(G$5,$C26),'trend data'!$A$2:$O$11161,G$6,FALSE),3),\"-\")","v":1.9510000000000001},{"$f":"IFERROR(VLOOKUP(CONCATENATE(H$5,$C26),'trend data'!$A$2:$O$11161,H$6,FALSE),\"-\")","v":13},{"$f":"IFERROR(ROUND(VLOOKUP(CONCATENATE(I$5,$C26),'trend data'!$A$2:$O$11161,I$6,FALSE),3),\"-\")","v":0.60299999999999998},{"$f":"IFERROR(ROUND(VLOOKUP(CONCATENATE(J$5,$C26),'trend data'!$A$2:$O$11161,J$6,FALSE),3),\"-\")","v":0.35299999999999998},{"$f":"IFERROR(ROUND(VLOOKUP(CONCATENATE(K$5,$C26),'trend data'!$A$2:$O$11161,K$6,FALSE),3),\"-\")","v":1.0289999999999999},{"$f":"IFERROR(VLOOKUP(CONCATENATE(L$5,$C26),'trend data'!$A$2:$O$11161,L$6,FALSE),\"-\")","v":4293},{"$f":"IFERROR(VLOOKUP(CONCATENATE(M$5,$C26),'trend data'!$A$2:$O$11161,M$6,FALSE),\"-\")","v":2155}]
[201804,"2018-12-01",{"$f":"CONCATENATE(A27,'SSI Data and Charts'!B$1)","v":"201804Scotland"},{"$f":"IFERROR(VLOOKUP(CONCATENATE(D$5,$C27),'trend data'!$A$2:$O$11161,D$6,FALSE),\"-\")","v":59},{"$f":"IFERROR(ROUND(VLOOKUP(CONCATENATE(E$5,$C27),'trend data'!$A$2:$O$11161,E$6,FALSE),3),\"-\")","v":1.3580000000000001},{"$f":"IFERROR(ROUND(VLOOKUP(CONCATENATE(F$5,$C27),'trend data'!$A$2:$O$11161,F$6,FALSE),3),\"-\")","v":1.054},{"$f":"IFERROR(ROUND(VLOOKUP(CONCATENATE(G$5,$C27),'trend data'!$A$2:$O$11161,G$6,FALSE),3),\"-\")","v":1.7470000000000001},{"$f":"IFERROR(VLOOKUP(CONCATENATE(H$5,$C27),'trend data'!$A$2:$O$11161,H$6,FALSE),\"-\")","v":16},{"$f":"IFERROR(ROUND(VLOOKUP(CONCATENATE(I$5,$C27),'trend data'!$A$2:$O$11161,I$6,FALSE),3),\"-\")","v":0.70299999999999996},{"$f":"IFERROR(ROUND(VLOOKUP(CONCATENATE(J$5,$C27),'trend data'!$A$2:$O$11161,J$6,FALSE),3),\"-\")","v":0.433},{"$f":"IFERROR(ROUND(VLOOKUP(CONCATENATE(K$5,$C27),'trend data'!$A$2:$O$11161,K$6,FALSE),3),\"-\")","v":1.139},{"$f":"IFERROR(VLOOKUP(CONCATENATE(L$5,$C27),'trend data'!$A$2:$O$11161,L$6,FALSE),\"-\")","v":4346},{"$f":"IFERROR(VLOOKUP(CONCATENATE(M$5,$C27),'trend data'!$A$2:$O$11161,M$6,FALSE),\"-\")","v":2276}]
[201901,"2019-03-01",{"$f":"CONCATENATE(A28,'SSI Data and Charts'!B$1)","v":"201901Scotland"},{"$f":"IFERROR(VLOOKUP(CONCATENATE(D$5,$C28),'trend data'!$A$2:$O$11161,D$6,FALSE),\"-\")","v":64},{"$f":"IFERROR(ROUND(VLOOKUP(CONCATENATE(E$5,$C28),'trend data'!$A$2:$O$11161,E$6,FALSE),3),\"-\")","v":1.58},{"$f":"IFERROR(ROUND(VLOOKUP(CONCATENATE(F$5,$C28),'trend data'!$A$2:$O$11161,F$6,FALSE),3),\"-\")","v":1.2390000000000001},{"$f":"IFERROR(ROUND(VLOOKUP(CONCATENATE(G$5,$C28),'trend data'!$A$2:$O$11161,G$6,FALSE),3),\"-\")","v":2.012},{"$f":"IFERROR(VLOOKUP(CONCATENATE(H$5,$C28),'trend data'!$A$2:$O$11161,H$6,FALSE),\"-\")","v":8},{"$f":"IFERROR(ROUND(VLOOKUP(CONCATENATE(I$5,$C28),'trend data'!$A$2:$O$11161,I$6,FALSE),3),\"-\")","v":0.373},{"$f":"IFERROR(ROUND(VLOOKUP(CONCATENATE(J$5,$C28),'trend data'!$A$2:$O$11161,J$6,FALSE),3),\"-\")","v":0.189},{"$f":"IFERROR(ROUND(VLOOKUP(CONCATENATE(K$5,$C28),'trend data'!$A$2:$O$11161,K$6,FALSE),3),\"-\")","v":0.73399999999999999},{"$f":"IFERROR(VLOOKUP(CONCATENATE(L$5,$C28),'trend data'!$A$2:$O$11161,L$6,FALSE),\"-\")","v":4051},{"$f":"IFERROR(VLOOKUP(CONCATENATE(M$5,$C28),'trend data'!$A$2:$O$11161,M$6,FALSE),\"-\")","v":2146}]
[201902,"2019-06-01",{"$f":"CONCATENATE(A29,'SSI Data and Charts'!B$1)","v":"201902Scotland"},{"$f":"IFERROR(VLOOKUP(CONCATENATE(D$5,$C29),'trend data'!$A$2:$O$11161,D$6,FALSE),\"-\")","v":43},{"$f":"IFERROR(ROUND(VLOOKUP(CONCATENATE(E$5,$C29),'trend data'!$A$2:$O$11161,E$6,FALSE),3),\"-\")","v":1.044},{"$f":"IFERROR(ROUND(VLOOKUP(CONCATENATE(F$5,$C29),'trend data'!$A$2:$O$11161,F$6,FALSE),3),\"-\")","v":0.77600000000000002},{"$f":"IFERROR(ROUND(VLOOKUP(CONCATENATE(G$5,$C29),'trend data'!$A$2:$O$11161,G$6,FALSE),3),\"-\")","v":1.403},{"$f":"IFERROR(VLOOKUP(CONCATENATE(H$5,$C29),'trend data'!$A$2:$O$11161,H$6,FALSE),\"-\")","v":10},{"$f":"IFERROR(ROUND(VLOOKUP(CONCATENATE(I$5,$C29),'trend data'!$A$2:$O$11161,I$6,FALSE),3),\"-\")","v":0.443},{"$f":"IFERROR(ROUND(VLOOKUP(CONCATENATE(J$5,$C29),'trend data'!$A$2:$O$11161,J$6,FALSE),3),\"-\")","v":0.24099999999999999},{"$f":"IFERROR(ROUND(VLOOKUP(CONCATENATE(K$5,$C29),'trend data'!$A$2:$O$11161,K$6,FALSE),3),\"-\")","v":0.81399999999999995},{"$f":"IFERROR(VLOOKUP(CONCATENATE(L$5,$C29),'trend data'!$A$2:$O$11161,L$6,FALSE),\"-\")","v":4118},{"$f":"IFERROR(VLOOKUP(CONCATENATE(M$5,$C29),'trend data'!$A$2:$O$11161,M$6,FALSE),\"-\")","v":2257}]
[201903,"2019-09-01",{"$f":"CONCATENATE(A30,'SSI Data and Charts'!B$1)","v":"201903Scotland"},{"$f":"IFERROR(VLOOKUP(CONCATENATE(D$5,$C30),'trend data'!$A$2:$O$11161,D$6,FALSE),\"-\")","v":51},{"$f":"IFERROR(ROUND(VLOOKUP(CONCATENATE(E$5,$C30),'trend data'!$A$2:$O$11161,E$6,FALSE),3),\"-\")","v":1.157},{"$f":"IFERROR(ROUND(VLOOKUP(CONCATENATE(F$5,$C30),'trend data'!$A$2:$O$11161,F$6,FALSE),3),\"-\")","v":0.88100000000000001},{"$f":"IFERROR(ROUND(VLOOKUP(CONCATENATE(G$5,$C30),'trend data'!$A$2:$O$11161,G$6,FALSE),3),\"-\")","v":1.518},{"$f":"IFERROR(VLOOKUP(CONCATENATE(H$5,$C30),'trend data'!$A$2:$O$11161,H$6,FALSE),\"-\")","v":17},{"$f":"IFERROR(ROUND(VLOOKUP(CONCATENATE(I$5,$C30),'trend data'!$A$2:$O$11161,I$6,FALSE),3),\"-\")","v":0.80200000000000005},{"$f":"IFERROR(ROUND(VLOOKUP(CONCATENATE(J$5,$C30),'trend data'!$A$2:$O$11161,J$6,FALSE),3),\"-\")","v":0.501},{"$f":"IFERROR(ROUND(VLOOKUP(CONCATENATE(K$5,$C30),'trend data'!$A$2:$O$11161,K$6,FALSE),3),\"-\")","v":1.28},{"$f":"IFERROR(VLOOKUP(CONCATENATE(L$5,$C30),'trend data'!$A$2:$O$11161,L$6,FALSE),\"-\")","v":4408},{"$f":"IFERROR(VLOOKUP(CONCATENATE(M$5,$C30),'trend data'!$A$2:$O$11161,M$6,FALSE),\"-\")","v":2121}]
[201904,"2019-12-01",{"$f":"CONCATENATE(A31,'SSI Data and Charts'!B$1)","v":"201904Scotland"},{"$f":"IFERROR(VLOOKUP(CONCATENATE(D$5,$C31),'trend data'!$A$2:$O$11161,D$6,FALSE),\"-\")","v":35},{"$f":"IFERROR(ROUND(VLOOKUP(CONCATENATE(E$5,$C31),'trend data'!$A$2:$O$11161,E$6,FALSE),3),\"-\")","v":0.85099999999999998},{"$f":"IFERROR(ROUND(VLOOKUP(CONCATENATE(F$5,$C31),'trend data'!$A$2:$O$11161,F$6,FALSE),3),\"-\")","v":0.61299999999999999},{"$f":"IFERROR(ROUND(VLOOKUP(CONCATENATE(G$5,$C31),'trend data'!$A$2:$O$11161,G$6,FALSE),3),\"-\")","v":1.181},{"$f":"IFERROR(VLOOKUP(CONCATENATE(H$5,$C31),'trend data'!$A$2:$O$11161,H$6,FALSE),\"-\")","v":17},{"$f":"IFERROR(ROUND(VLOOKUP(CONCATENATE(I$5,$C31),'trend data'!$A$2:$O$11161,I$6,FALSE),3),\"-\")","v":0.79300000000000004},{"$f":"IFERROR(ROUND(VLOOKUP(CONCATENATE(J$5,$C31),'trend data'!$A$2:$O$11161,J$6,FALSE),3),\"-\")","v":0.495},{"$f":"IFERROR(ROUND(VLOOKUP(CONCATENATE(K$5,$C31),'trend data'!$A$2:$O$11161,K$6,FALSE),3),\"-\")","v":1.266},{"$f":"IFERROR(VLOOKUP(CONCATENATE(L$5,$C31),'trend data'!$A$2:$O$11161,L$6,FALSE),\"-\")","v":4112},{"$f":"IFERROR(VLOOKUP(CONCATENATE(M$5,$C31),'trend data'!$A$2:$O$11161,M$6,FALSE),\"-\")","v":2145}]
[202001,"2020-03-01",{"$f":"CONCATENATE(A32,'SSI Data and Charts'!B$1)","v":"202001Scotland"},{"$f":"IFERROR(VLOOKUP(CONCATENATE(D$5,$C32),'trend data'!$A$2:$O$11161,D$6,FALSE),\"-\")","v":"-"},{"$f":"IFERROR(ROUND(VLOOKUP(CONCATENATE(E$5,$C32),'trend data'!$A$2:$O$11161,E$6,FALSE),3),\"-\")","v":"-"},{"$f":"IFERROR(ROUND(VLOOKUP(CONCATENATE(F$5,$C32),'trend data'!$A$2:$O$11161,F$6,FALSE),3),\"-\")","v":"-"},{"$f":"IFERROR(ROUND(VLOOKUP(CONCATENATE(G$5,$C32),'trend data'!$A$2:$O$11161,G$6,FALSE),3),\"-\")","v":"-"},{"$f":"IFERROR(VLOOKUP(CONCATENATE(H$5,$C32),'trend data'!$A$2:$O$11161,H$6,FALSE),\"-\")","v":"-"},{"$f":"IFERROR(ROUND(VLOOKUP(CONCATENATE(I$5,$C32),'trend data'!$A$2:$O$11161,I$6,FALSE),3),\"-\")","v":"-"},{"$f":"IFERROR(ROUND(VLOOKUP(CONCATENATE(J$5,$C32),'trend data'!$A$2:$O$11161,J$6,FALSE),3),\"-\")","v":"-"},{"$f":"IFERROR(ROUND(VLOOKUP(CONCATENATE(K$5,$C32),'trend data'!$A$2:$O$11161,K$6,FALSE),3),\"-\")","v":"-"},{"$f":"IFERROR(VLOOKUP(CONCATENATE(L$5,$C32),'trend data'!$A$2:$O$11161,L$6,FALSE),\"-\")","v":"-"},{"$f":"IFERROR(VLOOKUP(CONCATENATE(M$5,$C32),'trend data'!$A$2:$O$11161,M$6,FALSE),\"-\")","v":"-"}]
[202002,"2020-06-01",{"$f":"CONCATENATE(A33,'SSI Data and Charts'!B$1)","v":"202002Scotland"},{"$f":"IFERROR(VLOOKUP(CONCATENATE(D$5,$C33),'trend data'!$A$2:$O$11161,D$6,FALSE),\"-\")","v":"-"},{"$f":"IFERROR(ROUND(VLOOKUP(CONCATENATE(E$5,$C33),'trend data'!$A$2:$O$11161,E$6,FALSE),3),\"-\")","v":"-"},{"$f":"IFERROR(ROUND(VLOOKUP(CONCATENATE(F$5,$C33),'trend data'!$A$2:$O$11161,F$6,FALSE),3),\"-\")","v":"-"},{"$f":"IFERROR(ROUND(VLOOKUP(CONCATENATE(G$5,$C33),'trend data'!$A$2:$O$11161,G$6,FALSE),3),\"-\")","v":"-"},{"$f":"IFERROR(VLOOKUP(CONCATENATE(H$5,$C33),'trend data'!$A$2:$O$11161,H$6,FALSE),\"-\")","v":"-"},{"$f":"IFERROR(ROUND(VLOOKUP(CONCATENATE(I$5,$C33),'trend data'!$A$2:$O$11161,I$6,FALSE),3),\"-\")","v":"-"},{"$f":"IFERROR(ROUND(VLOOKUP(CONCATENATE(J$5,$C33),'trend data'!$A$2:$O$11161,J$6,FALSE),3),\"-\")","v":"-"},{"$f":"IFERROR(ROUND(VLOOKUP(CONCATENATE(K$5,$C33),'trend data'!$A$2:$O$11161,K$6,FALSE),3),\"-\")","v":"-"},{"$f":"IFERROR(VLOOKUP(CONCATENATE(L$5,$C33),'trend data'!$A$2:$O$11161,L$6,FALSE),\"-\")","v":"-"},{"$f":"IFERROR(VLOOKUP(CONCATENATE(M$5,$C33),'trend data'!$A$2:$O$11161,M$6,FALSE),\"-\")","v":"-"}]
[202003,"2020-09-01",{"$f":"CONCATENATE(A34,'SSI Data and Charts'!B$1)","v":"202003Scotland"},{"$f":"IFERROR(VLOOKUP(CONCATENATE(D$5,$C34),'trend data'!$A$2:$O$11161,D$6,FALSE),\"-\")","v":"-"},{"$f":"IFERROR(ROUND(VLOOKUP(CONCATENATE(E$5,$C34),'trend data'!$A$2:$O$11161,E$6,FALSE),4),\"-\")","v":"-"},{"$f":"IFERROR(ROUND(VLOOKUP(CONCATENATE(F$5,$C34),'trend data'!$A$2:$O$11161,F$6,FALSE),4),\"-\")","v":"-"},{"$f":"IFERROR(ROUND(VLOOKUP(CONCATENATE(G$5,$C34),'trend data'!$A$2:$O$11161,G$6,FALSE),4),\"-\")","v":"-"},{"$f":"IFERROR(VLOOKUP(CONCATENATE(H$5,$C34),'trend data'!$A$2:$O$11161,H$6,FALSE),\"-\")","v":"-"},{"$f":"IFERROR(ROUND(VLOOKUP(CONCATENATE(I$5,$C34),'trend data'!$A$2:$O$11161,I$6,FALSE),4),\"-\")","v":"-"},{"$f":"IFERROR(ROUND(VLOOKUP(CONCATENATE(J$5,$C34),'trend data'!$A$2:$O$11161,J$6,FALSE),4),\"-\")","v":"-"},{"$f":"IFERROR(ROUND(VLOOKUP(CONCATENATE(K$5,$C34),'trend data'!$A$2:$O$11161,K$6,FALSE),4),\"-\")","v":"-"},{"$f":"IFERROR(VLOOKUP(CONCATENATE(L$5,$C34),'trend data'!$A$2:$O$11161,L$6,FALSE),\"-\")","v":"-"},{"$f":"IFERROR(VLOOKUP(CONCATENATE(M$5,$C34),'trend data'!$A$2:$O$11161,M$6,FALSE),\"-\")","v":"-"}]
[202004,"2020-12-31",{"$f":"CONCATENATE(A35,'SSI Data and Charts'!B$1)","v":"202004Scotland"},{"$f":"IFERROR(VLOOKUP(CONCATENATE(D$5,$C35),'trend data'!$A$2:$O$11161,D$6,FALSE),\"-\")","v":"-"},{"$f":"IFERROR(ROUND(VLOOKUP(CONCATENATE(E$5,$C35),'trend data'!$A$2:$O$11161,E$6,FALSE),4),\"-\")","v":"-"},{"$f":"IFERROR(ROUND(VLOOKUP(CONCATENATE(F$5,$C35),'trend data'!$A$2:$O$11161,F$6,FALSE),4),\"-\")","v":"-"},{"$f":"IFERROR(ROUND(VLOOKUP(CONCATENATE(G$5,$C35),'trend data'!$A$2:$O$11161,G$6,FALSE),4),\"-\")","v":"-"},{"$f":"IFERROR(VLOOKUP(CONCATENATE(H$5,$C35),'trend data'!$A$2:$O$11161,H$6,FALSE),\"-\")","v":"-"},{"$f":"IFERROR(ROUND(VLOOKUP(CONCATENATE(I$5,$C35),'trend data'!$A$2:$O$11161,I$6,FALSE),4),\"-\")","v":"-"},{"$f":"IFERROR(ROUND(VLOOKUP(CONCATENATE(J$5,$C35),'trend data'!$A$2:$O$11161,J$6,FALSE),4),\"-\")","v":"-"},{"$f":"IFERROR(ROUND(VLOOKUP(CONCATENATE(K$5,$C35),'trend data'!$A$2:$O$11161,K$6,FALSE),4),\"-\")","v":"-"},{"$f":"IFERROR(VLOOKUP(CONCATENATE(L$5,$C35),'trend data'!$A$2:$O$11161,L$6,FALSE),\"-\")","v":"-"},{"$f":"IFERROR(VLOOKUP(CONCATENATE(M$5,$C35),'trend data'!$A$2:$O$11161,M$6,FALSE),\"-\")","v":"-"}]
[202101,"2021-03-31",{"$f":"CONCATENATE(A36,'SSI Data and Charts'!B$1)","v":"202101Scotland"},{"$f":"IFERROR(VLOOKUP(CONCATENATE(D$5,$C36),'trend data'!$A$2:$O$11161,D$6,FALSE),\"-\")","v":"-"},{"$f":"IFERROR(ROUND(VLOOKUP(CONCATENATE(E$5,$C36),'trend data'!$A$2:$O$11161,E$6,FALSE),4),\"-\")","v":"-"},{"$f":"IFERROR(ROUND(VLOOKUP(CONCATENATE(F$5,$C36),'trend data'!$A$2:$O$11161,F$6,FALSE),4),\"-\")","v":"-"},{"$f":"IFERROR(ROUND(VLOOKUP(CONCATENATE(G$5,$C36),'trend data'!$A$2:$O$11161,G$6,FALSE),4),\"-\")","v":"-"},{"$f":"IFERROR(VLOOKUP(CONCATENATE(H$5,$C36),'trend data'!$A$2:$O$11161,H$6,FALSE),\"-\")","v":"-"},{"$f":"IFERROR(ROUND(VLOOKUP(CONCATENATE(I$5,$C36),'trend data'!$A$2:$O$11161,I$6,FALSE),4),\"-\")","v":"-"},{"$f":"IFERROR(ROUND(VLOOKUP(CONCATENATE(J$5,$C36),'trend data'!$A$2:$O$11161,J$6,FALSE),4),\"-\")","v":"-"},{"$f":"IFERROR(ROUND(VLOOKUP(CONCATENATE(K$5,$C36),'trend data'!$A$2:$O$11161,K$6,FALSE),4),\"-\")","v":"-"},{"$f":"IFERROR(VLOOKUP(CONCATENATE(L$5,$C36),'trend data'!$A$2:$O$11161,L$6,FALSE),\"-\")","v":"-"},{"$f":"IFERROR(VLOOKUP(CONCATENATE(M$5,$C36),'trend data'!$A$2:$O$11161,M$6,FALSE),\"-\")","v":"-"}]
[202102,"2021-06-30",{"$f":"CONCATENATE(A37,'SSI Data and Charts'!B$1)","v":"202102Scotland"},{"$f":"IFERROR(VLOOKUP(CONCATENATE(D$5,$C37),'trend data'!$A$2:$O$11161,D$6,FALSE),\"-\")","v":"-"},{"$f":"IFERROR(ROUND(VLOOKUP(CONCATENATE(E$5,$C37),'trend data'!$A$2:$O$11161,E$6,FALSE),4),\"-\")","v":"-"},{"$f":"IFERROR(ROUND(VLOOKUP(CONCATENATE(F$5,$C37),'trend data'!$A$2:$O$11161,F$6,FALSE),4),\"-\")","v":"-"},{"$f":"IFERROR(ROUND(VLOOKUP(CONCATENATE(G$5,$C37),'trend data'!$A$2:$O$11161,G$6,FALSE),4),\"-\")","v":"-"},{"$f":"IFERROR(VLOOKUP(CONCATENATE(H$5,$C37),'trend data'!$A$2:$O$11161,H$6,FALSE),\"-\")","v":"-"},{"$f":"IFERROR(ROUND(VLOOKUP(CONCATENATE(I$5,$C37),'trend data'!$A$2:$O$11161,I$6,FALSE),4),\"-\")","v":"-"},{"$f":"IFERROR(ROUND(VLOOKUP(CONCATENATE(J$5,$C37),'trend data'!$A$2:$O$11161,J$6,FALSE),4),\"-\")","v":"-"},{"$f":"IFERROR(ROUND(VLOOKUP(CONCATENATE(K$5,$C37),'trend data'!$A$2:$O$11161,K$6,FALSE),4),\"-\")","v":"-"},{"$f":"IFERROR(VLOOKUP(CONCATENATE(L$5,$C37),'trend data'!$A$2:$O$11161,L$6,FALSE),\"-\")","v":"-"},{"$f":"IFERROR(VLOOKUP(CONCATENATE(M$5,$C37),'trend data'!$A$2:$O$11161,M$6,FALSE),\"-\")","v":"-"}]
[202103,"2021-09-30",{"$f":"CONCATENATE(A38,'SSI Data and Charts'!B$1)","v":"202103Scotland"},{"$f":"IFERROR(VLOOKUP(CONCATENATE(D$5,$C38),'trend data'!$A$2:$O$11161,D$6,FALSE),\"-\")","v":"-"},{"$f":"IFERROR(ROUND(VLOOKUP(CONCATENATE(E$5,$C38),'trend data'!$A$2:$O$11161,E$6,FALSE),4),\"-\")","v":"-"},{"$f":"IFERROR(ROUND(VLOOKUP(CONCATENATE(F$5,$C38),'trend data'!$A$2:$O$11161,F$6,FALSE),4),\"-\")","v":"-"},{"$f":"IFERROR(ROUND(VLOOKUP(CONCATENATE(G$5,$C38),'trend data'!$A$2:$O$11161,G$6,FALSE),4),\"-\")","v":"-"},{"$f":"IFERROR(VLOOKUP(CONCATENATE(H$5,$C38),'trend data'!$A$2:$O$11161,H$6,FALSE),\"-\")","v":"-"},{"$f":"IFERROR(ROUND(VLOOKUP(CONCATENATE(I$5,$C38),'trend data'!$A$2:$O$11161,I$6,FALSE),4),\"-\")","v":"-"},{"$f":"IFERROR(ROUND(VLOOKUP(CONCATENATE(J$5,$C38),'trend data'!$A$2:$O$11161,J$6,FALSE),4),\"-\")","v":"-"},{"$f":"IFERROR(ROUND(VLOOKUP(CONCATENATE(K$5,$C38),'trend data'!$A$2:$O$11161,K$6,FALSE),4),\"-\")","v":"-"},{"$f":"IFERROR(VLOOKUP(CONCATENATE(L$5,$C38),'trend data'!$A$2:$O$11161,L$6,FALSE),\"-\")","v":"-"},{"$f":"IFERROR(VLOOKUP(CONCATENATE(M$5,$C38),'trend data'!$A$2:$O$11161,M$6,FALSE),\"-\")","v":"-"}]
[202104,"2021-12-31",{"$f":"CONCATENATE(A39,'SSI Data and Charts'!B$1)","v":"202104Scotland"},{"$f":"IFERROR(VLOOKUP(CONCATENATE(D$5,$C39),'trend data'!$A$2:$O$11161,D$6,FALSE),\"-\")","v":"-"},{"$f":"IFERROR(ROUND(VLOOKUP(CONCATENATE(E$5,$C39),'trend data'!$A$2:$O$11161,E$6,FALSE),4),\"-\")","v":"-"},{"$f":"IFERROR(ROUND(VLOOKUP(CONCATENATE(F$5,$C39),'trend data'!$A$2:$O$11161,F$6,FALSE),4),\"-\")","v":"-"},{"$f":"IFERROR(ROUND(VLOOKUP(CONCATENATE(G$5,$C39),'trend data'!$A$2:$O$11161,G$6,FALSE),4),\"-\")","v":"-"},{"$f":"IFERROR(VLOOKUP(CONCATENATE(H$5,$C39),'trend data'!$A$2:$O$11161,H$6,FALSE),\"-\")","v":"-"},{"$f":"IFERROR(ROUND(VLOOKUP(CONCATENATE(I$5,$C39),'trend data'!$A$2:$O$11161,I$6,FALSE),4),\"-\")","v":"-"},{"$f":"IFERROR(ROUND(VLOOKUP(CONCATENATE(J$5,$C39),'trend data'!$A$2:$O$11161,J$6,FALSE),4),\"-\")","v":"-"},{"$f":"IFERROR(ROUND(VLOOKUP(CONCATENATE(K$5,$C39),'trend data'!$A$2:$O$11161,K$6,FALSE),4),\"-\")","v":"-"},{"$f":"IFERROR(VLOOKUP(CONCATENATE(L$5,$C39),'trend data'!$A$2:$O$11161,L$6,FALSE),\"-\")","v":"-"},{"$f":"IFERROR(VLOOKUP(CONCATENATE(M$5,$C39),'trend data'!$A$2:$O$11161,M$6,FALSE),\"-\")","v":"-"}]
[202201,"2022-03-31",{"$f":"CONCATENATE(A40,'SSI Data and Charts'!B$1)","v":"202201Scotland"},{"$f":"IFERROR(VLOOKUP(CONCATENATE(D$5,$C40),'trend data'!$A$2:$O$11161,D$6,FALSE),\"-\")","v":"-"},{"$f":"IFERROR(ROUND(VLOOKUP(CONCATENATE(E$5,$C40),'trend data'!$A$2:$O$11161,E$6,FALSE),4),\"-\")","v":"-"},{"$f":"IFERROR(ROUND(VLOOKUP(CONCATENATE(F$5,$C40),'trend data'!$A$2:$O$11161,F$6,FALSE),4),\"-\")","v":"-"},{"$f":"IFERROR(ROUND(VLOOKUP(CONCATENATE(G$5,$C40),'trend data'!$A$2:$O$11161,G$6,FALSE),4),\"-\")","v":"-"},{"$f":"IFERROR(VLOOKUP(CONCATENATE(H$5,$C40),'trend data'!$A$2:$O$11161,H$6,FALSE),\"-\")","v":"-"},{"$f":"IFERROR(ROUND(VLOOKUP(CONCATENATE(I$5,$C40),'trend data'!$A$2:$O$11161,I$6,FALSE),4),\"-\")","v":"-"},{"$f":"IFERROR(ROUND(VLOOKUP(CONCATENATE(J$5,$C40),'trend data'!$A$2:$O$11161,J$6,FALSE),4),\"-\")","v":"-"},{"$f":"IFERROR(ROUND(VLOOKUP(CONCATENATE(K$5,$C40),'trend data'!$A$2:$O$11161,K$6,FALSE),4),\"-\")","v":"-"},{"$f":"IFERROR(VLOOKUP(CONCATENATE(L$5,$C40),'trend data'!$A$2:$O$11161,L$6,FALSE),\"-\")","v":"-"},{"$f":"IFERROR(VLOOKUP(CONCATENATE(M$5,$C40),'trend data'!$A$2:$O$11161,M$6,FALSE),\"-\")","v":"-"}]
[202202,"2022-06-30",{"$f":"CONCATENATE(A41,'SSI Data and Charts'!B$1)","v":"202202Scotland"},{"$f":"IFERROR(VLOOKUP(CONCATENATE(D$5,$C41),'trend data'!$A$2:$O$11161,D$6,FALSE),\"-\")","v":"-"},{"$f":"IFERROR(ROUND(VLOOKUP(CONCATENATE(E$5,$C41),'trend data'!$A$2:$O$11161,E$6,FALSE),4),\"-\")","v":"-"},{"$f":"IFERROR(ROUND(VLOOKUP(CONCATENATE(F$5,$C41),'trend data'!$A$2:$O$11161,F$6,FALSE),4),\"-\")","v":"-"},{"$f":"IFERROR(ROUND(VLOOKUP(CONCATENATE(G$5,$C41),'trend data'!$A$2:$O$11161,G$6,FALSE),4),\"-\")","v":"-"},{"$f":"IFERROR(VLOOKUP(CONCATENATE(H$5,$C41),'trend data'!$A$2:$O$11161,H$6,FALSE),\"-\")","v":"-"},{"$f":"IFERROR(ROUND(VLOOKUP(CONCATENATE(I$5,$C41),'trend data'!$A$2:$O$11161,I$6,FALSE),4),\"-\")","v":"-"},{"$f":"IFERROR(ROUND(VLOOKUP(CONCATENATE(J$5,$C41),'trend data'!$A$2:$O$11161,J$6,FALSE),4),\"-\")","v":"-"},{"$f":"IFERROR(ROUND(VLOOKUP(CONCATENATE(K$5,$C41),'trend data'!$A$2:$O$11161,K$6,FALSE),4),\"-\")","v":"-"},{"$f":"IFERROR(VLOOKUP(CONCATENATE(L$5,$C41),'trend data'!$A$2:$O$11161,L$6,FALSE),\"-\")","v":"-"},{"$f":"IFERROR(VLOOKUP(CONCATENATE(M$5,$C41),'trend data'!$A$2:$O$11161,M$6,FALSE),\"-\")","v":"-"}]
[202203,"2022-09-30",{"$f":"CONCATENATE(A42,'SSI Data and Charts'!B$1)","v":"202203Scotland"},{"$f":"IFERROR(VLOOKUP(CONCATENATE(D$5,$C42),'trend data'!$A$2:$O$11161,D$6,FALSE),\"-\")","v":"-"},{"$f":"IFERROR(ROUND(VLOOKUP(CONCATENATE(E$5,$C42),'trend data'!$A$2:$O$11161,E$6,FALSE),4),\"-\")","v":"-"},{"$f":"IFERROR(ROUND(VLOOKUP(CONCATENATE(F$5,$C42),'trend data'!$A$2:$O$11161,F$6,FALSE),4),\"-\")","v":"-"},{"$f":"IFERROR(ROUND(VLOOKUP(CONCATENATE(G$5,$C42),'trend data'!$A$2:$O$11161,G$6,FALSE),4),\"-\")","v":"-"},{"$f":"IFERROR(VLOOKUP(CONCATENATE(H$5,$C42),'trend data'!$A$2:$O$11161,H$6,FALSE),\"-\")","v":"-"},{"$f":"IFERROR(ROUND(VLOOKUP(CONCATENATE(I$5,$C42),'trend data'!$A$2:$O$11161,I$6,FALSE),4),\"-\")","v":"-"},{"$f":"IFERROR(ROUND(VLOOKUP(CONCATENATE(J$5,$C42),'trend data'!$A$2:$O$11161,J$6,FALSE),4),\"-\")","v":"-"},{"$f":"IFERROR(ROUND(VLOOKUP(CONCATENATE(K$5,$C42),'trend data'!$A$2:$O$11161,K$6,FALSE),4),\"-\")","v":"-"},{"$f":"IFERROR(VLOOKUP(CONCATENATE(L$5,$C42),'trend data'!$A$2:$O$11161,L$6,FALSE),\"-\")","v":"-"},{"$f":"IFERROR(VLOOKUP(CONCATENATE(M$5,$C42),'trend data'!$A$2:$O$11161,M$6,FALSE),\"-\")","v":"-"}]
[202204,"2022-12-31",{"$f":"CONCATENATE(A43,'SSI Data and Charts'!B$1)","v":"202204Scotland"},{"$f":"IFERROR(VLOOKUP(CONCATENATE(D$5,$C43),'trend data'!$A$2:$O$11161,D$6,FALSE),\"-\")","v":"-"},{"$f":"IFERROR(ROUND(VLOOKUP(CONCATENATE(E$5,$C43),'trend data'!$A$2:$O$11161,E$6,FALSE),4),\"-\")","v":"-"},{"$f":"IFERROR(ROUND(VLOOKUP(CONCATENATE(F$5,$C43),'trend data'!$A$2:$O$11161,F$6,FALSE),4),\"-\")","v":"-"},{"$f":"IFERROR(ROUND(VLOOKUP(CONCATENATE(G$5,$C43),'trend data'!$A$2:$O$11161,G$6,FALSE),4),\"-\")","v":"-"},{"$f":"IFERROR(VLOOKUP(CONCATENATE(H$5,$C43),'trend data'!$A$2:$O$11161,H$6,FALSE),\"-\")","v":"-"},{"$f":"IFERROR(ROUND(VLOOKUP(CONCATENATE(I$5,$C43),'trend data'!$A$2:$O$11161,I$6,FALSE),4),\"-\")","v":"-"},{"$f":"IFERROR(ROUND(VLOOKUP(CONCATENATE(J$5,$C43),'trend data'!$A$2:$O$11161,J$6,FALSE),4),\"-\")","v":"-"},{"$f":"IFERROR(ROUND(VLOOKUP(CONCATENATE(K$5,$C43),'trend data'!$A$2:$O$11161,K$6,FALSE),4),\"-\")","v":"-"},{"$f":"IFERROR(VLOOKUP(CONCATENATE(L$5,$C43),'trend data'!$A$2:$O$11161,L$6,FALSE),\"-\")","v":"-"},{"$f":"IFERROR(VLOOKUP(CONCATENATE(M$5,$C43),'trend data'!$A$2:$O$11161,M$6,FALSE),\"-\")","v":"-"}]
[202301,"2023-03-31",{"$f":"CONCATENATE(A44,'SSI Data and Charts'!B$1)","v":"202301Scotland"},{"$f":"IFERROR(VLOOKUP(CONCATENATE(D$5,$C44),'trend data'!$A$2:$O$11161,D$6,FALSE),\"-\")","v":"-"},{"$f":"IFERROR(ROUND(VLOOKUP(CONCATENATE(E$5,$C44),'trend data'!$A$2:$O$11161,E$6,FALSE),4),\"-\")","v":"-"},{"$f":"IFERROR(ROUND(VLOOKUP(CONCATENATE(F$5,$C44),'trend data'!$A$2:$O$11161,F$6,FALSE),4),\"-\")","v":"-"},{"$f":"IFERROR(ROUND(VLOOKUP(CONCATENATE(G$5,$C44),'trend data'!$A$2:$O$11161,G$6,FALSE),4),\"-\")","v":"-"},{"$f":"IFERROR(VLOOKUP(CONCATENATE(H$5,$C44),'trend data'!$A$2:$O$11161,H$6,FALSE),\"-\")","v":"-"},{"$f":"IFERROR(ROUND(VLOOKUP(CONCATENATE(I$5,$C44),'trend data'!$A$2:$O$11161,I$6,FALSE),4),\"-\")","v":"-"},{"$f":"IFERROR(ROUND(VLOOKUP(CONCATENATE(J$5,$C44),'trend data'!$A$2:$O$11161,J$6,FALSE),4),\"-\")","v":"-"},{"$f":"IFERROR(ROUND(VLOOKUP(CONCATENATE(K$5,$C44),'trend data'!$A$2:$O$11161,K$6,FALSE),4),\"-\")","v":"-"},{"$f":"IFERROR(VLOOKUP(CONCATENATE(L$5,$C44),'trend data'!$A$2:$O$11161,L$6,FALSE),\"-\")","v":"-"},{"$f":"IFERROR(VLOOKUP(CONCATENATE(M$5,$C44),'trend data'!$A$2:$O$11161,M$6,FALSE),\"-\")","v":"-"}]
[202302,"2023-06-30",{"$f":"CONCATENATE(A45,'SSI Data and Charts'!B$1)","v":"202302Scotland"},{"$f":"IFERROR(VLOOKUP(CONCATENATE(D$5,$C45),'trend data'!$A$2:$O$11161,D$6,FALSE),\"-\")","v":"-"},{"$f":"IFERROR(ROUND(VLOOKUP(CONCATENATE(E$5,$C45),'trend data'!$A$2:$O$11161,E$6,FALSE),4),\"-\")","v":"-"},{"$f":"IFERROR(ROUND(VLOOKUP(CONCATENATE(F$5,$C45),'trend data'!$A$2:$O$11161,F$6,FALSE),4),\"-\")","v":"-"},{"$f":"IFERROR(ROUND(VLOOKUP(CONCATENATE(G$5,$C45),'trend data'!$A$2:$O$11161,G$6,FALSE),4),\"-\")","v":"-"},{"$f":"IFERROR(VLOOKUP(CONCATENATE(H$5,$C45),'trend data'!$A$2:$O$11161,H$6,FALSE),\"-\")","v":"-"},{"$f":"IFERROR(ROUND(VLOOKUP(CONCATENATE(I$5,$C45),'trend data'!$A$2:$O$11161,I$6,FALSE),4),\"-\")","v":"-"},{"$f":"IFERROR(ROUND(VLOOKUP(CONCATENATE(J$5,$C45),'trend data'!$A$2:$O$11161,J$6,FALSE),4),\"-\")","v":"-"},{"$f":"IFERROR(ROUND(VLOOKUP(CONCATENATE(K$5,$C45),'trend data'!$A$2:$O$11161,K$6,FALSE),4),\"-\")","v":"-"},{"$f":"IFERROR(VLOOKUP(CONCATENATE(L$5,$C45),'trend data'!$A$2:$O$11161,L$6,FALSE),\"-\")","v":"-"},{"$f":"IFERROR(VLOOKUP(CONCATENATE(M$5,$C45),'trend data'!$A$2:$O$11161,M$6,FALSE),\"-\")","v":"-"}]
[202303,"2023-09-30",{"$f":"CONCATENATE(A46,'SSI Data and Charts'!B$1)","v":"202303Scotland"},{"$f":"IFERROR(VLOOKUP(CONCATENATE(D$5,$C46),'trend data'!$A$2:$O$11161,D$6,FALSE),\"-\")","v":"-"},{"$f":"IFERROR(ROUND(VLOOKUP(CONCATENATE(E$5,$C46),'trend data'!$A$2:$O$11161,E$6,FALSE),4),\"-\")","v":"-"},{"$f":"IFERROR(ROUND(VLOOKUP(CONCATENATE(F$5,$C46),'trend data'!$A$2:$O$11161,F$6,FALSE),4),\"-\")","v":"-"},{"$f":"IFERROR(ROUND(VLOOKUP(CONCATENATE(G$5,$C46),'trend data'!$A$2:$O$11161,G$6,FALSE),4),\"-\")","v":"-"},{"$f":"IFERROR(VLOOKUP(CONCATENATE(H$5,$C46),'trend data'!$A$2:$O$11161,H$6,FALSE),\"-\")","v":"-"},{"$f":"IFERROR(ROUND(VLOOKUP(CONCATENATE(I$5,$C46),'trend data'!$A$2:$O$11161,I$6,FALSE),4),\"-\")","v":"-"},{"$f":"IFERROR(ROUND(VLOOKUP(CONCATENATE(J$5,$C46),'trend data'!$A$2:$O$11161,J$6,FALSE),4),\"-\")","v":"-"},{"$f":"IFERROR(ROUND(VLOOKUP(CONCATENATE(K$5,$C46),'trend data'!$A$2:$O$11161,K$6,FALSE),4),\"-\")","v":"-"},{"$f":"IFERROR(VLOOKUP(CONCATENATE(L$5,$C46),'trend data'!$A$2:$O$11161,L$6,FALSE),\"-\")","v":"-"},{"$f":"IFERROR(VLOOKUP(CONCATENATE(M$5,$C46),'trend data'!$A$2:$O$11161,M$6,FALSE),\"-\")","v":"-"}]
[202304,"2023-12-31",{"$f":"CONCATENATE(A47,'SSI Data and Charts'!B$1)","v":"202304Scotland"},{"$f":"IFERROR(VLOOKUP(CONCATENATE(D$5,$C47),'trend data'!$A$2:$O$11161,D$6,FALSE),\"-\")","v":"-"},{"$f":"IFERROR(ROUND(VLOOKUP(CONCATENATE(E$5,$C47),'trend data'!$A$2:$O$11161,E$6,FALSE),4),\"-\")","v":"-"},{"$f":"IFERROR(ROUND(VLOOKUP(CONCATENATE(F$5,$C47),'trend data'!$A$2:$O$11161,F$6,FALSE),4),\"-\")","v":"-"},{"$f":"IFERROR(ROUND(VLOOKUP(CONCATENATE(G$5,$C47),'trend data'!$A$2:$O$11161,G$6,FALSE),4),\"-\")","v":"-"},{"$f":"IFERROR(VLOOKUP(CONCATENATE(H$5,$C47),'trend data'!$A$2:$O$11161,H$6,FALSE),\"-\")","v":"-"},{"$f":"IFERROR(ROUND(VLOOKUP(CONCATENATE(I$5,$C47),'trend data'!$A$2:$O$11161,I$6,FALSE),4),\"-\")","v":"-"},{"$f":"IFERROR(ROUND(VLOOKUP(CONCATENATE(J$5,$C47),'trend data'!$A$2:$O$11161,J$6,FALSE),4),\"-\")","v":"-"},{"$f":"IFERROR(ROUND(VLOOKUP(CONCATENATE(K$5,$C47),'trend data'!$A$2:$O$11161,K$6,FALSE),4),\"-\")","v":"-"},{"$f":"IFERROR(VLOOKUP(CONCATENATE(L$5,$C47),'trend data'!$A$2:$O$11161,L$6,FALSE),\"-\")","v":"-"},{"$f":"IFERROR(VLOOKUP(CONCATENATE(M$5,$C47),'trend data'!$A$2:$O$11161,M$6,FALSE),\"-\")","v":"-"}]
[202401,"2024-03-31",{"$f":"CONCATENATE(A48,'SSI Data and Charts'!B$1)","v":"202401Scotland"},{"$f":"IFERROR(VLOOKUP(CONCATENATE(D$5,$C48),'trend data'!$A$2:$O$11161,D$6,FALSE),\"-\")","v":"-"},{"$f":"IFERROR(ROUND(VLOOKUP(CONCATENATE(E$5,$C48),'trend data'!$A$2:$O$11161,E$6,FALSE),4),\"-\")","v":"-"},{"$f":"IFERROR(ROUND(VLOOKUP(CONCATENATE(F$5,$C48),'trend data'!$A$2:$O$11161,F$6,FALSE),4),\"-\")","v":"-"},{"$f":"IFERROR(ROUND(VLOOKUP(CONCATENATE(G$5,$C48),'trend data'!$A$2:$O$11161,G$6,FALSE),4),\"-\")","v":"-"},{"$f":"IFERROR(VLOOKUP(CONCATENATE(H$5,$C48),'trend data'!$A$2:$O$11161,H$6,FALSE),\"-\")","v":"-"},{"$f":"IFERROR(ROUND(VLOOKUP(CONCATENATE(I$5,$C48),'trend data'!$A$2:$O$11161,I$6,FALSE),4),\"-\")","v":"-"},{"$f":"IFERROR(ROUND(VLOOKUP(CONCATENATE(J$5,$C48),'trend data'!$A$2:$O$11161,J$6,FALSE),4),\"-\")","v":"-"},{"$f":"IFERROR(ROUND(VLOOKUP(CONCATENATE(K$5,$C48),'trend data'!$A$2:$O$11161,K$6,FALSE),4),\"-\")","v":"-"},{"$f":"IFERROR(VLOOKUP(CONCATENATE(L$5,$C48),'trend data'!$A$2:$O$11161,L$6,FALSE),\"-\")","v":"-"},{"$f":"IFERROR(VLOOKUP(CONCATENATE(M$5,$C48),'trend data'!$A$2:$O$11161,M$6,FALSE),\"-\")","v":"-"}]
[202402,"2024-06-30",{"$f":"CONCATENATE(A49,'SSI Data and Charts'!B$1)","v":"202402Scotland"},{"$f":"IFERROR(VLOOKUP(CONCATENATE(D$5,$C49),'trend data'!$A$2:$O$11161,D$6,FALSE),\"-\")","v":"-"},{"$f":"IFERROR(ROUND(VLOOKUP(CONCATENATE(E$5,$C49),'trend data'!$A$2:$O$11161,E$6,FALSE),4),\"-\")","v":"-"},{"$f":"IFERROR(ROUND(VLOOKUP(CONCATENATE(F$5,$C49),'trend data'!$A$2:$O$11161,F$6,FALSE),4),\"-\")","v":"-"},{"$f":"IFERROR(ROUND(VLOOKUP(CONCATENATE(G$5,$C49),'trend data'!$A$2:$O$11161,G$6,FALSE),4),\"-\")","v":"-"},{"$f":"IFERROR(VLOOKUP(CONCATENATE(H$5,$C49),'trend data'!$A$2:$O$11161,H$6,FALSE),\"-\")","v":"-"},{"$f":"IFERROR(ROUND(VLOOKUP(CONCATENATE(I$5,$C49),'trend data'!$A$2:$O$11161,I$6,FALSE),4),\"-\")","v":"-"},{"$f":"IFERROR(ROUND(VLOOKUP(CONCATENATE(J$5,$C49),'trend data'!$A$2:$O$11161,J$6,FALSE),4),\"-\")","v":"-"},{"$f":"IFERROR(ROUND(VLOOKUP(CONCATENATE(K$5,$C49),'trend data'!$A$2:$O$11161,K$6,FALSE),4),\"-\")","v":"-"},{"$f":"IFERROR(VLOOKUP(CONCATENATE(L$5,$C49),'trend data'!$A$2:$O$11161,L$6,FALSE),\"-\")","v":"-"},{"$f":"IFERROR(VLOOKUP(CONCATENATE(M$5,$C49),'trend data'!$A$2:$O$11161,M$6,FALSE),\"-\")","v":"-"}]
[202403,"2024-09-30",{"$f":"CONCATENATE(A50,'SSI Data and Charts'!B$1)","v":"202403Scotland"},{"$f":"IFERROR(VLOOKUP(CONCATENATE(D$5,$C50),'trend data'!$A$2:$O$11161,D$6,FALSE),\"-\")","v":"-"},{"$f":"IFERROR(ROUND(VLOOKUP(CONCATENATE(E$5,$C50),'trend data'!$A$2:$O$11161,E$6,FALSE),4),\"-\")","v":"-"},{"$f":"IFERROR(ROUND(VLOOKUP(CONCATENATE(F$5,$C50),'trend data'!$A$2:$O$11161,F$6,FALSE),4),\"-\")","v":"-"},{"$f":"IFERROR(ROUND(VLOOKUP(CONCATENATE(G$5,$C50),'trend data'!$A$2:$O$11161,G$6,FALSE),4),\"-\")","v":"-"},{"$f":"IFERROR(VLOOKUP(CONCATENATE(H$5,$C50),'trend data'!$A$2:$O$11161,H$6,FALSE),\"-\")","v":"-"},{"$f":"IFERROR(ROUND(VLOOKUP(CONCATENATE(I$5,$C50),'trend data'!$A$2:$O$11161,I$6,FALSE),4),\"-\")","v":"-"},{"$f":"IFERROR(ROUND(VLOOKUP(CONCATENATE(J$5,$C50),'trend data'!$A$2:$O$11161,J$6,FALSE),4),\"-\")","v":"-"},{"$f":"IFERROR(ROUND(VLOOKUP(CONCATENATE(K$5,$C50),'trend data'!$A$2:$O$11161,K$6,FALSE),4),\"-\")","v":"-"},{"$f":"IFERROR(VLOOKUP(CONCATENATE(L$5,$C50),'trend data'!$A$2:$O$11161,L$6,FALSE),\"-\")","v":"-"},{"$f":"IFERROR(VLOOKUP(CONCATENATE(M$5,$C50),'trend data'!$A$2:$O$11161,M$6,FALSE),\"-\")","v":"-"}]
[202404,"2024-12-31",{"$f":"CONCATENATE(A51,'SSI Data and Charts'!B$1)","v":"202404Scotland"},{"$f":"IFERROR(VLOOKUP(CONCATENATE(D$5,$C51),'trend data'!$A$2:$O$11161,D$6,FALSE),\"-\")","v":"-"},{"$f":"IFERROR(ROUND(VLOOKUP(CONCATENATE(E$5,$C51),'trend data'!$A$2:$O$11161,E$6,FALSE),4),\"-\")","v":"-"},{"$f":"IFERROR(ROUND(VLOOKUP(CONCATENATE(F$5,$C51),'trend data'!$A$2:$O$11161,F$6,FALSE),4),\"-\")","v":"-"},{"$f":"IFERROR(ROUND(VLOOKUP(CONCATENATE(G$5,$C51),'trend data'!$A$2:$O$11161,G$6,FALSE),4),\"-\")","v":"-"},{"$f":"IFERROR(VLOOKUP(CONCATENATE(H$5,$C51),'trend data'!$A$2:$O$11161,H$6,FALSE),\"-\")","v":"-"},{"$f":"IFERROR(ROUND(VLOOKUP(CONCATENATE(I$5,$C51),'trend data'!$A$2:$O$11161,I$6,FALSE),4),\"-\")","v":"-"},{"$f":"IFERROR(ROUND(VLOOKUP(CONCATENATE(J$5,$C51),'trend data'!$A$2:$O$11161,J$6,FALSE),4),\"-\")","v":"-"},{"$f":"IFERROR(ROUND(VLOOKUP(CONCATENATE(K$5,$C51),'trend data'!$A$2:$O$11161,K$6,FALSE),4),\"-\")","v":"-"},{"$f":"IFERROR(VLOOKUP(CONCATENATE(L$5,$C51),'trend data'!$A$2:$O$11161,L$6,FALSE),\"-\")","v":"-"},{"$f":"IFERROR(VLOOKUP(CONCATENATE(M$5,$C51),'trend data'!$A$2:$O$11161,M$6,FALSE),\"-\")","v":"-"}]
[202501,"2025-03-31",{"$f":"CONCATENATE(A52,'SSI Data and Charts'!B$1)","v":"202501Scotland"},{"$f":"IFERROR(VLOOKUP(CONCATENATE(D$5,$C52),'trend data'!$A$2:$O$11161,D$6,FALSE),\"-\")","v":"-"},{"$f":"IFERROR(ROUND(VLOOKUP(CONCATENATE(E$5,$C52),'trend data'!$A$2:$O$11161,E$6,FALSE),4),\"-\")","v":"-"},{"$f":"IFERROR(ROUND(VLOOKUP(CONCATENATE(F$5,$C52),'trend data'!$A$2:$O$11161,F$6,FALSE),4),\"-\")","v":"-"},{"$f":"IFERROR(ROUND(VLOOKUP(CONCATENATE(G$5,$C52),'trend data'!$A$2:$O$11161,G$6,FALSE),4),\"-\")","v":"-"},{"$f":"IFERROR(VLOOKUP(CONCATENATE(H$5,$C52),'trend data'!$A$2:$O$11161,H$6,FALSE),\"-\")","v":"-"},{"$f":"IFERROR(ROUND(VLOOKUP(CONCATENATE(I$5,$C52),'trend data'!$A$2:$O$11161,I$6,FALSE),4),\"-\")","v":"-"},{"$f":"IFERROR(ROUND(VLOOKUP(CONCATENATE(J$5,$C52),'trend data'!$A$2:$O$11161,J$6,FALSE),4),\"-\")","v":"-"},{"$f":"IFERROR(ROUND(VLOOKUP(CONCATENATE(K$5,$C52),'trend data'!$A$2:$O$11161,K$6,FALSE),4),\"-\")","v":"-"},{"$f":"IFERROR(VLOOKUP(CONCATENATE(L$5,$C52),'trend data'!$A$2:$O$11161,L$6,FALSE),\"-\")","v":"-"},{"$f":"IFERROR(VLOOKUP(CONCATENATE(M$5,$C52),'trend data'!$A$2:$O$11161,M$6,FALSE),\"-\")","v":"-"}]
[202502,"2025-06-30",{"$f":"CONCATENATE(A53,'SSI Data and Charts'!B$1)","v":"202502Scotland"},{"$f":"IFERROR(VLOOKUP(CONCATENATE(D$5,$C53),'trend data'!$A$2:$O$11161,D$6,FALSE),\"-\")","v":"-"},{"$f":"IFERROR(ROUND(VLOOKUP(CONCATENATE(E$5,$C53),'trend data'!$A$2:$O$11161,E$6,FALSE),4),\"-\")","v":"-"},{"$f":"IFERROR(ROUND(VLOOKUP(CONCATENATE(F$5,$C53),'trend data'!$A$2:$O$11161,F$6,FALSE),4),\"-\")","v":"-"},{"$f":"IFERROR(ROUND(VLOOKUP(CONCATENATE(G$5,$C53),'trend data'!$A$2:$O$11161,G$6,FALSE),4),\"-\")","v":"-"},{"$f":"IFERROR(VLOOKUP(CONCATENATE(H$5,$C53),'trend data'!$A$2:$O$11161,H$6,FALSE),\"-\")","v":"-"},{"$f":"IFERROR(ROUND(VLOOKUP(CONCATENATE(I$5,$C53),'trend data'!$A$2:$O$11161,I$6,FALSE),4),\"-\")","v":"-"},{"$f":"IFERROR(ROUND(VLOOKUP(CONCATENATE(J$5,$C53),'trend data'!$A$2:$O$11161,J$6,FALSE),4),\"-\")","v":"-"},{"$f":"IFERROR(ROUND(VLOOKUP(CONCATENATE(K$5,$C53),'trend data'!$A$2:$O$11161,K$6,FALSE),4),\"-\")","v":"-"},{"$f":"IFERROR(VLOOKUP(CONCATENATE(L$5,$C53),'trend data'!$A$2:$O$11161,L$6,FALSE),\"-\")","v":"-"},{"$f":"IFERROR(VLOOKUP(CONCATENATE(M$5,$C53),'trend data'!$A$2:$O$11161,M$6,FALSE),\"-\")","v":"-"}]
[202503,"2025-09-30",{"$f":"CONCATENATE(A54,'SSI Data and Charts'!B$1)","v":"202503Scotland"},{"$f":"IFERROR(VLOOKUP(CONCATENATE(D$5,$C54),'trend data'!$A$2:$O$11161,D$6,FALSE),\"-\")","v":"-"},{"$f":"IFERROR(ROUND(VLOOKUP(CONCATENATE(E$5,$C54),'trend data'!$A$2:$O$11161,E$6,FALSE),4),\"-\")","v":"-"},{"$f":"IFERROR(ROUND(VLOOKUP(CONCATENATE(F$5,$C54),'trend data'!$A$2:$O$11161,F$6,FALSE),4),\"-\")","v":"-"},{"$f":"IFERROR(ROUND(VLOOKUP(CONCATENATE(G$5,$C54),'trend data'!$A$2:$O$11161,G$6,FALSE),4),\"-\")","v":"-"},{"$f":"IFERROR(VLOOKUP(CONCATENATE(H$5,$C54),'trend data'!$A$2:$O$11161,H$6,FALSE),\"-\")","v":"-"},{"$f":"IFERROR(ROUND(VLOOKUP(CONCATENATE(I$5,$C54),'trend data'!$A$2:$O$11161,I$6,FALSE),4),\"-\")","v":"-"},{"$f":"IFERROR(ROUND(VLOOKUP(CONCATENATE(J$5,$C54),'trend data'!$A$2:$O$11161,J$6,FALSE),4),\"-\")","v":"-"},{"$f":"IFERROR(ROUND(VLOOKUP(CONCATENATE(K$5,$C54),'trend data'!$A$2:$O$11161,K$6,FALSE),4),\"-\")","v":"-"},{"$f":"IFERROR(VLOOKUP(CONCATENATE(L$5,$C54),'trend data'!$A$2:$O$11161,L$6,FALSE),\"-\")","v":"-"},{"$f":"IFERROR(VLOOKUP(CONCATENATE(M$5,$C54),'trend data'!$A$2:$O$11161,M$6,FALSE),\"-\")","v":"-"}]
[202504,"2025-12-31",{"$f":"CONCATENATE(A55,'SSI Data and Charts'!B$1)","v":"202504Scotland"},{"$f":"IFERROR(VLOOKUP(CONCATENATE(D$5,$C55),'trend data'!$A$2:$O$11161,D$6,FALSE),\"-\")","v":"-"},{"$f":"IFERROR(ROUND(VLOOKUP(CONCATENATE(E$5,$C55),'trend data'!$A$2:$O$11161,E$6,FALSE),4),\"-\")","v":"-"},{"$f":"IFERROR(ROUND(VLOOKUP(CONCATENATE(F$5,$C55),'trend data'!$A$2:$O$11161,F$6,FALSE),4),\"-\")","v":"-"},{"$f":"IFERROR(ROUND(VLOOKUP(CONCATENATE(G$5,$C55),'trend data'!$A$2:$O$11161,G$6,FALSE),4),\"-\")","v":"-"},{"$f":"IFERROR(VLOOKUP(CONCATENATE(H$5,$C55),'trend data'!$A$2:$O$11161,H$6,FALSE),\"-\")","v":"-"},{"$f":"IFERROR(ROUND(VLOOKUP(CONCATENATE(I$5,$C55),'trend data'!$A$2:$O$11161,I$6,FALSE),4),\"-\")","v":"-"},{"$f":"IFERROR(ROUND(VLOOKUP(CONCATENATE(J$5,$C55),'trend data'!$A$2:$O$11161,J$6,FALSE),4),\"-\")","v":"-"},{"$f":"IFERROR(ROUND(VLOOKUP(CONCATENATE(K$5,$C55),'trend data'!$A$2:$O$11161,K$6,FALSE),4),\"-\")","v":"-"},{"$f":"IFERROR(VLOOKUP(CONCATENATE(L$5,$C55),'trend data'!$A$2:$O$11161,L$6,FALSE),\"-\")","v":"-"},{"$f":"IFERROR(VLOOKUP(CONCATENATE(M$5,$C55),'trend data'!$A$2:$O$11161,M$6,FALSE),\"-\")","v":"-"}]
[202601,"2026-03-31",{"$f":"CONCATENATE(A56,'SSI Data and Charts'!B$1)","v":"202601Scotland"},{"$f":"IFERROR(VLOOKUP(CONCATENATE(D$5,$C56),'trend data'!$A$2:$O$11161,D$6,FALSE),\"-\")","v":"-"},{"$f":"IFERROR(ROUND(VLOOKUP(CONCATENATE(E$5,$C56),'trend data'!$A$2:$O$11161,E$6,FALSE),4),\"-\")","v":"-"},{"$f":"IFERROR(ROUND(VLOOKUP(CONCATENATE(F$5,$C56),'trend data'!$A$2:$O$11161,F$6,FALSE),4),\"-\")","v":"-"},{"$f":"IFERROR(ROUND(VLOOKUP(CONCATENATE(G$5,$C56),'trend data'!$A$2:$O$11161,G$6,FALSE),4),\"-\")","v":"-"},{"$f":"IFERROR(VLOOKUP(CONCATENATE(H$5,$C56),'trend data'!$A$2:$O$11161,H$6,FALSE),\"-\")","v":"-"},{"$f":"IFERROR(ROUND(VLOOKUP(CONCATENATE(I$5,$C56),'trend data'!$A$2:$O$11161,I$6,FALSE),4),\"-\")","v":"-"},{"$f":"IFERROR(ROUND(VLOOKUP(CONCATENATE(J$5,$C56),'trend data'!$A$2:$O$11161,J$6,FALSE),4),\"-\")","v":"-"},{"$f":"IFERROR(ROUND(VLOOKUP(CONCATENATE(K$5,$C56),'trend data'!$A$2:$O$11161,K$6,FALSE),4),\"-\")","v":"-"},{"$f":"IFERROR(VLOOKUP(CONCATENATE(L$5,$C56),'trend data'!$A$2:$O$11161,L$6,FALSE),\"-\")","v":"-"},{"$f":"IFERROR(VLOOKUP(CONCATENATE(M$5,$C56),'trend data'!$A$2:$O$11161,M$6,FALSE),\"-\")","v":"-"}]

{"sheet":"SAB data","index":7,"n_rows":53,"n_cols":37,"rows_kept":53,"cut":false,"hidden":true,"merged":[]}
["Trend data",null,null,null,null,null,null,null,null,null,null,null,null,null,null,null,null,null,null,"data for u-charts"]
[]
["always last 3 years"]
[null,null,null,null,null,null,null,null,null,null,null,null,null,null,null,null,null,null,null,null,null,null,"change this"]
[null,null,null,"SABHCAI","SABHCAI","SABHCAI","SABHCAI","SABCAUN","SABCAUN","SABCAUN","SABCAUN","SAB    ","SAB    ","SAB    ","SAB    ","SAB    ",null,null,null,null,null,"current quarter end","2026-03-31",3,4,5,6,null,3,4,5,6,null,3,4,5,6]
[null,null,null,2,4,5,6,2,4,5,6,2,4,5,6,3]
[null,null,"ref","HCAI Cases","Healthcare associated rate","Healthcare associated  lower CI","Healthcare associated  upper CI","Community associatedCases","Community associated rate","Community associated lower CI","Community associated upper CI","CASES","RATE","LOWER","UPPER","beds",null,null,null,null,null,null,null,"SABHCAI",null,null,null,null,"SABCAUN",null,null,null,null,"SAB "]
[201404,"2014-12-19",{"$f":"CONCATENATE(A8,'SAB Data and Charts'!B$1)","v":"201404Scotland"},{"$f":"VLOOKUP(CONCATENATE(D$5,$C8),'trend data'!$A$2:$O$11161,D$6,FALSE)","v":275},{"$f":"ROUND(VLOOKUP(CONCATENATE(E$5,$C8),'trend data'!$A$2:$O$11161,E$6,FALSE),3)","v":16.065000000000001},{"$f":"ROUND(VLOOKUP(CONCATENATE(F$5,$C8),'trend data'!$A$2:$O$11161,F$6,FALSE),3)","v":14.222},{"$f":"ROUND(VLOOKUP(CONCATENATE(G$5,$C8),'trend data'!$A$2:$O$11161,G$6,FALSE),3)","v":18.079999999999998},{"$f":"IFERROR(VLOOKUP(CONCATENATE(H$5,$C8),'trend data'!$A$2:$O$11161,H$6,FALSE),\"-\")","v":119},{"$f":"IFERROR(ROUND(VLOOKUP(CONCATENATE(I$5,$C8),'trend data'!$A$2:$O$11161,I$6,FALSE),3),\"-\")","v":8.8550000000000004},{"$f":"IFERROR(ROUND(VLOOKUP(CONCATENATE(J$5,$C8),'trend data'!$A$2:$O$11161,J$6,FALSE),3),\"-\")","v":7.3360000000000003},{"$f":"IFERROR(ROUND(VLOOKUP(CONCATENATE(K$5,$C8),'trend data'!$A$2:$O$11161,K$6,FALSE),3),\"-\")","v":10.597},{"$f":"IFERROR(VLOOKUP(CONCATENATE(L$5,$C8),'trend data'!$A$2:$O$11161,L$6,FALSE),\"-\")","v":"-"},{"$f":"IFERROR(VLOOKUP(CONCATENATE(M$5,$C8),'trend data'!$A$2:$O$11161,M$6,FALSE),\"-\")","v":"-"},{"$f":"IFERROR(VLOOKUP(CONCATENATE(N$5,$C8),'trend data'!$A$2:$O$11161,N$6,FALSE),\"-\")","v":"-"},{"$f":"IFERROR(VLOOKUP(CONCATENATE(O$5,$C8),'trend data'!$A$2:$O$11161,O$6,FALSE),\"-\")","v":"-"},{"$f":"IFERROR(VLOOKUP(CONCATENATE(P$5,$C8),'trend data'!$A$2:$O$11161,P$6,FALSE),\"-\")","v":"-"},null,null,null,"change to last 12 quarters",null,null,null,"Healthcare associated rate","Healthcare associated av rate","Healthcare associated UWL 2sd","Healthcare associated UCL 3sd",null,"Community associated rate","Community associated av rate","Community associated UWL 2sd","Community associated UCL 3 sd",null,"sa rate","sa av rate","sa UWL 2 sd","sa UCL 3 sd"]
[201501,"2015-03-24",{"$f":"CONCATENATE(A9,'SAB Data and Charts'!B$1)","v":"201501Scotland"},{"$f":"VLOOKUP(CONCATENATE(D$5,$C9),'trend data'!$A$2:$O$11161,D$6,FALSE)","v":263},{"$f":"ROUND(VLOOKUP(CONCATENATE(E$5,$C9),'trend data'!$A$2:$O$11161,E$6,FALSE),3)","v":15.257999999999999},{"$f":"ROUND(VLOOKUP(CONCATENATE(F$5,$C9),'trend data'!$A$2:$O$11161,F$6,FALSE),3)","v":13.468999999999999},{"$f":"ROUND(VLOOKUP(CONCATENATE(G$5,$C9),'trend data'!$A$2:$O$11161,G$6,FALSE),3)","v":17.218},{"$f":"IFERROR(VLOOKUP(CONCATENATE(H$5,$C9),'trend data'!$A$2:$O$11161,H$6,FALSE),\"-\")","v":126},{"$f":"IFERROR(ROUND(VLOOKUP(CONCATENATE(I$5,$C9),'trend data'!$A$2:$O$11161,I$6,FALSE),3),\"-\")","v":9.5500000000000007},{"$f":"IFERROR(ROUND(VLOOKUP(CONCATENATE(J$5,$C9),'trend data'!$A$2:$O$11161,J$6,FALSE),3),\"-\")","v":7.9560000000000004},{"$f":"IFERROR(ROUND(VLOOKUP(CONCATENATE(K$5,$C9),'trend data'!$A$2:$O$11161,K$6,FALSE),3),\"-\")","v":11.371},{"$f":"IFERROR(VLOOKUP(CONCATENATE(L$5,$C9),'trend data'!$A$2:$O$11161,L$6,FALSE),\"-\")","v":"-"},{"$f":"IFERROR(VLOOKUP(CONCATENATE(M$5,$C9),'trend data'!$A$2:$O$11161,M$6,FALSE),\"-\")","v":"-"},{"$f":"IFERROR(VLOOKUP(CONCATENATE(N$5,$C9),'trend data'!$A$2:$O$11161,N$6,FALSE),\"-\")","v":"-"},{"$f":"IFERROR(VLOOKUP(CONCATENATE(O$5,$C9),'trend data'!$A$2:$O$11161,O$6,FALSE),\"-\")","v":"-"},{"$f":"IFERROR(VLOOKUP(CONCATENATE(P$5,$C9),'trend data'!$A$2:$O$11161,P$6,FALSE),\"-\")","v":"-"},null,null,null,{"$f":"YEAR(W9)&\"0\"&IF(MONTH(W9)<4,1,IF(MONTH(W9)<7,2,IF(MONTH(W9)<10,3,4)))","v":"202302"},{"$f":"CONCATENATE(X$7,$T9,'SAB Data and Charts'!B$1)","v":"SABHCAI202302Scotland"},1,{"$f":"W10-92","v":"2023-06-23"},{"$f":"ROUND(VLOOKUP($U9,'data for u-p-charts'!$A$2:$F$5000,X$5,FALSE),2)","v":18.32},{"$f":"ROUND(VLOOKUP($U9,'data for u-p-charts'!$A$2:$F$5000,Y$5,FALSE),2)","v":18.63},{"$f":"ROUND(VLOOKUP($U9,'data for u-p-charts'!$A$2:$F$5000,Z$5,FALSE),2)","v":20.82},{"$f":"ROUND(VLOOKUP($U9,'data for u-p-charts'!$A$2:$F$5000,AA$5,FALSE),2)","v":21.92},{"$f":"CONCATENATE(AC$7,$T9,'SAB Data and Charts'!$B$1)","v":"SABCAUN202302Scotland"},{"$f":"ROUND(VLOOKUP($AB9,'data for u-p-charts'!$A$2:$F$5000,AC$5,FALSE),2)","v":10.23},{"$f":"ROUND(VLOOKUP($AB9,'data for u-p-charts'!$A$2:$F$5000,AD$5,FALSE),2)","v":10.02},{"$f":"ROUND(VLOOKUP($AB9,'data for u-p-charts'!$A$2:$F$5000,AE$5,FALSE),2)","v":11.73},{"$f":"ROUND(VLOOKUP($AB9,'data for u-p-charts'!$A$2:$F$5000,AF$5,FALSE),2)","v":12.58},{"$f":"CONCATENATE(AH$7,$T9,'SAB Data and Charts'!$B$1)","v":"SAB 202302Scotland"},{"$f":"VLOOKUP($AG9,'data for u-p-charts'!$A$2:$F$5000,AH$5,FALSE)","v":{"$error":"#N/A"}},{"$f":"VLOOKUP($AG9,'data for u-p-charts'!$A$2:$F$5000,AI$5,FALSE)","v":{"$error":"#N/A"}},{"$f":"VLOOKUP($AG9,'data for u-p-charts'!$A$2:$F$5000,AJ$5,FALSE)","v":{"$error":"#N/A"}},{"$f":"VLOOKUP($AG9,'data for u-p-charts'!$A$2:$F$5000,AK$5,FALSE)","v":{"$error":"#N/A"}}]
[201502,"2015-06-24",{"$f":"CONCATENATE(A10,'SAB Data and Charts'!B$1)","v":"201502Scotland"},{"$f":"VLOOKUP(CONCATENATE(D$5,$C10),'trend data'!$A$2:$O$11161,D$6,FALSE)","v":284},{"$f":"ROUND(VLOOKUP(CONCATENATE(E$5,$C10),'trend data'!$A$2:$O$11161,E$6,FALSE),3)","v":17.094000000000001},{"$f":"ROUND(VLOOKUP(CONCATENATE(F$5,$C10),'trend data'!$A$2:$O$11161,F$6,FALSE),3)","v":15.163},{"$f":"ROUND(VLOOKUP(CONCATENATE(G$5,$C10),'trend data'!$A$2:$O$11161,G$6,FALSE),3)","v":19.202000000000002},{"$f":"IFERROR(VLOOKUP(CONCATENATE(H$5,$C10),'trend data'!$A$2:$O$11161,H$6,FALSE),\"-\")","v":131},{"$f":"IFERROR(ROUND(VLOOKUP(CONCATENATE(I$5,$C10),'trend data'!$A$2:$O$11161,I$6,FALSE),3),\"-\")","v":9.82},{"$f":"IFERROR(ROUND(VLOOKUP(CONCATENATE(J$5,$C10),'trend data'!$A$2:$O$11161,J$6,FALSE),3),\"-\")","v":8.2100000000000009},{"$f":"IFERROR(ROUND(VLOOKUP(CONCATENATE(K$5,$C10),'trend data'!$A$2:$O$11161,K$6,FALSE),3),\"-\")","v":11.653},{"$f":"IFERROR(VLOOKUP(CONCATENATE(L$5,$C10),'trend data'!$A$2:$O$11161,L$6,FALSE),\"-\")","v":"-"},{"$f":"IFERROR(VLOOKUP(CONCATENATE(M$5,$C10),'trend data'!$A$2:$O$11161,M$6,FALSE),\"-\")","v":"-"},{"$f":"IFERROR(VLOOKUP(CONCATENATE(N$5,$C10),'trend data'!$A$2:$O$11161,N$6,FALSE),\"-\")","v":"-"},{"$f":"IFERROR(VLOOKUP(CONCATENATE(O$5,$C10),'trend data'!$A$2:$O$11161,O$6,FALSE),\"-\")","v":"-"},{"$f":"IFERROR(VLOOKUP(CONCATENATE(P$5,$C10),'trend data'!$A$2:$O$11161,P$6,FALSE),\"-\")","v":"-"},null,null,null,{"$f":"YEAR(W10)&\"0\"&IF(MONTH(W10)<4,1,IF(MONTH(W10)<7,2,IF(MONTH(W10)<10,3,4)))","v":"202303"},{"$f":"CONCATENATE(X$7,T10,'SAB Data and Charts'!B$1)","v":"SABHCAI202303Scotland"},2,"2023-09-23",{"$f":"ROUND(VLOOKUP($U10,'data for u-p-charts'!$A$2:$F$5000,X$5,FALSE),2)","v":18.079999999999998},{"$f":"ROUND(VLOOKUP($U10,'data for u-p-charts'!$A$2:$F$5000,Y$5,FALSE),2)","v":18.63},{"$f":"ROUND(VLOOKUP($U10,'data for u-p-charts'!$A$2:$F$5000,Z$5,FALSE),2)","v":20.83},{"$f":"ROUND(VLOOKUP($U10,'data for u-p-charts'!$A$2:$F$5000,AA$5,FALSE),2)","v":21.93},{"$f":"CONCATENATE(AC$7,$T10,'SAB Data and Charts'!$B$1)","v":"SABCAUN202303Scotland"},{"$f":"ROUND(VLOOKUP($AB10,'data for u-p-charts'!$A$2:$F$5000,AC$5,FALSE),2)","v":10.119999999999999},{"$f":"ROUND(VLOOKUP($AB10,'data for u-p-charts'!$A$2:$F$5000,AD$5,FALSE),2)","v":10.02},{"$f":"ROUND(VLOOKUP($AB10,'data for u-p-charts'!$A$2:$F$5000,AE$5,FALSE),2)","v":11.72},{"$f":"ROUND(VLOOKUP($AB10,'data for u-p-charts'!$A$2:$F$5000,AF$5,FALSE),2)","v":12.57},{"$f":"CONCATENATE(AH$7,$T10,'SAB Data and Charts'!$B$1)","v":"SAB 202303Scotland"},{"$f":"VLOOKUP($AG10,'data for u-p-charts'!$A$2:$F$5000,AH$5,FALSE)","v":{"$error":"#N/A"}},{"$f":"VLOOKUP($AG10,'data for u-p-charts'!$A$2:$F$5000,AI$5,FALSE)","v":{"$error":"#N/A"}},{"$f":"VLOOKUP($AG10,'data for u-p-charts'!$A$2:$F$5000,AJ$5,FALSE)","v":{"$error":"#N/A"}},{"$f":"VLOOKUP($AG10,'data for u-p-charts'!$A$2:$F$5000,AK$5,FALSE)","v":{"$error":"#N/A"}}]
[201503,"2015-09-24",{"$f":"CONCATENATE(A11,'SAB Data and Charts'!B$1)","v":"201503Scotland"},{"$f":"VLOOKUP(CONCATENATE(D$5,$C11),'trend data'!$A$2:$O$11161,D$6,FALSE)","v":275},{"$f":"ROUND(VLOOKUP(CONCATENATE(E$5,$C11),'trend data'!$A$2:$O$11161,E$6,FALSE),3)","v":16.966000000000001},{"$f":"ROUND(VLOOKUP(CONCATENATE(F$5,$C11),'trend data'!$A$2:$O$11161,F$6,FALSE),3)","v":15.02},{"$f":"ROUND(VLOOKUP(CONCATENATE(G$5,$C11),'trend data'!$A$2:$O$11161,G$6,FALSE),3)","v":19.094000000000001},{"$f":"IFERROR(VLOOKUP(CONCATENATE(H$5,$C11),'trend data'!$A$2:$O$11161,H$6,FALSE),\"-\")","v":113},{"$f":"IFERROR(ROUND(VLOOKUP(CONCATENATE(I$5,$C11),'trend data'!$A$2:$O$11161,I$6,FALSE),3),\"-\")","v":8.3789999999999996},{"$f":"IFERROR(ROUND(VLOOKUP(CONCATENATE(J$5,$C11),'trend data'!$A$2:$O$11161,J$6,FALSE),3),\"-\")","v":6.9050000000000002},{"$f":"IFERROR(ROUND(VLOOKUP(CONCATENATE(K$5,$C11),'trend data'!$A$2:$O$11161,K$6,FALSE),3),\"-\")","v":10.074},{"$f":"IFERROR(VLOOKUP(CONCATENATE(L$5,$C11),'trend data'!$A$2:$O$11161,L$6,FALSE),\"-\")","v":"-"},{"$f":"IFERROR(VLOOKUP(CONCATENATE(M$5,$C11),'trend data'!$A$2:$O$11161,M$6,FALSE),\"-\")","v":"-"},{"$f":"IFERROR(VLOOKUP(CONCATENATE(N$5,$C11),'trend data'!$A$2:$O$11161,N$6,FALSE),\"-\")","v":"-"},{"$f":"IFERROR(VLOOKUP(CONCATENATE(O$5,$C11),'trend data'!$A$2:$O$11161,O$6,FALSE),\"-\")","v":"-"},{"$f":"IFERROR(VLOOKUP(CONCATENATE(P$5,$C11),'trend data'!$A$2:$O$11161,P$6,FALSE),\"-\")","v":"-"},null,null,null,{"$f":"YEAR(W11)&\"0\"&IF(MONTH(W11)<4,1,IF(MONTH(W11)<7,2,IF(MONTH(W11)<10,3,4)))","v":"202304"},{"$f":"CONCATENATE(X$7,T11,'SAB Data and Charts'!B$1)","v":"SABHCAI202304Scotland"},3,"2023-12-24",{"$f":"ROUND(VLOOKUP($U11,'data for u-p-charts'!$A$2:$F$5000,X$5,FALSE),2)","v":19.22},{"$f":"ROUND(VLOOKUP($U11,'data for u-p-charts'!$A$2:$F$5000,Y$5,FALSE),2)","v":18.63},{"$f":"ROUND(VLOOKUP($U11,'data for u-p-charts'!$A$2:$F$5000,Z$5,FALSE),2)","v":20.81},{"$f":"ROUND(VLOOKUP($U11,'data for u-p-charts'!$A$2:$F$5000,AA$5,FALSE),2)","v":21.9},{"$f":"CONCATENATE(AC$7,$T11,'SAB Data and Charts'!$B$1)","v":"SABCAUN202304Scotland"},{"$f":"ROUND(VLOOKUP($AB11,'data for u-p-charts'!$A$2:$F$5000,AC$5,FALSE),2)","v":9.9},{"$f":"ROUND(VLOOKUP($AB11,'data for u-p-charts'!$A$2:$F$5000,AD$5,FALSE),2)","v":10.02},{"$f":"ROUND(VLOOKUP($AB11,'data for u-p-charts'!$A$2:$F$5000,AE$5,FALSE),2)","v":11.72},{"$f":"ROUND(VLOOKUP($AB11,'data for u-p-charts'!$A$2:$F$5000,AF$5,FALSE),2)","v":12.57},{"$f":"CONCATENATE(AH$7,$T11,'SAB Data and Charts'!$B$1)","v":"SAB 202304Scotland"},{"$f":"VLOOKUP($AG11,'data for u-p-charts'!$A$2:$F$5000,AH$5,FALSE)","v":{"$error":"#N/A"}},{"$f":"VLOOKUP($AG11,'data for u-p-charts'!$A$2:$F$5000,AI$5,FALSE)","v":{"$error":"#N/A"}},{"$f":"VLOOKUP($AG11,'data for u-p-charts'!$A$2:$F$5000,AJ$5,FALSE)","v":{"$error":"#N/A"}},{"$f":"VLOOKUP($AG11,'data for u-p-charts'!$A$2:$F$5000,AK$5,FALSE)","v":{"$error":"#N/A"}}]
[201504,"2015-12-24",{"$f":"CONCATENATE(A12,'SAB Data and Charts'!B$1)","v":"201504Scotland"},{"$f":"VLOOKUP(CONCATENATE(D$5,$C12),'trend data'!$A$2:$O$11161,D$6,FALSE)","v":303},{"$f":"ROUND(VLOOKUP(CONCATENATE(E$5,$C12),'trend data'!$A$2:$O$11161,E$6,FALSE),3)","v":18.451000000000001},{"$f":"ROUND(VLOOKUP(CONCATENATE(F$5,$C12),'trend data'!$A$2:$O$11161,F$6,FALSE),3)","v":16.431999999999999},{"$f":"ROUND(VLOOKUP(CONCATENATE(G$5,$C12),'trend data'!$A$2:$O$11161,G$6,FALSE),3)","v":20.65},{"$f":"IFERROR(VLOOKUP(CONCATENATE(H$5,$C12),'trend data'!$A$2:$O$11161,H$6,FALSE),\"-\")","v":104},{"$f":"IFERROR(ROUND(VLOOKUP(CONCATENATE(I$5,$C12),'trend data'!$A$2:$O$11161,I$6,FALSE),3),\"-\")","v":7.7110000000000003},{"$f":"IFERROR(ROUND(VLOOKUP(CONCATENATE(J$5,$C12),'trend data'!$A$2:$O$11161,J$6,FALSE),3),\"-\")","v":6.3010000000000002},{"$f":"IFERROR(ROUND(VLOOKUP(CONCATENATE(K$5,$C12),'trend data'!$A$2:$O$11161,K$6,FALSE),3),\"-\")","v":9.3439999999999994},{"$f":"IFERROR(VLOOKUP(CONCATENATE(L$5,$C12),'trend data'!$A$2:$O$11161,L$6,FALSE),\"-\")","v":"-"},{"$f":"IFERROR(VLOOKUP(CONCATENATE(M$5,$C12),'trend data'!$A$2:$O$11161,M$6,FALSE),\"-\")","v":"-"},{"$f":"IFERROR(VLOOKUP(CONCATENATE(N$5,$C12),'trend data'!$A$2:$O$11161,N$6,FALSE),\"-\")","v":"-"},{"$f":"IFERROR(VLOOKUP(CONCATENATE(O$5,$C12),'trend data'!$A$2:$O$11161,O$6,FALSE),\"-\")","v":"-"},{"$f":"IFERROR(VLOOKUP(CONCATENATE(P$5,$C12),'trend data'!$A$2:$O$11161,P$6,FALSE),\"-\")","v":"-"},null,null,null,"202401",{"$f":"CONCATENATE(X$7,T12,'SAB Data and Charts'!B$1)","v":"SABHCAI202401Scotland"},4,"2024-03-25",{"$f":"ROUND(VLOOKUP($U12,'data for u-p-charts'!$A$2:$F$5000,X$5,FALSE),2)","v":17.04},{"$f":"ROUND(VLOOKUP($U12,'data for u-p-charts'!$A$2:$F$5000,Y$5,FALSE),2)","v":18.63},{"$f":"ROUND(VLOOKUP($U12,'data for u-p-charts'!$A$2:$F$5000,Z$5,FALSE),2)","v":20.79},{"$f":"ROUND(VLOOKUP($U12,'data for u-p-charts'!$A$2:$F$5000,AA$5,FALSE),2)","v":21.87},{"$f":"CONCATENATE(AC$7,$T12,'SAB Data and Charts'!$B$1)","v":"SABCAUN202401Scotland"},{"$f":"ROUND(VLOOKUP($AB12,'data for u-p-charts'!$A$2:$F$5000,AC$5,FALSE),2)","v":10.73},{"$f":"ROUND(VLOOKUP($AB12,'data for u-p-charts'!$A$2:$F$5000,AD$5,FALSE),2)","v":10.02},{"$f":"ROUND(VLOOKUP($AB12,'data for u-p-charts'!$A$2:$F$5000,AE$5,FALSE),2)","v":11.72},{"$f":"ROUND(VLOOKUP($AB12,'data for u-p-charts'!$A$2:$F$5000,AF$5,FALSE),2)","v":12.57},{"$f":"CONCATENATE(AH$7,$T12,'SAB Data and Charts'!$B$1)","v":"SAB 202401Scotland"},{"$f":"VLOOKUP($AG12,'data for u-p-charts'!$A$2:$F$5000,AH$5,FALSE)","v":{"$error":"#N/A"}},{"$f":"VLOOKUP($AG12,'data for u-p-charts'!$A$2:$F$5000,AI$5,FALSE)","v":{"$error":"#N/A"}},{"$f":"VLOOKUP($AG12,'data for u-p-charts'!$A$2:$F$5000,AJ$5,FALSE)","v":{"$error":"#N/A"}},{"$f":"VLOOKUP($AG12,'data for u-p-charts'!$A$2:$F$5000,AK$5,FALSE)","v":{"$error":"#N/A"}}]
[201601,"2016-03-24",{"$f":"CONCATENATE(A13,'SAB Data and Charts'!B$1)","v":"201601Scotland"},{"$f":"VLOOKUP(CONCATENATE(D$5,$C13),'trend data'!$A$2:$O$11161,D$6,FALSE)","v":279},{"$f":"ROUND(VLOOKUP(CONCATENATE(E$5,$C13),'trend data'!$A$2:$O$11161,E$6,FALSE),3)","v":16.661999999999999},{"$f":"ROUND(VLOOKUP(CONCATENATE(F$5,$C13),'trend data'!$A$2:$O$11161,F$6,FALSE),3)","v":14.763999999999999},{"$f":"ROUND(VLOOKUP(CONCATENATE(G$5,$C13),'trend data'!$A$2:$O$11161,G$6,FALSE),3)","v":18.736999999999998},{"$f":"IFERROR(VLOOKUP(CONCATENATE(H$5,$C13),'trend data'!$A$2:$O$11161,H$6,FALSE),\"-\")","v":139},{"$f":"IFERROR(ROUND(VLOOKUP(CONCATENATE(I$5,$C13),'trend data'!$A$2:$O$11161,I$6,FALSE),3),\"-\")","v":10.404},{"$f":"IFERROR(ROUND(VLOOKUP(CONCATENATE(J$5,$C13),'trend data'!$A$2:$O$11161,J$6,FALSE),3),\"-\")","v":8.7460000000000004},{"$f":"IFERROR(ROUND(VLOOKUP(CONCATENATE(K$5,$C13),'trend data'!$A$2:$O$11161,K$6,FALSE),3),\"-\")","v":12.284000000000001},{"$f":"IFERROR(VLOOKUP(CONCATENATE(L$5,$C13),'trend data'!$A$2:$O$11161,L$6,FALSE),\"-\")","v":"-"},{"$f":"IFERROR(VLOOKUP(CONCATENATE(M$5,$C13),'trend data'!$A$2:$O$11161,M$6,FALSE),\"-\")","v":"-"},{"$f":"IFERROR(VLOOKUP(CONCATENATE(N$5,$C13),'trend data'!$A$2:$O$11161,N$6,FALSE),\"-\")","v":"-"},{"$f":"IFERROR(VLOOKUP(CONCATENATE(O$5,$C13),'trend data'!$A$2:$O$11161,O$6,FALSE),\"-\")","v":"-"},{"$f":"IFERROR(VLOOKUP(CONCATENATE(P$5,$C13),'trend data'!$A$2:$O$11161,P$6,FALSE),\"-\")","v":"-"},null,null,null,"202402",{"$f":"CONCATENATE(X$7,T13,'SAB Data and Charts'!B$1)","v":"SABHCAI202402Scotland"},5,"2024-06-25",{"$f":"ROUND(VLOOKUP($U13,'data for u-p-charts'!$A$2:$F$5000,X$5,FALSE),2)","v":17.329999999999998},{"$f":"ROUND(VLOOKUP($U13,'data for u-p-charts'!$A$2:$F$5000,Y$5,FALSE),2)","v":18.63},{"$f":"ROUND(VLOOKUP($U13,'data for u-p-charts'!$A$2:$F$5000,Z$5,FALSE),2)","v":20.81},{"$f":"ROUND(VLOOKUP($U13,'data for u-p-charts'!$A$2:$F$5000,AA$5,FALSE),2)","v":21.91},{"$f":"CONCATENATE(AC$7,$T13,'SAB Data and Charts'!$B$1)","v":"SABCAUN202402Scotland"},{"$f":"ROUND(VLOOKUP($AB13,'data for u-p-charts'!$A$2:$F$5000,AC$5,FALSE),2)","v":9.86},{"$f":"ROUND(VLOOKUP($AB13,'data for u-p-charts'!$A$2:$F$5000,AD$5,FALSE),2)","v":10.02},{"$f":"ROUND(VLOOKUP($AB13,'data for u-p-charts'!$A$2:$F$5000,AE$5,FALSE),2)","v":11.72},{"$f":"ROUND(VLOOKUP($AB13,'data for u-p-charts'!$A$2:$F$5000,AF$5,FALSE),2)","v":12.57},{"$f":"CONCATENATE(AH$7,$T13,'SAB Data and Charts'!$B$1)","v":"SAB 202402Scotland"},{"$f":"VLOOKUP($AG13,'data for u-p-charts'!$A$2:$F$5000,AH$5,FALSE)","v":{"$error":"#N/A"}},{"$f":"VLOOKUP($AG13,'data for u-p-charts'!$A$2:$F$5000,AI$5,FALSE)","v":{"$error":"#N/A"}},{"$f":"VLOOKUP($AG13,'data for u-p-charts'!$A$2:$F$5000,AJ$5,FALSE)","v":{"$error":"#N/A"}},{"$f":"VLOOKUP($AG13,'data for u-p-charts'!$A$2:$F$5000,AK$5,FALSE)","v":{"$error":"#N/A"}}]
[201602,"2016-06-24",{"$f":"CONCATENATE(A14,'SAB Data and Charts'!B$1)","v":"201602Scotland"},{"$f":"VLOOKUP(CONCATENATE(D$5,$C14),'trend data'!$A$2:$O$11161,D$6,FALSE)","v":260},{"$f":"ROUND(VLOOKUP(CONCATENATE(E$5,$C14),'trend data'!$A$2:$O$11161,E$6,FALSE),3)","v":16.198},{"$f":"ROUND(VLOOKUP(CONCATENATE(F$5,$C14),'trend data'!$A$2:$O$11161,F$6,FALSE),3)","v":14.289},{"$f":"ROUND(VLOOKUP(CONCATENATE(G$5,$C14),'trend data'!$A$2:$O$11161,G$6,FALSE),3)","v":18.292000000000002},{"$f":"IFERROR(VLOOKUP(CONCATENATE(H$5,$C14),'trend data'!$A$2:$O$11161,H$6,FALSE),\"-\")","v":121},{"$f":"IFERROR(ROUND(VLOOKUP(CONCATENATE(I$5,$C14),'trend data'!$A$2:$O$11161,I$6,FALSE),3),\"-\")","v":9.0559999999999992},{"$f":"IFERROR(ROUND(VLOOKUP(CONCATENATE(J$5,$C14),'trend data'!$A$2:$O$11161,J$6,FALSE),3),\"-\")","v":7.5149999999999997},{"$f":"IFERROR(ROUND(VLOOKUP(CONCATENATE(K$5,$C14),'trend data'!$A$2:$O$11161,K$6,FALSE),3),\"-\")","v":10.821},{"$f":"IFERROR(VLOOKUP(CONCATENATE(L$5,$C14),'trend data'!$A$2:$O$11161,L$6,FALSE),\"-\")","v":"-"},{"$f":"IFERROR(VLOOKUP(CONCATENATE(M$5,$C14),'trend data'!$A$2:$O$11161,M$6,FALSE),\"-\")","v":"-"},{"$f":"IFERROR(VLOOKUP(CONCATENATE(N$5,$C14),'trend data'!$A$2:$O$11161,N$6,FALSE),\"-\")","v":"-"},{"$f":"IFERROR(VLOOKUP(CONCATENATE(O$5,$C14),'trend data'!$A$2:$O$11161,O$6,FALSE),\"-\")","v":"-"},{"$f":"IFERROR(VLOOKUP(CONCATENATE(P$5,$C14),'trend data'!$A$2:$O$11161,P$6,FALSE),\"-\")","v":"-"},null,null,null,"202403",{"$f":"CONCATENATE(X$7,T14,'SAB Data and Charts'!B$1)","v":"SABHCAI202403Scotland"},6,"2024-09-25",{"$f":"ROUND(VLOOKUP($U14,'data for u-p-charts'!$A$2:$F$5000,X$5,FALSE),2)","v":20.16},{"$f":"ROUND(VLOOKUP($U14,'data for u-p-charts'!$A$2:$F$5000,Y$5,FALSE),2)","v":18.63},{"$f":"ROUND(VLOOKUP($U14,'data for u-p-charts'!$A$2:$F$5000,Z$5,FALSE),2)","v":20.82},{"$f":"ROUND(VLOOKUP($U14,'data for u-p-charts'!$A$2:$F$5000,AA$5,FALSE),2)","v":21.91},{"$f":"CONCATENATE(AC$7,$T14,'SAB Data and Charts'!$B$1)","v":"SABCAUN202403Scotland"},{"$f":"ROUND(VLOOKUP($AB14,'data for u-p-charts'!$A$2:$F$5000,AC$5,FALSE),2)","v":10.26},{"$f":"ROUND(VLOOKUP($AB14,'data for u-p-charts'!$A$2:$F$5000,AD$5,FALSE),2)","v":10.02},{"$f":"ROUND(VLOOKUP($AB14,'data for u-p-charts'!$A$2:$F$5000,AE$5,FALSE),2)","v":11.71},{"$f":"ROUND(VLOOKUP($AB14,'data for u-p-charts'!$A$2:$F$5000,AF$5,FALSE),2)","v":12.56},{"$f":"CONCATENATE(AH$7,$T14,'SAB Data and Charts'!$B$1)","v":"SAB 202403Scotland"},{"$f":"VLOOKUP($AG14,'data for u-p-charts'!$A$2:$F$5000,AH$5,FALSE)","v":{"$error":"#N/A"}},{"$f":"VLOOKUP($AG14,'data for u-p-charts'!$A$2:$F$5000,AI$5,FALSE)","v":{"$error":"#N/A"}},{"$f":"VLOOKUP($AG14,'data for u-p-charts'!$A$2:$F$5000,AJ$5,FALSE)","v":{"$error":"#N/A"}},{"$f":"VLOOKUP($AG14,'data for u-p-charts'!$A$2:$F$5000,AK$5,FALSE)","v":{"$error":"#N/A"}}]
[201603,"2016-09-24",{"$f":"CONCATENATE(A15,'SAB Data and Charts'!B$1)","v":"201603Scotland"},{"$f":"VLOOKUP(CONCATENATE(D$5,$C15),'trend data'!$A$2:$O$11161,D$6,FALSE)","v":273},{"$f":"ROUND(VLOOKUP(CONCATENATE(E$5,$C15),'trend data'!$A$2:$O$11161,E$6,FALSE),3)","v":17.193000000000001},{"$f":"ROUND(VLOOKUP(CONCATENATE(F$5,$C15),'trend data'!$A$2:$O$11161,F$6,FALSE),3)","v":15.212999999999999},{"$f":"ROUND(VLOOKUP(CONCATENATE(G$5,$C15),'trend data'!$A$2:$O$11161,G$6,FALSE),3)","v":19.358000000000001},{"$f":"IFERROR(VLOOKUP(CONCATENATE(H$5,$C15),'trend data'!$A$2:$O$11161,H$6,FALSE),\"-\")","v":127},{"$f":"IFERROR(ROUND(VLOOKUP(CONCATENATE(I$5,$C15),'trend data'!$A$2:$O$11161,I$6,FALSE),3),\"-\")","v":9.4019999999999992},{"$f":"IFERROR(ROUND(VLOOKUP(CONCATENATE(J$5,$C15),'trend data'!$A$2:$O$11161,J$6,FALSE),3),\"-\")","v":7.8380000000000001},{"$f":"IFERROR(ROUND(VLOOKUP(CONCATENATE(K$5,$C15),'trend data'!$A$2:$O$11161,K$6,FALSE),3),\"-\")","v":11.186999999999999},{"$f":"IFERROR(VLOOKUP(CONCATENATE(L$5,$C15),'trend data'!$A$2:$O$11161,L$6,FALSE),\"-\")","v":"-"},{"$f":"IFERROR(VLOOKUP(CONCATENATE(M$5,$C15),'trend data'!$A$2:$O$11161,M$6,FALSE),\"-\")","v":"-"},{"$f":"IFERROR(VLOOKUP(CONCATENATE(N$5,$C15),'trend data'!$A$2:$O$11161,N$6,FALSE),\"-\")","v":"-"},{"$f":"IFERROR(VLOOKUP(CONCATENATE(O$5,$C15),'trend data'!$A$2:$O$11161,O$6,FALSE),\"-\")","v":"-"},{"$f":"IFERROR(VLOOKUP(CONCATENATE(P$5,$C15),'trend data'!$A$2:$O$11161,P$6,FALSE),\"-\")","v":"-"},null,null,null,"202404",{"$f":"CONCATENATE(X$7,T15,'SAB Data and Charts'!B$1)","v":"SABHCAI202404Scotland"},7,"2024-12-26",{"$f":"ROUND(VLOOKUP($U15,'data for u-p-charts'!$A$2:$F$5000,X$5,FALSE),2)","v":18.39},{"$f":"ROUND(VLOOKUP($U15,'data for u-p-charts'!$A$2:$F$5000,Y$5,FALSE),2)","v":18.63},{"$f":"ROUND(VLOOKUP($U15,'data for u-p-charts'!$A$2:$F$5000,Z$5,FALSE),2)","v":20.81},{"$f":"ROUND(VLOOKUP($U15,'data for u-p-charts'!$A$2:$F$5000,AA$5,FALSE),2)","v":21.9},{"$f":"CONCATENATE(AC$7,$T15,'SAB Data and Charts'!$B$1)","v":"SABCAUN202404Scotland"},{"$f":"ROUND(VLOOKUP($AB15,'data for u-p-charts'!$A$2:$F$5000,AC$5,FALSE),2)","v":10.54},{"$f":"ROUND(VLOOKUP($AB15,'data for u-p-charts'!$A$2:$F$5000,AD$5,FALSE),2)","v":10.02},{"$f":"ROUND(VLOOKUP($AB15,'data for u-p-charts'!$A$2:$F$5000,AE$5,FALSE),2)","v":11.71},{"$f":"ROUND(VLOOKUP($AB15,'data for u-p-charts'!$A$2:$F$5000,AF$5,FALSE),2)","v":12.56},{"$f":"CONCATENATE(AH$7,$T15,'SAB Data and Charts'!$B$1)","v":"SAB 202404Scotland"},{"$f":"VLOOKUP($AG15,'data for u-p-charts'!$A$2:$F$5000,AH$5,FALSE)","v":{"$error":"#N/A"}},{"$f":"VLOOKUP($AG15,'data for u-p-charts'!$A$2:$F$5000,AI$5,FALSE)","v":{"$error":"#N/A"}},{"$f":"VLOOKUP($AG15,'data for u-p-charts'!$A$2:$F$5000,AJ$5,FALSE)","v":{"$error":"#N/A"}},{"$f":"VLOOKUP($AG15,'data for u-p-charts'!$A$2:$F$5000,AK$5,FALSE)","v":{"$error":"#N/A"}}]
[201604,"2016-12-24",{"$f":"CONCATENATE(A16,'SAB Data and Charts'!B$1)","v":"201604Scotland"},{"$f":"VLOOKUP(CONCATENATE(D$5,$C16),'trend data'!$A$2:$O$11161,D$6,FALSE)","v":265},{"$f":"ROUND(VLOOKUP(CONCATENATE(E$5,$C16),'trend data'!$A$2:$O$11161,E$6,FALSE),3)","v":16.649000000000001},{"$f":"ROUND(VLOOKUP(CONCATENATE(F$5,$C16),'trend data'!$A$2:$O$11161,F$6,FALSE),3)","v":14.705},{"$f":"ROUND(VLOOKUP(CONCATENATE(G$5,$C16),'trend data'!$A$2:$O$11161,G$6,FALSE),3)","v":18.779},{"$f":"IFERROR(VLOOKUP(CONCATENATE(H$5,$C16),'trend data'!$A$2:$O$11161,H$6,FALSE),\"-\")","v":135},{"$f":"IFERROR(ROUND(VLOOKUP(CONCATENATE(I$5,$C16),'trend data'!$A$2:$O$11161,I$6,FALSE),3),\"-\")","v":9.9949999999999992},{"$f":"IFERROR(ROUND(VLOOKUP(CONCATENATE(J$5,$C16),'trend data'!$A$2:$O$11161,J$6,FALSE),3),\"-\")","v":8.3800000000000008},{"$f":"IFERROR(ROUND(VLOOKUP(CONCATENATE(K$5,$C16),'trend data'!$A$2:$O$11161,K$6,FALSE),3),\"-\")","v":11.83},{"$f":"IFERROR(VLOOKUP(CONCATENATE(L$5,$C16),'trend data'!$A$2:$O$11161,L$6,FALSE),\"-\")","v":"-"},{"$f":"IFERROR(VLOOKUP(CONCATENATE(M$5,$C16),'trend data'!$A$2:$O$11161,M$6,FALSE),\"-\")","v":"-"},{"$f":"IFERROR(VLOOKUP(CONCATENATE(N$5,$C16),'trend data'!$A$2:$O$11161,N$6,FALSE),\"-\")","v":"-"},{"$f":"IFERROR(VLOOKUP(CONCATENATE(O$5,$C16),'trend data'!$A$2:$O$11161,O$6,FALSE),\"-\")","v":"-"},{"$f":"IFERROR(VLOOKUP(CONCATENATE(P$5,$C16),'trend data'!$A$2:$O$11161,P$6,FALSE),\"-\")","v":"-"},null,null,null,"202501",{"$f":"CONCATENATE(X$7,T16,'SAB Data and Charts'!B$1)","v":"SABHCAI202501Scotland"},8,"2025-03-28",{"$f":"ROUND(VLOOKUP($U16,'data for u-p-charts'!$A$2:$F$5000,X$5,FALSE),2)","v":18.23},{"$f":"ROUND(VLOOKUP($U16,'data for u-p-charts'!$A$2:$F$5000,Y$5,FALSE),2)","v":18.63},{"$f":"ROUND(VLOOKUP($U16,'data for u-p-charts'!$A$2:$F$5000,Z$5,FALSE),2)","v":20.82},{"$f":"ROUND(VLOOKUP($U16,'data for u-p-charts'!$A$2:$F$5000,AA$5,FALSE),2)","v":21.91},{"$f":"CONCATENATE(AC$7,$T16,'SAB Data and Charts'!$B$1)","v":"SABCAUN202501Scotland"},{"$f":"ROUND(VLOOKUP($AB16,'data for u-p-charts'!$A$2:$F$5000,AC$5,FALSE),2)","v":8.99},{"$f":"ROUND(VLOOKUP($AB16,'data for u-p-charts'!$A$2:$F$5000,AD$5,FALSE),2)","v":10.02},{"$f":"ROUND(VLOOKUP($AB16,'data for u-p-charts'!$A$2:$F$5000,AE$5,FALSE),2)","v":11.73},{"$f":"ROUND(VLOOKUP($AB16,'data for u-p-charts'!$A$2:$F$5000,AF$5,FALSE),2)","v":12.58},{"$f":"CONCATENATE(AH$7,$T16,'SAB Data and Charts'!$B$1)","v":"SAB 202501Scotland"},{"$f":"VLOOKUP($AG16,'data for u-p-charts'!$A$2:$F$5000,AH$5,FALSE)","v":{"$error":"#N/A"}},{"$f":"VLOOKUP($AG16,'data for u-p-charts'!$A$2:$F$5000,AI$5,FALSE)","v":{"$error":"#N/A"}},{"$f":"VLOOKUP($AG16,'data for u-p-charts'!$A$2:$F$5000,AJ$5,FALSE)","v":{"$error":"#N/A"}},{"$f":"VLOOKUP($AG16,'data for u-p-charts'!$A$2:$F$5000,AK$5,FALSE)","v":{"$error":"#N/A"}}]
[201701,"2017-03-01",{"$f":"CONCATENATE(A17,'SAB Data and Charts'!B$1)","v":"201701Scotland"},{"$f":"VLOOKUP(CONCATENATE(D$5,$C17),'trend data'!$A$2:$O$11161,D$6,FALSE)","v":259},{"$f":"ROUND(VLOOKUP(CONCATENATE(E$5,$C17),'trend data'!$A$2:$O$11161,E$6,FALSE),3)","v":16.379000000000001},{"$f":"ROUND(VLOOKUP(CONCATENATE(F$5,$C17),'trend data'!$A$2:$O$11161,F$6,FALSE),3)","v":14.444000000000001},{"$f":"ROUND(VLOOKUP(CONCATENATE(G$5,$C17),'trend data'!$A$2:$O$11161,G$6,FALSE),3)","v":18.5},{"$f":"IFERROR(VLOOKUP(CONCATENATE(H$5,$C17),'trend data'!$A$2:$O$11161,H$6,FALSE),\"-\")","v":142},{"$f":"IFERROR(ROUND(VLOOKUP(CONCATENATE(I$5,$C17),'trend data'!$A$2:$O$11161,I$6,FALSE),3),\"-\")","v":10.688000000000001},{"$f":"IFERROR(ROUND(VLOOKUP(CONCATENATE(J$5,$C17),'trend data'!$A$2:$O$11161,J$6,FALSE),3),\"-\")","v":9.0020000000000007},{"$f":"IFERROR(ROUND(VLOOKUP(CONCATENATE(K$5,$C17),'trend data'!$A$2:$O$11161,K$6,FALSE),3),\"-\")","v":12.598000000000001},{"$f":"IFERROR(VLOOKUP(CONCATENATE(L$5,$C17),'trend data'!$A$2:$O$11161,L$6,FALSE),\"-\")","v":"-"},{"$f":"IFERROR(VLOOKUP(CONCATENATE(M$5,$C17),'trend data'!$A$2:$O$11161,M$6,FALSE),\"-\")","v":"-"},{"$f":"IFERROR(VLOOKUP(CONCATENATE(N$5,$C17),'trend data'!$A$2:$O$11161,N$6,FALSE),\"-\")","v":"-"},{"$f":"IFERROR(VLOOKUP(CONCATENATE(O$5,$C17),'trend data'!$A$2:$O$11161,O$6,FALSE),\"-\")","v":"-"},{"$f":"IFERROR(VLOOKUP(CONCATENATE(P$5,$C17),'trend data'!$A$2:$O$11161,P$6,FALSE),\"-\")","v":"-"},null,null,null,"202502",{"$f":"CONCATENATE(X$7,T17,'SAB Data and Charts'!B$1)","v":"SABHCAI202502Scotland"},9,"2025-06-28",{"$f":"ROUND(VLOOKUP($U17,'data for u-p-charts'!$A$2:$F$5000,X$5,FALSE),2)","v":19.86},{"$f":"ROUND(VLOOKUP($U17,'data for u-p-charts'!$A$2:$F$5000,Y$5,FALSE),2)","v":18.63},{"$f":"ROUND(VLOOKUP($U17,'data for u-p-charts'!$A$2:$F$5000,Z$5,FALSE),2)","v":20.84},{"$f":"ROUND(VLOOKUP($U17,'data for u-p-charts'!$A$2:$F$5000,AA$5,FALSE),2)","v":21.94},{"$f":"CONCATENATE(AC$7,$T17,'SAB Data and Charts'!$B$1)","v":"SABCAUN202502Scotland"},{"$f":"ROUND(VLOOKUP($AB17,'data for u-p-charts'!$A$2:$F$5000,AC$5,FALSE),2)","v":11.28},{"$f":"ROUND(VLOOKUP($AB17,'data for u-p-charts'!$A$2:$F$5000,AD$5,FALSE),2)","v":10.02},{"$f":"ROUND(VLOOKUP($AB17,'data for u-p-charts'!$A$2:$F$5000,AE$5,FALSE),2)","v":11.72},{"$f":"ROUND(VLOOKUP($AB17,'data for u-p-charts'!$A$2:$F$5000,AF$5,FALSE),2)","v":12.57},{"$f":"CONCATENATE(AH$7,$T17,'SAB Data and Charts'!$B$1)","v":"SAB 202502Scotland"},{"$f":"VLOOKUP($AG17,'data for u-p-charts'!$A$2:$F$5000,AH$5,FALSE)","v":{"$error":"#N/A"}},{"$f":"VLOOKUP($AG17,'data for u-p-charts'!$A$2:$F$5000,AI$5,FALSE)","v":{"$error":"#N/A"}},{"$f":"VLOOKUP($AG17,'data for u-p-charts'!$A$2:$F$5000,AJ$5,FALSE)","v":{"$error":"#N/A"}},{"$f":"VLOOKUP($AG17,'data for u-p-charts'!$A$2:$F$5000,AK$5,FALSE)","v":{"$error":"#N/A"}}]
[201702,"2017-06-01",{"$f":"CONCATENATE(A18,'SAB Data and Charts'!B$1)","v":"201702Scotland"},{"$f":"VLOOKUP(CONCATENATE(D$5,$C18),'trend data'!$A$2:$O$11161,D$6,FALSE)","v":248},{"$f":"ROUND(VLOOKUP(CONCATENATE(E$5,$C18),'trend data'!$A$2:$O$11161,E$6,FALSE),3)","v":15.994},{"$f":"ROUND(VLOOKUP(CONCATENATE(F$5,$C18),'trend data'!$A$2:$O$11161,F$6,FALSE),3)","v":14.065},{"$f":"ROUND(VLOOKUP(CONCATENATE(G$5,$C18),'trend data'!$A$2:$O$11161,G$6,FALSE),3)","v":18.114000000000001},{"$f":"IFERROR(VLOOKUP(CONCATENATE(H$5,$C18),'trend data'!$A$2:$O$11161,H$6,FALSE),\"-\")","v":126},{"$f":"IFERROR(ROUND(VLOOKUP(CONCATENATE(I$5,$C18),'trend data'!$A$2:$O$11161,I$6,FALSE),3),\"-\")","v":9.3789999999999996},{"$f":"IFERROR(ROUND(VLOOKUP(CONCATENATE(J$5,$C18),'trend data'!$A$2:$O$11161,J$6,FALSE),3),\"-\")","v":7.8129999999999997},{"$f":"IFERROR(ROUND(VLOOKUP(CONCATENATE(K$5,$C18),'trend data'!$A$2:$O$11161,K$6,FALSE),3),\"-\")","v":11.167999999999999},{"$f":"IFERROR(VLOOKUP(CONCATENATE(L$5,$C18),'trend data'!$A$2:$O$11161,L$6,FALSE),\"-\")","v":"-"},{"$f":"IFERROR(VLOOKUP(CONCATENATE(M$5,$C18),'trend data'!$A$2:$O$11161,M$6,FALSE),\"-\")","v":"-"},{"$f":"IFERROR(VLOOKUP(CONCATENATE(N$5,$C18),'trend data'!$A$2:$O$11161,N$6,FALSE),\"-\")","v":"-"},{"$f":"IFERROR(VLOOKUP(CONCATENATE(O$5,$C18),'trend data'!$A$2:$O$11161,O$6,FALSE),\"-\")","v":"-"},{"$f":"IFERROR(VLOOKUP(CONCATENATE(P$5,$C18),'trend data'!$A$2:$O$11161,P$6,FALSE),\"-\")","v":"-"},null,null,null,"202503",{"$f":"CONCATENATE(X$7,T18,'SAB Data and Charts'!B$1)","v":"SABHCAI202503Scotland"},10,"2025-09-28",{"$f":"ROUND(VLOOKUP($U18,'data for u-p-charts'!$A$2:$F$5000,X$5,FALSE),2)","v":19.43},{"$f":"ROUND(VLOOKUP($U18,'data for u-p-charts'!$A$2:$F$5000,Y$5,FALSE),2)","v":18.63},{"$f":"ROUND(VLOOKUP($U18,'data for u-p-charts'!$A$2:$F$5000,Z$5,FALSE),2)","v":20.84},{"$f":"ROUND(VLOOKUP($U18,'data for u-p-charts'!$A$2:$F$5000,AA$5,FALSE),2)","v":21.94},{"$f":"CONCATENATE(AC$7,$T18,'SAB Data and Charts'!$B$1)","v":"SABCAUN202503Scotland"},{"$f":"ROUND(VLOOKUP($AB18,'data for u-p-charts'!$A$2:$F$5000,AC$5,FALSE),2)","v":9.01},{"$f":"ROUND(VLOOKUP($AB18,'data for u-p-charts'!$A$2:$F$5000,AD$5,FALSE),2)","v":10.02},{"$f":"ROUND(VLOOKUP($AB18,'data for u-p-charts'!$A$2:$F$5000,AE$5,FALSE),2)","v":11.71},{"$f":"ROUND(VLOOKUP($AB18,'data for u-p-charts'!$A$2:$F$5000,AF$5,FALSE),2)","v":12.55},{"$f":"CONCATENATE(AH$7,$T18,'SAB Data and Charts'!$B$1)","v":"SAB 202503Scotland"},{"$f":"VLOOKUP($AG18,'data for u-p-charts'!$A$2:$F$5000,AH$5,FALSE)","v":{"$error":"#N/A"}},{"$f":"VLOOKUP($AG18,'data for u-p-charts'!$A$2:$F$5000,AI$5,FALSE)","v":{"$error":"#N/A"}},{"$f":"VLOOKUP($AG18,'data for u-p-charts'!$A$2:$F$5000,AJ$5,FALSE)","v":{"$error":"#N/A"}},{"$f":"VLOOKUP($AG18,'data for u-p-charts'!$A$2:$F$5000,AK$5,FALSE)","v":{"$error":"#N/A"}}]
[201703,"2017-09-01",{"$f":"CONCATENATE(A19,'SAB Data and Charts'!B$1)","v":"201703Scotland"},{"$f":"VLOOKUP(CONCATENATE(D$5,$C19),'trend data'!$A$2:$O$11161,D$6,FALSE)","v":278},{"$f":"ROUND(VLOOKUP(CONCATENATE(E$5,$C19),'trend data'!$A$2:$O$11161,E$6,FALSE),3)","v":18.065999999999999},{"$f":"ROUND(VLOOKUP(CONCATENATE(F$5,$C19),'trend data'!$A$2:$O$11161,F$6,FALSE),3)","v":16.004000000000001},{"$f":"ROUND(VLOOKUP(CONCATENATE(G$5,$C19),'trend data'!$A$2:$O$11161,G$6,FALSE),3)","v":20.318999999999999},{"$f":"IFERROR(VLOOKUP(CONCATENATE(H$5,$C19),'trend data'!$A$2:$O$11161,H$6,FALSE),\"-\")","v":127},{"$f":"IFERROR(ROUND(VLOOKUP(CONCATENATE(I$5,$C19),'trend data'!$A$2:$O$11161,I$6,FALSE),3),\"-\")","v":9.3510000000000009},{"$f":"IFERROR(ROUND(VLOOKUP(CONCATENATE(J$5,$C19),'trend data'!$A$2:$O$11161,J$6,FALSE),3),\"-\")","v":7.7949999999999999},{"$f":"IFERROR(ROUND(VLOOKUP(CONCATENATE(K$5,$C19),'trend data'!$A$2:$O$11161,K$6,FALSE),3),\"-\")","v":11.125999999999999},{"$f":"IFERROR(VLOOKUP(CONCATENATE(L$5,$C19),'trend data'!$A$2:$O$11161,L$6,FALSE),\"-\")","v":"-"},{"$f":"IFERROR(VLOOKUP(CONCATENATE(M$5,$C19),'trend data'!$A$2:$O$11161,M$6,FALSE),\"-\")","v":"-"},{"$f":"IFERROR(VLOOKUP(CONCATENATE(N$5,$C19),'trend data'!$A$2:$O$11161,N$6,FALSE),\"-\")","v":"-"},{"$f":"IFERROR(VLOOKUP(CONCATENATE(O$5,$C19),'trend data'!$A$2:$O$11161,O$6,FALSE),\"-\")","v":"-"},{"$f":"IFERROR(VLOOKUP(CONCATENATE(P$5,$C19),'trend data'!$A$2:$O$11161,P$6,FALSE),\"-\")","v":"-"},null,null,null,"202504",{"$f":"CONCATENATE(X$7,T19,'SAB Data and Charts'!B$1)","v":"SABHCAI202504Scotland"},11,{"$f":"W20-92","v":"2025-12-29"},{"$f":"ROUND(VLOOKUP($U19,'data for u-p-charts'!$A$2:$F$5000,X$5,FALSE),2)","v":18.38},{"$f":"ROUND(VLOOKUP($U19,'data for u-p-charts'!$A$2:$F$5000,Y$5,FALSE),2)","v":18.63},{"$f":"ROUND(VLOOKUP($U19,'data for u-p-charts'!$A$2:$F$5000,Z$5,FALSE),2)","v":20.83},{"$f":"ROUND(VLOOKUP($U19,'data for u-p-charts'!$A$2:$F$5000,AA$5,FALSE),2)","v":21.93},{"$f":"CONCATENATE(AC$7,$T19,'SAB Data and Charts'!$B$1)","v":"SABCAUN202504Scotland"},{"$f":"ROUND(VLOOKUP($AB19,'data for u-p-charts'!$A$2:$F$5000,AC$5,FALSE),2)","v":9.44},{"$f":"ROUND(VLOOKUP($AB19,'data for u-p-charts'!$A$2:$F$5000,AD$5,FALSE),2)","v":10.02},{"$f":"ROUND(VLOOKUP($AB19,'data for u-p-charts'!$A$2:$F$5000,AE$5,FALSE),2)","v":11.71},{"$f":"ROUND(VLOOKUP($AB19,'data for u-p-charts'!$A$2:$F$5000,AF$5,FALSE),2)","v":12.55},{"$f":"CONCATENATE(AH$7,$T19,'SAB Data and Charts'!$B$1)","v":"SAB 202504Scotland"},{"$f":"VLOOKUP($AG19,'data for u-p-charts'!$A$2:$F$5000,AH$5,FALSE)","v":{"$error":"#N/A"}},{"$f":"VLOOKUP($AG19,'data for u-p-charts'!$A$2:$F$5000,AI$5,FALSE)","v":{"$error":"#N/A"}},{"$f":"VLOOKUP($AG19,'data for u-p-charts'!$A$2:$F$5000,AJ$5,FALSE)","v":{"$error":"#N/A"}},{"$f":"VLOOKUP($AG19,'data for u-p-charts'!$A$2:$F$5000,AK$5,FALSE)","v":{"$error":"#N/A"}}]
[201704,"2017-12-01",{"$f":"CONCATENATE(A20,'SAB Data and Charts'!B$1)","v":"201704Scotland"},{"$f":"VLOOKUP(CONCATENATE(D$5,$C20),'trend data'!$A$2:$O$11161,D$6,FALSE)","v":262},{"$f":"ROUND(VLOOKUP(CONCATENATE(E$5,$C20),'trend data'!$A$2:$O$11161,E$6,FALSE),3)","v":16.635000000000002},{"$f":"ROUND(VLOOKUP(CONCATENATE(F$5,$C20),'trend data'!$A$2:$O$11161,F$6,FALSE),3)","v":14.682},{"$f":"ROUND(VLOOKUP(CONCATENATE(G$5,$C20),'trend data'!$A$2:$O$11161,G$6,FALSE),3)","v":18.776},{"$f":"IFERROR(VLOOKUP(CONCATENATE(H$5,$C20),'trend data'!$A$2:$O$11161,H$6,FALSE),\"-\")","v":132},{"$f":"IFERROR(ROUND(VLOOKUP(CONCATENATE(I$5,$C20),'trend data'!$A$2:$O$11161,I$6,FALSE),3),\"-\")","v":9.7189999999999994},{"$f":"IFERROR(ROUND(VLOOKUP(CONCATENATE(J$5,$C20),'trend data'!$A$2:$O$11161,J$6,FALSE),3),\"-\")","v":8.1319999999999997},{"$f":"IFERROR(ROUND(VLOOKUP(CONCATENATE(K$5,$C20),'trend data'!$A$2:$O$11161,K$6,FALSE),3),\"-\")","v":11.526},{"$f":"IFERROR(VLOOKUP(CONCATENATE(L$5,$C20),'trend data'!$A$2:$O$11161,L$6,FALSE),\"-\")","v":"-"},{"$f":"IFERROR(VLOOKUP(CONCATENATE(M$5,$C20),'trend data'!$A$2:$O$11161,M$6,FALSE),\"-\")","v":"-"},{"$f":"IFERROR(VLOOKUP(CONCATENATE(N$5,$C20),'trend data'!$A$2:$O$11161,N$6,FALSE),\"-\")","v":"-"},{"$f":"IFERROR(VLOOKUP(CONCATENATE(O$5,$C20),'trend data'!$A$2:$O$11161,O$6,FALSE),\"-\")","v":"-"},{"$f":"IFERROR(VLOOKUP(CONCATENATE(P$5,$C20),'trend data'!$A$2:$O$11161,P$6,FALSE),\"-\")","v":"-"},null,null,null,"202601",{"$f":"CONCATENATE(X$7,T20,'SAB Data and Charts'!B$1)","v":"SABHCAI202601Scotland"},12,{"$f":"W5","v":"2026-03-31"},{"$f":"ROUND(VLOOKUP($U20,'data for u-p-charts'!$A$2:$F$5000,X$5,FALSE),2)","v":18.89},{"$f":"ROUND(VLOOKUP($U20,'data for u-p-charts'!$A$2:$F$5000,Y$5,FALSE),2)","v":18.63},{"$f":"ROUND(VLOOKUP($U20,'data for u-p-charts'!$A$2:$F$5000,Z$5,FALSE),2)","v":20.82},{"$f":"ROUND(VLOOKUP($U20,'data for u-p-charts'!$A$2:$F$5000,AA$5,FALSE),2)","v":21.92},{"$f":"CONCATENATE(AC$7,$T20,'SAB Data and Charts'!$B$1)","v":"SABCAUN202601Scotland"},{"$f":"ROUND(VLOOKUP($AB20,'data for u-p-charts'!$A$2:$F$5000,AC$5,FALSE),2)","v":10.02},{"$f":"ROUND(VLOOKUP($AB20,'data for u-p-charts'!$A$2:$F$5000,AD$5,FALSE),2)","v":10.02},{"$f":"ROUND(VLOOKUP($AB20,'data for u-p-charts'!$A$2:$F$5000,AE$5,FALSE),2)","v":11.73},{"$f":"ROUND(VLOOKUP($AB20,'data for u-p-charts'!$A$2:$F$5000,AF$5,FALSE),2)","v":12.58},{"$f":"CONCATENATE(AH$7,$T20,'SAB Data and Charts'!$B$1)","v":"SAB 202601Scotland"},{"$f":"VLOOKUP($AG20,'data for u-p-charts'!$A$2:$F$5000,AH$5,FALSE)","v":{"$error":"#N/A"}},{"$f":"VLOOKUP($AG20,'data for u-p-charts'!$A$2:$F$5000,AI$5,FALSE)","v":{"$error":"#N/A"}},{"$f":"VLOOKUP($AG20,'data for u-p-charts'!$A$2:$F$5000,AJ$5,FALSE)","v":{"$error":"#N/A"}},{"$f":"VLOOKUP($AG20,'data for u-p-charts'!$A$2:$F$5000,AK$5,FALSE)","v":{"$error":"#N/A"}}]
[201801,"2018-03-01",{"$f":"CONCATENATE(A21,'SAB Data and Charts'!B$1)","v":"201801Scotland"},{"$f":"IFERROR(VLOOKUP(CONCATENATE(D$5,$C21),'trend data'!$A$2:$O$11161,D$6,FALSE),\"-\")","v":296},{"$f":"ROUND(VLOOKUP(CONCATENATE(E$5,$C21),'trend data'!$A$2:$O$11161,E$6,FALSE),3)","v":18.672000000000001},{"$f":"ROUND(VLOOKUP(CONCATENATE(F$5,$C21),'trend data'!$A$2:$O$11161,F$6,FALSE),3)","v":16.605},{"$f":"ROUND(VLOOKUP(CONCATENATE(G$5,$C21),'trend data'!$A$2:$O$11161,G$6,FALSE),3)","v":20.925000000000001},{"$f":"IFERROR(VLOOKUP(CONCATENATE(H$5,$C21),'trend data'!$A$2:$O$11161,H$6,FALSE),\"-\")","v":135},{"$f":"IFERROR(ROUND(VLOOKUP(CONCATENATE(I$5,$C21),'trend data'!$A$2:$O$11161,I$6,FALSE), 4),\"-\")","v":10.153700000000001},{"$f":"IFERROR(ROUND(VLOOKUP(CONCATENATE(J$5,$C21),'trend data'!$A$2:$O$11161,J$6,FALSE),3),\"-\")","v":8.5129999999999999},{"$f":"IFERROR(ROUND(VLOOKUP(CONCATENATE(K$5,$C21),'trend data'!$A$2:$O$11161,K$6,FALSE),3),\"-\")","v":12.018000000000001},{"$f":"IFERROR(VLOOKUP(CONCATENATE(L$5,$C21),'trend data'!$A$2:$O$11161,L$6,FALSE),\"-\")","v":"-"},{"$f":"IFERROR(VLOOKUP(CONCATENATE(M$5,$C21),'trend data'!$A$2:$O$11161,M$6,FALSE),\"-\")","v":"-"},{"$f":"IFERROR(VLOOKUP(CONCATENATE(N$5,$C21),'trend data'!$A$2:$O$11161,N$6,FALSE),\"-\")","v":"-"},{"$f":"IFERROR(VLOOKUP(CONCATENATE(O$5,$C21),'trend data'!$A$2:$O$11161,O$6,FALSE),\"-\")","v":"-"},{"$f":"IFERROR(VLOOKUP(CONCATENATE(P$5,$C21),'trend data'!$A$2:$O$11161,P$6,FALSE),\"-\")","v":"-"}]
[201802,"2018-06-01",{"$f":"CONCATENATE(A22,'SAB Data and Charts'!B$1)","v":"201802Scotland"},{"$f":"IFERROR(VLOOKUP(CONCATENATE(D$5,$C22),'trend data'!$A$2:$O$11161,D$6,FALSE),\"-\")","v":264},{"$f":"ROUND(VLOOKUP(CONCATENATE(E$5,$C22),'trend data'!$A$2:$O$11161,E$6,FALSE),3)","v":17.308},{"$f":"ROUND(VLOOKUP(CONCATENATE(F$5,$C22),'trend data'!$A$2:$O$11161,F$6,FALSE),3)","v":15.282},{"$f":"ROUND(VLOOKUP(CONCATENATE(G$5,$C22),'trend data'!$A$2:$O$11161,G$6,FALSE),3)","v":19.526},{"$f":"IFERROR(VLOOKUP(CONCATENATE(H$5,$C22),'trend data'!$A$2:$O$11161,H$6,FALSE),\"-\")","v":123},{"$f":"IFERROR(ROUND(VLOOKUP(CONCATENATE(I$5,$C22),'trend data'!$A$2:$O$11161,I$6,FALSE),4),\"-\")","v":9.1494999999999997},{"$f":"IFERROR(ROUND(VLOOKUP(CONCATENATE(J$5,$C22),'trend data'!$A$2:$O$11161,J$6,FALSE),3),\"-\")","v":7.6040000000000001},{"$f":"IFERROR(ROUND(VLOOKUP(CONCATENATE(K$5,$C22),'trend data'!$A$2:$O$11161,K$6,FALSE),3),\"-\")","v":10.917},{"$f":"IFERROR(VLOOKUP(CONCATENATE(L$5,$C22),'trend data'!$A$2:$O$11161,L$6,FALSE),\"-\")","v":"-"},{"$f":"IFERROR(VLOOKUP(CONCATENATE(M$5,$C22),'trend data'!$A$2:$O$11161,M$6,FALSE),\"-\")","v":"-"},{"$f":"IFERROR(VLOOKUP(CONCATENATE(N$5,$C22),'trend data'!$A$2:$O$11161,N$6,FALSE),\"-\")","v":"-"},{"$f":"IFERROR(VLOOKUP(CONCATENATE(O$5,$C22),'trend data'!$A$2:$O$11161,O$6,FALSE),\"-\")","v":"-"},{"$f":"IFERROR(VLOOKUP(CONCATENATE(P$5,$C22),'trend data'!$A$2:$O$11161,P$6,FALSE),\"-\")","v":"-"}]
[201803,"2018-09-01",{"$f":"CONCATENATE(A23,'SAB Data and Charts'!B$1)","v":"201803Scotland"},{"$f":"IFERROR(VLOOKUP(CONCATENATE(D$5,$C23),'trend data'!$A$2:$O$11161,D$6,FALSE),\"-\")","v":253},{"$f":"ROUND(VLOOKUP(CONCATENATE(E$5,$C23),'trend data'!$A$2:$O$11161,E$6,FALSE),3)","v":16.736999999999998},{"$f":"ROUND(VLOOKUP(CONCATENATE(F$5,$C23),'trend data'!$A$2:$O$11161,F$6,FALSE),3)","v":14.738},{"$f":"ROUND(VLOOKUP(CONCATENATE(G$5,$C23),'trend data'!$A$2:$O$11161,G$6,FALSE),3)","v":18.931999999999999},{"$f":"IFERROR(VLOOKUP(CONCATENATE(H$5,$C23),'trend data'!$A$2:$O$11161,H$6,FALSE),\"-\")","v":132},{"$f":"IFERROR(ROUND(VLOOKUP(CONCATENATE(I$5,$C23),'trend data'!$A$2:$O$11161,I$6,FALSE),3),\"-\")","v":9.7119999999999997},{"$f":"IFERROR(ROUND(VLOOKUP(CONCATENATE(J$5,$C23),'trend data'!$A$2:$O$11161,J$6,FALSE),3),\"-\")","v":8.1259999999999994},{"$f":"IFERROR(ROUND(VLOOKUP(CONCATENATE(K$5,$C23),'trend data'!$A$2:$O$11161,K$6,FALSE),3),\"-\")","v":11.518000000000001},{"$f":"IFERROR(VLOOKUP(CONCATENATE(L$5,$C23),'trend data'!$A$2:$O$11161,L$6,FALSE),\"-\")","v":"-"},{"$f":"IFERROR(VLOOKUP(CONCATENATE(M$5,$C23),'trend data'!$A$2:$O$11161,M$6,FALSE),\"-\")","v":"-"},{"$f":"IFERROR(VLOOKUP(CONCATENATE(N$5,$C23),'trend data'!$A$2:$O$11161,N$6,FALSE),\"-\")","v":"-"},{"$f":"IFERROR(VLOOKUP(CONCATENATE(O$5,$C23),'trend data'!$A$2:$O$11161,O$6,FALSE),\"-\")","v":"-"},{"$f":"IFERROR(VLOOKUP(CONCATENATE(P$5,$C23),'trend data'!$A$2:$O$11161,P$6,FALSE),\"-\")","v":"-"}]
[201804,"2018-12-01",{"$f":"CONCATENATE(A24,'SAB Data and Charts'!B$1)","v":"201804Scotland"},{"$f":"IFERROR(VLOOKUP(CONCATENATE(D$5,$C24),'trend data'!$A$2:$O$11161,D$6,FALSE),\"-\")","v":269},{"$f":"ROUND(VLOOKUP(CONCATENATE(E$5,$C24),'trend data'!$A$2:$O$11161,E$6,FALSE),3)","v":17.672000000000001},{"$f":"ROUND(VLOOKUP(CONCATENATE(F$5,$C24),'trend data'!$A$2:$O$11161,F$6,FALSE),3)","v":15.622999999999999},{"$f":"ROUND(VLOOKUP(CONCATENATE(G$5,$C24),'trend data'!$A$2:$O$11161,G$6,FALSE),3)","v":19.914999999999999},{"$f":"IFERROR(VLOOKUP(CONCATENATE(H$5,$C24),'trend data'!$A$2:$O$11161,H$6,FALSE),\"-\")","v":113},{"$f":"IFERROR(ROUND(VLOOKUP(CONCATENATE(I$5,$C24),'trend data'!$A$2:$O$11161,I$6,FALSE),3),\"-\")","v":8.3140000000000001},{"$f":"IFERROR(ROUND(VLOOKUP(CONCATENATE(J$5,$C24),'trend data'!$A$2:$O$11161,J$6,FALSE),3),\"-\")","v":6.8520000000000003},{"$f":"IFERROR(ROUND(VLOOKUP(CONCATENATE(K$5,$C24),'trend data'!$A$2:$O$11161,K$6,FALSE),3),\"-\")","v":9.9960000000000004},{"$f":"IFERROR(VLOOKUP(CONCATENATE(L$5,$C24),'trend data'!$A$2:$O$11161,L$6,FALSE),\"-\")","v":"-"},{"$f":"IFERROR(VLOOKUP(CONCATENATE(M$5,$C24),'trend data'!$A$2:$O$11161,M$6,FALSE),\"-\")","v":"-"},{"$f":"IFERROR(VLOOKUP(CONCATENATE(N$5,$C24),'trend data'!$A$2:$O$11161,N$6,FALSE),\"-\")","v":"-"},{"$f":"IFERROR(VLOOKUP(CONCATENATE(O$5,$C24),'trend data'!$A$2:$O$11161,O$6,FALSE),\"-\")","v":"-"},{"$f":"IFERROR(VLOOKUP(CONCATENATE(P$5,$C24),'trend data'!$A$2:$O$11161,P$6,FALSE),\"-\")","v":"-"}]
[201901,"2019-03-01",{"$f":"CONCATENATE(A25,'SAB Data and Charts'!B$1)","v":"201901Scotland"},{"$f":"IFERROR(VLOOKUP(CONCATENATE(D$5,$C25),'trend data'!$A$2:$O$11161,D$6,FALSE),\"-\")","v":240},{"$f":"ROUND(VLOOKUP(CONCATENATE(E$5,$C25),'trend data'!$A$2:$O$11161,E$6,FALSE),3)","v":15.6},{"$f":"ROUND(VLOOKUP(CONCATENATE(F$5,$C25),'trend data'!$A$2:$O$11161,F$6,FALSE),3)","v":13.688000000000001},{"$f":"ROUND(VLOOKUP(CONCATENATE(G$5,$C25),'trend data'!$A$2:$O$11161,G$6,FALSE),3)","v":17.702999999999999},{"$f":"IFERROR(VLOOKUP(CONCATENATE(H$5,$C25),'trend data'!$A$2:$O$11161,H$6,FALSE),\"-\")","v":144},{"$f":"IFERROR(ROUND(VLOOKUP(CONCATENATE(I$5,$C25),'trend data'!$A$2:$O$11161,I$6,FALSE),3),\"-\")","v":10.792},{"$f":"IFERROR(ROUND(VLOOKUP(CONCATENATE(J$5,$C25),'trend data'!$A$2:$O$11161,J$6,FALSE),3),\"-\")","v":9.1020000000000003},{"$f":"IFERROR(ROUND(VLOOKUP(CONCATENATE(K$5,$C25),'trend data'!$A$2:$O$11161,K$6,FALSE),3),\"-\")","v":12.706},{"$f":"IFERROR(VLOOKUP(CONCATENATE(L$5,$C25),'trend data'!$A$2:$O$11161,L$6,FALSE),\"-\")","v":"-"},{"$f":"IFERROR(VLOOKUP(CONCATENATE(M$5,$C25),'trend data'!$A$2:$O$11161,M$6,FALSE),\"-\")","v":"-"},{"$f":"IFERROR(VLOOKUP(CONCATENATE(N$5,$C25),'trend data'!$A$2:$O$11161,N$6,FALSE),\"-\")","v":"-"},{"$f":"IFERROR(VLOOKUP(CONCATENATE(O$5,$C25),'trend data'!$A$2:$O$11161,O$6,FALSE),\"-\")","v":"-"},{"$f":"IFERROR(VLOOKUP(CONCATENATE(P$5,$C25),'trend data'!$A$2:$O$11161,P$6,FALSE),\"-\")","v":"-"}]
[201902,"2019-06-01",{"$f":"CONCATENATE(A26,'SAB Data and Charts'!B$1)","v":"201902Scotland"},{"$f":"IFERROR(VLOOKUP(CONCATENATE(D$5,$C26),'trend data'!$A$2:$O$11161,D$6,FALSE),\"-\")","v":251},{"$f":"ROUND(VLOOKUP(CONCATENATE(E$5,$C26),'trend data'!$A$2:$O$11161,E$6,FALSE),3)","v":16.664000000000001},{"$f":"ROUND(VLOOKUP(CONCATENATE(F$5,$C26),'trend data'!$A$2:$O$11161,F$6,FALSE),3)","v":14.666},{"$f":"ROUND(VLOOKUP(CONCATENATE(G$5,$C26),'trend data'!$A$2:$O$11161,G$6,FALSE),3)","v":18.858000000000001},{"$f":"IFERROR(VLOOKUP(CONCATENATE(H$5,$C26),'trend data'!$A$2:$O$11161,H$6,FALSE),\"-\")","v":133},{"$f":"IFERROR(ROUND(VLOOKUP(CONCATENATE(I$5,$C26),'trend data'!$A$2:$O$11161,I$6,FALSE),3),\"-\")","v":9.8580000000000005},{"$f":"IFERROR(ROUND(VLOOKUP(CONCATENATE(J$5,$C26),'trend data'!$A$2:$O$11161,J$6,FALSE),3),\"-\")","v":8.2539999999999996},{"$f":"IFERROR(ROUND(VLOOKUP(CONCATENATE(K$5,$C26),'trend data'!$A$2:$O$11161,K$6,FALSE),3),\"-\")","v":11.683999999999999},{"$f":"IFERROR(VLOOKUP(CONCATENATE(L$5,$C26),'trend data'!$A$2:$O$11161,L$6,FALSE),\"-\")","v":"-"},{"$f":"IFERROR(VLOOKUP(CONCATENATE(M$5,$C26),'trend data'!$A$2:$O$11161,M$6,FALSE),\"-\")","v":"-"},{"$f":"IFERROR(VLOOKUP(CONCATENATE(N$5,$C26),'trend data'!$A$2:$O$11161,N$6,FALSE),\"-\")","v":"-"},{"$f":"IFERROR(VLOOKUP(CONCATENATE(O$5,$C26),'trend data'!$A$2:$O$11161,O$6,FALSE),\"-\")","v":"-"},{"$f":"IFERROR(VLOOKUP(CONCATENATE(P$5,$C26),'trend data'!$A$2:$O$11161,P$6,FALSE),\"-\")","v":"-"}]
[201903,"2019-09-01",{"$f":"CONCATENATE(A27,'SAB Data and Charts'!B$1)","v":"201903Scotland"},{"$f":"IFERROR(VLOOKUP(CONCATENATE(D$5,$C27),'trend data'!$A$2:$O$11161,D$6,FALSE),\"-\")","v":264},{"$f":"ROUND(VLOOKUP(CONCATENATE(E$5,$C27),'trend data'!$A$2:$O$11161,E$6,FALSE),3)","v":17.518999999999998},{"$f":"ROUND(VLOOKUP(CONCATENATE(F$5,$C27),'trend data'!$A$2:$O$11161,F$6,FALSE),3)","v":15.468999999999999},{"$f":"ROUND(VLOOKUP(CONCATENATE(G$5,$C27),'trend data'!$A$2:$O$11161,G$6,FALSE),3)","v":19.763999999999999},{"$f":"IFERROR(VLOOKUP(CONCATENATE(H$5,$C27),'trend data'!$A$2:$O$11161,H$6,FALSE),\"-\")","v":102},{"$f":"IFERROR(ROUND(VLOOKUP(CONCATENATE(I$5,$C27),'trend data'!$A$2:$O$11161,I$6,FALSE),3),\"-\")","v":7.4779999999999998},{"$f":"IFERROR(ROUND(VLOOKUP(CONCATENATE(J$5,$C27),'trend data'!$A$2:$O$11161,J$6,FALSE),3),\"-\")","v":6.0979999999999999},{"$f":"IFERROR(ROUND(VLOOKUP(CONCATENATE(K$5,$C27),'trend data'!$A$2:$O$11161,K$6,FALSE),3),\"-\")","v":9.0779999999999994},{"$f":"IFERROR(VLOOKUP(CONCATENATE(L$5,$C27),'trend data'!$A$2:$O$11161,L$6,FALSE),\"-\")","v":"-"},{"$f":"IFERROR(VLOOKUP(CONCATENATE(M$5,$C27),'trend data'!$A$2:$O$11161,M$6,FALSE),\"-\")","v":"-"},{"$f":"IFERROR(VLOOKUP(CONCATENATE(N$5,$C27),'trend data'!$A$2:$O$11161,N$6,FALSE),\"-\")","v":"-"},{"$f":"IFERROR(VLOOKUP(CONCATENATE(O$5,$C27),'trend data'!$A$2:$O$11161,O$6,FALSE),\"-\")","v":"-"},{"$f":"IFERROR(VLOOKUP(CONCATENATE(P$5,$C27),'trend data'!$A$2:$O$11161,P$6,FALSE),\"-\")","v":"-"}]
[201904,"2019-12-01",{"$f":"CONCATENATE(A28,'SAB Data and Charts'!B$1)","v":"201904Scotland"},{"$f":"IFERROR(VLOOKUP(CONCATENATE(D$5,$C28),'trend data'!$A$2:$O$11161,D$6,FALSE),\"-\")","v":233},{"$f":"ROUND(VLOOKUP(CONCATENATE(E$5,$C28),'trend data'!$A$2:$O$11161,E$6,FALSE),3)","v":15.214},{"$f":"ROUND(VLOOKUP(CONCATENATE(F$5,$C28),'trend data'!$A$2:$O$11161,F$6,FALSE),3)","v":13.323},{"$f":"ROUND(VLOOKUP(CONCATENATE(G$5,$C28),'trend data'!$A$2:$O$11161,G$6,FALSE),3)","v":17.297999999999998},{"$f":"IFERROR(VLOOKUP(CONCATENATE(H$5,$C28),'trend data'!$A$2:$O$11161,H$6,FALSE),\"-\")","v":132},{"$f":"IFERROR(ROUND(VLOOKUP(CONCATENATE(I$5,$C28),'trend data'!$A$2:$O$11161,I$6,FALSE),3),\"-\")","v":9.6780000000000008},{"$f":"IFERROR(ROUND(VLOOKUP(CONCATENATE(J$5,$C28),'trend data'!$A$2:$O$11161,J$6,FALSE),3),\"-\")","v":8.0969999999999995},{"$f":"IFERROR(ROUND(VLOOKUP(CONCATENATE(K$5,$C28),'trend data'!$A$2:$O$11161,K$6,FALSE),3),\"-\")","v":11.477},{"$f":"IFERROR(VLOOKUP(CONCATENATE(L$5,$C28),'trend data'!$A$2:$O$11161,L$6,FALSE),\"-\")","v":"-"},{"$f":"IFERROR(VLOOKUP(CONCATENATE(M$5,$C28),'trend data'!$A$2:$O$11161,M$6,FALSE),\"-\")","v":"-"},{"$f":"IFERROR(VLOOKUP(CONCATENATE(N$5,$C28),'trend data'!$A$2:$O$11161,N$6,FALSE),\"-\")","v":"-"},{"$f":"IFERROR(VLOOKUP(CONCATENATE(O$5,$C28),'trend data'!$A$2:$O$11161,O$6,FALSE),\"-\")","v":"-"},{"$f":"IFERROR(VLOOKUP(CONCATENATE(P$5,$C28),'trend data'!$A$2:$O$11161,P$6,FALSE),\"-\")","v":"-"}]
[202001,"2020-03-01",{"$f":"CONCATENATE(A29,'SAB Data and Charts'!B$1)","v":"202001Scotland"},{"$f":"IFERROR(VLOOKUP(CONCATENATE(D$5,$C29),'trend data'!$A$2:$O$11161,D$6,FALSE),\"-\")","v":241},{"$f":"ROUND(VLOOKUP(CONCATENATE(E$5,$C29),'trend data'!$A$2:$O$11161,E$6,FALSE),3)","v":16.327999999999999},{"$f":"ROUND(VLOOKUP(CONCATENATE(F$5,$C29),'trend data'!$A$2:$O$11161,F$6,FALSE),3)","v":14.332000000000001},{"$f":"ROUND(VLOOKUP(CONCATENATE(G$5,$C29),'trend data'!$A$2:$O$11161,G$6,FALSE),3)","v":18.526},{"$f":"IFERROR(VLOOKUP(CONCATENATE(H$5,$C29),'trend data'!$A$2:$O$11161,H$6,FALSE),\"-\")","v":149},{"$f":"IFERROR(ROUND(VLOOKUP(CONCATENATE(I$5,$C29),'trend data'!$A$2:$O$11161,I$6,FALSE),3),\"-\")","v":11.079000000000001},{"$f":"IFERROR(ROUND(VLOOKUP(CONCATENATE(J$5,$C29),'trend data'!$A$2:$O$11161,J$6,FALSE),3),\"-\")","v":9.3719999999999999},{"$f":"IFERROR(ROUND(VLOOKUP(CONCATENATE(K$5,$C29),'trend data'!$A$2:$O$11161,K$6,FALSE),3),\"-\")","v":13.007999999999999},{"$f":"IFERROR(VLOOKUP(CONCATENATE(L$5,$C29),'trend data'!$A$2:$O$11161,L$6,FALSE),\"-\")","v":"-"},{"$f":"IFERROR(VLOOKUP(CONCATENATE(M$5,$C29),'trend data'!$A$2:$O$11161,M$6,FALSE),\"-\")","v":"-"},{"$f":"IFERROR(VLOOKUP(CONCATENATE(N$5,$C29),'trend data'!$A$2:$O$11161,N$6,FALSE),\"-\")","v":"-"},{"$f":"IFERROR(VLOOKUP(CONCATENATE(O$5,$C29),'trend data'!$A$2:$O$11161,O$6,FALSE),\"-\")","v":"-"},{"$f":"IFERROR(VLOOKUP(CONCATENATE(P$5,$C29),'trend data'!$A$2:$O$11161,P$6,FALSE),\"-\")","v":"-"}]
[202002,"2020-06-01",{"$f":"CONCATENATE(A30,'SAB Data and Charts'!B$1)","v":"202002Scotland"},{"$f":"IFERROR(VLOOKUP(CONCATENATE(D$5,$C30),'trend data'!$A$2:$O$11161,D$6,FALSE),\"-\")","v":219},{"$f":"ROUND(VLOOKUP(CONCATENATE(E$5,$C30),'trend data'!$A$2:$O$11161,E$6,FALSE),3)","v":20.260000000000002},{"$f":"ROUND(VLOOKUP(CONCATENATE(F$5,$C30),'trend data'!$A$2:$O$11161,F$6,FALSE),3)","v":17.664999999999999},{"$f":"ROUND(VLOOKUP(CONCATENATE(G$5,$C30),'trend data'!$A$2:$O$11161,G$6,FALSE),3)","v":23.129000000000001},{"$f":"IFERROR(VLOOKUP(CONCATENATE(H$5,$C30),'trend data'!$A$2:$O$11161,H$6,FALSE),\"-\")","v":132},{"$f":"IFERROR(ROUND(VLOOKUP(CONCATENATE(I$5,$C30),'trend data'!$A$2:$O$11161,I$6,FALSE),3),\"-\")","v":9.8149999999999995},{"$f":"IFERROR(ROUND(VLOOKUP(CONCATENATE(J$5,$C30),'trend data'!$A$2:$O$11161,J$6,FALSE),3),\"-\")","v":8.2119999999999997},{"$f":"IFERROR(ROUND(VLOOKUP(CONCATENATE(K$5,$C30),'trend data'!$A$2:$O$11161,K$6,FALSE),3),\"-\")","v":11.64},{"$f":"IFERROR(VLOOKUP(CONCATENATE(L$5,$C30),'trend data'!$A$2:$O$11161,L$6,FALSE),\"-\")","v":"-"},{"$f":"IFERROR(VLOOKUP(CONCATENATE(M$5,$C30),'trend data'!$A$2:$O$11161,M$6,FALSE),\"-\")","v":"-"},{"$f":"IFERROR(VLOOKUP(CONCATENATE(N$5,$C30),'trend data'!$A$2:$O$11161,N$6,FALSE),\"-\")","v":"-"},{"$f":"IFERROR(VLOOKUP(CONCATENATE(O$5,$C30),'trend data'!$A$2:$O$11161,O$6,FALSE),\"-\")","v":"-"},{"$f":"IFERROR(VLOOKUP(CONCATENATE(P$5,$C30),'trend data'!$A$2:$O$11161,P$6,FALSE),\"-\")","v":"-"}]
[202003,"2020-09-01",{"$f":"CONCATENATE(A31,'SAB Data and Charts'!B$1)","v":"202003Scotland"},{"$f":"IFERROR(VLOOKUP(CONCATENATE(D$5,$C31),'trend data'!$A$2:$O$11161,D$6,FALSE),\"-\")","v":224},{"$f":"ROUND(VLOOKUP(CONCATENATE(E$5,$C31),'trend data'!$A$2:$O$11161,E$6,FALSE),4)","v":17.178100000000001},{"$f":"ROUND(VLOOKUP(CONCATENATE(F$5,$C31),'trend data'!$A$2:$O$11161,F$6,FALSE),4)","v":15.001899999999999},{"$f":"ROUND(VLOOKUP(CONCATENATE(G$5,$C31),'trend data'!$A$2:$O$11161,G$6,FALSE),4)","v":19.581299999999999},{"$f":"IFERROR(VLOOKUP(CONCATENATE(H$5,$C31),'trend data'!$A$2:$O$11161,H$6,FALSE),\"-\")","v":149},{"$f":"IFERROR(ROUND(VLOOKUP(CONCATENATE(I$5,$C31),'trend data'!$A$2:$O$11161,I$6,FALSE),4),\"-\")","v":10.959},{"$f":"IFERROR(ROUND(VLOOKUP(CONCATENATE(J$5,$C31),'trend data'!$A$2:$O$11161,J$6,FALSE),4),\"-\")","v":9.2698999999999998},{"$f":"IFERROR(ROUND(VLOOKUP(CONCATENATE(K$5,$C31),'trend data'!$A$2:$O$11161,K$6,FALSE),4),\"-\")","v":12.8668},{"$f":"IFERROR(VLOOKUP(CONCATENATE(L$5,$C31),'trend data'!$A$2:$O$11161,L$6,FALSE),\"-\")","v":"-"},{"$f":"IFERROR(VLOOKUP(CONCATENATE(M$5,$C31),'trend data'!$A$2:$O$11161,M$6,FALSE),\"-\")","v":"-"},{"$f":"IFERROR(VLOOKUP(CONCATENATE(N$5,$C31),'trend data'!$A$2:$O$11161,N$6,FALSE),\"-\")","v":"-"},{"$f":"IFERROR(VLOOKUP(CONCATENATE(O$5,$C31),'trend data'!$A$2:$O$11161,O$6,FALSE),\"-\")","v":"-"}]
[202004,"2020-12-01",{"$f":"CONCATENATE(A32,'SAB Data and Charts'!B$1)","v":"202004Scotland"},{"$f":"IFERROR(VLOOKUP(CONCATENATE(D$5,$C32),'trend data'!$A$2:$O$11161,D$6,FALSE),\"-\")","v":256},{"$f":"ROUND(VLOOKUP(CONCATENATE(E$5,$C32),'trend data'!$A$2:$O$11161,E$6,FALSE),4)","v":18.854099999999999},{"$f":"ROUND(VLOOKUP(CONCATENATE(F$5,$C32),'trend data'!$A$2:$O$11161,F$6,FALSE),4)","v":16.614899999999999},{"$f":"ROUND(VLOOKUP(CONCATENATE(G$5,$C32),'trend data'!$A$2:$O$11161,G$6,FALSE),4)","v":21.3109},{"$f":"IFERROR(VLOOKUP(CONCATENATE(H$5,$C32),'trend data'!$A$2:$O$11161,H$6,FALSE),\"-\")","v":131},{"$f":"IFERROR(ROUND(VLOOKUP(CONCATENATE(I$5,$C32),'trend data'!$A$2:$O$11161,I$6,FALSE),4),\"-\")","v":9.6350999999999996},{"$f":"IFERROR(ROUND(VLOOKUP(CONCATENATE(J$5,$C32),'trend data'!$A$2:$O$11161,J$6,FALSE),4),\"-\")","v":8.0556999999999999},{"$f":"IFERROR(ROUND(VLOOKUP(CONCATENATE(K$5,$C32),'trend data'!$A$2:$O$11161,K$6,FALSE),4),\"-\")","v":11.4335},{"$f":"IFERROR(VLOOKUP(CONCATENATE(L$5,$C32),'trend data'!$A$2:$O$11161,L$6,FALSE),\"-\")","v":"-"},{"$f":"IFERROR(VLOOKUP(CONCATENATE(M$5,$C32),'trend data'!$A$2:$O$11161,M$6,FALSE),\"-\")","v":"-"},{"$f":"IFERROR(VLOOKUP(CONCATENATE(N$5,$C32),'trend data'!$A$2:$O$11161,N$6,FALSE),\"-\")","v":"-"},{"$f":"IFERROR(VLOOKUP(CONCATENATE(O$5,$C32),'trend data'!$A$2:$O$11161,O$6,FALSE),\"-\")","v":"-"}]
[202101,"2021-03-31",{"$f":"CONCATENATE(A33,'SAB Data and Charts'!B$1)","v":"202101Scotland"},{"$f":"IFERROR(VLOOKUP(CONCATENATE(D$5,$C33),'trend data'!$A$2:$O$11161,D$6,FALSE),\"-\")","v":248},{"$f":"ROUND(VLOOKUP(CONCATENATE(E$5,$C33),'trend data'!$A$2:$O$11161,E$6,FALSE),4)","v":18.345300000000002},{"$f":"ROUND(VLOOKUP(CONCATENATE(F$5,$C33),'trend data'!$A$2:$O$11161,F$6,FALSE),4)","v":16.1328},{"$f":"ROUND(VLOOKUP(CONCATENATE(G$5,$C33),'trend data'!$A$2:$O$11161,G$6,FALSE),4)","v":20.776399999999999},{"$f":"IFERROR(VLOOKUP(CONCATENATE(H$5,$C33),'trend data'!$A$2:$O$11161,H$6,FALSE),\"-\")","v":140},{"$f":"IFERROR(ROUND(VLOOKUP(CONCATENATE(I$5,$C33),'trend data'!$A$2:$O$11161,I$6,FALSE),4),\"-\")","v":10.4893},{"$f":"IFERROR(ROUND(VLOOKUP(CONCATENATE(J$5,$C33),'trend data'!$A$2:$O$11161,J$6,FALSE),4),\"-\")","v":8.8237000000000005},{"$f":"IFERROR(ROUND(VLOOKUP(CONCATENATE(K$5,$C33),'trend data'!$A$2:$O$11161,K$6,FALSE),4),\"-\")","v":12.378},{"$f":"IFERROR(VLOOKUP(CONCATENATE(L$5,$C33),'trend data'!$A$2:$O$11161,L$6,FALSE),\"-\")","v":"-"},{"$f":"IFERROR(VLOOKUP(CONCATENATE(M$5,$C33),'trend data'!$A$2:$O$11161,M$6,FALSE),\"-\")","v":"-"},{"$f":"IFERROR(VLOOKUP(CONCATENATE(N$5,$C33),'trend data'!$A$2:$O$11161,N$6,FALSE),\"-\")","v":"-"},{"$f":"IFERROR(VLOOKUP(CONCATENATE(O$5,$C33),'trend data'!$A$2:$O$11161,O$6,FALSE),\"-\")","v":"-"}]
[202102,"2021-06-30",{"$f":"CONCATENATE(A34,'SAB Data and Charts'!B$1)","v":"202102Scotland"},{"$f":"IFERROR(VLOOKUP(CONCATENATE(D$5,$C34),'trend data'!$A$2:$O$11161,D$6,FALSE),\"-\")","v":260},{"$f":"ROUND(VLOOKUP(CONCATENATE(E$5,$C34),'trend data'!$A$2:$O$11161,E$6,FALSE),4)","v":18.649100000000001},{"$f":"ROUND(VLOOKUP(CONCATENATE(F$5,$C34),'trend data'!$A$2:$O$11161,F$6,FALSE),4)","v":16.450800000000001},{"$f":"ROUND(VLOOKUP(CONCATENATE(G$5,$C34),'trend data'!$A$2:$O$11161,G$6,FALSE),4)","v":21.0593},{"$f":"IFERROR(VLOOKUP(CONCATENATE(H$5,$C34),'trend data'!$A$2:$O$11161,H$6,FALSE),\"-\")","v":148},{"$f":"IFERROR(ROUND(VLOOKUP(CONCATENATE(I$5,$C34),'trend data'!$A$2:$O$11161,I$6,FALSE),4),\"-\")","v":10.966900000000001},{"$f":"IFERROR(ROUND(VLOOKUP(CONCATENATE(J$5,$C34),'trend data'!$A$2:$O$11161,J$6,FALSE),4),\"-\")","v":9.2711000000000006},{"$f":"IFERROR(ROUND(VLOOKUP(CONCATENATE(K$5,$C34),'trend data'!$A$2:$O$11161,K$6,FALSE),4),\"-\")","v":12.882999999999999},{"$f":"IFERROR(VLOOKUP(CONCATENATE(L$5,$C34),'trend data'!$A$2:$O$11161,L$6,FALSE),\"-\")","v":"-"},{"$f":"IFERROR(VLOOKUP(CONCATENATE(M$5,$C34),'trend data'!$A$2:$O$11161,M$6,FALSE),\"-\")","v":"-"},{"$f":"IFERROR(VLOOKUP(CONCATENATE(N$5,$C34),'trend data'!$A$2:$O$11161,N$6,FALSE),\"-\")","v":"-"},{"$f":"IFERROR(VLOOKUP(CONCATENATE(O$5,$C34),'trend data'!$A$2:$O$11161,O$6,FALSE),\"-\")","v":"-"}]
[202103,"2021-09-30",{"$f":"CONCATENATE(A35,'SAB Data and Charts'!B$1)","v":"202103Scotland"},{"$f":"IFERROR(VLOOKUP(CONCATENATE(D$5,$C35),'trend data'!$A$2:$O$11161,D$6,FALSE),\"-\")","v":268},{"$f":"ROUND(VLOOKUP(CONCATENATE(E$5,$C35),'trend data'!$A$2:$O$11161,E$6,FALSE),4)","v":18.4023},{"$f":"ROUND(VLOOKUP(CONCATENATE(F$5,$C35),'trend data'!$A$2:$O$11161,F$6,FALSE),4)","v":16.264700000000001},{"$f":"ROUND(VLOOKUP(CONCATENATE(G$5,$C35),'trend data'!$A$2:$O$11161,G$6,FALSE),4)","v":20.742699999999999},{"$f":"IFERROR(VLOOKUP(CONCATENATE(H$5,$C35),'trend data'!$A$2:$O$11161,H$6,FALSE),\"-\")","v":132},{"$f":"IFERROR(ROUND(VLOOKUP(CONCATENATE(I$5,$C35),'trend data'!$A$2:$O$11161,I$6,FALSE),4),\"-\")","v":9.6750000000000007},{"$f":"IFERROR(ROUND(VLOOKUP(CONCATENATE(J$5,$C35),'trend data'!$A$2:$O$11161,J$6,FALSE),4),\"-\")","v":8.0947999999999993},{"$f":"IFERROR(ROUND(VLOOKUP(CONCATENATE(K$5,$C35),'trend data'!$A$2:$O$11161,K$6,FALSE),4),\"-\")","v":11.4734},{"$f":"IFERROR(VLOOKUP(CONCATENATE(L$5,$C35),'trend data'!$A$2:$O$11161,L$6,FALSE),\"-\")","v":"-"},{"$f":"IFERROR(VLOOKUP(CONCATENATE(M$5,$C35),'trend data'!$A$2:$O$11161,M$6,FALSE),\"-\")","v":"-"},{"$f":"IFERROR(VLOOKUP(CONCATENATE(N$5,$C35),'trend data'!$A$2:$O$11161,N$6,FALSE),\"-\")","v":"-"},{"$f":"IFERROR(VLOOKUP(CONCATENATE(O$5,$C35),'trend data'!$A$2:$O$11161,O$6,FALSE),\"-\")","v":"-"}]
[202104,"2021-12-31",{"$f":"CONCATENATE(A36,'SAB Data and Charts'!B$1)","v":"202104Scotland"},{"$f":"IFERROR(VLOOKUP(CONCATENATE(D$5,$C36),'trend data'!$A$2:$O$11161,D$6,FALSE),\"-\")","v":259},{"$f":"ROUND(VLOOKUP(CONCATENATE(E$5,$C36),'trend data'!$A$2:$O$11161,E$6,FALSE),4)","v":17.3383},{"$f":"ROUND(VLOOKUP(CONCATENATE(F$5,$C36),'trend data'!$A$2:$O$11161,F$6,FALSE),4)","v":15.290699999999999},{"$f":"ROUND(VLOOKUP(CONCATENATE(G$5,$C36),'trend data'!$A$2:$O$11161,G$6,FALSE),4)","v":19.583600000000001},{"$f":"IFERROR(VLOOKUP(CONCATENATE(H$5,$C36),'trend data'!$A$2:$O$11161,H$6,FALSE),\"-\")","v":136},{"$f":"IFERROR(ROUND(VLOOKUP(CONCATENATE(I$5,$C36),'trend data'!$A$2:$O$11161,I$6,FALSE),4),\"-\")","v":9.9680999999999997},{"$f":"IFERROR(ROUND(VLOOKUP(CONCATENATE(J$5,$C36),'trend data'!$A$2:$O$11161,J$6,FALSE),4),\"-\")","v":8.3632000000000009},{"$f":"IFERROR(ROUND(VLOOKUP(CONCATENATE(K$5,$C36),'trend data'!$A$2:$O$11161,K$6,FALSE),4),\"-\")","v":11.7913},{"$f":"IFERROR(VLOOKUP(CONCATENATE(L$5,$C36),'trend data'!$A$2:$O$11161,L$6,FALSE),\"-\")","v":"-"},{"$f":"IFERROR(VLOOKUP(CONCATENATE(M$5,$C36),'trend data'!$A$2:$O$11161,M$6,FALSE),\"-\")","v":"-"},{"$f":"IFERROR(VLOOKUP(CONCATENATE(N$5,$C36),'trend data'!$A$2:$O$11161,N$6,FALSE),\"-\")","v":"-"},{"$f":"IFERROR(VLOOKUP(CONCATENATE(O$5,$C36),'trend data'!$A$2:$O$11161,O$6,FALSE),\"-\")","v":"-"}]
[202201,"2022-03-31",{"$f":"CONCATENATE(A37,'SAB Data and Charts'!B$1)","v":"202201Scotland"},{"$f":"IFERROR(VLOOKUP(CONCATENATE(D$5,$C37),'trend data'!$A$2:$O$11161,D$6,FALSE),\"-\")","v":241},{"$f":"ROUND(VLOOKUP(CONCATENATE(E$5,$C37),'trend data'!$A$2:$O$11161,E$6,FALSE),4)","v":16.272200000000002},{"$f":"ROUND(VLOOKUP(CONCATENATE(F$5,$C37),'trend data'!$A$2:$O$11161,F$6,FALSE),4)","v":14.282400000000001},{"$f":"ROUND(VLOOKUP(CONCATENATE(G$5,$C37),'trend data'!$A$2:$O$11161,G$6,FALSE),4)","v":18.4617},{"$f":"IFERROR(VLOOKUP(CONCATENATE(H$5,$C37),'trend data'!$A$2:$O$11161,H$6,FALSE),\"-\")","v":130},{"$f":"IFERROR(ROUND(VLOOKUP(CONCATENATE(I$5,$C37),'trend data'!$A$2:$O$11161,I$6,FALSE),4),\"-\")","v":9.6791},{"$f":"IFERROR(ROUND(VLOOKUP(CONCATENATE(J$5,$C37),'trend data'!$A$2:$O$11161,J$6,FALSE),4),\"-\")","v":8.0867000000000004},{"$f":"IFERROR(ROUND(VLOOKUP(CONCATENATE(K$5,$C37),'trend data'!$A$2:$O$11161,K$6,FALSE),4),\"-\")","v":11.4933},{"$f":"IFERROR(VLOOKUP(CONCATENATE(L$5,$C37),'trend data'!$A$2:$O$11161,L$6,FALSE),\"-\")","v":"-"},{"$f":"IFERROR(VLOOKUP(CONCATENATE(M$5,$C37),'trend data'!$A$2:$O$11161,M$6,FALSE),\"-\")","v":"-"},{"$f":"IFERROR(VLOOKUP(CONCATENATE(N$5,$C37),'trend data'!$A$2:$O$11161,N$6,FALSE),\"-\")","v":"-"},{"$f":"IFERROR(VLOOKUP(CONCATENATE(O$5,$C37),'trend data'!$A$2:$O$11161,O$6,FALSE),\"-\")","v":"-"}]
[202202,"2022-06-30",{"$f":"CONCATENATE(A38,'SAB Data and Charts'!B$1)","v":"202202Scotland"},{"$f":"IFERROR(VLOOKUP(CONCATENATE(D$5,$C38),'trend data'!$A$2:$O$11161,D$6,FALSE),\"-\")","v":262},{"$f":"ROUND(VLOOKUP(CONCATENATE(E$5,$C38),'trend data'!$A$2:$O$11161,E$6,FALSE),4)","v":17.278500000000001},{"$f":"ROUND(VLOOKUP(CONCATENATE(F$5,$C38),'trend data'!$A$2:$O$11161,F$6,FALSE),4)","v":15.2494},{"$f":"ROUND(VLOOKUP(CONCATENATE(G$5,$C38),'trend data'!$A$2:$O$11161,G$6,FALSE),4)","v":19.502500000000001},{"$f":"IFERROR(VLOOKUP(CONCATENATE(H$5,$C38),'trend data'!$A$2:$O$11161,H$6,FALSE),\"-\")","v":139},{"$f":"IFERROR(ROUND(VLOOKUP(CONCATENATE(I$5,$C38),'trend data'!$A$2:$O$11161,I$6,FALSE),4),\"-\")","v":10.2355},{"$f":"IFERROR(ROUND(VLOOKUP(CONCATENATE(J$5,$C38),'trend data'!$A$2:$O$11161,J$6,FALSE),4),\"-\")","v":8.6045999999999996},{"$f":"IFERROR(ROUND(VLOOKUP(CONCATENATE(K$5,$C38),'trend data'!$A$2:$O$11161,K$6,FALSE),4),\"-\")","v":12.085599999999999},{"$f":"IFERROR(VLOOKUP(CONCATENATE(L$5,$C38),'trend data'!$A$2:$O$11161,L$6,FALSE),\"-\")","v":"-"},{"$f":"IFERROR(VLOOKUP(CONCATENATE(M$5,$C38),'trend data'!$A$2:$O$11161,M$6,FALSE),\"-\")","v":"-"},{"$f":"IFERROR(VLOOKUP(CONCATENATE(N$5,$C38),'trend data'!$A$2:$O$11161,N$6,FALSE),\"-\")","v":"-"},{"$f":"IFERROR(VLOOKUP(CONCATENATE(O$5,$C38),'trend data'!$A$2:$O$11161,O$6,FALSE),\"-\")","v":"-"}]
[202203,"2022-09-30",{"$f":"CONCATENATE(A39,'SAB Data and Charts'!B$1)","v":"202203Scotland"},{"$f":"IFERROR(VLOOKUP(CONCATENATE(D$5,$C39),'trend data'!$A$2:$O$11161,D$6,FALSE),\"-\")","v":264},{"$f":"ROUND(VLOOKUP(CONCATENATE(E$5,$C39),'trend data'!$A$2:$O$11161,E$6,FALSE),4)","v":17.0792},{"$f":"ROUND(VLOOKUP(CONCATENATE(F$5,$C39),'trend data'!$A$2:$O$11161,F$6,FALSE),4)","v":15.0808},{"$f":"ROUND(VLOOKUP(CONCATENATE(G$5,$C39),'trend data'!$A$2:$O$11161,G$6,FALSE),4)","v":19.268699999999999},{"$f":"IFERROR(VLOOKUP(CONCATENATE(H$5,$C39),'trend data'!$A$2:$O$11161,H$6,FALSE),\"-\")","v":121},{"$f":"IFERROR(ROUND(VLOOKUP(CONCATENATE(I$5,$C39),'trend data'!$A$2:$O$11161,I$6,FALSE),4),\"-\")","v":8.8132000000000001},{"$f":"IFERROR(ROUND(VLOOKUP(CONCATENATE(J$5,$C39),'trend data'!$A$2:$O$11161,J$6,FALSE),4),\"-\")","v":7.3128000000000002},{"$f":"IFERROR(ROUND(VLOOKUP(CONCATENATE(K$5,$C39),'trend data'!$A$2:$O$11161,K$6,FALSE),4),\"-\")","v":10.5307},{"$f":"IFERROR(VLOOKUP(CONCATENATE(L$5,$C39),'trend data'!$A$2:$O$11161,L$6,FALSE),\"-\")","v":"-"},{"$f":"IFERROR(VLOOKUP(CONCATENATE(M$5,$C39),'trend data'!$A$2:$O$11161,M$6,FALSE),\"-\")","v":"-"},{"$f":"IFERROR(VLOOKUP(CONCATENATE(N$5,$C39),'trend data'!$A$2:$O$11161,N$6,FALSE),\"-\")","v":"-"},{"$f":"IFERROR(VLOOKUP(CONCATENATE(O$5,$C39),'trend data'!$A$2:$O$11161,O$6,FALSE),\"-\")","v":"-"}]
[202204,"2022-12-31",{"$f":"CONCATENATE(A40,'SAB Data and Charts'!B$1)","v":"202204Scotland"},{"$f":"IFERROR(VLOOKUP(CONCATENATE(D$5,$C40),'trend data'!$A$2:$O$11161,D$6,FALSE),\"-\")","v":302},{"$f":"ROUND(VLOOKUP(CONCATENATE(E$5,$C40),'trend data'!$A$2:$O$11161,E$6,FALSE),4)","v":19.247299999999999},{"$f":"ROUND(VLOOKUP(CONCATENATE(F$5,$C40),'trend data'!$A$2:$O$11161,F$6,FALSE),4)","v":17.1374},{"$f":"ROUND(VLOOKUP(CONCATENATE(G$5,$C40),'trend data'!$A$2:$O$11161,G$6,FALSE),4)","v":21.545200000000001},{"$f":"IFERROR(VLOOKUP(CONCATENATE(H$5,$C40),'trend data'!$A$2:$O$11161,H$6,FALSE),\"-\")","v":131},{"$f":"IFERROR(ROUND(VLOOKUP(CONCATENATE(I$5,$C40),'trend data'!$A$2:$O$11161,I$6,FALSE),4),\"-\")","v":9.5416000000000007},{"$f":"IFERROR(ROUND(VLOOKUP(CONCATENATE(J$5,$C40),'trend data'!$A$2:$O$11161,J$6,FALSE),4),\"-\")","v":7.9775},{"$f":"IFERROR(ROUND(VLOOKUP(CONCATENATE(K$5,$C40),'trend data'!$A$2:$O$11161,K$6,FALSE),4),\"-\")","v":11.3225},{"$f":"IFERROR(VLOOKUP(CONCATENATE(L$5,$C40),'trend data'!$A$2:$O$11161,L$6,FALSE),\"-\")","v":"-"},{"$f":"IFERROR(VLOOKUP(CONCATENATE(M$5,$C40),'trend data'!$A$2:$O$11161,M$6,FALSE),\"-\")","v":"-"},{"$f":"IFERROR(VLOOKUP(CONCATENATE(N$5,$C40),'trend data'!$A$2:$O$11161,N$6,FALSE),\"-\")","v":"-"},{"$f":"IFERROR(VLOOKUP(CONCATENATE(O$5,$C40),'trend data'!$A$2:$O$11161,O$6,FALSE),\"-\")","v":"-"}]
[202301,"2023-03-31",{"$f":"CONCATENATE(A41,'SAB Data and Charts'!B$1)","v":"202301Scotland"},{"$f":"IFERROR(VLOOKUP(CONCATENATE(D$5,$C41),'trend data'!$A$2:$O$11161,D$6,FALSE),\"-\")","v":300},{"$f":"ROUND(VLOOKUP(CONCATENATE(E$5,$C41),'trend data'!$A$2:$O$11161,E$6,FALSE),4)","v":19.121600000000001},{"$f":"ROUND(VLOOKUP(CONCATENATE(F$5,$C41),'trend data'!$A$2:$O$11161,F$6,FALSE),4)","v":17.018699999999999},{"$f":"ROUND(VLOOKUP(CONCATENATE(G$5,$C41),'trend data'!$A$2:$O$11161,G$6,FALSE),4)","v":21.412500000000001},{"$f":"IFERROR(VLOOKUP(CONCATENATE(H$5,$C41),'trend data'!$A$2:$O$11161,H$6,FALSE),\"-\")","v":133},{"$f":"IFERROR(ROUND(VLOOKUP(CONCATENATE(I$5,$C41),'trend data'!$A$2:$O$11161,I$6,FALSE),4),\"-\")","v":9.8247999999999998},{"$f":"IFERROR(ROUND(VLOOKUP(CONCATENATE(J$5,$C41),'trend data'!$A$2:$O$11161,J$6,FALSE),4),\"-\")","v":8.2258999999999993},{"$f":"IFERROR(ROUND(VLOOKUP(CONCATENATE(K$5,$C41),'trend data'!$A$2:$O$11161,K$6,FALSE),4),\"-\")","v":11.643599999999999},{"$f":"IFERROR(VLOOKUP(CONCATENATE(L$5,$C41),'trend data'!$A$2:$O$11161,L$6,FALSE),\"-\")","v":"-"},{"$f":"IFERROR(VLOOKUP(CONCATENATE(M$5,$C41),'trend data'!$A$2:$O$11161,M$6,FALSE),\"-\")","v":"-"},{"$f":"IFERROR(VLOOKUP(CONCATENATE(N$5,$C41),'trend data'!$A$2:$O$11161,N$6,FALSE),\"-\")","v":"-"},{"$f":"IFERROR(VLOOKUP(CONCATENATE(O$5,$C41),'trend data'!$A$2:$O$11161,O$6,FALSE),\"-\")","v":"-"}]
[202302,"2023-06-30",{"$f":"CONCATENATE(A42,'SAB Data and Charts'!B$1)","v":"202302Scotland"},{"$f":"IFERROR(VLOOKUP(CONCATENATE(D$5,$C42),'trend data'!$A$2:$O$11161,D$6,FALSE),\"-\")","v":283},{"$f":"ROUND(VLOOKUP(CONCATENATE(E$5,$C42),'trend data'!$A$2:$O$11161,E$6,FALSE),4)","v":18.3216},{"$f":"ROUND(VLOOKUP(CONCATENATE(F$5,$C42),'trend data'!$A$2:$O$11161,F$6,FALSE),4)","v":16.248899999999999},{"$f":"ROUND(VLOOKUP(CONCATENATE(G$5,$C42),'trend data'!$A$2:$O$11161,G$6,FALSE),4)","v":20.5855},{"$f":"IFERROR(VLOOKUP(CONCATENATE(H$5,$C42),'trend data'!$A$2:$O$11161,H$6,FALSE),\"-\")","v":140},{"$f":"IFERROR(ROUND(VLOOKUP(CONCATENATE(I$5,$C42),'trend data'!$A$2:$O$11161,I$6,FALSE),4),\"-\")","v":10.228199999999999},{"$f":"IFERROR(ROUND(VLOOKUP(CONCATENATE(J$5,$C42),'trend data'!$A$2:$O$11161,J$6,FALSE),4),\"-\")","v":8.6039999999999992},{"$f":"IFERROR(ROUND(VLOOKUP(CONCATENATE(K$5,$C42),'trend data'!$A$2:$O$11161,K$6,FALSE),4),\"-\")","v":12.069800000000001},{"$f":"IFERROR(VLOOKUP(CONCATENATE(L$5,$C42),'trend data'!$A$2:$O$11161,L$6,FALSE),\"-\")","v":"-"},{"$f":"IFERROR(VLOOKUP(CONCATENATE(M$5,$C42),'trend data'!$A$2:$O$11161,M$6,FALSE),\"-\")","v":"-"},{"$f":"IFERROR(VLOOKUP(CONCATENATE(N$5,$C42),'trend data'!$A$2:$O$11161,N$6,FALSE),\"-\")","v":"-"},{"$f":"IFERROR(VLOOKUP(CONCATENATE(O$5,$C42),'trend data'!$A$2:$O$11161,O$6,FALSE),\"-\")","v":"-"}]
[202303,"2023-09-30",{"$f":"CONCATENATE(A43,'SAB Data and Charts'!B$1)","v":"202303Scotland"},{"$f":"IFERROR(VLOOKUP(CONCATENATE(D$5,$C43),'trend data'!$A$2:$O$11161,D$6,FALSE),\"-\")","v":278},{"$f":"ROUND(VLOOKUP(CONCATENATE(E$5,$C43),'trend data'!$A$2:$O$11161,E$6,FALSE),4)","v":18.078499999999998},{"$f":"ROUND(VLOOKUP(CONCATENATE(F$5,$C43),'trend data'!$A$2:$O$11161,F$6,FALSE),4)","v":16.015499999999999},{"$f":"ROUND(VLOOKUP(CONCATENATE(G$5,$C43),'trend data'!$A$2:$O$11161,G$6,FALSE),4)","v":20.333500000000001},{"$f":"IFERROR(VLOOKUP(CONCATENATE(H$5,$C43),'trend data'!$A$2:$O$11161,H$6,FALSE),\"-\")","v":140},{"$f":"IFERROR(ROUND(VLOOKUP(CONCATENATE(I$5,$C43),'trend data'!$A$2:$O$11161,I$6,FALSE),4),\"-\")","v":10.117000000000001},{"$f":"IFERROR(ROUND(VLOOKUP(CONCATENATE(J$5,$C43),'trend data'!$A$2:$O$11161,J$6,FALSE),4),\"-\")","v":8.5105000000000004},{"$f":"IFERROR(ROUND(VLOOKUP(CONCATENATE(K$5,$C43),'trend data'!$A$2:$O$11161,K$6,FALSE),4),\"-\")","v":11.938599999999999},{"$f":"IFERROR(VLOOKUP(CONCATENATE(L$5,$C43),'trend data'!$A$2:$O$11161,L$6,FALSE),\"-\")","v":"-"},{"$f":"IFERROR(VLOOKUP(CONCATENATE(M$5,$C43),'trend data'!$A$2:$O$11161,M$6,FALSE),\"-\")","v":"-"},{"$f":"IFERROR(VLOOKUP(CONCATENATE(N$5,$C43),'trend data'!$A$2:$O$11161,N$6,FALSE),\"-\")","v":"-"},{"$f":"IFERROR(VLOOKUP(CONCATENATE(O$5,$C43),'trend data'!$A$2:$O$11161,O$6,FALSE),\"-\")","v":"-"}]
[202304,"2023-12-31",{"$f":"CONCATENATE(A44,'SAB Data and Charts'!B$1)","v":"202304Scotland"},{"$f":"IFERROR(VLOOKUP(CONCATENATE(D$5,$C44),'trend data'!$A$2:$O$11161,D$6,FALSE),\"-\")","v":301},{"$f":"ROUND(VLOOKUP(CONCATENATE(E$5,$C44),'trend data'!$A$2:$O$11161,E$6,FALSE),4)","v":19.219799999999999},{"$f":"ROUND(VLOOKUP(CONCATENATE(F$5,$C44),'trend data'!$A$2:$O$11161,F$6,FALSE),4)","v":17.1096},{"$f":"ROUND(VLOOKUP(CONCATENATE(G$5,$C44),'trend data'!$A$2:$O$11161,G$6,FALSE),4)","v":21.5185},{"$f":"IFERROR(VLOOKUP(CONCATENATE(H$5,$C44),'trend data'!$A$2:$O$11161,H$6,FALSE),\"-\")","v":137},{"$f":"IFERROR(ROUND(VLOOKUP(CONCATENATE(I$5,$C44),'trend data'!$A$2:$O$11161,I$6,FALSE),4),\"-\")","v":9.9001999999999999},{"$f":"IFERROR(ROUND(VLOOKUP(CONCATENATE(J$5,$C44),'trend data'!$A$2:$O$11161,J$6,FALSE),4),\"-\")","v":8.3117999999999999},{"$f":"IFERROR(ROUND(VLOOKUP(CONCATENATE(K$5,$C44),'trend data'!$A$2:$O$11161,K$6,FALSE),4),\"-\")","v":11.703799999999999},{"$f":"IFERROR(VLOOKUP(CONCATENATE(L$5,$C44),'trend data'!$A$2:$O$11161,L$6,FALSE),\"-\")","v":"-"},{"$f":"IFERROR(VLOOKUP(CONCATENATE(M$5,$C44),'trend data'!$A$2:$O$11161,M$6,FALSE),\"-\")","v":"-"},{"$f":"IFERROR(VLOOKUP(CONCATENATE(N$5,$C44),'trend data'!$A$2:$O$11161,N$6,FALSE),\"-\")","v":"-"},{"$f":"IFERROR(VLOOKUP(CONCATENATE(O$5,$C44),'trend data'!$A$2:$O$11161,O$6,FALSE),\"-\")","v":"-"}]
[202401,"2024-03-31",{"$f":"CONCATENATE(A45,'SAB Data and Charts'!B$1)","v":"202401Scotland"},{"$f":"IFERROR(VLOOKUP(CONCATENATE(D$5,$C45),'trend data'!$A$2:$O$11161,D$6,FALSE),\"-\")","v":271},{"$f":"ROUND(VLOOKUP(CONCATENATE(E$5,$C45),'trend data'!$A$2:$O$11161,E$6,FALSE),4)","v":17.0364},{"$f":"ROUND(VLOOKUP(CONCATENATE(F$5,$C45),'trend data'!$A$2:$O$11161,F$6,FALSE),4)","v":15.068099999999999},{"$f":"ROUND(VLOOKUP(CONCATENATE(G$5,$C45),'trend data'!$A$2:$O$11161,G$6,FALSE),4)","v":19.190300000000001},{"$f":"IFERROR(VLOOKUP(CONCATENATE(H$5,$C45),'trend data'!$A$2:$O$11161,H$6,FALSE),\"-\")","v":148},{"$f":"IFERROR(ROUND(VLOOKUP(CONCATENATE(I$5,$C45),'trend data'!$A$2:$O$11161,I$6,FALSE),4),\"-\")","v":10.731299999999999},{"$f":"IFERROR(ROUND(VLOOKUP(CONCATENATE(J$5,$C45),'trend data'!$A$2:$O$11161,J$6,FALSE),4),\"-\")","v":9.0718999999999994},{"$f":"IFERROR(ROUND(VLOOKUP(CONCATENATE(K$5,$C45),'trend data'!$A$2:$O$11161,K$6,FALSE),4),\"-\")","v":12.606199999999999},{"$f":"IFERROR(VLOOKUP(CONCATENATE(L$5,$C45),'trend data'!$A$2:$O$11161,L$6,FALSE),\"-\")","v":"-"},{"$f":"IFERROR(VLOOKUP(CONCATENATE(M$5,$C45),'trend data'!$A$2:$O$11161,M$6,FALSE),\"-\")","v":"-"},{"$f":"IFERROR(VLOOKUP(CONCATENATE(N$5,$C45),'trend data'!$A$2:$O$11161,N$6,FALSE),\"-\")","v":"-"},{"$f":"IFERROR(VLOOKUP(CONCATENATE(O$5,$C45),'trend data'!$A$2:$O$11161,O$6,FALSE),\"-\")","v":"-"}]
[202402,"2024-06-30",{"$f":"CONCATENATE(A46,'SAB Data and Charts'!B$1)","v":"202402Scotland"},{"$f":"IFERROR(VLOOKUP(CONCATENATE(D$5,$C46),'trend data'!$A$2:$O$11161,D$6,FALSE),\"-\")","v":270},{"$f":"ROUND(VLOOKUP(CONCATENATE(E$5,$C46),'trend data'!$A$2:$O$11161,E$6,FALSE),4)","v":17.326799999999999},{"$f":"ROUND(VLOOKUP(CONCATENATE(F$5,$C46),'trend data'!$A$2:$O$11161,F$6,FALSE),4)","v":15.321400000000001},{"$f":"ROUND(VLOOKUP(CONCATENATE(G$5,$C46),'trend data'!$A$2:$O$11161,G$6,FALSE),4)","v":19.521799999999999},{"$f":"IFERROR(VLOOKUP(CONCATENATE(H$5,$C46),'trend data'!$A$2:$O$11161,H$6,FALSE),\"-\")","v":136},{"$f":"IFERROR(ROUND(VLOOKUP(CONCATENATE(I$5,$C46),'trend data'!$A$2:$O$11161,I$6,FALSE),4),\"-\")","v":9.8612000000000002},{"$f":"IFERROR(ROUND(VLOOKUP(CONCATENATE(J$5,$C46),'trend data'!$A$2:$O$11161,J$6,FALSE),4),\"-\")","v":8.2734000000000005},{"$f":"IFERROR(ROUND(VLOOKUP(CONCATENATE(K$5,$C46),'trend data'!$A$2:$O$11161,K$6,FALSE),4),\"-\")","v":11.6648},{"$f":"IFERROR(VLOOKUP(CONCATENATE(L$5,$C46),'trend data'!$A$2:$O$11161,L$6,FALSE),\"-\")","v":"-"},{"$f":"IFERROR(VLOOKUP(CONCATENATE(M$5,$C46),'trend data'!$A$2:$O$11161,M$6,FALSE),\"-\")","v":"-"},{"$f":"IFERROR(VLOOKUP(CONCATENATE(N$5,$C46),'trend data'!$A$2:$O$11161,N$6,FALSE),\"-\")","v":"-"},{"$f":"IFERROR(VLOOKUP(CONCATENATE(O$5,$C46),'trend data'!$A$2:$O$11161,O$6,FALSE),\"-\")","v":"-"}]
[202403,"2024-09-30",{"$f":"CONCATENATE(A47,'SAB Data and Charts'!B$1)","v":"202403Scotland"},{"$f":"IFERROR(VLOOKUP(CONCATENATE(D$5,$C47),'trend data'!$A$2:$O$11161,D$6,FALSE),\"-\")","v":313},{"$f":"ROUND(VLOOKUP(CONCATENATE(E$5,$C47),'trend data'!$A$2:$O$11161,E$6,FALSE),4)","v":20.1616},{"$f":"ROUND(VLOOKUP(CONCATENATE(F$5,$C47),'trend data'!$A$2:$O$11161,F$6,FALSE),4)","v":17.9895},{"$f":"ROUND(VLOOKUP(CONCATENATE(G$5,$C47),'trend data'!$A$2:$O$11161,G$6,FALSE),4)","v":22.523599999999998},{"$f":"IFERROR(VLOOKUP(CONCATENATE(H$5,$C47),'trend data'!$A$2:$O$11161,H$6,FALSE),\"-\")","v":143},{"$f":"IFERROR(ROUND(VLOOKUP(CONCATENATE(I$5,$C47),'trend data'!$A$2:$O$11161,I$6,FALSE),4),\"-\")","v":10.256},{"$f":"IFERROR(ROUND(VLOOKUP(CONCATENATE(J$5,$C47),'trend data'!$A$2:$O$11161,J$6,FALSE),4),\"-\")","v":8.6438000000000006},{"$f":"IFERROR(ROUND(VLOOKUP(CONCATENATE(K$5,$C47),'trend data'!$A$2:$O$11161,K$6,FALSE),4),\"-\")","v":12.0816},{"$f":"IFERROR(VLOOKUP(CONCATENATE(L$5,$C47),'trend data'!$A$2:$O$11161,L$6,FALSE),\"-\")","v":"-"},{"$f":"IFERROR(VLOOKUP(CONCATENATE(M$5,$C47),'trend data'!$A$2:$O$11161,M$6,FALSE),\"-\")","v":"-"},{"$f":"IFERROR(VLOOKUP(CONCATENATE(N$5,$C47),'trend data'!$A$2:$O$11161,N$6,FALSE),\"-\")","v":"-"},{"$f":"IFERROR(VLOOKUP(CONCATENATE(O$5,$C47),'trend data'!$A$2:$O$11161,O$6,FALSE),\"-\")","v":"-"}]
[202404,"2024-12-31",{"$f":"CONCATENATE(A48,'SAB Data and Charts'!B$1)","v":"202404Scotland"},{"$f":"IFERROR(VLOOKUP(CONCATENATE(D$5,$C48),'trend data'!$A$2:$O$11161,D$6,FALSE),\"-\")","v":287},{"$f":"ROUND(VLOOKUP(CONCATENATE(E$5,$C48),'trend data'!$A$2:$O$11161,E$6,FALSE),4)","v":18.394100000000002},{"$f":"ROUND(VLOOKUP(CONCATENATE(F$5,$C48),'trend data'!$A$2:$O$11161,F$6,FALSE),4)","v":16.327200000000001},{"$f":"ROUND(VLOOKUP(CONCATENATE(G$5,$C48),'trend data'!$A$2:$O$11161,G$6,FALSE),4)","v":20.650099999999998},{"$f":"IFERROR(VLOOKUP(CONCATENATE(H$5,$C48),'trend data'!$A$2:$O$11161,H$6,FALSE),\"-\")","v":147},{"$f":"IFERROR(ROUND(VLOOKUP(CONCATENATE(I$5,$C48),'trend data'!$A$2:$O$11161,I$6,FALSE),4),\"-\")","v":10.542899999999999},{"$f":"IFERROR(ROUND(VLOOKUP(CONCATENATE(J$5,$C48),'trend data'!$A$2:$O$11161,J$6,FALSE),4),\"-\")","v":8.9074000000000009},{"$f":"IFERROR(ROUND(VLOOKUP(CONCATENATE(K$5,$C48),'trend data'!$A$2:$O$11161,K$6,FALSE),4),\"-\")","v":12.3917},{"$f":"IFERROR(VLOOKUP(CONCATENATE(L$5,$C48),'trend data'!$A$2:$O$11161,L$6,FALSE),\"-\")","v":"-"},{"$f":"IFERROR(VLOOKUP(CONCATENATE(M$5,$C48),'trend data'!$A$2:$O$11161,M$6,FALSE),\"-\")","v":"-"},{"$f":"IFERROR(VLOOKUP(CONCATENATE(N$5,$C48),'trend data'!$A$2:$O$11161,N$6,FALSE),\"-\")","v":"-"},{"$f":"IFERROR(VLOOKUP(CONCATENATE(O$5,$C48),'trend data'!$A$2:$O$11161,O$6,FALSE),\"-\")","v":"-"}]
[202501,"2025-03-31",{"$f":"CONCATENATE(A49,'SAB Data and Charts'!B$1)","v":"202501Scotland"},{"$f":"IFERROR(VLOOKUP(CONCATENATE(D$5,$C49),'trend data'!$A$2:$O$11161,D$6,FALSE),\"-\")","v":283},{"$f":"ROUND(VLOOKUP(CONCATENATE(E$5,$C49),'trend data'!$A$2:$O$11161,E$6,FALSE),4)","v":18.232199999999999},{"$f":"ROUND(VLOOKUP(CONCATENATE(F$5,$C49),'trend data'!$A$2:$O$11161,F$6,FALSE),4)","v":16.169599999999999},{"$f":"ROUND(VLOOKUP(CONCATENATE(G$5,$C49),'trend data'!$A$2:$O$11161,G$6,FALSE),4)","v":20.484999999999999},{"$f":"IFERROR(VLOOKUP(CONCATENATE(H$5,$C49),'trend data'!$A$2:$O$11161,H$6,FALSE),\"-\")","v":123},{"$f":"IFERROR(ROUND(VLOOKUP(CONCATENATE(I$5,$C49),'trend data'!$A$2:$O$11161,I$6,FALSE),4),\"-\")","v":8.9930000000000003},{"$f":"IFERROR(ROUND(VLOOKUP(CONCATENATE(J$5,$C49),'trend data'!$A$2:$O$11161,J$6,FALSE),4),\"-\")","v":7.4739000000000004},{"$f":"IFERROR(ROUND(VLOOKUP(CONCATENATE(K$5,$C49),'trend data'!$A$2:$O$11161,K$6,FALSE),4),\"-\")","v":10.73},{"$f":"IFERROR(VLOOKUP(CONCATENATE(L$5,$C49),'trend data'!$A$2:$O$11161,L$6,FALSE),\"-\")","v":"-"},{"$f":"IFERROR(VLOOKUP(CONCATENATE(M$5,$C49),'trend data'!$A$2:$O$11161,M$6,FALSE),\"-\")","v":"-"},{"$f":"IFERROR(VLOOKUP(CONCATENATE(N$5,$C49),'trend data'!$A$2:$O$11161,N$6,FALSE),\"-\")","v":"-"},{"$f":"IFERROR(VLOOKUP(CONCATENATE(O$5,$C49),'trend data'!$A$2:$O$11161,O$6,FALSE),\"-\")","v":"-"}]
[202502,"2025-06-30",{"$f":"CONCATENATE(A50,'SAB Data and Charts'!B$1)","v":"202502Scotland"},{"$f":"IFERROR(VLOOKUP(CONCATENATE(D$5,$C50),'trend data'!$A$2:$O$11161,D$6,FALSE),\"-\")","v":303},{"$f":"ROUND(VLOOKUP(CONCATENATE(E$5,$C50),'trend data'!$A$2:$O$11161,E$6,FALSE),4)","v":19.8613},{"$f":"ROUND(VLOOKUP(CONCATENATE(F$5,$C50),'trend data'!$A$2:$O$11161,F$6,FALSE),4)","v":17.6876},{"$f":"ROUND(VLOOKUP(CONCATENATE(G$5,$C50),'trend data'!$A$2:$O$11161,G$6,FALSE),4)","v":22.228400000000001},{"$f":"IFERROR(VLOOKUP(CONCATENATE(H$5,$C50),'trend data'!$A$2:$O$11161,H$6,FALSE),\"-\")","v":156},{"$f":"IFERROR(ROUND(VLOOKUP(CONCATENATE(I$5,$C50),'trend data'!$A$2:$O$11161,I$6,FALSE),4),\"-\")","v":11.2804},{"$f":"IFERROR(ROUND(VLOOKUP(CONCATENATE(J$5,$C50),'trend data'!$A$2:$O$11161,J$6,FALSE),4),\"-\")","v":9.5795999999999992},{"$f":"IFERROR(ROUND(VLOOKUP(CONCATENATE(K$5,$C50),'trend data'!$A$2:$O$11161,K$6,FALSE),4),\"-\")","v":13.196099999999999},{"$f":"IFERROR(VLOOKUP(CONCATENATE(L$5,$C50),'trend data'!$A$2:$O$11161,L$6,FALSE),\"-\")","v":"-"},{"$f":"IFERROR(VLOOKUP(CONCATENATE(M$5,$C50),'trend data'!$A$2:$O$11161,M$6,FALSE),\"-\")","v":"-"},{"$f":"IFERROR(VLOOKUP(CONCATENATE(N$5,$C50),'trend data'!$A$2:$O$11161,N$6,FALSE),\"-\")","v":"-"},{"$f":"IFERROR(VLOOKUP(CONCATENATE(O$5,$C50),'trend data'!$A$2:$O$11161,O$6,FALSE),\"-\")","v":"-"}]
[202503,"2025-09-30",{"$f":"CONCATENATE(A51,'SAB Data and Charts'!B$1)","v":"202503Scotland"},{"$f":"IFERROR(VLOOKUP(CONCATENATE(D$5,$C51),'trend data'!$A$2:$O$11161,D$6,FALSE),\"-\")","v":296},{"$f":"ROUND(VLOOKUP(CONCATENATE(E$5,$C51),'trend data'!$A$2:$O$11161,E$6,FALSE),4)","v":19.4312},{"$f":"ROUND(VLOOKUP(CONCATENATE(F$5,$C51),'trend data'!$A$2:$O$11161,F$6,FALSE),4)","v":17.2803},{"$f":"ROUND(VLOOKUP(CONCATENATE(G$5,$C51),'trend data'!$A$2:$O$11161,G$6,FALSE),4)","v":21.7758},{"$f":"IFERROR(VLOOKUP(CONCATENATE(H$5,$C51),'trend data'!$A$2:$O$11161,H$6,FALSE),\"-\")","v":126},{"$f":"IFERROR(ROUND(VLOOKUP(CONCATENATE(I$5,$C51),'trend data'!$A$2:$O$11161,I$6,FALSE),4),\"-\")","v":9.0121000000000002},{"$f":"IFERROR(ROUND(VLOOKUP(CONCATENATE(J$5,$C51),'trend data'!$A$2:$O$11161,J$6,FALSE),4),\"-\")","v":7.5072000000000001},{"$f":"IFERROR(ROUND(VLOOKUP(CONCATENATE(K$5,$C51),'trend data'!$A$2:$O$11161,K$6,FALSE),4),\"-\")","v":10.7301},{"$f":"IFERROR(VLOOKUP(CONCATENATE(L$5,$C51),'trend data'!$A$2:$O$11161,L$6,FALSE),\"-\")","v":"-"},{"$f":"IFERROR(VLOOKUP(CONCATENATE(M$5,$C51),'trend data'!$A$2:$O$11161,M$6,FALSE),\"-\")","v":"-"},{"$f":"IFERROR(VLOOKUP(CONCATENATE(N$5,$C51),'trend data'!$A$2:$O$11161,N$6,FALSE),\"-\")","v":"-"},{"$f":"IFERROR(VLOOKUP(CONCATENATE(O$5,$C51),'trend data'!$A$2:$O$11161,O$6,FALSE),\"-\")","v":"-"}]
[202504,"2025-12-31",{"$f":"CONCATENATE(A52,'SAB Data and Charts'!B$1)","v":"202504Scotland"},{"$f":"IFERROR(VLOOKUP(CONCATENATE(D$5,$C52),'trend data'!$A$2:$O$11161,D$6,FALSE),\"-\")","v":282},{"$f":"ROUND(VLOOKUP(CONCATENATE(E$5,$C52),'trend data'!$A$2:$O$11161,E$6,FALSE),4)","v":18.379300000000001},{"$f":"ROUND(VLOOKUP(CONCATENATE(F$5,$C52),'trend data'!$A$2:$O$11161,F$6,FALSE),4)","v":16.296500000000002},{"$f":"ROUND(VLOOKUP(CONCATENATE(G$5,$C52),'trend data'!$A$2:$O$11161,G$6,FALSE),4)","v":20.654599999999999},{"$f":"IFERROR(VLOOKUP(CONCATENATE(H$5,$C52),'trend data'!$A$2:$O$11161,H$6,FALSE),\"-\")","v":132},{"$f":"IFERROR(ROUND(VLOOKUP(CONCATENATE(I$5,$C52),'trend data'!$A$2:$O$11161,I$6,FALSE),4),\"-\")","v":9.4412000000000003},{"$f":"IFERROR(ROUND(VLOOKUP(CONCATENATE(J$5,$C52),'trend data'!$A$2:$O$11161,J$6,FALSE),4),\"-\")","v":7.8993000000000002},{"$f":"IFERROR(ROUND(VLOOKUP(CONCATENATE(K$5,$C52),'trend data'!$A$2:$O$11161,K$6,FALSE),4),\"-\")","v":11.196199999999999},{"$f":"IFERROR(VLOOKUP(CONCATENATE(L$5,$C52),'trend data'!$A$2:$O$11161,L$6,FALSE),\"-\")","v":"-"},{"$f":"IFERROR(VLOOKUP(CONCATENATE(M$5,$C52),'trend data'!$A$2:$O$11161,M$6,FALSE),\"-\")","v":"-"},{"$f":"IFERROR(VLOOKUP(CONCATENATE(N$5,$C52),'trend data'!$A$2:$O$11161,N$6,FALSE),\"-\")","v":"-"},{"$f":"IFERROR(VLOOKUP(CONCATENATE(O$5,$C52),'trend data'!$A$2:$O$11161,O$6,FALSE),\"-\")","v":"-"}]
[202601,"2026-03-31",{"$f":"CONCATENATE(A53,'SAB Data and Charts'!B$1)","v":"202601Scotland"},{"$f":"IFERROR(VLOOKUP(CONCATENATE(D$5,$C53),'trend data'!$A$2:$O$11161,D$6,FALSE),\"-\")","v":291},{"$f":"ROUND(VLOOKUP(CONCATENATE(E$5,$C53),'trend data'!$A$2:$O$11161,E$6,FALSE),4)","v":18.8947},{"$f":"ROUND(VLOOKUP(CONCATENATE(F$5,$C53),'trend data'!$A$2:$O$11161,F$6,FALSE),4)","v":16.785799999999998},{"$f":"ROUND(VLOOKUP(CONCATENATE(G$5,$C53),'trend data'!$A$2:$O$11161,G$6,FALSE),4)","v":21.1952},{"$f":"IFERROR(VLOOKUP(CONCATENATE(H$5,$C53),'trend data'!$A$2:$O$11161,H$6,FALSE),\"-\")","v":137},{"$f":"IFERROR(ROUND(VLOOKUP(CONCATENATE(I$5,$C53),'trend data'!$A$2:$O$11161,I$6,FALSE),4),\"-\")","v":10.0166},{"$f":"IFERROR(ROUND(VLOOKUP(CONCATENATE(J$5,$C53),'trend data'!$A$2:$O$11161,J$6,FALSE),4),\"-\")","v":8.4094999999999995},{"$f":"IFERROR(ROUND(VLOOKUP(CONCATENATE(K$5,$C53),'trend data'!$A$2:$O$11161,K$6,FALSE),4),\"-\")","v":11.8414},{"$f":"IFERROR(VLOOKUP(CONCATENATE(L$5,$C53),'trend data'!$A$2:$O$11161,L$6,FALSE),\"-\")","v":"-"},{"$f":"IFERROR(VLOOKUP(CONCATENATE(M$5,$C53),'trend data'!$A$2:$O$11161,M$6,FALSE),\"-\")","v":"-"},{"$f":"IFERROR(VLOOKUP(CONCATENATE(N$5,$C53),'trend data'!$A$2:$O$11161,N$6,FALSE),\"-\")","v":"-"},{"$f":"IFERROR(VLOOKUP(CONCATENATE(O$5,$C53),'trend data'!$A$2:$O$11161,O$6,FALSE),\"-\")","v":"-"}]

{"sheet":"CDI data","index":8,"n_rows":53,"n_cols":27,"rows_kept":53,"cut":false,"hidden":true,"merged":[]}
["Trend data",null,null,null,null,null,null,null,null,null,null,null,null,null,"u-chart data"]
[]
["always last 3 years"]
[null,null,null,null,null,null,null,null,null,null,null,null,null,null,null,null,"change this"]
[null,null,null,"CDIHCAI","CDIHCAI","CDIHCAI","CDIHCAI","CDICA","CDICA","CDICA","CDICA",null,null,null,null,"current quarter end","2026-03-31",null,3,4,5,6,null,3,4,5,6]
[null,null,null,2,4,5,6,2,4,5,6]
[null,null,"ref","Healthcare associated Cases","Healthcare associated rate","Healthcare associated lower CI","Healthcare associated upper CI","Community associated Cases","Community associated rate","Community associated lower CI","Community associated upper CI",null,null,null,null,null,null,null,"CDIHCAI",null,null,null,null,"CDICA"]
[201404,"2014-12-19",{"$f":"CONCATENATE(A8,'CDI Data and Charts'!B$1)","v":"201404Scotland"},{"$f":"VLOOKUP(CONCATENATE(D$5,$C8),'trend data'!$A$2:$O$11161,D$6,FALSE)","v":321},{"$f":"ROUND(VLOOKUP(CONCATENATE(E$5,$C8),'trend data'!$A$2:$O$11161,E$6,FALSE),3)","v":18.751999999999999},{"$f":"ROUND(VLOOKUP(CONCATENATE(F$5,$C8),'trend data'!$A$2:$O$11161,F$6,FALSE),3)","v":16.756},{"$f":"ROUND(VLOOKUP(CONCATENATE(G$5,$C8),'trend data'!$A$2:$O$11161,G$6,FALSE),3)","v":20.92},{"$f":"IFERROR(VLOOKUP(CONCATENATE(H$5,$C8),'trend data'!$A$2:$O$11161,H$6,FALSE),\"-\")","v":121},{"$f":"IFERROR(ROUND(VLOOKUP(CONCATENATE(I$5,$C8),'trend data'!$A$2:$O$11161,I$6,FALSE),3),\"-\")","v":9.0039999999999996},{"$f":"IFERROR(ROUND(VLOOKUP(CONCATENATE(J$5,$C8),'trend data'!$A$2:$O$11161,J$6,FALSE),3),\"-\")","v":7.4710000000000001},{"$f":"IFERROR(ROUND(VLOOKUP(CONCATENATE(K$5,$C8),'trend data'!$A$2:$O$11161,K$6,FALSE),3),\"-\")","v":10.759},null,null,null,null,null,null,null,"Healthcare associated rate","Healthcare associated av rate","Healthcare associated UWL 2sd","Healthcare associated UCL 3sd",null,"Community associatedrate","Community associatedav rate","Community associatedUWL 2sd","Community associatedUCL 3 sd"]
[201501,"2015-03-24",{"$f":"CONCATENATE(A9,'CDI Data and Charts'!B$1)","v":"201501Scotland"},{"$f":"VLOOKUP(CONCATENATE(D$5,$C9),'trend data'!$A$2:$O$11161,D$6,FALSE)","v":251},{"$f":"ROUND(VLOOKUP(CONCATENATE(E$5,$C9),'trend data'!$A$2:$O$11161,E$6,FALSE),3)","v":14.561999999999999},{"$f":"ROUND(VLOOKUP(CONCATENATE(F$5,$C9),'trend data'!$A$2:$O$11161,F$6,FALSE),3)","v":12.816000000000001},{"$f":"ROUND(VLOOKUP(CONCATENATE(G$5,$C9),'trend data'!$A$2:$O$11161,G$6,FALSE),3)","v":16.478999999999999},{"$f":"IFERROR(VLOOKUP(CONCATENATE(H$5,$C9),'trend data'!$A$2:$O$11161,H$6,FALSE),\"-\")","v":92},{"$f":"IFERROR(ROUND(VLOOKUP(CONCATENATE(I$5,$C9),'trend data'!$A$2:$O$11161,I$6,FALSE),3),\"-\")","v":6.9729999999999999},{"$f":"IFERROR(ROUND(VLOOKUP(CONCATENATE(J$5,$C9),'trend data'!$A$2:$O$11161,J$6,FALSE),3),\"-\")","v":5.6210000000000004},{"$f":"IFERROR(ROUND(VLOOKUP(CONCATENATE(K$5,$C9),'trend data'!$A$2:$O$11161,K$6,FALSE),3),\"-\")","v":8.5519999999999996},null,null,null,{"$f":"YEAR(Q9)&\"0\"&IF(MONTH(Q9)<4,1,IF(MONTH(Q9)<7,2,IF(MONTH(Q9)<10,3,4)))","v":"202302"},1,{"$f":"Q10-92","v":"2023-06-23"},{"$f":"CONCATENATE(S$7,$O9,'CDI Data and Charts'!B$1)","v":"CDIHCAI202302Scotland"},{"$f":"ROUND(VLOOKUP($R9,'data for u-p-charts'!$A$2:$F$5000,S$5,FALSE),2)","v":15.8},{"$f":"ROUND(VLOOKUP($R9,'data for u-p-charts'!$A$2:$F$5000,T$5,FALSE),2)","v":15.26},{"$f":"ROUND(VLOOKUP($R9,'data for u-p-charts'!$A$2:$F$5000,U$5,FALSE),2)","v":17.239999999999998},{"$f":"ROUND(VLOOKUP($R9,'data for u-p-charts'!$A$2:$F$5000,V$5,FALSE),2)","v":18.239999999999998},{"$f":"CONCATENATE(X$7,$O9,'CDI Data and Charts'!B$1)","v":"CDICA202302Scotland"},{"$f":"ROUND(VLOOKUP($W9,'data for u-p-charts'!$A$2:$F$5000,X$5,FALSE),2)","v":5.1100000000000003},{"$f":"ROUND(VLOOKUP($W9,'data for u-p-charts'!$A$2:$F$5000,Y$5,FALSE),2)","v":5.79},{"$f":"ROUND(VLOOKUP($W9,'data for u-p-charts'!$A$2:$F$5000,Z$5,FALSE),2)","v":7.09},{"$f":"ROUND(VLOOKUP($W9,'data for u-p-charts'!$A$2:$F$5000,AA$5,FALSE),2)","v":7.74}]
[201502,"2015-06-24",{"$f":"CONCATENATE(A10,'CDI Data and Charts'!B$1)","v":"201502Scotland"},{"$f":"VLOOKUP(CONCATENATE(D$5,$C10),'trend data'!$A$2:$O$11161,D$6,FALSE)","v":308},{"$f":"ROUND(VLOOKUP(CONCATENATE(E$5,$C10),'trend data'!$A$2:$O$11161,E$6,FALSE),3)","v":18.538},{"$f":"ROUND(VLOOKUP(CONCATENATE(F$5,$C10),'trend data'!$A$2:$O$11161,F$6,FALSE),3)","v":16.526},{"$f":"ROUND(VLOOKUP(CONCATENATE(G$5,$C10),'trend data'!$A$2:$O$11161,G$6,FALSE),3)","v":20.728999999999999},{"$f":"IFERROR(VLOOKUP(CONCATENATE(H$5,$C10),'trend data'!$A$2:$O$11161,H$6,FALSE),\"-\")","v":98},{"$f":"IFERROR(ROUND(VLOOKUP(CONCATENATE(I$5,$C10),'trend data'!$A$2:$O$11161,I$6,FALSE),3),\"-\")","v":7.3460000000000001},{"$f":"IFERROR(ROUND(VLOOKUP(CONCATENATE(J$5,$C10),'trend data'!$A$2:$O$11161,J$6,FALSE),3),\"-\")","v":5.9640000000000004},{"$f":"IFERROR(ROUND(VLOOKUP(CONCATENATE(K$5,$C10),'trend data'!$A$2:$O$11161,K$6,FALSE),3),\"-\")","v":8.9529999999999994},null,null,null,{"$f":"YEAR(Q10)&\"0\"&IF(MONTH(Q10)<4,1,IF(MONTH(Q10)<7,2,IF(MONTH(Q10)<10,3,4)))","v":"202303"},2,"2023-09-23",{"$f":"CONCATENATE(S$7,$O10,'CDI Data and Charts'!B$1)","v":"CDIHCAI202303Scotland"},{"$f":"ROUND(VLOOKUP($R10,'data for u-p-charts'!$A$2:$F$5000,S$5,FALSE),2)","v":15.54},{"$f":"ROUND(VLOOKUP($R10,'data for u-p-charts'!$A$2:$F$5000,T$5,FALSE),2)","v":15.26},{"$f":"ROUND(VLOOKUP($R10,'data for u-p-charts'!$A$2:$F$5000,U$5,FALSE),2)","v":17.25},{"$f":"ROUND(VLOOKUP($R10,'data for u-p-charts'!$A$2:$F$5000,V$5,FALSE),2)","v":18.25},{"$f":"CONCATENATE(X$7,$O10,'CDI Data and Charts'!B$1)","v":"CDICA202303Scotland"},{"$f":"ROUND(VLOOKUP($W10,'data for u-p-charts'!$A$2:$F$5000,X$5,FALSE),2)","v":6.21},{"$f":"ROUND(VLOOKUP($W10,'data for u-p-charts'!$A$2:$F$5000,Y$5,FALSE),2)","v":5.79},{"$f":"ROUND(VLOOKUP($W10,'data for u-p-charts'!$A$2:$F$5000,Z$5,FALSE),2)","v":7.08},{"$f":"ROUND(VLOOKUP($W10,'data for u-p-charts'!$A$2:$F$5000,AA$5,FALSE),2)","v":7.73}]
[201503,"2015-09-24",{"$f":"CONCATENATE(A11,'CDI Data and Charts'!B$1)","v":"201503Scotland"},{"$f":"VLOOKUP(CONCATENATE(D$5,$C11),'trend data'!$A$2:$O$11161,D$6,FALSE)","v":313},{"$f":"ROUND(VLOOKUP(CONCATENATE(E$5,$C11),'trend data'!$A$2:$O$11161,E$6,FALSE),3)","v":19.309999999999999},{"$f":"ROUND(VLOOKUP(CONCATENATE(F$5,$C11),'trend data'!$A$2:$O$11161,F$6,FALSE),3)","v":17.23},{"$f":"ROUND(VLOOKUP(CONCATENATE(G$5,$C11),'trend data'!$A$2:$O$11161,G$6,FALSE),3)","v":21.573},{"$f":"IFERROR(VLOOKUP(CONCATENATE(H$5,$C11),'trend data'!$A$2:$O$11161,H$6,FALSE),\"-\")","v":131},{"$f":"IFERROR(ROUND(VLOOKUP(CONCATENATE(I$5,$C11),'trend data'!$A$2:$O$11161,I$6,FALSE),3),\"-\")","v":9.7129999999999992},{"$f":"IFERROR(ROUND(VLOOKUP(CONCATENATE(J$5,$C11),'trend data'!$A$2:$O$11161,J$6,FALSE),3),\"-\")","v":8.1210000000000004},{"$f":"IFERROR(ROUND(VLOOKUP(CONCATENATE(K$5,$C11),'trend data'!$A$2:$O$11161,K$6,FALSE),3),\"-\")","v":11.526},null,null,null,"202304",3,"2023-12-24",{"$f":"CONCATENATE(S$7,$O11,'CDI Data and Charts'!B$1)","v":"CDIHCAI202304Scotland"},{"$f":"ROUND(VLOOKUP($R11,'data for u-p-charts'!$A$2:$F$5000,S$5,FALSE),2)","v":14.24},{"$f":"ROUND(VLOOKUP($R11,'data for u-p-charts'!$A$2:$F$5000,T$5,FALSE),2)","v":15.26},{"$f":"ROUND(VLOOKUP($R11,'data for u-p-charts'!$A$2:$F$5000,U$5,FALSE),2)","v":17.23},{"$f":"ROUND(VLOOKUP($R11,'data for u-p-charts'!$A$2:$F$5000,V$5,FALSE),2)","v":18.22},{"$f":"CONCATENATE(X$7,$O11,'CDI Data and Charts'!B$1)","v":"CDICA202304Scotland"},{"$f":"ROUND(VLOOKUP($W11,'data for u-p-charts'!$A$2:$F$5000,X$5,FALSE),2)","v":5.71},{"$f":"ROUND(VLOOKUP($W11,'data for u-p-charts'!$A$2:$F$5000,Y$5,FALSE),2)","v":5.79},{"$f":"ROUND(VLOOKUP($W11,'data for u-p-charts'!$A$2:$F$5000,Z$5,FALSE),2)","v":7.08},{"$f":"ROUND(VLOOKUP($W11,'data for u-p-charts'!$A$2:$F$5000,AA$5,FALSE),2)","v":7.73}]
[201504,"2015-12-24",{"$f":"CONCATENATE(A12,'CDI Data and Charts'!B$1)","v":"201504Scotland"},{"$f":"VLOOKUP(CONCATENATE(D$5,$C12),'trend data'!$A$2:$O$11161,D$6,FALSE)","v":367},{"$f":"ROUND(VLOOKUP(CONCATENATE(E$5,$C12),'trend data'!$A$2:$O$11161,E$6,FALSE),3)","v":22.349},{"$f":"ROUND(VLOOKUP(CONCATENATE(F$5,$C12),'trend data'!$A$2:$O$11161,F$6,FALSE),3)","v":20.12},{"$f":"ROUND(VLOOKUP(CONCATENATE(G$5,$C12),'trend data'!$A$2:$O$11161,G$6,FALSE),3)","v":24.756},{"$f":"IFERROR(VLOOKUP(CONCATENATE(H$5,$C12),'trend data'!$A$2:$O$11161,H$6,FALSE),\"-\")","v":116},{"$f":"IFERROR(ROUND(VLOOKUP(CONCATENATE(I$5,$C12),'trend data'!$A$2:$O$11161,I$6,FALSE),3),\"-\")","v":8.6010000000000009},{"$f":"IFERROR(ROUND(VLOOKUP(CONCATENATE(J$5,$C12),'trend data'!$A$2:$O$11161,J$6,FALSE),3),\"-\")","v":7.1070000000000002},{"$f":"IFERROR(ROUND(VLOOKUP(CONCATENATE(K$5,$C12),'trend data'!$A$2:$O$11161,K$6,FALSE),3),\"-\")","v":10.316000000000001},null,null,null,"202401",4,"2024-03-25",{"$f":"CONCATENATE(S$7,$O12,'CDI Data and Charts'!B$1)","v":"CDIHCAI202401Scotland"},{"$f":"ROUND(VLOOKUP($R12,'data for u-p-charts'!$A$2:$F$5000,S$5,FALSE),2)","v":12.7},{"$f":"ROUND(VLOOKUP($R12,'data for u-p-charts'!$A$2:$F$5000,T$5,FALSE),2)","v":15.26},{"$f":"ROUND(VLOOKUP($R12,'data for u-p-charts'!$A$2:$F$5000,U$5,FALSE),2)","v":17.22},{"$f":"ROUND(VLOOKUP($R12,'data for u-p-charts'!$A$2:$F$5000,V$5,FALSE),2)","v":18.190000000000001},{"$f":"CONCATENATE(X$7,$O12,'CDI Data and Charts'!B$1)","v":"CDICA202401Scotland"},{"$f":"ROUND(VLOOKUP($W12,'data for u-p-charts'!$A$2:$F$5000,X$5,FALSE),2)","v":6.74},{"$f":"ROUND(VLOOKUP($W12,'data for u-p-charts'!$A$2:$F$5000,Y$5,FALSE),2)","v":5.79},{"$f":"ROUND(VLOOKUP($W12,'data for u-p-charts'!$A$2:$F$5000,Z$5,FALSE),2)","v":7.08},{"$f":"ROUND(VLOOKUP($W12,'data for u-p-charts'!$A$2:$F$5000,AA$5,FALSE),2)","v":7.73}]
[201601,"2016-03-24",{"$f":"CONCATENATE(A13,'CDI Data and Charts'!B$1)","v":"201601Scotland"},{"$f":"VLOOKUP(CONCATENATE(D$5,$C13),'trend data'!$A$2:$O$11161,D$6,FALSE)","v":252},{"$f":"ROUND(VLOOKUP(CONCATENATE(E$5,$C13),'trend data'!$A$2:$O$11161,E$6,FALSE),3)","v":15.05},{"$f":"ROUND(VLOOKUP(CONCATENATE(F$5,$C13),'trend data'!$A$2:$O$11161,F$6,FALSE),3)","v":13.249000000000001},{"$f":"ROUND(VLOOKUP(CONCATENATE(G$5,$C13),'trend data'!$A$2:$O$11161,G$6,FALSE),3)","v":17.027000000000001},{"$f":"IFERROR(VLOOKUP(CONCATENATE(H$5,$C13),'trend data'!$A$2:$O$11161,H$6,FALSE),\"-\")","v":97},{"$f":"IFERROR(ROUND(VLOOKUP(CONCATENATE(I$5,$C13),'trend data'!$A$2:$O$11161,I$6,FALSE),3),\"-\")","v":7.26},{"$f":"IFERROR(ROUND(VLOOKUP(CONCATENATE(J$5,$C13),'trend data'!$A$2:$O$11161,J$6,FALSE),3),\"-\")","v":5.8869999999999996},{"$f":"IFERROR(ROUND(VLOOKUP(CONCATENATE(K$5,$C13),'trend data'!$A$2:$O$11161,K$6,FALSE),3),\"-\")","v":8.8569999999999993},null,null,null,"202402",5,"2024-06-25",{"$f":"CONCATENATE(S$7,$O13,'CDI Data and Charts'!B$1)","v":"CDIHCAI202402Scotland"},{"$f":"ROUND(VLOOKUP($R13,'data for u-p-charts'!$A$2:$F$5000,S$5,FALSE),2)","v":17.07},{"$f":"ROUND(VLOOKUP($R13,'data for u-p-charts'!$A$2:$F$5000,T$5,FALSE),2)","v":15.26},{"$f":"ROUND(VLOOKUP($R13,'data for u-p-charts'!$A$2:$F$5000,U$5,FALSE),2)","v":17.239999999999998},{"$f":"ROUND(VLOOKUP($R13,'data for u-p-charts'!$A$2:$F$5000,V$5,FALSE),2)","v":18.23},{"$f":"CONCATENATE(X$7,$O13,'CDI Data and Charts'!B$1)","v":"CDICA202402Scotland"},{"$f":"ROUND(VLOOKUP($W13,'data for u-p-charts'!$A$2:$F$5000,X$5,FALSE),2)","v":6.82},{"$f":"ROUND(VLOOKUP($W13,'data for u-p-charts'!$A$2:$F$5000,Y$5,FALSE),2)","v":5.79},{"$f":"ROUND(VLOOKUP($W13,'data for u-p-charts'!$A$2:$F$5000,Z$5,FALSE),2)","v":7.08},{"$f":"ROUND(VLOOKUP($W13,'data for u-p-charts'!$A$2:$F$5000,AA$5,FALSE),2)","v":7.73}]
[201602,"2016-06-24",{"$f":"CONCATENATE(A14,'CDI Data and Charts'!B$1)","v":"201602Scotland"},{"$f":"VLOOKUP(CONCATENATE(D$5,$C14),'trend data'!$A$2:$O$11161,D$6,FALSE)","v":250},{"$f":"ROUND(VLOOKUP(CONCATENATE(E$5,$C14),'trend data'!$A$2:$O$11161,E$6,FALSE),3)","v":15.574999999999999},{"$f":"ROUND(VLOOKUP(CONCATENATE(F$5,$C14),'trend data'!$A$2:$O$11161,F$6,FALSE),3)","v":13.704000000000001},{"$f":"ROUND(VLOOKUP(CONCATENATE(G$5,$C14),'trend data'!$A$2:$O$11161,G$6,FALSE),3)","v":17.631},{"$f":"IFERROR(VLOOKUP(CONCATENATE(H$5,$C14),'trend data'!$A$2:$O$11161,H$6,FALSE),\"-\")","v":91},{"$f":"IFERROR(ROUND(VLOOKUP(CONCATENATE(I$5,$C14),'trend data'!$A$2:$O$11161,I$6,FALSE),3),\"-\")","v":6.8109999999999999},{"$f":"IFERROR(ROUND(VLOOKUP(CONCATENATE(J$5,$C14),'trend data'!$A$2:$O$11161,J$6,FALSE),3),\"-\")","v":5.484},{"$f":"IFERROR(ROUND(VLOOKUP(CONCATENATE(K$5,$C14),'trend data'!$A$2:$O$11161,K$6,FALSE),3),\"-\")","v":8.3629999999999995},null,null,null,"202403",6,"2024-09-25",{"$f":"CONCATENATE(S$7,$O14,'CDI Data and Charts'!B$1)","v":"CDIHCAI202403Scotland"},{"$f":"ROUND(VLOOKUP($R14,'data for u-p-charts'!$A$2:$F$5000,S$5,FALSE),2)","v":18.36},{"$f":"ROUND(VLOOKUP($R14,'data for u-p-charts'!$A$2:$F$5000,T$5,FALSE),2)","v":15.26},{"$f":"ROUND(VLOOKUP($R14,'data for u-p-charts'!$A$2:$F$5000,U$5,FALSE),2)","v":17.239999999999998},{"$f":"ROUND(VLOOKUP($R14,'data for u-p-charts'!$A$2:$F$5000,V$5,FALSE),2)","v":18.23},{"$f":"CONCATENATE(X$7,$O14,'CDI Data and Charts'!B$1)","v":"CDICA202403Scotland"},{"$f":"ROUND(VLOOKUP($W14,'data for u-p-charts'!$A$2:$F$5000,X$5,FALSE),2)","v":7.53},{"$f":"ROUND(VLOOKUP($W14,'data for u-p-charts'!$A$2:$F$5000,Y$5,FALSE),2)","v":5.79},{"$f":"ROUND(VLOOKUP($W14,'data for u-p-charts'!$A$2:$F$5000,Z$5,FALSE),2)","v":7.08},{"$f":"ROUND(VLOOKUP($W14,'data for u-p-charts'!$A$2:$F$5000,AA$5,FALSE),2)","v":7.72}]
[201603,"2016-09-24",{"$f":"CONCATENATE(A15,'CDI Data and Charts'!B$1)","v":"201603Scotland"},{"$f":"VLOOKUP(CONCATENATE(D$5,$C15),'trend data'!$A$2:$O$11161,D$6,FALSE)","v":263},{"$f":"ROUND(VLOOKUP(CONCATENATE(E$5,$C15),'trend data'!$A$2:$O$11161,E$6,FALSE),3)","v":16.562999999999999},{"$f":"ROUND(VLOOKUP(CONCATENATE(F$5,$C15),'trend data'!$A$2:$O$11161,F$6,FALSE),3)","v":14.621},{"$f":"ROUND(VLOOKUP(CONCATENATE(G$5,$C15),'trend data'!$A$2:$O$11161,G$6,FALSE),3)","v":18.690000000000001},{"$f":"IFERROR(VLOOKUP(CONCATENATE(H$5,$C15),'trend data'!$A$2:$O$11161,H$6,FALSE),\"-\")","v":119},{"$f":"IFERROR(ROUND(VLOOKUP(CONCATENATE(I$5,$C15),'trend data'!$A$2:$O$11161,I$6,FALSE),3),\"-\")","v":8.81},{"$f":"IFERROR(ROUND(VLOOKUP(CONCATENATE(J$5,$C15),'trend data'!$A$2:$O$11161,J$6,FALSE),3),\"-\")","v":7.298},{"$f":"IFERROR(ROUND(VLOOKUP(CONCATENATE(K$5,$C15),'trend data'!$A$2:$O$11161,K$6,FALSE),3),\"-\")","v":10.542999999999999},null,null,null,"202404",7,"2024-12-26",{"$f":"CONCATENATE(S$7,$O15,'CDI Data and Charts'!B$1)","v":"CDIHCAI202404Scotland"},{"$f":"ROUND(VLOOKUP($R15,'data for u-p-charts'!$A$2:$F$5000,S$5,FALSE),2)","v":18.07},{"$f":"ROUND(VLOOKUP($R15,'data for u-p-charts'!$A$2:$F$5000,T$5,FALSE),2)","v":15.26},{"$f":"ROUND(VLOOKUP($R15,'data for u-p-charts'!$A$2:$F$5000,U$5,FALSE),2)","v":17.23},{"$f":"ROUND(VLOOKUP($R15,'data for u-p-charts'!$A$2:$F$5000,V$5,FALSE),2)","v":18.22},{"$f":"CONCATENATE(X$7,$O15,'CDI Data and Charts'!B$1)","v":"CDICA202404Scotland"},{"$f":"ROUND(VLOOKUP($W15,'data for u-p-charts'!$A$2:$F$5000,X$5,FALSE),2)","v":6.1},{"$f":"ROUND(VLOOKUP($W15,'data for u-p-charts'!$A$2:$F$5000,Y$5,FALSE),2)","v":5.79},{"$f":"ROUND(VLOOKUP($W15,'data for u-p-charts'!$A$2:$F$5000,Z$5,FALSE),2)","v":7.08},{"$f":"ROUND(VLOOKUP($W15,'data for u-p-charts'!$A$2:$F$5000,AA$5,FALSE),2)","v":7.72}]
[201604,"2016-12-24",{"$f":"CONCATENATE(A16,'CDI Data and Charts'!B$1)","v":"201604Scotland"},{"$f":"VLOOKUP(CONCATENATE(D$5,$C16),'trend data'!$A$2:$O$11161,D$6,FALSE)","v":233},{"$f":"ROUND(VLOOKUP(CONCATENATE(E$5,$C16),'trend data'!$A$2:$O$11161,E$6,FALSE),3)","v":14.638999999999999},{"$f":"ROUND(VLOOKUP(CONCATENATE(F$5,$C16),'trend data'!$A$2:$O$11161,F$6,FALSE),3)","v":12.819000000000001},{"$f":"ROUND(VLOOKUP(CONCATENATE(G$5,$C16),'trend data'!$A$2:$O$11161,G$6,FALSE),3)","v":16.643999999999998},{"$f":"IFERROR(VLOOKUP(CONCATENATE(H$5,$C16),'trend data'!$A$2:$O$11161,H$6,FALSE),\"-\")","v":94},{"$f":"IFERROR(ROUND(VLOOKUP(CONCATENATE(I$5,$C16),'trend data'!$A$2:$O$11161,I$6,FALSE),3),\"-\")","v":6.9589999999999996},{"$f":"IFERROR(ROUND(VLOOKUP(CONCATENATE(J$5,$C16),'trend data'!$A$2:$O$11161,J$6,FALSE),3),\"-\")","v":5.6239999999999997},{"$f":"IFERROR(ROUND(VLOOKUP(CONCATENATE(K$5,$C16),'trend data'!$A$2:$O$11161,K$6,FALSE),3),\"-\")","v":8.516},null,null,null,"202501",8,"2025-03-28",{"$f":"CONCATENATE(S$7,$O16,'CDI Data and Charts'!B$1)","v":"CDIHCAI202501Scotland"},{"$f":"ROUND(VLOOKUP($R16,'data for u-p-charts'!$A$2:$F$5000,S$5,FALSE),2)","v":13.4},{"$f":"ROUND(VLOOKUP($R16,'data for u-p-charts'!$A$2:$F$5000,T$5,FALSE),2)","v":15.26},{"$f":"ROUND(VLOOKUP($R16,'data for u-p-charts'!$A$2:$F$5000,U$5,FALSE),2)","v":17.239999999999998},{"$f":"ROUND(VLOOKUP($R16,'data for u-p-charts'!$A$2:$F$5000,V$5,FALSE),2)","v":18.23},{"$f":"CONCATENATE(X$7,$O16,'CDI Data and Charts'!B$1)","v":"CDICA202501Scotland"},{"$f":"ROUND(VLOOKUP($W16,'data for u-p-charts'!$A$2:$F$5000,X$5,FALSE),2)","v":4.68},{"$f":"ROUND(VLOOKUP($W16,'data for u-p-charts'!$A$2:$F$5000,Y$5,FALSE),2)","v":5.79},{"$f":"ROUND(VLOOKUP($W16,'data for u-p-charts'!$A$2:$F$5000,Z$5,FALSE),2)","v":7.09},{"$f":"ROUND(VLOOKUP($W16,'data for u-p-charts'!$A$2:$F$5000,AA$5,FALSE),2)","v":7.74}]
[201701,"2017-03-01",{"$f":"CONCATENATE(A17,'CDI Data and Charts'!B$1)","v":"201701Scotland"},{"$f":"VLOOKUP(CONCATENATE(D$5,$C17),'trend data'!$A$2:$O$11161,D$6,FALSE)","v":257},{"$f":"ROUND(VLOOKUP(CONCATENATE(E$5,$C17),'trend data'!$A$2:$O$11161,E$6,FALSE),3)","v":16.251999999999999},{"$f":"ROUND(VLOOKUP(CONCATENATE(F$5,$C17),'trend data'!$A$2:$O$11161,F$6,FALSE),3)","v":14.326000000000001},{"$f":"ROUND(VLOOKUP(CONCATENATE(G$5,$C17),'trend data'!$A$2:$O$11161,G$6,FALSE),3)","v":18.364999999999998},{"$f":"IFERROR(VLOOKUP(CONCATENATE(H$5,$C17),'trend data'!$A$2:$O$11161,H$6,FALSE),\"-\")","v":74},{"$f":"IFERROR(ROUND(VLOOKUP(CONCATENATE(I$5,$C17),'trend data'!$A$2:$O$11161,I$6,FALSE),3),\"-\")","v":5.57},{"$f":"IFERROR(ROUND(VLOOKUP(CONCATENATE(J$5,$C17),'trend data'!$A$2:$O$11161,J$6,FALSE),3),\"-\")","v":4.3730000000000002},{"$f":"IFERROR(ROUND(VLOOKUP(CONCATENATE(K$5,$C17),'trend data'!$A$2:$O$11161,K$6,FALSE),3),\"-\")","v":6.992},null,null,null,"202502",9,"2025-06-28",{"$f":"CONCATENATE(S$7,$O17,'CDI Data and Charts'!B$1)","v":"CDIHCAI202502Scotland"},{"$f":"ROUND(VLOOKUP($R17,'data for u-p-charts'!$A$2:$F$5000,S$5,FALSE),2)","v":13.96},{"$f":"ROUND(VLOOKUP($R17,'data for u-p-charts'!$A$2:$F$5000,T$5,FALSE),2)","v":15.26},{"$f":"ROUND(VLOOKUP($R17,'data for u-p-charts'!$A$2:$F$5000,U$5,FALSE),2)","v":17.260000000000002},{"$f":"ROUND(VLOOKUP($R17,'data for u-p-charts'!$A$2:$F$5000,V$5,FALSE),2)","v":18.260000000000002},{"$f":"CONCATENATE(X$7,$O17,'CDI Data and Charts'!B$1)","v":"CDICA202502Scotland"},{"$f":"ROUND(VLOOKUP($W17,'data for u-p-charts'!$A$2:$F$5000,X$5,FALSE),2)","v":5.28},{"$f":"ROUND(VLOOKUP($W17,'data for u-p-charts'!$A$2:$F$5000,Y$5,FALSE),2)","v":5.79},{"$f":"ROUND(VLOOKUP($W17,'data for u-p-charts'!$A$2:$F$5000,Z$5,FALSE),2)","v":7.08},{"$f":"ROUND(VLOOKUP($W17,'data for u-p-charts'!$A$2:$F$5000,AA$5,FALSE),2)","v":7.73}]
[201702,"2017-06-01",{"$f":"CONCATENATE(A18,'CDI Data and Charts'!B$1)","v":"201702Scotland"},{"$f":"VLOOKUP(CONCATENATE(D$5,$C18),'trend data'!$A$2:$O$11161,D$6,FALSE)","v":237},{"$f":"ROUND(VLOOKUP(CONCATENATE(E$5,$C18),'trend data'!$A$2:$O$11161,E$6,FALSE),3)","v":15.285},{"$f":"ROUND(VLOOKUP(CONCATENATE(F$5,$C18),'trend data'!$A$2:$O$11161,F$6,FALSE),3)","v":13.4},{"$f":"ROUND(VLOOKUP(CONCATENATE(G$5,$C18),'trend data'!$A$2:$O$11161,G$6,FALSE),3)","v":17.36},{"$f":"IFERROR(VLOOKUP(CONCATENATE(H$5,$C18),'trend data'!$A$2:$O$11161,H$6,FALSE),\"-\")","v":101},{"$f":"IFERROR(ROUND(VLOOKUP(CONCATENATE(I$5,$C18),'trend data'!$A$2:$O$11161,I$6,FALSE),3),\"-\")","v":7.5179999999999998},{"$f":"IFERROR(ROUND(VLOOKUP(CONCATENATE(J$5,$C18),'trend data'!$A$2:$O$11161,J$6,FALSE),3),\"-\")","v":6.1239999999999997},{"$f":"IFERROR(ROUND(VLOOKUP(CONCATENATE(K$5,$C18),'trend data'!$A$2:$O$11161,K$6,FALSE),3),\"-\")","v":9.1359999999999992},null,null,null,"202503",10,"2025-09-28",{"$f":"CONCATENATE(S$7,$O18,'CDI Data and Charts'!B$1)","v":"CDIHCAI202503Scotland"},{"$f":"ROUND(VLOOKUP($R18,'data for u-p-charts'!$A$2:$F$5000,S$5,FALSE),2)","v":16.149999999999999},{"$f":"ROUND(VLOOKUP($R18,'data for u-p-charts'!$A$2:$F$5000,T$5,FALSE),2)","v":15.26},{"$f":"ROUND(VLOOKUP($R18,'data for u-p-charts'!$A$2:$F$5000,U$5,FALSE),2)","v":17.260000000000002},{"$f":"ROUND(VLOOKUP($R18,'data for u-p-charts'!$A$2:$F$5000,V$5,FALSE),2)","v":18.260000000000002},{"$f":"CONCATENATE(X$7,$O18,'CDI Data and Charts'!B$1)","v":"CDICA202503Scotland"},{"$f":"ROUND(VLOOKUP($W18,'data for u-p-charts'!$A$2:$F$5000,X$5,FALSE),2)","v":6.01},{"$f":"ROUND(VLOOKUP($W18,'data for u-p-charts'!$A$2:$F$5000,Y$5,FALSE),2)","v":5.79},{"$f":"ROUND(VLOOKUP($W18,'data for u-p-charts'!$A$2:$F$5000,Z$5,FALSE),2)","v":7.08},{"$f":"ROUND(VLOOKUP($W18,'data for u-p-charts'!$A$2:$F$5000,AA$5,FALSE),2)","v":7.72}]
[201703,"2017-09-01",{"$f":"CONCATENATE(A19,'CDI Data and Charts'!B$1)","v":"201703Scotland"},{"$f":"VLOOKUP(CONCATENATE(D$5,$C19),'trend data'!$A$2:$O$11161,D$6,FALSE)","v":284},{"$f":"ROUND(VLOOKUP(CONCATENATE(E$5,$C19),'trend data'!$A$2:$O$11161,E$6,FALSE),3)","v":18.456},{"$f":"ROUND(VLOOKUP(CONCATENATE(F$5,$C19),'trend data'!$A$2:$O$11161,F$6,FALSE),3)","v":16.370999999999999},{"$f":"ROUND(VLOOKUP(CONCATENATE(G$5,$C19),'trend data'!$A$2:$O$11161,G$6,FALSE),3)","v":20.731999999999999},{"$f":"IFERROR(VLOOKUP(CONCATENATE(H$5,$C19),'trend data'!$A$2:$O$11161,H$6,FALSE),\"-\")","v":107},{"$f":"IFERROR(ROUND(VLOOKUP(CONCATENATE(I$5,$C19),'trend data'!$A$2:$O$11161,I$6,FALSE),3),\"-\")","v":7.8789999999999996},{"$f":"IFERROR(ROUND(VLOOKUP(CONCATENATE(J$5,$C19),'trend data'!$A$2:$O$11161,J$6,FALSE),3),\"-\")","v":6.4560000000000004},{"$f":"IFERROR(ROUND(VLOOKUP(CONCATENATE(K$5,$C19),'trend data'!$A$2:$O$11161,K$6,FALSE),3),\"-\")","v":9.5210000000000008},null,null,null,"202504",11,{"$f":"Q20-92","v":"2025-12-29"},{"$f":"CONCATENATE(S$7,$O19,'CDI Data and Charts'!B$1)","v":"CDIHCAI202504Scotland"},{"$f":"ROUND(VLOOKUP($R19,'data for u-p-charts'!$A$2:$F$5000,S$5,FALSE),2)","v":14.4},{"$f":"ROUND(VLOOKUP($R19,'data for u-p-charts'!$A$2:$F$5000,T$5,FALSE),2)","v":15.26},{"$f":"ROUND(VLOOKUP($R19,'data for u-p-charts'!$A$2:$F$5000,U$5,FALSE),2)","v":17.25},{"$f":"ROUND(VLOOKUP($R19,'data for u-p-charts'!$A$2:$F$5000,V$5,FALSE),2)","v":18.25},{"$f":"CONCATENATE(X$7,$O19,'CDI Data and Charts'!B$1)","v":"CDICA202504Scotland"},{"$f":"ROUND(VLOOKUP($W19,'data for u-p-charts'!$A$2:$F$5000,X$5,FALSE),2)","v":5.01},{"$f":"ROUND(VLOOKUP($W19,'data for u-p-charts'!$A$2:$F$5000,Y$5,FALSE),2)","v":5.79},{"$f":"ROUND(VLOOKUP($W19,'data for u-p-charts'!$A$2:$F$5000,Z$5,FALSE),2)","v":7.08},{"$f":"ROUND(VLOOKUP($W19,'data for u-p-charts'!$A$2:$F$5000,AA$5,FALSE),2)","v":7.72}]
[201704,"2017-12-01",{"$f":"CONCATENATE(A20,'CDI Data and Charts'!B$1)","v":"201704Scotland"},{"$f":"VLOOKUP(CONCATENATE(D$5,$C20),'trend data'!$A$2:$O$11161,D$6,FALSE)","v":234},{"$f":"ROUND(VLOOKUP(CONCATENATE(E$5,$C20),'trend data'!$A$2:$O$11161,E$6,FALSE),3)","v":14.856999999999999},{"$f":"ROUND(VLOOKUP(CONCATENATE(F$5,$C20),'trend data'!$A$2:$O$11161,F$6,FALSE),3)","v":13.015000000000001},{"$f":"ROUND(VLOOKUP(CONCATENATE(G$5,$C20),'trend data'!$A$2:$O$11161,G$6,FALSE),3)","v":16.888000000000002},{"$f":"IFERROR(VLOOKUP(CONCATENATE(H$5,$C20),'trend data'!$A$2:$O$11161,H$6,FALSE),\"-\")","v":75},{"$f":"IFERROR(ROUND(VLOOKUP(CONCATENATE(I$5,$C20),'trend data'!$A$2:$O$11161,I$6,FALSE),3),\"-\")","v":5.5220000000000002},{"$f":"IFERROR(ROUND(VLOOKUP(CONCATENATE(J$5,$C20),'trend data'!$A$2:$O$11161,J$6,FALSE),3),\"-\")","v":4.343},{"$f":"IFERROR(ROUND(VLOOKUP(CONCATENATE(K$5,$C20),'trend data'!$A$2:$O$11161,K$6,FALSE),3),\"-\")","v":6.9219999999999997},null,null,null,"202601",12,{"$f":"Q5","v":"2026-03-31"},{"$f":"CONCATENATE(S$7,$O20,'CDI Data and Charts'!B$1)","v":"CDIHCAI202601Scotland"},{"$f":"ROUND(VLOOKUP($R20,'data for u-p-charts'!$A$2:$F$5000,S$5,FALSE),2)","v":13.9},{"$f":"ROUND(VLOOKUP($R20,'data for u-p-charts'!$A$2:$F$5000,T$5,FALSE),2)","v":15.26},{"$f":"ROUND(VLOOKUP($R20,'data for u-p-charts'!$A$2:$F$5000,U$5,FALSE),2)","v":17.25},{"$f":"ROUND(VLOOKUP($R20,'data for u-p-charts'!$A$2:$F$5000,V$5,FALSE),2)","v":18.239999999999998},{"$f":"CONCATENATE(X$7,$O20,'CDI Data and Charts'!B$1)","v":"CDICA202601Scotland"},{"$f":"ROUND(VLOOKUP($W20,'data for u-p-charts'!$A$2:$F$5000,X$5,FALSE),2)","v":5.34},{"$f":"ROUND(VLOOKUP($W20,'data for u-p-charts'!$A$2:$F$5000,Y$5,FALSE),2)","v":5.79},{"$f":"ROUND(VLOOKUP($W20,'data for u-p-charts'!$A$2:$F$5000,Z$5,FALSE),2)","v":7.09},{"$f":"ROUND(VLOOKUP($W20,'data for u-p-charts'!$A$2:$F$5000,AA$5,FALSE),2)","v":7.74}]
[201801,"2018-03-01",{"$f":"CONCATENATE(A21,'CDI Data and Charts'!B$1)","v":"201801Scotland"},{"$f":"IFERROR(VLOOKUP(CONCATENATE(D$5,$C21),'trend data'!$A$2:$O$11161,D$6,FALSE),\"-\")","v":228},{"$f":"ROUND(VLOOKUP(CONCATENATE(E$5,$C21),'trend data'!$A$2:$O$11161,E$6,FALSE),3)","v":14.382999999999999},{"$f":"ROUND(VLOOKUP(CONCATENATE(F$5,$C21),'trend data'!$A$2:$O$11161,F$6,FALSE),3)","v":12.576000000000001},{"$f":"ROUND(VLOOKUP(CONCATENATE(G$5,$C21),'trend data'!$A$2:$O$11161,G$6,FALSE),3)","v":16.376000000000001},{"$f":"IFERROR(VLOOKUP(CONCATENATE(H$5,$C21),'trend data'!$A$2:$O$11161,H$6,FALSE),\"-\")","v":86},{"$f":"IFERROR(ROUND(VLOOKUP(CONCATENATE(I$5,$C21),'trend data'!$A$2:$O$11161,I$6,FALSE),3),\"-\")","v":6.468},{"$f":"IFERROR(ROUND(VLOOKUP(CONCATENATE(J$5,$C21),'trend data'!$A$2:$O$11161,J$6,FALSE),3),\"-\")","v":5.1740000000000004},{"$f":"IFERROR(ROUND(VLOOKUP(CONCATENATE(K$5,$C21),'trend data'!$A$2:$O$11161,K$6,FALSE),3),\"-\")","v":7.9880000000000004}]
[201802,"2018-06-01",{"$f":"CONCATENATE(A22,'CDI Data and Charts'!B$1)","v":"201802Scotland"},{"$f":"IFERROR(VLOOKUP(CONCATENATE(D$5,$C22),'trend data'!$A$2:$O$11161,D$6,FALSE),\"-\")","v":244},{"$f":"ROUND(VLOOKUP(CONCATENATE(E$5,$C22),'trend data'!$A$2:$O$11161,E$6,FALSE),3)","v":15.996},{"$f":"ROUND(VLOOKUP(CONCATENATE(F$5,$C22),'trend data'!$A$2:$O$11161,F$6,FALSE),3)","v":14.052},{"$f":"ROUND(VLOOKUP(CONCATENATE(G$5,$C22),'trend data'!$A$2:$O$11161,G$6,FALSE),3)","v":18.135000000000002},{"$f":"IFERROR(VLOOKUP(CONCATENATE(H$5,$C22),'trend data'!$A$2:$O$11161,H$6,FALSE),\"-\")","v":102},{"$f":"IFERROR(ROUND(VLOOKUP(CONCATENATE(I$5,$C22),'trend data'!$A$2:$O$11161,I$6,FALSE),3),\"-\")","v":7.5869999999999997},{"$f":"IFERROR(ROUND(VLOOKUP(CONCATENATE(J$5,$C22),'trend data'!$A$2:$O$11161,J$6,FALSE),3),\"-\")","v":6.1859999999999999},{"$f":"IFERROR(ROUND(VLOOKUP(CONCATENATE(K$5,$C22),'trend data'!$A$2:$O$11161,K$6,FALSE),3),\"-\")","v":9.2110000000000003}]
[201803,"2018-09-01",{"$f":"CONCATENATE(A23,'CDI Data and Charts'!B$1)","v":"201803Scotland"},{"$f":"IFERROR(VLOOKUP(CONCATENATE(D$5,$C23),'trend data'!$A$2:$O$11161,D$6,FALSE),\"-\")","v":255},{"$f":"ROUND(VLOOKUP(CONCATENATE(E$5,$C23),'trend data'!$A$2:$O$11161,E$6,FALSE),3)","v":16.869},{"$f":"ROUND(VLOOKUP(CONCATENATE(F$5,$C23),'trend data'!$A$2:$O$11161,F$6,FALSE),3)","v":14.862},{"$f":"ROUND(VLOOKUP(CONCATENATE(G$5,$C23),'trend data'!$A$2:$O$11161,G$6,FALSE),3)","v":19.071999999999999},{"$f":"IFERROR(VLOOKUP(CONCATENATE(H$5,$C23),'trend data'!$A$2:$O$11161,H$6,FALSE),\"-\")","v":92},{"$f":"IFERROR(ROUND(VLOOKUP(CONCATENATE(I$5,$C23),'trend data'!$A$2:$O$11161,I$6,FALSE),3),\"-\")","v":6.7690000000000001},{"$f":"IFERROR(ROUND(VLOOKUP(CONCATENATE(J$5,$C23),'trend data'!$A$2:$O$11161,J$6,FALSE),3),\"-\")","v":5.4569999999999999},{"$f":"IFERROR(ROUND(VLOOKUP(CONCATENATE(K$5,$C23),'trend data'!$A$2:$O$11161,K$6,FALSE),3),\"-\")","v":8.3019999999999996}]
[201804,"2018-12-01",{"$f":"CONCATENATE(A24,'CDI Data and Charts'!B$1)","v":"201804Scotland"},{"$f":"IFERROR(VLOOKUP(CONCATENATE(D$5,$C24),'trend data'!$A$2:$O$11161,D$6,FALSE),\"-\")","v":220},{"$f":"ROUND(VLOOKUP(CONCATENATE(E$5,$C24),'trend data'!$A$2:$O$11161,E$6,FALSE),3)","v":14.452999999999999},{"$f":"ROUND(VLOOKUP(CONCATENATE(F$5,$C24),'trend data'!$A$2:$O$11161,F$6,FALSE),3)","v":12.606},{"$f":"ROUND(VLOOKUP(CONCATENATE(G$5,$C24),'trend data'!$A$2:$O$11161,G$6,FALSE),3)","v":16.494},{"$f":"IFERROR(VLOOKUP(CONCATENATE(H$5,$C24),'trend data'!$A$2:$O$11161,H$6,FALSE),\"-\")","v":86},{"$f":"IFERROR(ROUND(VLOOKUP(CONCATENATE(I$5,$C24),'trend data'!$A$2:$O$11161,I$6,FALSE),3),\"-\")","v":6.3280000000000003},{"$f":"IFERROR(ROUND(VLOOKUP(CONCATENATE(J$5,$C24),'trend data'!$A$2:$O$11161,J$6,FALSE),3),\"-\")","v":5.0609999999999999},{"$f":"IFERROR(ROUND(VLOOKUP(CONCATENATE(K$5,$C24),'trend data'!$A$2:$O$11161,K$6,FALSE),3),\"-\")","v":7.8150000000000004}]
[201901,"2019-03-01",{"$f":"CONCATENATE(A25,'CDI Data and Charts'!B$1)","v":"201901Scotland"},{"$f":"IFERROR(VLOOKUP(CONCATENATE(D$5,$C25),'trend data'!$A$2:$O$11161,D$6,FALSE),\"-\")","v":186},{"$f":"ROUND(VLOOKUP(CONCATENATE(E$5,$C25),'trend data'!$A$2:$O$11161,E$6,FALSE),3)","v":12.09},{"$f":"ROUND(VLOOKUP(CONCATENATE(F$5,$C25),'trend data'!$A$2:$O$11161,F$6,FALSE),3)","v":10.414},{"$f":"ROUND(VLOOKUP(CONCATENATE(G$5,$C25),'trend data'!$A$2:$O$11161,G$6,FALSE),3)","v":13.958},{"$f":"IFERROR(VLOOKUP(CONCATENATE(H$5,$C25),'trend data'!$A$2:$O$11161,H$6,FALSE),\"-\")","v":50},{"$f":"IFERROR(ROUND(VLOOKUP(CONCATENATE(I$5,$C25),'trend data'!$A$2:$O$11161,I$6,FALSE),3),\"-\")","v":3.7469999999999999},{"$f":"IFERROR(ROUND(VLOOKUP(CONCATENATE(J$5,$C25),'trend data'!$A$2:$O$11161,J$6,FALSE),3),\"-\")","v":2.7810000000000001},{"$f":"IFERROR(ROUND(VLOOKUP(CONCATENATE(K$5,$C25),'trend data'!$A$2:$O$11161,K$6,FALSE),3),\"-\")","v":4.9409999999999998}]
[201902,"2019-06-01",{"$f":"CONCATENATE(A26,'CDI Data and Charts'!B$1)","v":"201902Scotland"},{"$f":"IFERROR(VLOOKUP(CONCATENATE(D$5,$C26),'trend data'!$A$2:$O$11161,D$6,FALSE),\"-\")","v":184},{"$f":"ROUND(VLOOKUP(CONCATENATE(E$5,$C26),'trend data'!$A$2:$O$11161,E$6,FALSE),3)","v":12.215},{"$f":"ROUND(VLOOKUP(CONCATENATE(F$5,$C26),'trend data'!$A$2:$O$11161,F$6,FALSE),3)","v":10.513999999999999},{"$f":"ROUND(VLOOKUP(CONCATENATE(G$5,$C26),'trend data'!$A$2:$O$11161,G$6,FALSE),3)","v":14.114000000000001},{"$f":"IFERROR(VLOOKUP(CONCATENATE(H$5,$C26),'trend data'!$A$2:$O$11161,H$6,FALSE),\"-\")","v":66},{"$f":"IFERROR(ROUND(VLOOKUP(CONCATENATE(I$5,$C26),'trend data'!$A$2:$O$11161,I$6,FALSE),3),\"-\")","v":4.8920000000000003},{"$f":"IFERROR(ROUND(VLOOKUP(CONCATENATE(J$5,$C26),'trend data'!$A$2:$O$11161,J$6,FALSE),3),\"-\")","v":3.7829999999999999},{"$f":"IFERROR(ROUND(VLOOKUP(CONCATENATE(K$5,$C26),'trend data'!$A$2:$O$11161,K$6,FALSE),3),\"-\")","v":6.2240000000000002}]
[201903,"2019-09-01",{"$f":"CONCATENATE(A27,'CDI Data and Charts'!B$1)","v":"201903Scotland"},{"$f":"IFERROR(VLOOKUP(CONCATENATE(D$5,$C27),'trend data'!$A$2:$O$11161,D$6,FALSE),\"-\")","v":207},{"$f":"ROUND(VLOOKUP(CONCATENATE(E$5,$C27),'trend data'!$A$2:$O$11161,E$6,FALSE),3)","v":13.736000000000001},{"$f":"ROUND(VLOOKUP(CONCATENATE(F$5,$C27),'trend data'!$A$2:$O$11161,F$6,FALSE),3)","v":11.928000000000001},{"$f":"ROUND(VLOOKUP(CONCATENATE(G$5,$C27),'trend data'!$A$2:$O$11161,G$6,FALSE),3)","v":15.74},{"$f":"IFERROR(VLOOKUP(CONCATENATE(H$5,$C27),'trend data'!$A$2:$O$11161,H$6,FALSE),\"-\")","v":72},{"$f":"IFERROR(ROUND(VLOOKUP(CONCATENATE(I$5,$C27),'trend data'!$A$2:$O$11161,I$6,FALSE),3),\"-\")","v":5.2789999999999999},{"$f":"IFERROR(ROUND(VLOOKUP(CONCATENATE(J$5,$C27),'trend data'!$A$2:$O$11161,J$6,FALSE),3),\"-\")","v":4.13},{"$f":"IFERROR(ROUND(VLOOKUP(CONCATENATE(K$5,$C27),'trend data'!$A$2:$O$11161,K$6,FALSE),3),\"-\")","v":6.6479999999999997}]
[201904,"2019-12-01",{"$f":"CONCATENATE(A28,'CDI Data and Charts'!B$1)","v":"201904Scotland"},{"$f":"IFERROR(VLOOKUP(CONCATENATE(D$5,$C28),'trend data'!$A$2:$O$11161,D$6,FALSE),\"-\")","v":231},{"$f":"ROUND(VLOOKUP(CONCATENATE(E$5,$C28),'trend data'!$A$2:$O$11161,E$6,FALSE),3)","v":15.084},{"$f":"ROUND(VLOOKUP(CONCATENATE(F$5,$C28),'trend data'!$A$2:$O$11161,F$6,FALSE),3)","v":13.201000000000001},{"$f":"ROUND(VLOOKUP(CONCATENATE(G$5,$C28),'trend data'!$A$2:$O$11161,G$6,FALSE),3)","v":17.158999999999999},{"$f":"IFERROR(VLOOKUP(CONCATENATE(H$5,$C28),'trend data'!$A$2:$O$11161,H$6,FALSE),\"-\")","v":63},{"$f":"IFERROR(ROUND(VLOOKUP(CONCATENATE(I$5,$C28),'trend data'!$A$2:$O$11161,I$6,FALSE),3),\"-\")","v":4.6189999999999998},{"$f":"IFERROR(ROUND(VLOOKUP(CONCATENATE(J$5,$C28),'trend data'!$A$2:$O$11161,J$6,FALSE),3),\"-\")","v":3.5489999999999999},{"$f":"IFERROR(ROUND(VLOOKUP(CONCATENATE(K$5,$C28),'trend data'!$A$2:$O$11161,K$6,FALSE),3),\"-\")","v":5.91}]
[202001,"2020-03-01",{"$f":"CONCATENATE(A29,'CDI Data and Charts'!B$1)","v":"202001Scotland"},{"$f":"IFERROR(VLOOKUP(CONCATENATE(D$5,$C29),'trend data'!$A$2:$O$11161,D$6,FALSE),\"-\")","v":201},{"$f":"ROUND(VLOOKUP(CONCATENATE(E$5,$C29),'trend data'!$A$2:$O$11161,E$6,FALSE),3)","v":13.618},{"$f":"ROUND(VLOOKUP(CONCATENATE(F$5,$C29),'trend data'!$A$2:$O$11161,F$6,FALSE),3)","v":11.801},{"$f":"ROUND(VLOOKUP(CONCATENATE(G$5,$C29),'trend data'!$A$2:$O$11161,G$6,FALSE),3)","v":15.637},{"$f":"IFERROR(VLOOKUP(CONCATENATE(H$5,$C29),'trend data'!$A$2:$O$11161,H$6,FALSE),\"-\")","v":46},{"$f":"IFERROR(ROUND(VLOOKUP(CONCATENATE(I$5,$C29),'trend data'!$A$2:$O$11161,I$6,FALSE),3),\"-\")","v":3.42},{"$f":"IFERROR(ROUND(VLOOKUP(CONCATENATE(J$5,$C29),'trend data'!$A$2:$O$11161,J$6,FALSE),3),\"-\")","v":2.504},{"$f":"IFERROR(ROUND(VLOOKUP(CONCATENATE(K$5,$C29),'trend data'!$A$2:$O$11161,K$6,FALSE),3),\"-\")","v":4.5629999999999997}]
[202002,"2020-06-01",{"$f":"CONCATENATE(A30,'CDI Data and Charts'!B$1)","v":"202002Scotland"},{"$f":"IFERROR(VLOOKUP(CONCATENATE(D$5,$C30),'trend data'!$A$2:$O$11161,D$6,FALSE),\"-\")","v":166},{"$f":"ROUND(VLOOKUP(CONCATENATE(E$5,$C30),'trend data'!$A$2:$O$11161,E$6,FALSE),3)","v":15.356999999999999},{"$f":"ROUND(VLOOKUP(CONCATENATE(F$5,$C30),'trend data'!$A$2:$O$11161,F$6,FALSE),3)","v":13.109},{"$f":"ROUND(VLOOKUP(CONCATENATE(G$5,$C30),'trend data'!$A$2:$O$11161,G$6,FALSE),3)","v":17.879000000000001},{"$f":"IFERROR(VLOOKUP(CONCATENATE(H$5,$C30),'trend data'!$A$2:$O$11161,H$6,FALSE),\"-\")","v":80},{"$f":"IFERROR(ROUND(VLOOKUP(CONCATENATE(I$5,$C30),'trend data'!$A$2:$O$11161,I$6,FALSE),3),\"-\")","v":5.9489999999999998},{"$f":"IFERROR(ROUND(VLOOKUP(CONCATENATE(J$5,$C30),'trend data'!$A$2:$O$11161,J$6,FALSE),3),\"-\")","v":4.7169999999999996},{"$f":"IFERROR(ROUND(VLOOKUP(CONCATENATE(K$5,$C30),'trend data'!$A$2:$O$11161,K$6,FALSE),3),\"-\")","v":7.4039999999999999}]
[202003,"2020-09-01",{"$f":"CONCATENATE(A31,'CDI Data and Charts'!B$1)","v":"202003Scotland"},{"$f":"IFERROR(VLOOKUP(CONCATENATE(D$5,$C31),'trend data'!$A$2:$O$11161,D$6,FALSE),\"-\")","v":227},{"$f":"ROUND(VLOOKUP(CONCATENATE(E$5,$C31),'trend data'!$A$2:$O$11161,E$6,FALSE),4)","v":17.408200000000001},{"$f":"ROUND(VLOOKUP(CONCATENATE(F$5,$C31),'trend data'!$A$2:$O$11161,F$6,FALSE),4)","v":15.217000000000001},{"$f":"ROUND(VLOOKUP(CONCATENATE(G$5,$C31),'trend data'!$A$2:$O$11161,G$6,FALSE),4)","v":19.8263},{"$f":"IFERROR(VLOOKUP(CONCATENATE(H$5,$C31),'trend data'!$A$2:$O$11161,H$6,FALSE),\"-\")","v":90},{"$f":"IFERROR(ROUND(VLOOKUP(CONCATENATE(I$5,$C31),'trend data'!$A$2:$O$11161,I$6,FALSE),4),\"-\")","v":6.6195000000000004},{"$f":"IFERROR(ROUND(VLOOKUP(CONCATENATE(J$5,$C31),'trend data'!$A$2:$O$11161,J$6,FALSE),4),\"-\")","v":5.3227000000000002},{"$f":"IFERROR(ROUND(VLOOKUP(CONCATENATE(K$5,$C31),'trend data'!$A$2:$O$11161,K$6,FALSE),4),\"-\")","v":8.1365999999999996}]
[202004,"2020-12-31",{"$f":"CONCATENATE(A32,'CDI Data and Charts'!B$1)","v":"202004Scotland"},{"$f":"IFERROR(VLOOKUP(CONCATENATE(D$5,$C32),'trend data'!$A$2:$O$11161,D$6,FALSE),\"-\")","v":222},{"$f":"ROUND(VLOOKUP(CONCATENATE(E$5,$C32),'trend data'!$A$2:$O$11161,E$6,FALSE),4)","v":16.350100000000001},{"$f":"ROUND(VLOOKUP(CONCATENATE(F$5,$C32),'trend data'!$A$2:$O$11161,F$6,FALSE),4)","v":14.2698},{"$f":"ROUND(VLOOKUP(CONCATENATE(G$5,$C32),'trend data'!$A$2:$O$11161,G$6,FALSE),4)","v":18.648299999999999},{"$f":"IFERROR(VLOOKUP(CONCATENATE(H$5,$C32),'trend data'!$A$2:$O$11161,H$6,FALSE),\"-\")","v":56},{"$f":"IFERROR(ROUND(VLOOKUP(CONCATENATE(I$5,$C32),'trend data'!$A$2:$O$11161,I$6,FALSE),4),\"-\")","v":4.1188000000000002},{"$f":"IFERROR(ROUND(VLOOKUP(CONCATENATE(J$5,$C32),'trend data'!$A$2:$O$11161,J$6,FALSE),4),\"-\")","v":3.1111},{"$f":"IFERROR(ROUND(VLOOKUP(CONCATENATE(K$5,$C32),'trend data'!$A$2:$O$11161,K$6,FALSE),4),\"-\")","v":5.3487}]
[202101,"2021-03-31",{"$f":"CONCATENATE(A33,'CDI Data and Charts'!B$1)","v":"202101Scotland"},{"$f":"IFERROR(VLOOKUP(CONCATENATE(D$5,$C33),'trend data'!$A$2:$O$11161,D$6,FALSE),\"-\")","v":213},{"$f":"ROUND(VLOOKUP(CONCATENATE(E$5,$C33),'trend data'!$A$2:$O$11161,E$6,FALSE),4)","v":15.7562},{"$f":"ROUND(VLOOKUP(CONCATENATE(F$5,$C33),'trend data'!$A$2:$O$11161,F$6,FALSE),4)","v":13.711},{"$f":"ROUND(VLOOKUP(CONCATENATE(G$5,$C33),'trend data'!$A$2:$O$11161,G$6,FALSE),4)","v":18.020399999999999},{"$f":"IFERROR(VLOOKUP(CONCATENATE(H$5,$C33),'trend data'!$A$2:$O$11161,H$6,FALSE),\"-\")","v":49},{"$f":"IFERROR(ROUND(VLOOKUP(CONCATENATE(I$5,$C33),'trend data'!$A$2:$O$11161,I$6,FALSE),4),\"-\")","v":3.6713},{"$f":"IFERROR(ROUND(VLOOKUP(CONCATENATE(J$5,$C33),'trend data'!$A$2:$O$11161,J$6,FALSE),4),\"-\")","v":2.7158000000000002},{"$f":"IFERROR(ROUND(VLOOKUP(CONCATENATE(K$5,$C33),'trend data'!$A$2:$O$11161,K$6,FALSE),4),\"-\")","v":4.8536999999999999}]
[202102,"2021-06-30",{"$f":"CONCATENATE(A34,'CDI Data and Charts'!B$1)","v":"202102Scotland"},{"$f":"IFERROR(VLOOKUP(CONCATENATE(D$5,$C34),'trend data'!$A$2:$O$11161,D$6,FALSE),\"-\")","v":203},{"$f":"ROUND(VLOOKUP(CONCATENATE(E$5,$C34),'trend data'!$A$2:$O$11161,E$6,FALSE),4)","v":14.560700000000001},{"$f":"ROUND(VLOOKUP(CONCATENATE(F$5,$C34),'trend data'!$A$2:$O$11161,F$6,FALSE),4)","v":12.626300000000001},{"$f":"ROUND(VLOOKUP(CONCATENATE(G$5,$C34),'trend data'!$A$2:$O$11161,G$6,FALSE),4)","v":16.7075},{"$f":"IFERROR(VLOOKUP(CONCATENATE(H$5,$C34),'trend data'!$A$2:$O$11161,H$6,FALSE),\"-\")","v":74},{"$f":"IFERROR(ROUND(VLOOKUP(CONCATENATE(I$5,$C34),'trend data'!$A$2:$O$11161,I$6,FALSE),4),\"-\")","v":5.4833999999999996},{"$f":"IFERROR(ROUND(VLOOKUP(CONCATENATE(J$5,$C34),'trend data'!$A$2:$O$11161,J$6,FALSE),4),\"-\")","v":4.3055000000000003},{"$f":"IFERROR(ROUND(VLOOKUP(CONCATENATE(K$5,$C34),'trend data'!$A$2:$O$11161,K$6,FALSE),4),\"-\")","v":6.8841000000000001}]
[202103,"2021-09-01",{"$f":"CONCATENATE(A35,'CDI Data and Charts'!B$1)","v":"202103Scotland"},{"$f":"IFERROR(VLOOKUP(CONCATENATE(D$5,$C35),'trend data'!$A$2:$O$11161,D$6,FALSE),\"-\")","v":245},{"$f":"ROUND(VLOOKUP(CONCATENATE(E$5,$C35),'trend data'!$A$2:$O$11161,E$6,FALSE),4)","v":16.823},{"$f":"ROUND(VLOOKUP(CONCATENATE(F$5,$C35),'trend data'!$A$2:$O$11161,F$6,FALSE),4)","v":14.7821},{"$f":"ROUND(VLOOKUP(CONCATENATE(G$5,$C35),'trend data'!$A$2:$O$11161,G$6,FALSE),4)","v":19.0669},{"$f":"IFERROR(VLOOKUP(CONCATENATE(H$5,$C35),'trend data'!$A$2:$O$11161,H$6,FALSE),\"-\")","v":87},{"$f":"IFERROR(ROUND(VLOOKUP(CONCATENATE(I$5,$C35),'trend data'!$A$2:$O$11161,I$6,FALSE),4),\"-\")","v":6.3766999999999996},{"$f":"IFERROR(ROUND(VLOOKUP(CONCATENATE(J$5,$C35),'trend data'!$A$2:$O$11161,J$6,FALSE),4),\"-\")","v":5.1073000000000004},{"$f":"IFERROR(ROUND(VLOOKUP(CONCATENATE(K$5,$C35),'trend data'!$A$2:$O$11161,K$6,FALSE),4),\"-\")","v":7.8657000000000004}]
[202104,"2021-12-31",{"$f":"CONCATENATE(A36,'CDI Data and Charts'!B$1)","v":"202104Scotland"},{"$f":"IFERROR(VLOOKUP(CONCATENATE(D$5,$C36),'trend data'!$A$2:$O$11161,D$6,FALSE),\"-\")","v":197},{"$f":"ROUND(VLOOKUP(CONCATENATE(E$5,$C36),'trend data'!$A$2:$O$11161,E$6,FALSE),4)","v":13.187799999999999},{"$f":"ROUND(VLOOKUP(CONCATENATE(F$5,$C36),'trend data'!$A$2:$O$11161,F$6,FALSE),4)","v":11.410299999999999},{"$f":"ROUND(VLOOKUP(CONCATENATE(G$5,$C36),'trend data'!$A$2:$O$11161,G$6,FALSE),4)","v":15.163600000000001},{"$f":"IFERROR(VLOOKUP(CONCATENATE(H$5,$C36),'trend data'!$A$2:$O$11161,H$6,FALSE),\"-\")","v":67},{"$f":"IFERROR(ROUND(VLOOKUP(CONCATENATE(I$5,$C36),'trend data'!$A$2:$O$11161,I$6,FALSE),4),\"-\")","v":4.9108000000000001},{"$f":"IFERROR(ROUND(VLOOKUP(CONCATENATE(J$5,$C36),'trend data'!$A$2:$O$11161,J$6,FALSE),4),\"-\")","v":3.8056000000000001},{"$f":"IFERROR(ROUND(VLOOKUP(CONCATENATE(K$5,$C36),'trend data'!$A$2:$O$11161,K$6,FALSE),4),\"-\")","v":6.2366000000000001}]
[202201,"2022-03-31",{"$f":"CONCATENATE(A37,'CDI Data and Charts'!B$1)","v":"202201Scotland"},{"$f":"IFERROR(VLOOKUP(CONCATENATE(D$5,$C37),'trend data'!$A$2:$O$11161,D$6,FALSE),\"-\")","v":187},{"$f":"ROUND(VLOOKUP(CONCATENATE(E$5,$C37),'trend data'!$A$2:$O$11161,E$6,FALSE),4)","v":12.626099999999999},{"$f":"ROUND(VLOOKUP(CONCATENATE(F$5,$C37),'trend data'!$A$2:$O$11161,F$6,FALSE),4)","v":10.8811},{"$f":"ROUND(VLOOKUP(CONCATENATE(G$5,$C37),'trend data'!$A$2:$O$11161,G$6,FALSE),4)","v":14.571300000000001},{"$f":"IFERROR(VLOOKUP(CONCATENATE(H$5,$C37),'trend data'!$A$2:$O$11161,H$6,FALSE),\"-\")","v":43},{"$f":"IFERROR(ROUND(VLOOKUP(CONCATENATE(I$5,$C37),'trend data'!$A$2:$O$11161,I$6,FALSE),4),\"-\")","v":3.2016},{"$f":"IFERROR(ROUND(VLOOKUP(CONCATENATE(J$5,$C37),'trend data'!$A$2:$O$11161,J$6,FALSE),4),\"-\")","v":2.3167},{"$f":"IFERROR(ROUND(VLOOKUP(CONCATENATE(K$5,$C37),'trend data'!$A$2:$O$11161,K$6,FALSE),4),\"-\")","v":4.3125999999999998}]
[202202,"2022-06-30",{"$f":"CONCATENATE(A38,'CDI Data and Charts'!B$1)","v":"202202Scotland"},{"$f":"IFERROR(VLOOKUP(CONCATENATE(D$5,$C38),'trend data'!$A$2:$O$11161,D$6,FALSE),\"-\")","v":217},{"$f":"ROUND(VLOOKUP(CONCATENATE(E$5,$C38),'trend data'!$A$2:$O$11161,E$6,FALSE),4)","v":14.3109},{"$f":"ROUND(VLOOKUP(CONCATENATE(F$5,$C38),'trend data'!$A$2:$O$11161,F$6,FALSE),4)","v":12.469900000000001},{"$f":"ROUND(VLOOKUP(CONCATENATE(G$5,$C38),'trend data'!$A$2:$O$11161,G$6,FALSE),4)","v":16.347000000000001},{"$f":"IFERROR(VLOOKUP(CONCATENATE(H$5,$C38),'trend data'!$A$2:$O$11161,H$6,FALSE),\"-\")","v":66},{"$f":"IFERROR(ROUND(VLOOKUP(CONCATENATE(I$5,$C38),'trend data'!$A$2:$O$11161,I$6,FALSE),4),\"-\")","v":4.8600000000000003},{"$f":"IFERROR(ROUND(VLOOKUP(CONCATENATE(J$5,$C38),'trend data'!$A$2:$O$11161,J$6,FALSE),4),\"-\")","v":3.7585000000000002},{"$f":"IFERROR(ROUND(VLOOKUP(CONCATENATE(K$5,$C38),'trend data'!$A$2:$O$11161,K$6,FALSE),4),\"-\")","v":6.1833}]
[202203,"2022-09-30",{"$f":"CONCATENATE(A39,'CDI Data and Charts'!B$1)","v":"202203Scotland"},{"$f":"IFERROR(VLOOKUP(CONCATENATE(D$5,$C39),'trend data'!$A$2:$O$11161,D$6,FALSE),\"-\")","v":202},{"$f":"ROUND(VLOOKUP(CONCATENATE(E$5,$C39),'trend data'!$A$2:$O$11161,E$6,FALSE),4)","v":13.068199999999999},{"$f":"ROUND(VLOOKUP(CONCATENATE(F$5,$C39),'trend data'!$A$2:$O$11161,F$6,FALSE),4)","v":11.327999999999999},{"$f":"ROUND(VLOOKUP(CONCATENATE(G$5,$C39),'trend data'!$A$2:$O$11161,G$6,FALSE),4)","v":15.0001},{"$f":"IFERROR(VLOOKUP(CONCATENATE(H$5,$C39),'trend data'!$A$2:$O$11161,H$6,FALSE),\"-\")","v":82},{"$f":"IFERROR(ROUND(VLOOKUP(CONCATENATE(I$5,$C39),'trend data'!$A$2:$O$11161,I$6,FALSE),4),\"-\")","v":5.9725999999999999},{"$f":"IFERROR(ROUND(VLOOKUP(CONCATENATE(J$5,$C39),'trend data'!$A$2:$O$11161,J$6,FALSE),4),\"-\")","v":4.75},{"$f":"IFERROR(ROUND(VLOOKUP(CONCATENATE(K$5,$C39),'trend data'!$A$2:$O$11161,K$6,FALSE),4),\"-\")","v":7.4137000000000004}]
[202204,"2022-12-31",{"$f":"CONCATENATE(A40,'CDI Data and Charts'!B$1)","v":"202204Scotland"},{"$f":"IFERROR(VLOOKUP(CONCATENATE(D$5,$C40),'trend data'!$A$2:$O$11161,D$6,FALSE),\"-\")","v":212},{"$f":"ROUND(VLOOKUP(CONCATENATE(E$5,$C40),'trend data'!$A$2:$O$11161,E$6,FALSE),4)","v":13.5113},{"$f":"ROUND(VLOOKUP(CONCATENATE(F$5,$C40),'trend data'!$A$2:$O$11161,F$6,FALSE),4)","v":11.7536},{"$f":"ROUND(VLOOKUP(CONCATENATE(G$5,$C40),'trend data'!$A$2:$O$11161,G$6,FALSE),4)","v":15.457800000000001},{"$f":"IFERROR(VLOOKUP(CONCATENATE(H$5,$C40),'trend data'!$A$2:$O$11161,H$6,FALSE),\"-\")","v":44},{"$f":"IFERROR(ROUND(VLOOKUP(CONCATENATE(I$5,$C40),'trend data'!$A$2:$O$11161,I$6,FALSE),4),\"-\")","v":3.2048000000000001},{"$f":"IFERROR(ROUND(VLOOKUP(CONCATENATE(J$5,$C40),'trend data'!$A$2:$O$11161,J$6,FALSE),4),\"-\")","v":2.3283999999999998},{"$f":"IFERROR(ROUND(VLOOKUP(CONCATENATE(K$5,$C40),'trend data'!$A$2:$O$11161,K$6,FALSE),4),\"-\")","v":4.3023999999999996}]
[202301,"2023-03-31",{"$f":"CONCATENATE(A41,'CDI Data and Charts'!B$1)","v":"202301Scotland"},{"$f":"IFERROR(VLOOKUP(CONCATENATE(D$5,$C41),'trend data'!$A$2:$O$11161,D$6,FALSE),\"-\")","v":211},{"$f":"ROUND(VLOOKUP(CONCATENATE(E$5,$C41),'trend data'!$A$2:$O$11161,E$6,FALSE),4)","v":13.4488},{"$f":"ROUND(VLOOKUP(CONCATENATE(F$5,$C41),'trend data'!$A$2:$O$11161,F$6,FALSE),4)","v":11.6952},{"$f":"ROUND(VLOOKUP(CONCATENATE(G$5,$C41),'trend data'!$A$2:$O$11161,G$6,FALSE),4)","v":15.3912},{"$f":"IFERROR(VLOOKUP(CONCATENATE(H$5,$C41),'trend data'!$A$2:$O$11161,H$6,FALSE),\"-\")","v":57},{"$f":"IFERROR(ROUND(VLOOKUP(CONCATENATE(I$5,$C41),'trend data'!$A$2:$O$11161,I$6,FALSE),4),\"-\")","v":4.2106000000000003},{"$f":"IFERROR(ROUND(VLOOKUP(CONCATENATE(J$5,$C41),'trend data'!$A$2:$O$11161,J$6,FALSE),4),\"-\")","v":3.1888999999999998},{"$f":"IFERROR(ROUND(VLOOKUP(CONCATENATE(K$5,$C41),'trend data'!$A$2:$O$11161,K$6,FALSE),4),\"-\")","v":5.4554999999999998}]
[202302,"2023-06-30",{"$f":"CONCATENATE(A42,'CDI Data and Charts'!B$1)","v":"202302Scotland"},{"$f":"IFERROR(VLOOKUP(CONCATENATE(D$5,$C42),'trend data'!$A$2:$O$11161,D$6,FALSE),\"-\")","v":244},{"$f":"ROUND(VLOOKUP(CONCATENATE(E$5,$C42),'trend data'!$A$2:$O$11161,E$6,FALSE),4)","v":15.7967},{"$f":"ROUND(VLOOKUP(CONCATENATE(F$5,$C42),'trend data'!$A$2:$O$11161,F$6,FALSE),4)","v":13.8766},{"$f":"ROUND(VLOOKUP(CONCATENATE(G$5,$C42),'trend data'!$A$2:$O$11161,G$6,FALSE),4)","v":17.908300000000001},{"$f":"IFERROR(VLOOKUP(CONCATENATE(H$5,$C42),'trend data'!$A$2:$O$11161,H$6,FALSE),\"-\")","v":70},{"$f":"IFERROR(ROUND(VLOOKUP(CONCATENATE(I$5,$C42),'trend data'!$A$2:$O$11161,I$6,FALSE),4),\"-\")","v":5.1140999999999996},{"$f":"IFERROR(ROUND(VLOOKUP(CONCATENATE(J$5,$C42),'trend data'!$A$2:$O$11161,J$6,FALSE),4),\"-\")","v":3.9864999999999999},{"$f":"IFERROR(ROUND(VLOOKUP(CONCATENATE(K$5,$C42),'trend data'!$A$2:$O$11161,K$6,FALSE),4),\"-\")","v":6.4615}]
[202303,"2023-09-30",{"$f":"CONCATENATE(A43,'CDI Data and Charts'!B$1)","v":"202303Scotland"},{"$f":"IFERROR(VLOOKUP(CONCATENATE(D$5,$C43),'trend data'!$A$2:$O$11161,D$6,FALSE),\"-\")","v":239},{"$f":"ROUND(VLOOKUP(CONCATENATE(E$5,$C43),'trend data'!$A$2:$O$11161,E$6,FALSE),4)","v":15.542299999999999},{"$f":"ROUND(VLOOKUP(CONCATENATE(F$5,$C43),'trend data'!$A$2:$O$11161,F$6,FALSE),4)","v":13.6341},{"$f":"ROUND(VLOOKUP(CONCATENATE(G$5,$C43),'trend data'!$A$2:$O$11161,G$6,FALSE),4)","v":17.642900000000001},{"$f":"IFERROR(VLOOKUP(CONCATENATE(H$5,$C43),'trend data'!$A$2:$O$11161,H$6,FALSE),\"-\")","v":86},{"$f":"IFERROR(ROUND(VLOOKUP(CONCATENATE(I$5,$C43),'trend data'!$A$2:$O$11161,I$6,FALSE),4),\"-\")","v":6.2146999999999997},{"$f":"IFERROR(ROUND(VLOOKUP(CONCATENATE(J$5,$C43),'trend data'!$A$2:$O$11161,J$6,FALSE),4),\"-\")","v":4.9707999999999997},{"$f":"IFERROR(ROUND(VLOOKUP(CONCATENATE(K$5,$C43),'trend data'!$A$2:$O$11161,K$6,FALSE),4),\"-\")","v":7.6753}]
[202304,"2023-12-31",{"$f":"CONCATENATE(A44,'CDI Data and Charts'!B$1)","v":"202304Scotland"},{"$f":"IFERROR(VLOOKUP(CONCATENATE(D$5,$C44),'trend data'!$A$2:$O$11161,D$6,FALSE),\"-\")","v":223},{"$f":"ROUND(VLOOKUP(CONCATENATE(E$5,$C44),'trend data'!$A$2:$O$11161,E$6,FALSE),4)","v":14.2393},{"$f":"ROUND(VLOOKUP(CONCATENATE(F$5,$C44),'trend data'!$A$2:$O$11161,F$6,FALSE),4)","v":12.4315},{"$f":"ROUND(VLOOKUP(CONCATENATE(G$5,$C44),'trend data'!$A$2:$O$11161,G$6,FALSE),4)","v":16.236000000000001},{"$f":"IFERROR(VLOOKUP(CONCATENATE(H$5,$C44),'trend data'!$A$2:$O$11161,H$6,FALSE),\"-\")","v":79},{"$f":"IFERROR(ROUND(VLOOKUP(CONCATENATE(I$5,$C44),'trend data'!$A$2:$O$11161,I$6,FALSE),4),\"-\")","v":5.7088999999999999},{"$f":"IFERROR(ROUND(VLOOKUP(CONCATENATE(J$5,$C44),'trend data'!$A$2:$O$11161,J$6,FALSE),4),\"-\")","v":4.5195999999999996},{"$f":"IFERROR(ROUND(VLOOKUP(CONCATENATE(K$5,$C44),'trend data'!$A$2:$O$11161,K$6,FALSE),4),\"-\")","v":7.1151}]
[202401,"2024-03-31",{"$f":"CONCATENATE(A45,'CDI Data and Charts'!B$1)","v":"202401Scotland"},{"$f":"IFERROR(VLOOKUP(CONCATENATE(D$5,$C45),'trend data'!$A$2:$O$11161,D$6,FALSE),\"-\")","v":202},{"$f":"ROUND(VLOOKUP(CONCATENATE(E$5,$C45),'trend data'!$A$2:$O$11161,E$6,FALSE),4)","v":12.698700000000001},{"$f":"ROUND(VLOOKUP(CONCATENATE(F$5,$C45),'trend data'!$A$2:$O$11161,F$6,FALSE),4)","v":11.0077},{"$f":"ROUND(VLOOKUP(CONCATENATE(G$5,$C45),'trend data'!$A$2:$O$11161,G$6,FALSE),4)","v":14.576000000000001},{"$f":"IFERROR(VLOOKUP(CONCATENATE(H$5,$C45),'trend data'!$A$2:$O$11161,H$6,FALSE),\"-\")","v":93},{"$f":"IFERROR(ROUND(VLOOKUP(CONCATENATE(I$5,$C45),'trend data'!$A$2:$O$11161,I$6,FALSE),4),\"-\")","v":6.7432999999999996},{"$f":"IFERROR(ROUND(VLOOKUP(CONCATENATE(J$5,$C45),'trend data'!$A$2:$O$11161,J$6,FALSE),4),\"-\")","v":5.4424999999999999},{"$f":"IFERROR(ROUND(VLOOKUP(CONCATENATE(K$5,$C45),'trend data'!$A$2:$O$11161,K$6,FALSE),4),\"-\")","v":8.2611000000000008}]
[202402,"2024-06-30",{"$f":"CONCATENATE(A46,'CDI Data and Charts'!B$1)","v":"202402Scotland"},{"$f":"IFERROR(VLOOKUP(CONCATENATE(D$5,$C46),'trend data'!$A$2:$O$11161,D$6,FALSE),\"-\")","v":266},{"$f":"ROUND(VLOOKUP(CONCATENATE(E$5,$C46),'trend data'!$A$2:$O$11161,E$6,FALSE),4)","v":17.0701},{"$f":"ROUND(VLOOKUP(CONCATENATE(F$5,$C46),'trend data'!$A$2:$O$11161,F$6,FALSE),4)","v":15.0801},{"$f":"ROUND(VLOOKUP(CONCATENATE(G$5,$C46),'trend data'!$A$2:$O$11161,G$6,FALSE),4)","v":19.249700000000001},{"$f":"IFERROR(VLOOKUP(CONCATENATE(H$5,$C46),'trend data'!$A$2:$O$11161,H$6,FALSE),\"-\")","v":94},{"$f":"IFERROR(ROUND(VLOOKUP(CONCATENATE(I$5,$C46),'trend data'!$A$2:$O$11161,I$6,FALSE),4),\"-\")","v":6.8158000000000003},{"$f":"IFERROR(ROUND(VLOOKUP(CONCATENATE(J$5,$C46),'trend data'!$A$2:$O$11161,J$6,FALSE),4),\"-\")","v":5.5076999999999998},{"$f":"IFERROR(ROUND(VLOOKUP(CONCATENATE(K$5,$C46),'trend data'!$A$2:$O$11161,K$6,FALSE),4),\"-\")","v":8.3408999999999995}]
[202403,"2024-09-30",{"$f":"CONCATENATE(A47,'CDI Data and Charts'!B$1)","v":"202403Scotland"},{"$f":"IFERROR(VLOOKUP(CONCATENATE(D$5,$C47),'trend data'!$A$2:$O$11161,D$6,FALSE),\"-\")","v":285},{"$f":"ROUND(VLOOKUP(CONCATENATE(E$5,$C47),'trend data'!$A$2:$O$11161,E$6,FALSE),4)","v":18.358000000000001},{"$f":"ROUND(VLOOKUP(CONCATENATE(F$5,$C47),'trend data'!$A$2:$O$11161,F$6,FALSE),4)","v":16.2882},{"$f":"ROUND(VLOOKUP(CONCATENATE(G$5,$C47),'trend data'!$A$2:$O$11161,G$6,FALSE),4)","v":20.617899999999999},{"$f":"IFERROR(VLOOKUP(CONCATENATE(H$5,$C47),'trend data'!$A$2:$O$11161,H$6,FALSE),\"-\")","v":105},{"$f":"IFERROR(ROUND(VLOOKUP(CONCATENATE(I$5,$C47),'trend data'!$A$2:$O$11161,I$6,FALSE),4),\"-\")","v":7.5305999999999997},{"$f":"IFERROR(ROUND(VLOOKUP(CONCATENATE(J$5,$C47),'trend data'!$A$2:$O$11161,J$6,FALSE),4),\"-\")","v":6.1592000000000002},{"$f":"IFERROR(ROUND(VLOOKUP(CONCATENATE(K$5,$C47),'trend data'!$A$2:$O$11161,K$6,FALSE),4),\"-\")","v":9.1164000000000005}]
[202404,"2024-12-31",{"$f":"CONCATENATE(A48,'CDI Data and Charts'!B$1)","v":"202404Scotland"},{"$f":"IFERROR(VLOOKUP(CONCATENATE(D$5,$C48),'trend data'!$A$2:$O$11161,D$6,FALSE),\"-\")","v":282},{"$f":"ROUND(VLOOKUP(CONCATENATE(E$5,$C48),'trend data'!$A$2:$O$11161,E$6,FALSE),4)","v":18.073599999999999},{"$f":"ROUND(VLOOKUP(CONCATENATE(F$5,$C48),'trend data'!$A$2:$O$11161,F$6,FALSE),4)","v":16.025400000000001},{"$f":"ROUND(VLOOKUP(CONCATENATE(G$5,$C48),'trend data'!$A$2:$O$11161,G$6,FALSE),4)","v":20.311},{"$f":"IFERROR(VLOOKUP(CONCATENATE(H$5,$C48),'trend data'!$A$2:$O$11161,H$6,FALSE),\"-\")","v":85},{"$f":"IFERROR(ROUND(VLOOKUP(CONCATENATE(I$5,$C48),'trend data'!$A$2:$O$11161,I$6,FALSE),4),\"-\")","v":6.0961999999999996},{"$f":"IFERROR(ROUND(VLOOKUP(CONCATENATE(J$5,$C48),'trend data'!$A$2:$O$11161,J$6,FALSE),4),\"-\")","v":4.8693},{"$f":"IFERROR(ROUND(VLOOKUP(CONCATENATE(K$5,$C48),'trend data'!$A$2:$O$11161,K$6,FALSE),4),\"-\")","v":7.5381999999999998}]
[202501,"2025-03-31",{"$f":"CONCATENATE(A49,'CDI Data and Charts'!B$1)","v":"202501Scotland"},{"$f":"IFERROR(VLOOKUP(CONCATENATE(D$5,$C49),'trend data'!$A$2:$O$11161,D$6,FALSE),\"-\")","v":208},{"$f":"ROUND(VLOOKUP(CONCATENATE(E$5,$C49),'trend data'!$A$2:$O$11161,E$6,FALSE),4)","v":13.4003},{"$f":"ROUND(VLOOKUP(CONCATENATE(F$5,$C49),'trend data'!$A$2:$O$11161,F$6,FALSE),4)","v":11.6409},{"$f":"ROUND(VLOOKUP(CONCATENATE(G$5,$C49),'trend data'!$A$2:$O$11161,G$6,FALSE),4)","v":15.3506},{"$f":"IFERROR(VLOOKUP(CONCATENATE(H$5,$C49),'trend data'!$A$2:$O$11161,H$6,FALSE),\"-\")","v":64},{"$f":"IFERROR(ROUND(VLOOKUP(CONCATENATE(I$5,$C49),'trend data'!$A$2:$O$11161,I$6,FALSE),4),\"-\")","v":4.6792999999999996},{"$f":"IFERROR(ROUND(VLOOKUP(CONCATENATE(J$5,$C49),'trend data'!$A$2:$O$11161,J$6,FALSE),4),\"-\")","v":3.6034000000000002},{"$f":"IFERROR(ROUND(VLOOKUP(CONCATENATE(K$5,$C49),'trend data'!$A$2:$O$11161,K$6,FALSE),4),\"-\")","v":5.9755000000000003}]
[202502,"2025-06-30",{"$f":"CONCATENATE(A50,'CDI Data and Charts'!B$1)","v":"202502Scotland"},{"$f":"IFERROR(VLOOKUP(CONCATENATE(D$5,$C50),'trend data'!$A$2:$O$11161,D$6,FALSE),\"-\")","v":213},{"$f":"ROUND(VLOOKUP(CONCATENATE(E$5,$C50),'trend data'!$A$2:$O$11161,E$6,FALSE),4)","v":13.9619},{"$f":"ROUND(VLOOKUP(CONCATENATE(F$5,$C50),'trend data'!$A$2:$O$11161,F$6,FALSE),4)","v":12.1496},{"$f":"ROUND(VLOOKUP(CONCATENATE(G$5,$C50),'trend data'!$A$2:$O$11161,G$6,FALSE),4)","v":15.968299999999999},{"$f":"IFERROR(VLOOKUP(CONCATENATE(H$5,$C50),'trend data'!$A$2:$O$11161,H$6,FALSE),\"-\")","v":73},{"$f":"IFERROR(ROUND(VLOOKUP(CONCATENATE(I$5,$C50),'trend data'!$A$2:$O$11161,I$6,FALSE),4),\"-\")","v":5.2786999999999997},{"$f":"IFERROR(ROUND(VLOOKUP(CONCATENATE(J$5,$C50),'trend data'!$A$2:$O$11161,J$6,FALSE),4),\"-\")","v":4.1374000000000004},{"$f":"IFERROR(ROUND(VLOOKUP(CONCATENATE(K$5,$C50),'trend data'!$A$2:$O$11161,K$6,FALSE),4),\"-\")","v":6.6372}]
[202503,"2025-09-30",{"$f":"CONCATENATE(A51,'CDI Data and Charts'!B$1)","v":"202503Scotland"},{"$f":"IFERROR(VLOOKUP(CONCATENATE(D$5,$C51),'trend data'!$A$2:$O$11161,D$6,FALSE),\"-\")","v":246},{"$f":"ROUND(VLOOKUP(CONCATENATE(E$5,$C51),'trend data'!$A$2:$O$11161,E$6,FALSE),4)","v":16.148900000000001},{"$f":"ROUND(VLOOKUP(CONCATENATE(F$5,$C51),'trend data'!$A$2:$O$11161,F$6,FALSE),4)","v":14.1937},{"$f":"ROUND(VLOOKUP(CONCATENATE(G$5,$C51),'trend data'!$A$2:$O$11161,G$6,FALSE),4)","v":18.298200000000001},{"$f":"IFERROR(VLOOKUP(CONCATENATE(H$5,$C51),'trend data'!$A$2:$O$11161,H$6,FALSE),\"-\")","v":84},{"$f":"IFERROR(ROUND(VLOOKUP(CONCATENATE(I$5,$C51),'trend data'!$A$2:$O$11161,I$6,FALSE),4),\"-\")","v":6.0080999999999998},{"$f":"IFERROR(ROUND(VLOOKUP(CONCATENATE(J$5,$C51),'trend data'!$A$2:$O$11161,J$6,FALSE),4),\"-\")","v":4.7920999999999996},{"$f":"IFERROR(ROUND(VLOOKUP(CONCATENATE(K$5,$C51),'trend data'!$A$2:$O$11161,K$6,FALSE),4),\"-\")","v":7.4385000000000003}]
[202504,"2025-12-31",{"$f":"CONCATENATE(A52,'CDI Data and Charts'!B$1)","v":"202504Scotland"},{"$f":"IFERROR(VLOOKUP(CONCATENATE(D$5,$C52),'trend data'!$A$2:$O$11161,D$6,FALSE),\"-\")","v":221},{"$f":"ROUND(VLOOKUP(CONCATENATE(E$5,$C52),'trend data'!$A$2:$O$11161,E$6,FALSE),4)","v":14.403700000000001},{"$f":"ROUND(VLOOKUP(CONCATENATE(F$5,$C52),'trend data'!$A$2:$O$11161,F$6,FALSE),4)","v":12.567},{"$f":"ROUND(VLOOKUP(CONCATENATE(G$5,$C52),'trend data'!$A$2:$O$11161,G$6,FALSE),4)","v":16.433199999999999},{"$f":"IFERROR(VLOOKUP(CONCATENATE(H$5,$C52),'trend data'!$A$2:$O$11161,H$6,FALSE),\"-\")","v":70},{"$f":"IFERROR(ROUND(VLOOKUP(CONCATENATE(I$5,$C52),'trend data'!$A$2:$O$11161,I$6,FALSE),4),\"-\")","v":5.0067000000000004},{"$f":"IFERROR(ROUND(VLOOKUP(CONCATENATE(J$5,$C52),'trend data'!$A$2:$O$11161,J$6,FALSE),4),\"-\")","v":3.9028},{"$f":"IFERROR(ROUND(VLOOKUP(CONCATENATE(K$5,$C52),'trend data'!$A$2:$O$11161,K$6,FALSE),4),\"-\")","v":6.3258000000000001}]
[202601,"2026-03-31",{"$f":"CONCATENATE(A53,'CDI Data and Charts'!B$1)","v":"202601Scotland"},{"$f":"IFERROR(VLOOKUP(CONCATENATE(D$5,$C53),'trend data'!$A$2:$O$11161,D$6,FALSE),\"-\")","v":214},{"$f":"ROUND(VLOOKUP(CONCATENATE(E$5,$C53),'trend data'!$A$2:$O$11161,E$6,FALSE),4)","v":13.895099999999999},{"$f":"ROUND(VLOOKUP(CONCATENATE(F$5,$C53),'trend data'!$A$2:$O$11161,F$6,FALSE),4)","v":12.095499999999999},{"$f":"ROUND(VLOOKUP(CONCATENATE(G$5,$C53),'trend data'!$A$2:$O$11161,G$6,FALSE),4)","v":15.886799999999999},{"$f":"IFERROR(VLOOKUP(CONCATENATE(H$5,$C53),'trend data'!$A$2:$O$11161,H$6,FALSE),\"-\")","v":73},{"$f":"IFERROR(ROUND(VLOOKUP(CONCATENATE(I$5,$C53),'trend data'!$A$2:$O$11161,I$6,FALSE),4),\"-\")","v":5.3372999999999999},{"$f":"IFERROR(ROUND(VLOOKUP(CONCATENATE(J$5,$C53),'trend data'!$A$2:$O$11161,J$6,FALSE),4),\"-\")","v":4.1833999999999998},{"$f":"IFERROR(ROUND(VLOOKUP(CONCATENATE(K$5,$C53),'trend data'!$A$2:$O$11161,K$6,FALSE),4),\"-\")","v":6.7110000000000003}]

{"sheet":"year end comp","index":9,"n_rows":94,"n_cols":9,"rows_kept":94,"cut":false,"hidden":true,"merged":[]}
["ref","p","lp","pc","r","rl","ru","s","direction"]
["CDICA Ayrshire & Arran",8.1577158395649203,9.2454112848402392,-11.764705882352899,0.88235294117647101,0.54003410329672796,1.44166212476212,"Non Significant","-"]
["CDIHCAI Ayrshire & Arran",17.2341200672785,19.394964282756799,-11.141264216709001,0.88858735783290999,0.65632834783211402,1.2030373137295101,"Non Significant","-"]
["ECBCOM Ayrshire & Arran",57.375934738273301,60.367097212780401,-4.9549549549549603,0.95045045045044996,0.78720762720839599,1.14754485035283,"Non Significant","-"]
["ECBHCAI Ayrshire & Arran",45.157757644641201,43.148347505458901,4.6569805226678396,1.0465698052266801,0.86129645844521596,1.27169727272468,"Non Significant","-"]
["SABCAUN Ayrshire & Arran",12.5084976206662,11.1488783140721,12.1951219512195,1.1219512195121999,0.736464261199684,1.7092133390347899,"Non Significant","-"]
["SABHCAI Ayrshire & Arran",23.778722624472898,26.368434586669299,-9.8212578895589395,0.90178742110441101,0.69613885813793597,1.1681872709094001,"Non Significant","-"]
["CDICA Borders",4.2742349119507601,6.8387758591212204,-37.5,0.625,0.20446150806375199,1.91050630360313,"Non Significant","-"]
["CDIHCAI Borders",12.496429591545301,14.147273113107399,-11.668987432162201,0.88331012567837797,0.43932244615469102,1.7760002589333199,"Non Significant","-"]
["ECBCOM Borders",55.565053855359899,53.855359890579599,3.1746031746031802,1.0317460317460301,0.72959033869583201,1.4590377881463099,"Non Significant","-"]
["ECBHCAI Borders",45.5227077977721,36.940102017558303,23.233844281572999,1.23233844281573,0.82911491184693498,1.8316617105083,"Non Significant","-"]
["SABCAUN Borders",15.3872456830227,17.096939647803001,-10,0.9,0.47608870859540497,1.7013636017323901,"Non Significant","-"]
["SABHCAI Borders",18.744644387317901,19.6489904348715,-4.6025064267352302,0.95397493573264802,0.53403816598267495,1.7041257272904999,"Non Significant","-"]
["CDICA Dumfries & Galloway",6.1703002879473496,4.1135335252982301,50,1.5,0.53390060291358399,4.2142675766263897,"Non Significant","-"]
["CDIHCAI Dumfries & Galloway",19.241434731921501,23.818545986033701,-19.216585499366701,0.80783414500633299,0.51636345026991304,1.2638307484718201,"Non Significant","-"]
["ECBCOM Dumfries & Galloway",63.0741807212395,54.161524749759998,16.455696202531701,1.16455696202532,0.86217310613909404,1.5729937620935699,"Non Significant","-"]
["ECBHCAI Dumfries & Galloway",53.762832339192499,46.554430790883998,15.4838141630121,1.1548381416301201,0.86262779029651304,1.5460331192266501,"Non Significant","-"]
["SABCAUN Dumfries & Galloway",13.711778417660801,12.340600575894699,11.1111111111111,1.1111111111111101,0.58776383777210595,2.1004488910276402,"Non Significant","-"]
["SABHCAI Dumfries & Galloway",19.241434731921501,15.6985871271586,22.567939242340199,1.2256793924234,0.74681253850669405,2.0116025047133501,"Non Significant","-"]
["CDICA Fife",2.4015369836695499,6.6709360657487498,-64,0.36,0.168038477153786,0.77125193107642898,"Significant","Decrease"]
["CDIHCAI Fife",14.059895153353301,13.105413105413099,7.2831130179783203,1.0728311301797799,0.71742768162642201,1.60429638186468,"Non Significant","-"]
["ECBCOM Fife",37.090404525563002,35.756217312413298,3.7313432835820799,1.03731343283582,0.81819477370254901,1.31511370217187,"Non Significant","-"]
["ECBHCAI Fife",42.1796854600599,41.025641025641001,2.8129833088959102,1.0281298330889601,0.81704163367943194,1.29375408805944,"Non Significant","-"]
["SABCAUN Fife",16.543921443056899,11.474010033087801,44.1860465116279,1.4418604651162801,0.97722359128615699,2.1274165087737398,"Non Significant","-"]
["SABHCAI Fife",13.199085246005099,14.2450142450142,-7.3424215730440299,0.92657578426956,0.62083464020326595,1.38288463368226,"Non Significant","-"]
["CDICA Forth Valley",4.2436508454658197,4.5700855258862703,-7.1428571428571397,0.92857142857142905,0.43647233671114599,1.97548578784229,"Non Significant","-"]
["CDIHCAI Forth Valley",11.229416989086999,18.994907399826399,-40.881959818400297,0.59118040181599696,0.38558030279070798,0.90641110285405002,"Significant","Decrease"]
["ECBCOM Forth Valley",47.333028660964899,42.110073774237797,12.403100775193799,1.12403100775194,0.88665500817535903,1.4249575029050701,"Non Significant","-"]
["ECBHCAI Forth Valley",40.493958233374499,46.177274885784897,-12.3076051292926,0.87692394870707402,0.68707069558115197,1.11923797181534,"Non Significant","-"]
["SABCAUN Forth Valley",13.057387216817901,11.425213814715701,14.285714285714301,1.1428571428571399,0.72606157314145303,1.7989141655416201,"Non Significant","-"]
["SABHCAI Forth Valley",17.694838891894701,17.6849137860453,5.61218786222333E-2,1.0005612187862201,0.68368992719627397,1.46429355284558,"Non Significant","-"]
["CDIHCAI Golden Jubilee",18.1956528931088,3.4809851187886198,422.715618486783,5.2271561848678303,1.1585895900571199,23.583123839093801,"Significant","Increase"]
["ECBHCAI Golden Jubilee",16.541502630098901,13.923940475154501,18.799004201541699,1.1879900420154199,0.46886200167764502,3.0100975017764702,"Non Significant","-"]
["SABHCAI Golden Jubilee",14.887352367088999,19.145418153337399,-22.240651795354601,0.77759348204645495,0.322224782410032,1.8764901284088999,"Non Significant","-"]
["CDICA Grampian",6.5892848091641696,7.7719769543987702,-15.2173913043478,0.84782608695652195,0.55337874383892904,1.29894594204585,"Non Significant","-"]
["CDIHCAI Grampian",9.6015703901793703,15.382332395915901,-37.580529772398897,0.62419470227601104,0.443803393020548,0.87790907522737005,"Significant","Decrease"]
["ECBCOM Grampian",27.032963319647902,21.626370655718301,25,1.25,0.99075910523588395,1.57707357090399,"Non Significant","-"]
["ECBHCAI Grampian",36.450406110866098,34.7459743531277,4.9054078622636998,1.0490540786226401,0.86160715937612498,1.27728100666161,"Non Significant","-"]
["SABCAUN Grampian",8.9546690996333709,12.1648334938416,-26.3888888888889,0.73611111111111105,0.51627715425254295,1.04955170578045,"Non Significant","-"]
["SABHCAI Grampian",19.203140780358702,19.363641957211801,-0.82887907764304602,0.99171120922357003,0.75906489340877703,1.29566145271592,"Non Significant","-"]
["CDICA Greater Glasgow & Clyde",3.6967969308370399,3.5324948450220601,4.6511627906976996,1.0465116279069799,0.68899656486914995,1.58953853064928,"Non Significant","-"]
["CDIHCAI Greater Glasgow & Clyde",13.815087320977099,16.959825364174499,-18.5422784472781,0.81457721552721896,0.688199361884131,0.96416253313497502,"Significant","Decrease"]
["ECBCOM Greater Glasgow & Clyde",29.820828575418801,29.985130661233701,-0.54794520547943404,0.99452054794520595,0.86003694302822198,1.1500332960147901,"Non Significant","-"]
["ECBHCAI Greater Glasgow & Clyde",40.1430201252983,37.501924072596999,7.0425614632161802,1.07042561463216,0.96314914137909402,1.1896506441567301,"Non Significant","-"]
["SABCAUN Greater Glasgow & Clyde",5.9148750893392599,5.66842196061679,4.3478260869565197,1.0434782608695701,0.750032540232488,1.4517328549103501,"Non Significant","-"]
["SABHCAI Greater Glasgow & Clyde",20.099819667815101,18.527069952283,8.4889284683587594,1.08488928468359,0.93399888561943401,1.2601564928428,"Non Significant","-"]
["CDICA Highland",8.9236260692965708,7.0773586066834904,26.086956521739101,1.26086956521739,0.72945339637162898,2.1794292389332499,"Non Significant","-"]
["CDIHCAI Highland",18.287542154334499,24.630925842206199,-25.753736292778999,0.74246263707221005,0.52991645467178095,1.0402597665883999,"Non Significant","-"]
["ECBCOM Highland",30.4634131331159,34.155948058341998,-10.8108108108108,0.891891891891892,0.68020655000892505,1.1694552879740101,"Non Significant","-"]
["ECBHCAI Highland",25.106625669509999,27.748764556409501,-9.5216451223562206,0.90478354877643796,0.66962108856213398,1.22253209183469,"Non Significant","-"]
["SABCAUN Highland",8.0004923379900301,7.6927810942211803,4.0000000000000098,1.04,0.60061891572618897,1.80080908489582,"Non Significant","-"]
["SABHCAI Highland",16.737750446340002,11.847787113972601,41.2732207738648,1.4127322077386499,0.93287220652408898,2.1394273265130002,"Non Significant","-"]
["CDICA Lanarkshire",3.8315870138674,4.4210619390777701,-13.3333333333333,0.86666666666666703,0.51259238579298505,1.4653185102410999,"Non Significant","-"]
["CDIHCAI Lanarkshire",19.215987701767901,19.058353062562301,0.82711574650800401,1.00827115746508,0.77948372496965301,1.30421033103103,"Non Significant","-"]
["ECBCOM Lanarkshire",40.084294914305097,41.705350958633602,-3.8869257950530098,0.96113074204947002,0.81377427398899504,1.1351701974853201,"Non Significant","-"]
["ECBHCAI Lanarkshire",50.193485117548803,40.909740625672598,22.693237233702501,1.22693237233702,1.0375546401612901,1.4508759230786601,"Significant","Increase"]
["SABCAUN Lanarkshire",6.9263303712218303,11.0526548476944,-37.3333333333333,0.62666666666666704,0.43518942008317502,0.90239121860098204,"Significant","Decrease"]
["SABHCAI Lanarkshire",18.553367436189699,18.565464621289198,-6.5159614080582406E-2,0.99934840385919399,0.76952047108059796,1.29781762776694,"Non Significant","-"]
["CDICA Lothian",6.9729022291831999,8.7965843506618899,-20.731707317073202,0.792682926829268,0.57244874080072095,1.09764626542406,"Non Significant","-"]
["CDIHCAI Lothian",16.673586389053298,15.5032913068437,7.5486879466235202,1.07548687946624,0.85732569226350597,1.3491629124635001,"Non Significant","-"]
["ECBCOM Lothian",29.929841876032501,25.424274281791099,17.721518987341799,1.17721518987342,0.99005850320614297,1.3997512255901099,"Non Significant","-"]
["ECBHCAI Lothian",39.530754485305202,34.4633975672403,14.703590695543401,1.1470359069554299,0.98756830813836705,1.33225353730239,"Non Significant","-"]
["SABCAUN Lothian",10.4057156343196,9.9766139586775093,4.3010752688171996,1.04301075268817,0.78479067906418298,1.38619310759446,"Non Significant","-"]
["SABHCAI Lothian",17.4465341024531,16.3413070531595,6.7633944194194298,1.06763394419419,0.855749186147581,1.3319816802011799,"Non Significant","-"]
["CDICA Orkney",0,13.6239782016349,-100,0,0,0]
["CDIHCAI Orkney",7.1058054430469699,7.9510217062892599,-10.630284942798299,0.89369715057201704,5.5896869554637699E-2,14.288717835259799,"Non Significant","-"]
["ECBCOM Orkney",36.330608537693003,31.7892824704814,14.285714285714301,1.1428571428571399,0.41442428804435,3.1516551675654099,"Non Significant","-"]
["ECBHCAI Orkney",28.423221772187901,55.657151944024797,-48.931591395884702,0.51068408604115301,0.14949398499324101,1.7445399943514699,"Non Significant","-"]
["SABCAUN Orkney",18.165304268846501,4.5413260672116298,300,4,0.44706456377206399,35.789014152679698,"Non Significant","-"]
["SABHCAI Orkney",28.423221772187901,0,"Inf","Inf",0,"Inf"]
["CDICA Scotland",5.4084263282193703,6.2737745407344603,-13.7931034482759,0.86206896551724099,0.73871996310991295,1.0060143740793901,"Non Significant","-"]
["CDIHCAI Scotland",14.599863310004601,16.727677428674799,-12.7203201265866,0.87279679873413396,0.79817715388956001,0.95439245306431897,"Significant","Decrease"]
["ECBCOM Scotland",36.939551821738299,35.046602606861498,5.4012345679012403,1.05401234567901,0.99059228964639101,1.1214927033606801,"Non Significant","-"]
["ECBHCAI Scotland",41.872538620639503,38.758076808802599,8.0356459047254596,1.0803564590472501,1.0219314294217501,1.14212171678246,"Significant","Increase"]
["SABCAUN Scotland",9.9334763561629007,9.8974201806414399,0.36429872495444598,1.00364298724954,0.89176175329977103,1.129560941729,"Non Significant","-"]
["SABHCAI Scotland",19.139865547343799,18.5273891212892,3.30578918618858,1.03305789186189,0.95239396922632302,1.1205537229567599,"Non Significant","-"]
["CDICA Shetland",12.9366106080207,21.561017680034499,-40,0.6,0.143387110368216,2.5106859262002299,"Non Significant","-"]
["CDIHCAI Shetland",36.258158085569299,47.089847428894302,-23.002175489485101,0.76997824510514901,0.206759088240176,2.8674265444937501,"Non Significant","-"]
["ECBCOM Shetland",38.809831824062101,34.497628288055203,12.5,1.125,0.434045559825464,2.9158805368471601,"Non Significant","-"]
["ECBHCAI Shetland",135.968092820885,113.015633829346,20.309100797679498,1.20309100797679,0.56314921475346102,2.57023882046659,"Non Significant","-"]
["SABCAUN Shetland",12.9366106080207,21.561017680034499,-40,0.6,0.143387110368216,2.5106859262002299,"Non Significant","-"]
["SABHCAI Shetland",36.258158085569299,56.507816914673199,-35.835146241237602,0.64164853758762397,0.181066821878345,2.2738171550001498,"Non Significant","-"]
["CDICA Tayside",5.9650211161747499,6.2036219608217396,-3.84615384615384,0.96153846153846201,0.555305950190633,1.6649492278992499,"Non Significant","-"]
["CDIHCAI Tayside",9.3383456360607795,9.2391853187196595,1.0732582356607601,1.01073258235661,0.66230501994097801,1.54246204132394,"Non Significant","-"]
["ECBCOM Tayside",47.958769774045003,41.277946123929297,16.184971098265901,1.16184971098266,0.94813771463743901,1.4237327869893599,"Non Significant","-"]
["ECBHCAI Tayside",52.338169727689497,47.485115242722003,10.2201594334581,1.10220159433458,0.91829516948367795,1.32293884899422,"Non Significant","-"]
["SABCAUN Tayside",14.7932523681134,12.168643076996499,21.568627450980401,1.2156862745098,0.83927776933016296,1.7609105972282,"Non Significant","-"]
["SABHCAI Tayside",22.151424532051202,22.131071809956399,9.1964466382493296E-2,1.00091964466382,0.76119271703129499,1.31614519248319,"Non Significant","-"]
["CDICA Western Isles",7.6863950807071504,11.529592621060701,-33.3333333333333,0.66666666666666696,0.111392850822185,3.9898830235874398,"Non Significant","-"]
["CDIHCAI Western Isles",7.3241293441242199,14.9337315661751,-50.955798879408199,0.49044201120591802,8.9828047253267193E-2,2.6777089529457299,"Non Significant","-"]
["ECBCOM Western Isles",23.059185242121401,19.215987701767901,20,1.2,0.36622133716552602,3.93204833761268,"Non Significant","-"]
["ECBHCAI Western Isles",69.579228769180105,70.935224939331704,-1.9115977588164299,0.98088402241183603,0.51933349959276198,1.8526312401901399,"Non Significant","-"]
["SABCAUN Western Isles",3.8431975403535699,3.8431975403535699,0,1,6.2545650412850096E-2,15.988322023981199,"Non Significant","-"]
["SABHCAI Western Isles",14.648258688248401,33.600896023894002,-56.405154559473999,0.43594845440525998,0.13425092129088001,1.41564060097996,"Non Significant","-"]

{"sheet":"quarter comp","index":10,"n_rows":7,"n_cols":9,"rows_kept":7,"cut":false,"hidden":true,"merged":[]}
["ref","p","lp","pc","r","rl","ru","s","direction"]
["CDICA Scotland",5.3373155376075898,5.0067135031161198,6.6031746031746099,1.0660317460317501,0.76802275067882897,1.4796745051407001,"Non Significant","-"]
["CDIHCAI Scotland",13.895084321734799,14.4036623103735,-3.5308935858097201,0.96469106414190298,0.79937802419006698,1.16419118498805,"Non Significant","-"]
["ECBCOM Scotland",33.778627101023403,31.9714419413272,5.6524981357196102,1.0565249813572,0.92769645505434395,1.20324383061961,"Non Significant","-"]
["ECBHCAI Scotland",39.542553046432303,40.734339113047199,-2.9257527986582899,0.97074247201341701,0.86823377790104195,1.0853539345691301,"Non Significant","-"]
["SABCAUN Scotland",10.016605871948499,9.4412311773046795,6.0942760942760899,1.06094276094276,0.83536209101803005,1.3474390974877899,"Non Significant","-"]
["SABHCAI Scotland",18.894717465536601,18.379333807806901,2.8041476536586201,1.0280414765365899,0.87273349893500995,1.21098740768999,"Non Significant","-"]

{"sheet":"data for u-p-charts","index":11,"n_rows":1117,"n_cols":7,"rows_kept":1117,"cut":false,"hidden":true,"merged":[]}
["ref","cases","rate","av","uwl2","uwl3","aboveUCL"]
["CDICA202302Ayrshire & Arran",5,5.4772484104724999,8.1695638360640892,14.152655380430501,17.1442011526137,"-"]
["CDICA202503Ayrshire & Arran",8,8.6306269027281104,8.1695638360640892,14.1070909908268,17.0758545682082,"-"]
["CDICA202303Ayrshire & Arran",8,8.6683409626608192,8.1695638360640892,14.1200497341747,17.095292683229999,"-"]
["CDICA202504Ayrshire & Arran",4,4.3153134513640499,8.1695638360640892,14.1070909908268,17.0758545682082,"-"]
["CDICA202304Ayrshire & Arran",6,6.5012557219956202,8.1695638360640892,14.1200497341747,17.095292683229999,"-"]
["CDICA202401Ayrshire & Arran",7,7.6557025571301596,8.1695638360640892,14.147798202754799,17.136915386100199,"-"]
["CDICA202404Ayrshire & Arran",10,10.8178405698578,8.1695638360640892,14.1152190263292,17.0880466214618,"-"]
["CDICA202402Ayrshire & Arran",9,9.8430461448816295,8.1695638360640892,14.147798202754799,17.136915386100199,"-"]
["CDICA202501Ayrshire & Arran",5,5.5140116322985104,8.1695638360640892,14.1727010174294,17.174269608111999,"-"]
["CDICA202403Ayrshire & Arran",10,10.8178405698578,8.1695638360640892,14.1152190263292,17.0880466214618,"-"]
["CDICA202601Ayrshire & Arran",9,9.9252209381373202,8.1695638360640892,14.1727010174294,17.174269608111999,"-"]
["CDICA202502Ayrshire & Arran",9,9.8161525761797694,8.1695638360640892,14.1396256297382,17.124656526575201,"-"]
["CDIHCAI202302Ayrshire & Arran",17,14.692918013517501,17.6469397024321,25.4577171471641,29.363105869530099,"-"]
["CDIHCAI202503Ayrshire & Arran",26,22.862971658708599,17.6469397024321,25.525454617934301,29.464712075685501,"-"]
["CDIHCAI202404Ayrshire & Arran",22,19.330972611526501,17.6469397024321,25.522477295222199,29.460246091617201,"-"]
["CDIHCAI202501Ayrshire & Arran",19,16.2932091619288,17.6469397024321,25.427147785695599,29.317251827327301,"-"]
["CDIHCAI202502Ayrshire & Arran",25,21.6656556027385,17.6469397024321,25.468269697108799,29.378934694447199,"-"]
["CDIHCAI202303Ayrshire & Arran",21,18.141764934560101,17.6469397024321,25.455928807131301,29.360423359480802,"-"]
["CDIHCAI202504Ayrshire & Arran",19,16.737433710953301,17.6469397024321,25.532495898423399,29.475273996418998,"-"]
["CDIHCAI202403Ayrshire & Arran",23,19.987659792649801,17.6469397024321,25.4791033454533,29.395185166964001,"-"]
["CDIHCAI202304Ayrshire & Arran",14,12.108317549276499,17.6469397024321,25.460385068136802,29.367107750989199,"-"]
["CDIHCAI202601Ayrshire & Arran",9,7.7744376490100597,17.6469397024321,25.455625248736698,29.359968021888999,"-"]
["CDIHCAI202402Ayrshire & Arran",25,22.0476051891244,17.6469397024321,25.5369106464141,29.481896118405199,"-"]
["CDIHCAI202401Ayrshire & Arran",18,15.550218566961,17.6469397024321,25.455962538027102,29.360473955824599,"-"]
["ECBCOM202504Ayrshire & Arran",55,59.3355599562557,57.005400989424999,72.689666152003298,80.531798733292405,"-"]
["ECBCOM202601Ayrshire & Arran",35,38.5980814260896,57.005400989424999,72.862978210666,80.7917668212866,"-"]
["ECBCOM202501Ayrshire & Arran",54,59.551325628823903,57.005400989424999,72.862978210666,80.7917668212866,"-"]
["ECBCOM202403Ayrshire & Arran",53,57.334555020246498,57.005400989424999,72.7111367509156,80.564004631660893,"-"]
["ECBCOM202502Ayrshire & Arran",56,61.078282696229699,57.005400989424999,72.775607974306396,80.660711466747003,"-"]
["ECBCOM202503Ayrshire & Arran",65,70.123843584665806,57.005400989424999,72.689666152003298,80.531798733292405,"-"]
["ECBCOM202404Ayrshire & Arran",54,58.416339077232301,57.005400989424999,72.7111367509156,80.564004631660893,"-"]
["ECBCOM202402Ayrshire & Arran",61,66.713979426419897,57.005400989424999,72.797196221216694,80.693093837112599,"-"]
["ECBCOM202302Ayrshire & Arran",48,52.581584740536002,57.005400989424999,72.8100266909764,80.712339541752101,"-"]
["ECBCOM202401Ayrshire & Arran",44,48.121558930532402,57.005400989424999,72.797196221216694,80.693093837112599,"-"]
["ECBCOM202304Ayrshire & Arran",42,45.5087900539693,57.005400989424999,72.723897299338603,80.583145454295405,"-"]
["ECBCOM202303Ayrshire & Arran",53,57.427758877628001,57.005400989424999,72.723897299338603,80.583145454295405,"-"]
["ECBHCAI202302Ayrshire & Arran",51,44.078754040552496,42.960172882150303,55.147053948222201,61.240494481258096,"-"]
["ECBHCAI202503Ayrshire & Arran",56,49.243323572603103,42.960172882150303,55.252742339145399,61.399027067642997,"-"]
["ECBHCAI202501Ayrshire & Arran",49,42.019328891290002,42.960172882150303,55.099357649726997,61.168950033515401,"-"]
["ECBHCAI202504Ayrshire & Arran",50,44.0458781867193,42.960172882150303,55.263728601201898,61.415506460727698,"-"]
["ECBHCAI202303Ayrshire & Arran",48,41.466891278994403,42.960172882150303,55.144263664227999,61.236309055266801,"-"]
["ECBHCAI202601Ayrshire & Arran",54,46.6466258940603,42.960172882150303,55.143790032751802,61.235598608052499,"-"]
["ECBHCAI202403Ayrshire & Arran",45,39.1062908986626,42.960172882150303,55.180422080504798,61.290546679682102,"-"]
["ECBHCAI202304Ayrshire & Arran",61,52.7576693218477,42.960172882150303,55.151216611390801,61.246738476011103,"-"]
["ECBHCAI202404Ayrshire & Arran",49,43.055348089309099,42.960172882150303,55.248096927335197,61.392058949927701,"-"]
["ECBHCAI202502Ayrshire & Arran",47,40.731432533148499,42.960172882150303,55.163518720394997,61.265191639517298,"-"]
["ECBHCAI202402Ayrshire & Arran",55,48.504731416073597,42.960172882150303,55.2706167770693,61.425838724528703,"-"]
["ECBHCAI202401Ayrshire & Arran",49,42.331150543393697,42.960172882150303,55.144316293357299,61.236387998960801,"-"]
["SABCAUN202502Ayrshire & Arran",8,8.7254689566042405,14.2513502473562,22.136453739796899,26.079005486017302,"-"]
["SABCAUN202501Ayrshire & Arran",10,11.028023264597,14.2513502473562,22.1801388579768,26.1445331632871,"-"]
["SABCAUN202403Ayrshire & Arran",9,9.7360565128720502,14.2513502473562,22.1042181281016,26.0306520684742,"-"]
["SABCAUN202402Ayrshire & Arran",13,14.2177333203846,14.2513502473562,22.147247863252101,26.0951966712,"-"]
["SABCAUN202503Ayrshire & Arran",14,15.1035970797742,14.2513502473562,22.093482828645399,26.014549119289999,"-"]
["SABCAUN202401Ayrshire & Arran",15,16.405076908136,14.2513502473562,22.147247863252101,26.0951966712,"-"]
["SABCAUN202504Ayrshire & Arran",15,16.182425442615202,14.2513502473562,22.093482828645399,26.014549119289999,"-"]
["SABCAUN202601Ayrshire & Arran",9,9.9252209381373202,14.2513502473562,22.1801388579768,26.1445331632871,"-"]
["SABCAUN202304Ayrshire & Arran",14,15.169596684656399,14.2513502473562,22.110598402313101,26.040222479791499,"-"]
["SABCAUN202302Ayrshire & Arran",22,24.099893006079,14.2513502473562,22.153663098132,26.104819523519801,"-"]
["SABCAUN202404Ayrshire & Arran",9,9.7360565128720502,14.2513502473562,22.1042181281016,26.0306520684742,"-"]
["SABCAUN202303Ayrshire & Arran",11,11.9189688236586,14.2513502473562,22.110598402313101,26.040222479791499,"-"]
["SABHCAI202502Ayrshire & Arran",28,24.2655342750672,22.347968721522601,31.149635779450101,35.550469308413803,"-"]
["SABHCAI202401Ayrshire & Arran",20,17.2780206299566,22.347968721522601,31.135786022856198,35.529694673523103,"-"]
["SABHCAI202501Ayrshire & Arran",32,27.441194377985301,22.347968721522601,31.1033595868726,35.481055019547703,"-"]
["SABHCAI202503Ayrshire & Arran",24,21.1042815311156,22.347968721522601,31.213988342784301,35.646998153415097,"-"]
["SABHCAI202601Ayrshire & Arran",31,26.778618568812401,22.347968721522601,31.1354064572275,35.529125325080003,"-"]
["SABHCAI202504Ayrshire & Arran",26,22.903856657094,22.347968721522601,31.2219121877784,35.658883920906298,"-"]
["SABHCAI202303Ayrshire & Arran",23,19.869552071184799,22.347968721522601,31.135748064080001,35.529637735358698,"-"]
["SABHCAI202404Ayrshire & Arran",31,27.239097770787399,22.347968721522601,31.210637838042199,35.641972396302002,"-"]
["SABHCAI202403Ayrshire & Arran",38,33.023090092203901,22.347968721522601,31.161827333292699,35.5687566391777,"-"]
["SABHCAI202402Ayrshire & Arran",20,17.638084151299498,22.347968721522601,31.226880286808399,35.666336069451198,"-"]
["SABHCAI202304Ayrshire & Arran",18,15.567836849069799,22.347968721522601,31.140762879427399,35.537159958379803,"-"]
["SABHCAI202302Ayrshire & Arran",26,22.471521667732599,22.347968721522601,31.1377605572962,35.532656475183003,"-"]
["CDICA202402Borders",1,3.43817577532743,4.5637354174391698,12.486089753681201,16.4472669218022,"-"]
["CDICA202501Borders",2,6.9337588571645696,4.5637354174391698,12.5190909559961,16.496768725274599,"-"]
["CDICA202401Borders",0,0,4.5637354174391698,12.486089753681201,16.4472669218022,"-"]
["CDICA202404Borders",1,3.4008042995086498,4.5637354174391698,12.4429158391447,16.382506049997499,"-"]
["CDICA202303Borders",1,3.4016902206532,4.5637354174391698,12.443942049032399,16.384045364828999,"-"]
["CDICA202504Borders",3,10.174537453448,4.5637354174391698,12.4321445690074,16.366349144791499,"-"]
["CDICA202302Borders",2,6.8781428637383399,4.5637354174391698,12.4871215866788,16.448814671298699,"-"]
["CDICA202601Borders",2,6.9337588571645696,4.5637354174391698,12.5190909559961,16.496768725274599,"-"]
["CDICA202403Borders",4,13.603217198034599,4.5637354174391698,12.4429158391447,16.382506049997499,"-"]
["CDICA202502Borders",0,0,4.5637354174391698,12.4752594624438,16.4310214849461,"-"]
["CDICA202503Borders",0,0,4.5637354174391698,12.4321445690074,16.366349144791499,"-"]
["CDICA202304Borders",1,3.4016902206532,4.5637354174391698,12.443942049032399,16.384045364828999,"-"]
["CDIHCAI202502Borders",4,14.3046168150771,11.814110343790601,24.813968861442401,31.313898120268298,"-"]
["CDIHCAI202501Borders",9,29.430038259049699,11.814110343790601,24.245070249774301,30.4605502027662,"-"]
["CDIHCAI202403Borders",4,12.690355329949201,11.814110343790601,24.058507355074202,30.180705860716099,"-"]
["CDIHCAI202404Borders",2,6.0945880058507997,11.814110343790601,23.8142882758935,29.8143772419449,"-"]
["CDIHCAI202504Borders",4,14.0277047168157,11.814110343790601,24.687526805420902,31.124235036236001,"-"]
["CDIHCAI202402Borders",3,9.2833271444485703,11.814110343790601,23.906766585880799,29.953094706925899,"-"]
["CDIHCAI202304Borders",4,12.444389136048301,11.814110343790601,23.939265452668302,30.001843007107201,"-"]
["CDIHCAI202503Borders",2,7.1482183065870801,11.814110343790601,24.810251296821502,31.308321773336999,"-"]
["CDIHCAI202401Borders",4,12.279355333845,11.814110343790601,23.858597002202298,29.880840331408201,"-"]
["CDIHCAI202601Borders",4,14.505893019039,11.814110343790601,24.905108043055101,31.4506068926874,"-"]
["CDIHCAI202303Borders",4,12.2077763535372,11.814110343790601,23.823440753642998,29.828105958569299,"-"]
["CDIHCAI202302Borders",2,6.4224013358594796,11.814110343790601,24.1327919334699,30.2921327283096,"-"]
["ECBCOM202601Borders",13,45.069432571569699,50.771556519010801,77.305976795539294,90.573186933803498,"-"]
["ECBCOM202502Borders",22,75.433200753768404,50.771556519010801,77.159780529938104,90.353892535401798,"-"]
["ECBCOM202504Borders",17,57.655712236205403,50.771556519010801,77.015974423841001,90.138183376256094,"-"]
["ECBCOM202302Borders",14,48.147000046168401,50.771556519010801,77.199345649095903,90.413240214138398,"-"]
["ECBCOM202503Borders",13,44.089662298274703,50.771556519010801,77.015974423841001,90.138183376256094,"-"]
["ECBCOM202403Borders",25,85.020107487716203,50.771556519010801,77.051901090770002,90.192073376649603,"-"]
["ECBCOM202304Borders",10,34.016902206532002,50.771556519010801,77.055323927665199,90.197207631992299,"-"]
["ECBCOM202401Borders",12,41.258109303929103,50.771556519010801,77.195904056789701,90.408077825679101,"-"]
["ECBCOM202501Borders",11,38.135673714405101,50.771556519010801,77.305976795539294,90.573186933803498,"-"]
["ECBCOM202402Borders",13,44.696285079256498,50.771556519010801,77.195904056789701,90.408077825679101,"-"]
["ECBCOM202404Borders",14,47.611260193121097,50.771556519010801,77.051901090770002,90.192073376649603,"-"]
["ECBCOM202303Borders",11,37.418592427185203,50.771556519010801,77.055323927665199,90.197207631992299,"-"]
["ECBHCAI202501Borders",6,19.620025506033201,42.960401250147697,66.665311687682404,78.517766906449793,"-"]
["ECBHCAI202303Borders",21,64.090825856070296,42.960401250147697,65.861295785515097,77.311743053198896,"-"]
["ECBHCAI202404Borders",12,36.5675280351048,42.960401250147697,65.843842695248895,77.285563417799494,"-"]
["ECBHCAI202504Borders",15,52.603892688058899,42.960401250147697,67.5090432340333,79.783364225976101,"-"]
["ECBHCAI202403Borders",11,34.898477157360396,42.960401250147697,66.309550206406698,77.984124684536098,"-"]
["ECBHCAI202503Borders",12,42.889309839522497,42.960401250147697,67.743069656702801,80.134403859980296,"-"]
["ECBHCAI202401Borders",11,33.7682271680737,42.960401250147697,65.928336121074196,77.412303556537395,"-"]
["ECBHCAI202601Borders",8,29.011786038078,42.960401250147697,67.923954374445302,80.405730936594097,"-"]
["ECBHCAI202402Borders",18,55.699962866691401,42.960401250147697,66.020191913028,77.550087244468202,"-"]
["ECBHCAI202304Borders",11,34.222070124132799,42.960401250147697,66.082164820377599,77.6430466054926,"-"]
["ECBHCAI202302Borders",13,41.745608683086601,42.960401250147697,66.451205339322996,78.196607383910603,"-"]
["ECBHCAI202502Borders",16,57.218467260308302,42.960401250147697,67.750158774280905,80.145037536347502,"-"]
["SABCAUN202501Borders",5,17.334397142911399,15.687840497447199,30.437464424785698,37.812276388454997,"-"]
["SABCAUN202403Borders",4,13.603217198034599,15.687840497447199,30.296231978198801,37.600427718574601,"-"]
["SABCAUN202503Borders",3,10.174537453448,15.687840497447199,30.2762615088747,37.570472014588397,"-"]
["SABCAUN202404Borders",7,23.805630096560499,15.687840497447199,30.296231978198801,37.600427718574601,"-"]
["SABCAUN202504Borders",8,27.1320998758614,15.687840497447199,30.2762615088747,37.570472014588397,"-"]
["SABCAUN202304Borders",3,10.205070661959599,15.687840497447199,30.298134622252899,37.603281684655798,"-"]
["SABCAUN202502Borders",1,3.4287818524440201,15.687840497447199,30.3561986607432,37.690377742391199,"-"]
["SABCAUN202303Borders",4,13.6067608826128,15.687840497447199,30.298134622252899,37.603281684655798,"-"]
["SABCAUN202402Borders",4,13.752703101309701,15.687840497447199,30.376278558115601,37.720497588449803,"-"]
["SABCAUN202601Borders",6,20.801276571493698,15.687840497447199,30.437464424785698,37.812276388454997,"-"]
["SABCAUN202401Borders",7,24.067230427291999,15.687840497447199,30.376278558115601,37.720497588449803,"-"]
["SABCAUN202302Borders",4,13.756285727476699,15.687840497447199,30.378191627694601,37.723367192818401,"-"]
["SABHCAI202303Borders",5,15.2597204419215,15.841647960992001,29.7481678484138,36.701427792124697,"-"]
["SABHCAI202401Borders",2,6.1396776669224904,15.841647960992001,29.788877950731901,36.762492945601899,"-"]
["SABHCAI202402Borders",6,18.566654288897102,15.841647960992001,29.844657186587,36.846161799384497,"-"]
["SABHCAI202304Borders",4,12.444389136048301,15.841647960992001,29.8822901038168,36.902611175229303,"-"]
["SABHCAI202601Borders",6,21.7588395285585,15.841647960992001,31.0007129244858,38.580245406232699,"-"]
["SABHCAI202403Borders",4,12.690355329949201,15.841647960992001,30.020369399716699,37.109730119079103,"-"]
["SABHCAI202503Borders",1,3.5741091532935401,15.841647960992001,30.8908710612899,38.415482611438897,"-"]
["SABHCAI202501Borders",6,19.620025506033201,15.841647960992001,30.236404808591299,37.433783232390901,"-"]
["SABHCAI202302Borders",4,12.844802671719,15.841647960992001,30.1063891802984,37.238759789951601,"-"]
["SABHCAI202504Borders",6,21.041557075223601,15.841647960992001,30.748759009902201,38.202314534357299,"-"]
["SABHCAI202404Borders",9,27.4256460263286,15.841647960992001,29.737569496174299,36.6855302637655,"-"]
["SABHCAI202502Borders",8,28.609233630154101,15.841647960992001,30.895175912981699,38.421939888976603,"-"]
["CDICA202404Dumfries & Galloway",2,5.4549031531128698,7.5447541096046997,16.617339516416099,21.153632219821901,"-"]
["CDICA202402Dumfries & Galloway",2,5.5148471438064197,7.5447541096046997,16.667052685301002,21.228201973149101,"-"]
["CDICA202401Dumfries & Galloway",6,16.544541431419301,7.5447541096046997,16.667052685301002,21.228201973149101,"-"]
["CDICA202503Dumfries & Galloway",1,2.7199995230685801,7.5447541096046997,16.604936796459199,21.135028139886401,"-"]
["CDICA202303Dumfries & Galloway",5,13.6177363367468,7.5447541096046997,16.6108435506011,21.143888271099399,"-"]
["CDICA202403Dumfries & Galloway",1,2.7274515765564402,7.5447541096046997,16.617339516416099,21.153632219821901,"-"]
["CDICA202302Dumfries & Galloway",1,2.75347635819936,7.5447541096046997,16.660521124886301,21.218404632527101,"-"]
["CDICA202501Dumfries & Galloway",1,2.78044395691454,7.5447541096046997,16.705052351574,21.2852014725587,"-"]
["CDICA202601Dumfries & Galloway",2,5.5608879138290899,7.5447541096046997,16.705052351574,21.2852014725587,"-"]
["CDICA202304Dumfries & Galloway",4,10.8941890693975,7.5447541096046997,16.6108435506011,21.143888271099399,"-"]
["CDICA202502Dumfries & Galloway",3,8.2496688831530491,7.5447541096046997,16.654582004725999,21.209495952286598,"-"]
["CDICA202504Dumfries & Galloway",3,8.1599985692057295,7.5447541096046997,16.604936796459199,21.135028139886401,"-"]
["CDIHCAI202502Dumfries & Galloway",8,18.674572235579699,20.693620870890101,34.594061830966503,41.5442823110047,"-"]
["CDIHCAI202404Dumfries & Galloway",13,28.261483945303201,20.693620870890101,34.108107116539799,40.815350239364598,"-"]
["CDIHCAI202403Dumfries & Galloway",16,35.106196243637001,20.693620870890101,34.170214610452902,40.908511480234303,"-"]
["CDIHCAI202304Dumfries & Galloway",5,10.7077845593747,20.693620870890101,34.0077587412555,40.664827676438101,"-"]
["CDIHCAI202503Dumfries & Galloway",10,23.4290801743124,20.693620870890101,34.619603816174902,41.582595288817302,"-"]
["CDIHCAI202501Dumfries & Galloway",7,15.0816563967768,20.693620870890101,34.048001202664302,40.7251913685514,"-"]
["CDIHCAI202402Dumfries & Galloway",8,17.115594445989601,20.693620870890101,34.0012055962492,40.654997958928803,"-"]
["CDIHCAI202303Dumfries & Galloway",15,32.781869440741303,20.693620870890101,34.143533660156002,40.868490054789,"-"]
["CDIHCAI202504Dumfries & Galloway",10,22.162629374348999,20.693620870890101,34.237993130612303,41.0101792604734,"-"]
["CDIHCAI202302Dumfries & Galloway",6,13.1104555883317,20.693620870890101,34.142358045549003,40.866726632878503,"-"]
["CDIHCAI202601Dumfries & Galloway",6,13.0264871906209,20.693620870890101,34.0992213722283,40.8020216228973,"-"]
["CDIHCAI202401Dumfries & Galloway",8,17.0845256908555,20.693620870890101,33.9891219409052,40.636872475912803,"-"]
["ECBCOM202504Dumfries & Galloway",14,38.0799933229601,57.843114840302697,82.929624743310299,95.472879694814097,"-"]
["ECBCOM202601Dumfries & Galloway",21,58.389323095205398,57.843114840302697,83.206832163032303,95.888690824397102,"-"]
["ECBCOM202403Dumfries & Galloway",23,62.731386260797997,57.843114840302697,82.963966319830106,95.524392059593794,"-"]
["ECBCOM202502Dumfries & Galloway",31,85.246578459248099,57.843114840302697,83.067086100533004,95.679071730648204,"-"]
["ECBCOM202503Dumfries & Galloway",26,70.719987599782996,57.843114840302697,82.929624743310299,95.472879694814097,"-"]
["ECBCOM202501Dumfries & Galloway",15,41.706659353718202,57.843114840302697,83.206832163032303,95.888690824397102,"-"]
["ECBCOM202404Dumfries & Galloway",21,57.276483107685102,57.843114840302697,82.963966319830106,95.524392059593794,"-"]
["ECBCOM202402Dumfries & Galloway",20,55.148471438064199,57.843114840302697,83.101615851483501,95.730866357073893,"-"]
["ECBCOM202304Dumfries & Galloway",20,54.470945346987399,57.843114840302697,82.945979804946305,95.497412287268006,"-"]
["ECBCOM202401Dumfries & Galloway",20,55.148471438064199,57.843114840302697,83.101615851483501,95.730866357073893,"-"]
["ECBCOM202302Dumfries & Galloway",24,66.083432596784704,57.843114840302697,83.083530779615899,95.703738749272503,"-"]
["ECBCOM202303Dumfries & Galloway",15,40.853209010240498,57.843114840302697,82.945979804946305,95.497412287268006,"-"]
["ECBHCAI202404Dumfries & Galloway",17,36.9573251592426,43.218535624159898,62.604652390719401,72.2977107739991,"-"]
["ECBHCAI202303Dumfries & Galloway",16,34.967327403457404,43.218535624159898,62.655849514381401,72.374506459492096,"-"]
["ECBHCAI202501Dumfries & Galloway",15,32.317835135950403,43.218535624159898,62.517789558747097,72.167416526040697,"-"]
["ECBHCAI202401Dumfries & Galloway",13,27.7623542476402,43.218535624159898,62.432699438805997,72.039781346129104,"-"]
["ECBHCAI202502Dumfries & Galloway",22,51.3550736478443,43.218535624159898,63.306936076029501,73.351136301964303,"-"]
["ECBHCAI202402Dumfries & Galloway",23,49.207334032220103,43.218535624159898,62.450162288234303,72.065975620271502,"-"]
["ECBHCAI202304Dumfries & Galloway",19,40.689581325623699,43.218535624159898,62.459632649748897,72.080181162543397,"-"]
["ECBHCAI202403Dumfries & Galloway",31,68.018255222046704,43.218535624159898,62.694407831742602,72.432343935534007,"-"]
["ECBHCAI202601Dumfries & Galloway",30,65.132435953104604,43.218535624159898,62.591811043415703,72.278448753043605,"-"]
["ECBHCAI202503Dumfries & Galloway",23,53.886884400918397,43.218535624159898,63.343848403392101,73.406504793008196,"-"]
["ECBHCAI202302Dumfries & Galloway",25,54.626898284715402,43.218535624159898,62.654150559861101,72.371958027711798,"-"]
["ECBHCAI202504Dumfries & Galloway",20,44.325258748697898,43.218535624159898,62.792358829046101,72.579270431489206,"-"]
["SABCAUN202601Dumfries & Galloway",4,11.121775827658199,12.803219095086799,24.7361371224574,30.702596136142699,"-"]
["SABCAUN202501Dumfries & Galloway",4,11.121775827658199,12.803219095086799,24.7361371224574,30.702596136142699,"-"]
["SABCAUN202403Dumfries & Galloway",6,16.364709459338599,12.803219095086799,24.6218755510283,30.531203778999,"-"]
["SABCAUN202502Dumfries & Galloway",5,13.7494481385884,12.803219095086799,24.6703905172878,30.603976228388301,"-"]
["SABCAUN202401Dumfries & Galloway",4,11.0296942876128,12.803219095086799,24.686635797202999,30.6283441482611,"-"]
["SABCAUN202404Dumfries & Galloway",6,16.364709459338599,12.803219095086799,24.6218755510283,30.531203778999,"-"]
["SABCAUN202402Dumfries & Galloway",2,5.5148471438064197,12.803219095086799,24.686635797202999,30.6283441482611,"-"]
["SABCAUN202304Dumfries & Galloway",5,13.6177363367468,12.803219095086799,24.613413399957299,30.518510552392499,"-"]
["SABCAUN202302Dumfries & Galloway",4,11.013905432797401,12.803219095086799,24.678127277833799,30.615581369207298,"-"]
["SABCAUN202503Dumfries & Galloway",6,16.319997138411502,12.803219095086799,24.605718801907901,30.506968655318499,"-"]
["SABCAUN202504Dumfries & Galloway",5,13.5999976153429,12.803219095086799,24.605718801907901,30.506968655318499,"-"]
["SABCAUN202303Dumfries & Galloway",4,10.8941890693975,12.803219095086799,24.613413399957299,30.518510552392499,"-"]
["SABHCAI202601Dumfries & Galloway",9,19.5397307859314,17.7635506590827,30.183874463785099,36.394036366136298,"-"]
["SABHCAI202401Dumfries & Galloway",10,21.3556571135694,17.7635506590827,30.0818670537023,36.241025251012204,"-"]
["SABHCAI202304Dumfries & Galloway",9,19.274012206874399,17.7635506590827,30.099134097801599,36.266925817161002,"-"]
["SABHCAI202302Dumfries & Galloway",5,10.9253796569431,17.7635506590827,30.223840704047699,36.453985726530298,"-"]
["SABHCAI202303Dumfries & Galloway",13,28.4109535153091,17.7635506590827,30.224929914045202,36.455619541526502,"-"]
["SABHCAI202501Dumfries & Galloway",5,10.772611711983499,17.7635506590827,30.136418843184401,36.322852935235197,"-"]
["SABHCAI202502Dumfries & Galloway",5,11.6716076472373,17.7635506590827,30.642345438552901,37.081742828288,"-"]
["SABHCAI202503Dumfries & Galloway",8,18.743264139449899,17.7635506590827,30.666010154420899,37.117239902089999,"-"]
["SABHCAI202404Dumfries & Galloway",9,19.565642731363699,17.7635506590827,30.192107129049401,36.406385364032801,"-"]
["SABHCAI202403Dumfries & Galloway",10,21.941372652273099,17.7635506590827,30.249649884036199,36.492699496512998,"-"]
["SABHCAI202504Dumfries & Galloway",12,26.595155249218799,17.7635506590827,30.312446859621101,36.586894959890401,"-"]
["SABHCAI202402Dumfries & Galloway",5,10.6972465287435,17.7635506590827,30.093062591873199,36.257818558268497,"-"]
["CDICA202401Fife",4,4.2928573187939199,4.5424990870467497,8.9584135395065498,11.166370765736501,"-"]
["CDICA202404Fife",3,3.1846468696487502,4.5424990870467497,8.9343484314491395,11.1302731036503,"-"]
["CDICA202601Fife",1,1.0821740728881299,4.5424990870467497,8.9768083852892602,11.193963034410499,"-"]
["CDICA202304Fife",0,0,4.5424990870467497,8.9374426507234901,11.134914432561899,"-"]
["CDICA202403Fife",6,6.3692937392975004,4.5424990870467497,8.9343484314491395,11.1302731036503,"-"]
["CDICA202503Fife",3,3.1759456486934199,4.5424990870467497,8.9283445334344798,11.1212672566283,"-"]
["CDICA202402Fife",12,12.8785719563818,4.5424990870467497,8.9584135395065498,11.166370765736501,"aboveUCL"]
["CDICA202302Fife",3,3.2241813008673499,4.5424990870467497,8.9615247135339793,11.171037526777599,"-"]
["CDICA202501Fife",4,4.3286962915525198,4.5424990870467497,8.9768083852892602,11.193963034410499,"-"]
["CDICA202504Fife",2,2.1172970991289501,4.5424990870467497,8.9283445334344798,11.1212672566283,"-"]
["CDICA202303Fife",8,8.5043622718530099,4.5424990870467497,8.9374426507234901,11.134914432561899,"-"]
["CDICA202502Fife",3,3.2108461503274199,4.5424990870467497,8.9523767431743195,11.157315571238099,"-"]
["CDIHCAI202403Fife",13,14.899030416943599,11.256765883864199,18.4403989330009,22.032215457569201,"-"]
["CDIHCAI202303Fife",4,4.6021975493298104,11.256765883864199,18.454394685358501,22.0532090861056,"-"]
["CDIHCAI202404Fife",12,13.667114644313299,11.256765883864199,18.417946183669699,21.998536333572499,"-"]
["CDIHCAI202501Fife",13,14.7053833014717,11.256765883864199,18.393562343753899,21.9619605736987,"-"]
["CDIHCAI202601Fife",13,14.5955898863789,11.256765883864199,18.366870033006499,21.9219221075777,"-"]
["CDIHCAI202503Fife",11,12.6760238770195,11.256765883864199,18.460074041090099,22.061728119703101,"-"]
["CDIHCAI202504Fife",14,16.042167984416199,11.256765883864199,18.439740382540101,22.031227631878,"-"]
["CDIHCAI202402Fife",8,9.1385750676825701,11.256765883864199,18.428613625172702,22.0145374958269,"-"]
["CDIHCAI202304Fife",2,2.2140058006952001,11.256765883864199,18.316871402047799,21.846924161139601,"-"]
["CDIHCAI202401Fife",4,4.3880338317408398,11.256765883864199,18.284928484030999,21.7990097841143,"-"]
["CDIHCAI202302Fife",16,18.013758007678401,11.256765883864199,18.376749321011701,21.936741039585499,"-"]
["CDIHCAI202502Fife",11,12.881617931212199,11.256765883864199,18.5182547684349,22.148999210720199,"-"]
["ECBCOM202501Fife",30,32.465222186643899,36.161855477274102,48.673197919239897,54.928869140222801,"-"]
["ECBCOM202504Fife",35,37.052699234756602,36.161855477274102,48.536457830574498,54.723759007224601,"-"]
["ECBCOM202601Fife",29,31.383048113755802,36.161855477274102,48.673197919239897,54.928869140222801,"-"]
["ECBCOM202404Fife",34,36.092664522685801,36.161855477274102,48.553397745901897,54.749168880215798,"-"]
["ECBCOM202403Fife",38,40.338860348884197,36.161855477274102,48.553397745901897,54.749168880215798,"-"]
["ECBCOM202502Fife",42,44.9518461045839,36.161855477274102,48.604264378442302,54.825468829026399,"-"]
["ECBCOM202503Fife",33,34.935402135627697,36.161855477274102,48.536457830574498,54.723759007224601,"-"]
["ECBCOM202303Fife",42,44.647901927228297,36.161855477274102,48.5621280428497,54.762264325637503,"-"]
["ECBCOM202402Fife",32,34.342858550351302,36.161855477274102,48.621297115918502,54.851017935240598,"-"]
["ECBCOM202304Fife",35,37.206584939356901,36.161855477274102,48.5621280428497,54.762264325637503,"-"]
["ECBCOM202401Fife",29,31.1232155612559,36.161855477274102,48.621297115918502,54.851017935240598,"-"]
["ECBCOM202302Fife",27,29.0176317078061,36.161855477274102,48.630075250467897,54.864185137064801,"-"]
["ECBHCAI202401Fife",38,41.686321401538002,38.4054365449486,51.387129611802699,57.877976145229901,"-"]
["ECBHCAI202303Fife",28,32.215382845308604,38.4054365449486,51.700150003617097,58.347506732951402,"-"]
["ECBHCAI202601Fife",36,40.418556608434002,38.4054365449486,51.538483542942302,58.105007041939203,"-"]
["ECBHCAI202503Fife",37,42.637534859065703,38.4054365449486,51.710640320520703,58.363242208306801,"-"]
["ECBHCAI202304Fife",34,37.6380986118184,38.4054365449486,51.446131257175097,57.966478613288501,"-"]
["ECBHCAI202302Fife",26,29.272356762477301,38.4054365449486,51.556731539168197,58.132379036278103,"-"]
["ECBHCAI202402Fife",45,51.404484755714499,38.4054365449486,51.652529902986203,58.276076582005103,"-"]
["ECBHCAI202504Fife",30,34.3760742523204,38.4054365449486,51.673082095243402,58.306904870390802,"-"]
["ECBHCAI202403Fife",32,36.674536410938202,38.4054365449486,51.674298501356503,58.308729479560498,"-"]
["ECBHCAI202404Fife",30,34.167786610783402,38.4054365449486,51.632826111358497,58.246520894563503,"-"]
["ECBHCAI202502Fife",44,51.526471724848598,38.4054365449486,51.818105726170003,58.524440316780698,"-"]
["ECBHCAI202501Fife",37,41.853783242650103,38.4054365449486,51.587786811104998,58.1789619441833,"-"]
["SABCAUN202403Fife",16,16.9847833047933,13.6274972611403,21.2344034648332,25.0378565666797,"-"]
["SABCAUN202501Fife",13,14.0682629475457,13.6274972611403,21.307946262171399,25.148170762686899,"-"]
["SABCAUN202503Fife",12,12.703782594773701,13.6274972611403,21.224004408428399,25.0222579820725,"-"]
["SABCAUN202404Fife",6,6.3692937392975004,13.6274972611403,21.2344034648332,25.0378565666797,"-"]
["SABCAUN202402Fife",8,8.5857146375878397,13.6274972611403,21.276085454678299,25.1003795514474,"-"]
["SABCAUN202304Fife",11,11.6934981237979,13.6274972611403,21.2397628098262,25.045895584169202,"-"]
["SABCAUN202601Fife",10,10.8217407288813,13.6274972611403,21.307946262171399,25.148170762686899,"-"]
["SABCAUN202502Fife",26,27.827333302837602,13.6274972611403,21.265629416715999,25.084695494503801,"aboveUCL"]
["SABCAUN202401Fife",13,13.9517862860802,13.6274972611403,21.276085454678299,25.1003795514474,"-"]
["SABCAUN202504Fife",14,14.8210796939026,13.6274972611403,21.224004408428399,25.0222579820725,"-"]
["SABCAUN202302Fife",15,16.120906504336698,13.6274972611403,21.281474166165001,25.1084626186774,"-"]
["SABCAUN202303Fife",9,9.5674075558346292,13.6274972611403,21.2397628098262,25.045895584169202,"-"]
["SABHCAI202601Fife",13,14.5955898863789,13.432443323602699,21.199324371177699,25.082764894965202,"-"]
["SABHCAI202304Fife",10,11.070029003476,13.432443323602699,21.144707250098701,25.000839213346701,"-"]
["SABHCAI202502Fife",10,11.710561755647401,13.432443323602699,21.3646928675917,25.330817639586201,"-"]
["SABHCAI202501Fife",10,11.311833308824401,13.432443323602699,21.228482312905498,25.126501807556899,"-"]
["SABHCAI202503Fife",7,8.0665606490124198,13.432443323602699,21.301137850805802,25.2354851144073,"-"]
["SABHCAI202303Fife",8,9.2043950986596101,13.432443323602699,21.294933879742999,25.226179157813199,"-"]
["SABHCAI202403Fife",5,5.7303963142090897,13.432443323602699,21.279645307107199,25.203246298859401,"-"]
["SABHCAI202401Fife",12,13.1641014952225,13.432443323602699,21.109813690265401,24.948498873596701,"-"]
["SABHCAI202404Fife",17,19.3617457461106,13.432443323602699,21.255118544968699,25.166456155651598,"-"]
["SABHCAI202402Fife",18,20.5617939022858,13.432443323602699,21.266771362915801,25.183935382572301,"-"]
["SABHCAI202504Fife",16,18.333906267904201,13.432443323602699,21.278925924804799,25.202167225405798,"-"]
["SABHCAI202302Fife",13,14.6361783812387,13.432443323602699,21.2101162320509,25.098952686274899,"-"]
["CDICA202401Forth Valley",0,0,2.6178296011082098,6.3256498792382798,8.1795600183033095,"-"]
["CDICA202304Forth Valley",3,3.9137726194612101,2.6178296011082098,6.3138797117411602,8.1619047670576403,"-"]
["CDICA202403Forth Valley",5,6.49321157792847,2.6178296011082098,6.3054436237477596,8.1492506350675296,"-"]
["CDICA202402Forth Valley",3,3.9387393307873801,2.6178296011082098,6.3256498792382798,8.1795600183033095,"-"]
["CDICA202601Forth Valley",7,9.2671178719360494,2.6178296011082098,6.34109510195273,8.2027278523749807,"aboveUCL"]
["CDICA202502Forth Valley",1,1.30932591597213,2.6178296011082098,6.3205810863310399,8.1719568289424505,"-"]
["CDICA202404Forth Valley",5,6.49321157792847,2.6178296011082098,6.3054436237477596,8.1492506350675296,"-"]
["CDICA202504Forth Valley",4,5.1803764501505896,2.6178296011082098,6.3004024538958001,8.1416888802895908,"-"]
["CDICA202303Forth Valley",1,1.3045908731537399,2.6178296011082098,6.3138797117411602,8.1619047670576403,"-"]
["CDICA202501Forth Valley",1,1.3238739817051499,2.6178296011082098,6.34109510195273,8.2027278523749807,"-"]
["CDICA202302Forth Valley",0,0,2.6178296011082098,6.3341321927173997,8.1922834885219995,"-"]
["CDICA202503Forth Valley",1,1.2950941125376501,2.6178296011082098,6.3004024538958001,8.1416888802895908,"-"]
["CDIHCAI202404Forth Valley",13,17.536996317230798,15.2523663113633,24.324397579648799,28.860413213791499,"-"]
["CDIHCAI202402Forth Valley",17,21.486621418369801,15.2523663113633,24.033654179747199,28.424298113939201,"-"]
["CDIHCAI202303Forth Valley",10,13.3707714935152,15.2523663113633,24.284218938252899,28.8001452516976,"-"]
["CDIHCAI202501Forth Valley",11,14.581897237393299,15.2523663113633,24.2454634253499,28.742011982343101,"-"]
["CDIHCAI202302Forth Valley",11,14.543916015495901,15.2523663113633,24.2337437046153,28.724432401241302,"-"]
["CDIHCAI202503Forth Valley",9,12.8529197549377,15.2523663113633,24.586591037198101,29.253703400115501,"-"]
["CDIHCAI202304Forth Valley",9,11.527377521613801,15.2523663113633,24.092169842840999,28.512071608579799,"-"]
["CDIHCAI202401Forth Valley",10,12.411105457163099,15.2523663113633,23.954061014387801,28.304908365900101,"-"]
["CDIHCAI202601Forth Valley",7,9.3018311318999594,15.2523663113633,24.256331653372602,28.758314324377199,"-"]
["CDIHCAI202502Forth Valley",6,7.7990953049446299,15.2523663113633,24.157595430192,28.6102099896063,"-"]
["CDIHCAI202504Forth Valley",11,15.349836733554699,15.2523663113633,24.479230896116999,29.092663188493798,"-"]
["CDIHCAI202403Forth Valley",17,22.175552106025201,15.2523663113633,24.1733217320742,28.633799442429702,"-"]
["ECBCOM202502Forth Valley",33,43.207755227080199,38.831139083105199,53.091940848535899,60.222341731251198,"-"]
["ECBCOM202501Forth Valley",31,41.040093432859599,38.831139083105199,53.170948665117997,60.340853456124499,"-"]
["ECBCOM202601Forth Valley",36,47.659463341385397,38.831139083105199,53.170948665117997,60.340853456124499,"-"]
["ECBCOM202304Forth Valley",27,35.223953575150901,38.831139083105199,53.066131129746097,60.183627153066503,"-"]
["ECBCOM202503Forth Valley",44,56.9841409516564,38.831139083105199,53.014224728994797,60.1057675519396,"-"]
["ECBCOM202404Forth Valley",31,40.257911783156501,38.831139083105199,53.033640324184397,60.134890944723999,"-"]
["ECBCOM202504Forth Valley",32,41.443011601204702,38.831139083105199,53.014224728994797,60.1057675519396,"-"]
["ECBCOM202401Forth Valley",25,32.822827756561502,38.831139083105199,53.111462831344802,60.2516247054646,"-"]
["ECBCOM202303Forth Valley",30,39.1377261946121,38.831139083105199,53.066131129746097,60.183627153066503,"-"]
["ECBCOM202403Forth Valley",32,41.556554098742197,38.831139083105199,53.033640324184397,60.134890944723999,"-"]
["ECBCOM202302Forth Valley",17,22.421759622114799,38.831139083105199,53.144131670050498,60.300627963523098,"-"]
["ECBCOM202402Forth Valley",35,45.951958859186099,38.831139083105199,53.111462831344802,60.2516247054646,"-"]
["ECBHCAI202402Forth Valley",32,40.445405022813702,46.196015950244401,61.478426491238899,69.119631761736102,"-"]
["ECBHCAI202601Forth Valley",28,37.207324527599901,46.196015950244401,61.865960600264799,69.700932925274998,"-"]
["ECBHCAI202503Forth Valley",25,35.702554874826802,46.196015950244401,62.4407236150168,70.563077447403003,"-"]
["ECBHCAI202403Forth Valley",46,60.004435110421198,46.196015950244401,61.7214952649664,69.484234922327502,"-"]
["ECBHCAI202304Forth Valley",30,38.424591738712799,46.196015950244401,61.580263533809401,69.272387325591893,"-"]
["ECBHCAI202404Forth Valley",34,45.865990368142,46.196015950244401,61.984418330474398,69.878619520589396,"-"]
["ECBHCAI202502Forth Valley",38,49.3942702646493,46.196015950244401,61.694126181381101,69.443181296949504,"-"]
["ECBHCAI202303Forth Valley",36,48.134777376654597,46.196015950244401,61.914493906859597,69.773732885167306,"-"]
["ECBHCAI202501Forth Valley",29,38.443183625854999,46.196015950244401,61.8470462080952,69.672561337020596,"-"]
["ECBHCAI202302Forth Valley",35,46.276096412941399,46.196015950244401,61.826649930649801,69.641966920852497,"-"]
["ECBHCAI202401Forth Valley",41,50.885532374368601,46.196015950244401,61.339907466750603,68.911853225003597,"-"]
["ECBHCAI202504Forth Valley",28,39.072311685412103,46.196015950244401,62.253880662555503,70.282813018711096,"-"]
["SABCAUN202404Forth Valley",14,18.1809924181997,12.434690605264,20.471659038998698,24.490143255865998,"-"]
["SABCAUN202403Forth Valley",12,15.583707787028301,12.434690605264,20.471659038998698,24.490143255865998,"-"]
["SABCAUN202502Forth Valley",14,18.330562823609799,12.434690605264,20.504650373829701,24.539630258112599,"-"]
["SABCAUN202402Forth Valley",2,2.6258262205249201,12.434690605264,20.515697551853901,24.556201025148901,"-"]
["SABCAUN202504Forth Valley",9,11.6558470128388,12.434690605264,20.460672064027701,24.473662793409598,"-"]
["SABCAUN202503Forth Valley",11,14.2460352379141,12.434690605264,20.460672064027701,24.473662793409598,"-"]
["SABCAUN202501Forth Valley",7,9.2671178719360494,12.434690605264,20.549359634340298,24.6066941488785,"-"]
["SABCAUN202401Forth Valley",9,11.8162179923621,12.434690605264,20.515697551853901,24.556201025148901,"-"]
["SABCAUN202303Forth Valley",9,11.741317858383599,12.434690605264,20.490045066519698,24.5177222971475,"-"]
["SABCAUN202304Forth Valley",11,14.3504996046911,12.434690605264,20.490045066519698,24.5177222971475,"-"]
["SABCAUN202601Forth Valley",6,7.9432438902309004,12.434690605264,20.549359634340298,24.6066941488785,"-"]
["SABCAUN202302Forth Valley",8,10.5514162927599,12.434690605264,20.534184325485398,24.5839311855961,"-"]
["SABHCAI202304Forth Valley",15,19.212295869356399,17.666409900212201,27.180081381502799,31.936917122147999,"-"]
["SABHCAI202504Forth Valley",11,15.349836733554699,17.666409900212201,27.596648524760798,32.561767837035099,"-"]
["SABHCAI202404Forth Valley",14,18.885996033940799,17.666409900212201,27.430012094212099,32.311813191212103,"-"]
["SABHCAI202501Forth Valley",16,21.2100323452993,17.666409900212201,27.3450607024782,32.184386103611203,"-"]
["SABHCAI202503Forth Valley",10,14.2810219499307,17.666409900212201,27.712192847527099,32.735084321184502,"-"]
["SABHCAI202402Forth Valley",8,10.111351255703401,17.666409900212201,27.1171050050255,31.8424525574321,"-"]
["SABHCAI202403Forth Valley",16,20.871107864494299,17.666409900212201,27.2674195685453,32.067924402711803,"-"]
["SABHCAI202302Forth Valley",14,18.510438565176599,17.666409900212201,27.332447574536602,32.165466411698802,"-"]
["SABHCAI202601Forth Valley",15,19.932495282642801,17.666409900212201,27.3567574274817,32.201931191116401,"-"]
["SABHCAI202502Forth Valley",16,20.7975874798523,17.666409900212201,27.250494433366601,32.042536699943703,"-"]
["SABHCAI202401Forth Valley",16,19.857768731460901,17.666409900212201,27.031444365092799,31.7139615975331,"-"]
["SABHCAI202303Forth Valley",12,16.044925792218201,17.666409900212201,27.386770590773299,32.2469509360538,"-"]
["CDIHCAI202601Golden Jubilee",1,6.8212824010914099,8.8702285562224699]
["CDIHCAI202401Golden Jubilee",0,0,8.8702285562224699]
["CDIHCAI202501Golden Jubilee",0,0,8.8702285562224699]
["CDIHCAI202302Golden Jubilee",2,15.173355587588199,8.8702285562224699]
["CDIHCAI202503Golden Jubilee",4,25.926886180969699,8.8702285562224699]
["CDIHCAI202403Golden Jubilee",0,0,8.8702285562224699]
["CDIHCAI202502Golden Jubilee",3,19.9097425006637,8.8702285562224699]
["CDIHCAI202304Golden Jubilee",0,0,8.8702285562224699]
["CDIHCAI202402Golden Jubilee",2,13.250298131708,8.8702285562224699]
["CDIHCAI202303Golden Jubilee",1,7.5306875517734797,8.8702285562224699]
["CDIHCAI202404Golden Jubilee",0,0,8.8702285562224699]
["CDIHCAI202504Golden Jubilee",3,19.610406589096598,8.8702285562224699]
["ECBHCAI202303Golden Jubilee",2,15.061375103547,16.557759971615301]
["ECBHCAI202402Golden Jubilee",6,39.7508943951239,16.557759971615301]
["ECBHCAI202403Golden Jubilee",1,7.1777203560149303,16.557759971615301]
["ECBHCAI202601Golden Jubilee",1,6.8212824010914099,16.557759971615301]
["ECBHCAI202401Golden Jubilee",2,14.870994125957299,16.557759971615301]
["ECBHCAI202503Golden Jubilee",3,19.445164635727199,16.557759971615301]
["ECBHCAI202404Golden Jubilee",0,0,16.557759971615301]
["ECBHCAI202504Golden Jubilee",3,19.610406589096598,16.557759971615301]
["ECBHCAI202501Golden Jubilee",1,7.0631445119367102,16.557759971615301]
["ECBHCAI202304Golden Jubilee",1,7.7000077000077001,16.557759971615301]
["ECBHCAI202302Golden Jubilee",1,7.5866777937940997,16.557759971615301]
["ECBHCAI202502Golden Jubilee",3,19.9097425006637,16.557759971615301]
["SABHCAI202501Golden Jubilee",2,14.126289023873399,17.149108542030099]
["SABHCAI202303Golden Jubilee",1,7.5306875517734797,17.149108542030099]
["SABHCAI202401Golden Jubilee",1,7.4354970629786603,17.149108542030099]
["SABHCAI202402Golden Jubilee",5,33.125745329269897,17.149108542030099]
["SABHCAI202503Golden Jubilee",3,19.445164635727199,17.149108542030099]
["SABHCAI202504Golden Jubilee",2,13.073604392731101,17.149108542030099]
["SABHCAI202304Golden Jubilee",2,15.4000154000154,17.149108542030099]
["SABHCAI202404Golden Jubilee",1,7.0072174339569804,17.149108542030099]
["SABHCAI202403Golden Jubilee",3,21.533161068044802,17.149108542030099]
["SABHCAI202601Golden Jubilee",2,13.6425648021828,17.149108542030099]
["SABHCAI202302Golden Jubilee",4,30.346711175176399,17.149108542030099]
["SABHCAI202502Golden Jubilee",2,13.2731616671091,17.149108542030099]
["CDICA202303Grampian",9,6.0855782355268797,6.3259680990465901,10.462374149509801,12.5305771747415,"-"]
["CDICA202601Grampian",10,6.8521052858829696,6.3259680990465901,10.489918120351099,12.5718931310033,"-"]
["CDICA202502Grampian",11,7.4544881681583997,6.3259680990465901,10.4669760723651,12.537480059024301,"-"]
["CDICA202302Grampian",9,6.1524527216315699,6.3259680990465901,10.485039557807699,12.564575287188299,"-"]
["CDICA202304Grampian",6,4.0570521570179201,6.3259680990465901,10.462374149509801,12.5305771747415,"-"]
["CDICA202401Grampian",10,6.7953740212851201,6.3259680990465901,10.472644805988599,12.5459831594597,"-"]
["CDICA202501Grampian",10,6.8521052858829696,6.3259680990465901,10.489918120351099,12.5718931310033,"-"]
["CDICA202402Grampian",8,5.4362992170280897,6.3259680990465901,10.472644805988599,12.5459831594597,"-"]
["CDICA202504Grampian",8,5.3625171802562397,6.3259680990465901,10.4444091034128,12.503629605595901,"-"]
["CDICA202404Grampian",16,10.7544180162947,6.3259680990465901,10.4500469445251,12.512086367264301,"-"]
["CDICA202403Grampian",12,8.0658135122210304,6.3259680990465901,10.4500469445251,12.512086367264301,"-"]
["CDICA202503Grampian",10,6.7031464753202998,6.3259680990465901,10.4444091034128,12.503629605595901,"-"]
["CDIHCAI202401Grampian",14,10.1080843014231,12.3062821448577,18.2678959569851,21.248702863048798,"-"]
["CDIHCAI202302Grampian",19,14.274444987040299,12.3062821448577,18.387579573458599,21.428228287759101,"-"]
["CDIHCAI202601Grampian",11,7.9327304458194501,12.3062821448577,18.264391028642802,21.243445470535299,"-"]
["CDIHCAI202503Grampian",14,9.9316842008186494,12.3062821448577,18.215647785187802,21.170330605352799,"-"]
["CDIHCAI202402Grampian",15,10.7943178710727,12.3062821448577,18.2580420253793,21.2339219656401,"-"]
["CDIHCAI202403Grampian",27,19.830923019294801,12.3062821448577,18.319168724325099,21.325612014058901,"-"]
["CDIHCAI202404Grampian",28,20.1937154272774,12.3062821448577,18.264584391076099,21.2437355141853,"-"]
["CDIHCAI202502Grampian",15,10.562859577344801,12.3062821448577,18.193885623700702,21.1376873631222,"-"]
["CDIHCAI202303Grampian",12,9.1897687241537795,12.3062821448577,18.446094486328299,21.5160006570636,"-"]
["CDIHCAI202504Grampian",14,9.9451595487738995,12.3062821448577,18.219655351480998,21.176341954792701,"-"]
["CDIHCAI202501Grampian",15,10.8059821917413,12.3062821448577,18.261256887684102,21.238744259097299,"-"]
["CDIHCAI202304Grampian",16,11.7296893098544,12.3062821448577,18.3135457922805,21.317177615991799,"-"]
["ECBCOM202504Grampian",27,18.0984954833648,25.925172834485601,34.262564054946601,38.431259665177102,"-"]
["ECBCOM202403Grampian",31,20.836684906571001,25.925172834485601,34.273977326847699,38.448379573028802,"-"]
["ECBCOM202503Grampian",47,31.504788434005398,25.925172834485601,34.262564054946601,38.431259665177102,"-"]
["ECBCOM202404Grampian",33,22.180987158607799,25.925172834485601,34.273977326847699,38.448379573028802,"-"]
["ECBCOM202601Grampian",43,29.4640527292968,25.925172834485601,34.354692721563502,38.569452665102503,"-"]
["ECBCOM202304Grampian",36,24.342312942107501,25.925172834485601,34.2989325782411,38.4858124501189,"-"]
["ECBCOM202501Grampian",25,17.130263214707401,25.925172834485601,34.354692721563502,38.569452665102503,"-"]
["ECBCOM202303Grampian",47,31.780241896640401,25.925172834485601,34.2989325782411,38.4858124501189,"-"]
["ECBCOM202502Grampian",43,29.140271930073698,25.925172834485601,34.308248732380498,38.499786681327997,"-"]
["ECBCOM202401Grampian",48,32.617795302168602,25.925172834485601,34.319724543225902,38.5170003975961,"-"]
["ECBCOM202402Grampian",39,26.5019586830119,25.925172834485601,34.319724543225902,38.5170003975961,"-"]
["ECBCOM202302Grampian",43,29.395051892239699,25.925172834485601,34.344816536746499,38.554638387876899,"-"]
["ECBHCAI202403Grampian",46,33.786016995835503,35.524538605352703,45.740607214846399,50.848641519593301,"-"]
["ECBHCAI202303Grampian",43,32.930004594884402,35.524538605352703,45.956257764012697,51.172117343342698,"-"]
["ECBHCAI202304Grampian",41,30.057328856501901,35.524538605352703,45.7310536902962,50.834311232767902,"-"]
["ECBHCAI202504Grampian",54,38.359901116699298,35.524538605352703,45.571531109534703,50.595027361625597,"-"]
["ECBHCAI202402Grampian",59,42.457650292885802,35.524538605352703,45.636751181300902,50.692857469274998,"-"]
["ECBHCAI202503Grampian",40,28.3762405737676,35.524538605352703,45.564722138224901,50.584813904660997,"-"]
["ECBHCAI202302Grampian",41,30.802749708876501,35.524538605352703,45.8568392307252,51.022989543411398,"-"]
["ECBHCAI202401Grampian",44,31.768264947329701,35.524538605352703,45.653493296760402,50.717970642464202,"-"]
["ECBHCAI202601Grampian",43,31.009764470021501,35.524538605352703,45.647538321900399,50.709038180174304,"-"]
["ECBHCAI202501Grampian",45,32.417946575224001,35.524538605352703,45.642213325554202,50.701050685654998,"-"]
["ECBHCAI202404Grampian",42,30.290573140916099,35.524538605352703,45.647866850280103,50.709530972743899,"-"]
["ECBHCAI202502Grampian",68,47.884963417296298,35.524538605352703,45.527747594982699,50.529352089797698,"-"]
["SABCAUN202504Grampian",12,8.0437757703843609,10.9574804572771,16.377797662223301,19.087956264696398,"-"]
["SABCAUN202303Grampian",19,12.847331830556801,10.9574804572771,16.401441620785299,19.123422202539398,"-"]
["SABCAUN202402Grampian",15,10.1930610319277,10.9574804572771,16.4149589240462,19.143698157430698,"-"]
["SABCAUN202403Grampian",20,13.4430225203684,10.9574804572771,16.385217675560099,19.099086284701599,"-"]
["SABCAUN202404Grampian",18,12.098720268331499,10.9574804572771,16.385217675560099,19.099086284701599,"-"]
["SABCAUN202601Grampian",17,11.6485789860011,10.9574804572771,16.437692488258001,19.177798503748399,"-"]
["SABCAUN202302Grampian",12,8.2032702955087693,10.9574804572771,16.4312717682668,19.168167423761702,"-"]
["SABCAUN202304Grampian",18,12.1711564710538,10.9574804572771,16.401441620785299,19.123422202539398,"-"]
["SABCAUN202401Grampian",21,14.2702854446987,10.9574804572771,16.4149589240462,19.143698157430698,"-"]
["SABCAUN202501Grampian",19,13.0190000431777,10.9574804572771,16.437692488258001,19.177798503748399,"-"]
["SABCAUN202502Grampian",8,5.42144594047884,10.9574804572771,16.407498252797701,19.132507150557899,"-"]
["SABCAUN202503Grampian",16,10.725034360512501,10.9574804572771,16.377797662223301,19.087956264696398,"-"]
["SABHCAI202302Grampian",19,14.274444987040299,19.095955052365401,26.6713189987376,30.4590009719237,"-"]
["SABHCAI202401Grampian",32,23.104192688967,19.095955052365401,26.522231248327401,30.235369346308499,"-"]
["SABHCAI202501Grampian",31,22.332363196265501,19.095955052365401,26.513961077889199,30.2229640906511,"-"]
["SABHCAI202402Grampian",21,15.1120450195017,19.095955052365401,26.509956381147699,30.216957045538798,"-"]
["SABHCAI202303Grampian",25,19.1453515086537,19.095955052365401,26.744209984005501,30.568337449825599,"-"]
["SABHCAI202601Grampian",29,20.913562084433099,19.095955052365401,26.517865221486801,30.228820306047499,"-"]
["SABHCAI202502Grampian",27,19.013147239220601,19.095955052365401,26.4300378937014,30.097079314369399,"-"]
["SABHCAI202304Grampian",26,19.0607451285134,19.095955052365401,26.579096435487699,30.3206671270488,"-"]
["SABHCAI202504Grampian",24,17.048844940755298,19.095955052365401,26.462138784839599,30.145230651076702,"-"]
["SABHCAI202503Grampian",28,19.863368401637299,19.095955052365401,26.4571466308516,30.137742420094799,"-"]
["SABHCAI202403Grampian",25,18.361965758606299,19.095955052365401,26.586100821835199,30.331173706570102,"-"]
["SABHCAI202404Grampian",30,21.636123672082899,19.095955052365401,26.5181060896277,30.229181608258902,"-"]
["CDICA202303Greater Glasgow & Clyde",16,5.31902103782115,4.1345549565044797,6.4793249236694397,7.6517099072519201,"-"]
["CDICA202401Greater Glasgow & Clyde",18,5.9473744030169504,4.1345549565044797,6.4721580173902602,7.6409595478331598,"-"]
["CDICA202601Greater Glasgow & Clyde",9,2.9985130661233699,4.1345549565044797,6.4818954904027297,7.6555657573518499,"-"]
["CDICA202504Greater Glasgow & Clyde",12,3.9111039992913601,4.1345549565044797,6.4562407251989002,7.6170836095461096,"-"]
["CDICA202304Greater Glasgow & Clyde",14,4.6541434080935096,4.1345549565044797,6.4793249236694397,7.6517099072519201,"-"]
["CDICA202402Greater Glasgow & Clyde",14,4.6257356467909601,4.1345549565044797,6.4721580173902602,7.6409595478331598,"-"]
["CDICA202403Greater Glasgow & Clyde",10,3.2681827939283998,4.1345549565044797,6.4594189412914904,7.62185093368499,"-"]
["CDICA202502Greater Glasgow & Clyde",10,3.29506930343228,4.1345549565044797,6.46896238628461,7.6361661011746804,"-"]
["CDICA202302Greater Glasgow & Clyde",15,5.0413798298030201,4.1345549565044797,6.4921730744607604,7.6709821334388897,"-"]
["CDICA202503Greater Glasgow & Clyde",14,4.5629546658399196,4.1345549565044797,6.4562407251989002,7.6170836095461096,"-"]
["CDICA202501Greater Glasgow & Clyde",10,3.3316811845815302,4.1345549565044797,6.4818954904027297,7.6555657573518499,"-"]
["CDICA202404Greater Glasgow & Clyde",9,2.94136451453556,4.1345549565044797,6.4594189412914904,7.62185093368499,"-"]
["CDIHCAI202401Greater Glasgow & Clyde",58,12.675268366026801,14.718113571165301,18.305025020964798,20.098480745864499,"-"]
["CDIHCAI202502Greater Glasgow & Clyde",46,10.443982790132701,14.718113571165301,18.374147592989601,20.2021646039017,"-"]
["CDIHCAI202404Greater Glasgow & Clyde",85,18.993140124684398,14.718113571165301,18.3450921771657,20.1585814801658,"-"]
["CDIHCAI202501Greater Glasgow & Clyde",51,11.394229158055801,14.718113571165301,18.344828811657699,20.1581864319039,"-"]
["CDIHCAI202403Greater Glasgow & Clyde",84,18.8634755953784,14.718113571165301,18.354142122572998,20.172156398276801,"-"]
["CDIHCAI202402Greater Glasgow & Clyde",83,18.6038171446503,14.718113571165301,18.350717559956401,20.167019554351999,"-"]
["CDIHCAI202304Greater Glasgow & Clyde",54,12.0617831336066,14.718113571165301,18.344423745956199,20.1575788333516,"-"]
["CDIHCAI202503Greater Glasgow & Clyde",72,16.2524547978601,14.718113571165301,18.363548124785801,20.186265401596,"-"]
["CDIHCAI202302Greater Glasgow & Clyde",69,15.4909624826849,14.718113571165301,18.3536686303305,20.171446159913099,"-"]
["CDIHCAI202303Greater Glasgow & Clyde",71,16.008622108583602,14.718113571165301,18.361488560560801,20.1831760552585,"-"]
["CDIHCAI202504Greater Glasgow & Clyde",63,14.246109455346399,14.718113571165301,18.366778096679901,20.1911103594372,"-"]
["CDIHCAI202601Greater Glasgow & Clyde",63,14.301799756642399,14.718113571165301,18.373902744780999,20.201797331588899,"-"]
["ECBCOM202504Greater Glasgow & Clyde",81,26.3999519952167,31.946327963924599,38.399890573377398,41.6266718781037,"-"]
["ECBCOM202503Greater Glasgow & Clyde",113,36.829562659993599,31.946327963924599,38.399890573377398,41.6266718781037,"-"]
["ECBCOM202403Greater Glasgow & Clyde",95,31.0477365423198,31.946327963924599,38.408725023248401,41.639923552910297,"-"]
["ECBCOM202401Greater Glasgow & Clyde",92,30.3976913931977,31.946327963924599,38.444135683165698,41.693039542786202,"-"]
["ECBCOM202501Greater Glasgow & Clyde",78,25.987113239735901,31.946327963924599,38.471202822307099,41.733640251498301,"-"]
["ECBCOM202402Greater Glasgow & Clyde",93,30.728101082254199,31.946327963924599,38.444135683165698,41.693039542786202,"-"]
["ECBCOM202601Greater Glasgow & Clyde",77,25.6539451212778,31.946327963924599,38.471202822307099,41.733640251498301,"-"]
["ECBCOM202404Greater Glasgow & Clyde",99,32.355009659891103,31.946327963924599,38.408725023248401,41.639923552910297,"-"]
["ECBCOM202502Greater Glasgow & Clyde",92,30.314637591577,31.946327963924599,38.435252824987799,41.679715255519298,"-"]
["ECBCOM202303Greater Glasgow & Clyde",120,39.892657783658699,31.946327963924599,38.464057448209203,41.722922190351497,"-"]
["ECBCOM202304Greater Glasgow & Clyde",85,28.257299263424901,31.946327963924599,38.464057448209203,41.722922190351497,"-"]
["ECBCOM202302Greater Glasgow & Clyde",102,34.281382842660499,31.946327963924599,38.499771301765698,41.776492970686299,"-"]
["ECBHCAI202302Greater Glasgow & Clyde",156,35.023045613026802,37.206195728123603,42.986521089548297,45.876683770260698,"-"]
["ECBHCAI202304Greater Glasgow & Clyde",140,31.2712896056467,37.206195728123603,42.971822250239697,45.854635511297801,"-"]
["ECBHCAI202504Greater Glasgow & Clyde",162,36.632852885176398,37.206195728123603,43.007364393963002,45.907948726882701,"-"]
["ECBHCAI202303Greater Glasgow & Clyde",177,39.908818496046301,37.206195728123603,42.998954332973099,45.895333635397797,"-"]
["ECBHCAI202401Greater Glasgow & Clyde",144,31.469631805307898,37.206195728123603,42.9091805227539,45.760672920069098,"-"]
["ECBHCAI202402Greater Glasgow & Clyde",157,35.1903529121698,37.206195728123603,42.981829055828896,45.8696457196815,"-"]
["ECBHCAI202501Greater Glasgow & Clyde",170,37.980763860186102,37.206195728123603,42.972466281621301,45.855601558370097,"-"]
["ECBHCAI202502Greater Glasgow & Clyde",191,43.365232889464103,37.206195728123603,43.019081473123201,45.925524345623003,"-"]
["ECBHCAI202601Greater Glasgow & Clyde",166,37.68410729528,37.206195728123603,43.018692178424899,45.924940403575597,"-"]
["ECBHCAI202404Greater Glasgow & Clyde",173,38.656626371416401,37.206195728123603,42.972885017770302,45.856229662593698,"-"]
["ECBHCAI202503Greater Glasgow & Clyde",190,42.888422383241902,37.206195728123603,43.002228922720597,45.900245520019098,"-"]
["ECBHCAI202403Greater Glasgow & Clyde",170,38.176081562075403,37.206195728123603,42.987273915230602,45.877813008784102,"-"]
["SABCAUN202404Greater Glasgow & Clyde",17,5.5559107496782696,6.4774694318570196,9.38742160640507,10.8423976936791,"-"]
["SABCAUN202403Greater Glasgow & Clyde",17,5.5559107496782696,6.4774694318570196,9.38742160640507,10.8423976936791,"-"]
["SABCAUN202304Greater Glasgow & Clyde",18,5.9838986675488002,6.4774694318570196,9.4123372389264901,10.8797711424612,"-"]
["SABCAUN202401Greater Glasgow & Clyde",24,7.9298325373559297,6.4774694318570196,9.4033666691863491,10.866315287851,"-"]
["SABCAUN202402Greater Glasgow & Clyde",20,6.6081937811299403,6.4774694318570196,9.4033666691863491,10.866315287851,"-"]
["SABCAUN202502Greater Glasgow & Clyde",23,7.5786593978942403,6.4774694318570196,9.3993668077984207,10.8603154957691,"-"]
["SABCAUN202503Greater Glasgow & Clyde",18,5.8666559989370404,6.4774694318570196,9.3834435427891592,10.8364305982552,"-"]
["SABCAUN202303Greater Glasgow & Clyde",21,6.9812151121402604,6.4774694318570196,9.4123372389264901,10.8797711424612,"-"]
["SABCAUN202501Greater Glasgow & Clyde",15,4.9975217768722899,6.4774694318570196,9.4155547287685994,10.8845973772244,"-"]
["SABCAUN202504Greater Glasgow & Clyde",21,6.8444319987598803,6.4774694318570196,9.3834435427891592,10.8364305982552,"-"]
["SABCAUN202601Greater Glasgow & Clyde",10,3.3316811845815302,6.4774694318570196,9.4155547287685994,10.8845973772244,"-"]
["SABCAUN202302Greater Glasgow & Clyde",20,6.7218397730706902,6.4774694318570196,9.4284188267435596,10.903893524186801,"-"]
["SABHCAI202501Greater Glasgow & Clyde",85,18.9903819300931,18.584420054961299,22.659741679471399,24.6974024917265,"-"]
["SABHCAI202401Greater Glasgow & Clyde",67,14.6421203538585,18.584420054961299,22.615014360619,24.6303115134479,"-"]
["SABHCAI202402Greater Glasgow & Clyde",83,18.6038171446503,18.584420054961299,22.666358836234998,24.707328226871901,"-"]
["SABHCAI202601Greater Glasgow & Clyde",82,18.615040953090102,18.584420054961299,22.692411911488598,24.746407839752202,"-"]
["SABHCAI202403Greater Glasgow & Clyde",87,19.537171152356201,18.584420054961299,22.670206999975601,24.713100472482701,"-"]
["SABHCAI202302Greater Glasgow & Clyde",91,20.430109940932301,18.584420054961299,22.669674939130701,24.712302381215402,"-"]
["SABHCAI202502Greater Glasgow & Clyde",97,22.023181100932,18.584420054961299,22.6926870461857,24.746820541797899,"-"]
["SABHCAI202404Greater Glasgow & Clyde",76,16.982101758541301,18.584420054961299,22.660037621964499,24.697846405465999,"-"]
["SABHCAI202303Greater Glasgow & Clyde",65,14.655780803632799,18.584420054961299,22.678462155290902,24.725483205455699,"-"]
["SABHCAI202304Greater Glasgow & Clyde",91,20.326338243670399,18.584420054961299,22.659286509185598,24.696719736297698,"-"]
["SABHCAI202503Greater Glasgow & Clyde",97,21.8956682693393,18.584420054961299,22.680776477223201,24.728954688354101,"-"]
["SABHCAI202504Greater Glasgow & Clyde",79,17.864168999561301,18.584420054961299,22.684405980350402,24.734398943044901,"-"]
["CDICA202601Highland",4,4.9917601766946298,8.7260034904013999,15.325860816517199,18.625789479575101,"-"]
["CDICA202302Highland",7,8.6619741707049691,8.7260034904013999,15.297996745216601,18.583993372624199,"-"]
["CDICA202303Highland",3,3.6719238332336301,8.7260034904013999,15.262181801441599,18.5302709569618,"-"]
["CDICA202402Highland",3,3.7128235786614798,8.7260034904013999,15.298482627596099,18.5847221961934,"-"]
["CDICA202504Highland",5,6.1040545638929,8.7260034904013999,15.2537290624597,18.517591848488902,"-"]
["CDICA202304Highland",7,8.5678222775451296,8.7260034904013999,15.262181801441599,18.5302709569618,"-"]
["CDICA202401Highland",14,17.3265100337536,8.7260034904013999,15.298482627596099,18.5847221961934,"-"]
["CDICA202501Highland",2,2.4958800883473198,8.7260034904013999,15.325860816517199,18.625789479575101,"-"]
["CDICA202502Highland",8,9.8738113385168607,8.7260034904013999,15.289497689509901,18.571244789064199,"-"]
["CDICA202503Highland",12,14.6497309533429,8.7260034904013999,15.2537290624597,18.517591848488902,"-"]
["CDICA202404Highland",10,12.241556002108499,8.7260034904013999,15.262665035941099,18.530995808710902,"-"]
["CDICA202403Highland",8,9.7932448016867895,8.7260034904013999,15.262665035941099,18.530995808710902,"-"]
["CDIHCAI202404Highland",21,25.924645696508801,22.651703197366899,33.227843278333701,38.515913318816999,"-"]
["CDIHCAI202302Highland",14,18.472337674332699,22.651703197366899,33.585659615798001,39.052637825013498,"-"]
["CDIHCAI202303Highland",24,31.246745130715599,22.651703197366899,33.512887882479497,38.9434802250357,"-"]
["CDIHCAI202403Highland",24,30.104235916862098,22.651703197366899,33.312474096417603,38.642859545942898,"-"]
["CDIHCAI202304Highland",17,21.8250911518513,22.651703197366899,33.437047142109897,38.8297191144813,"-"]
["CDIHCAI202402Highland",21,26.3082069077835,22.651703197366899,33.305794247332599,38.6328397723154,"-"]
["CDIHCAI202504Highland",8,9.8520954175441204,22.651703197366899,33.215006214661003,38.496657723307997,"-"]
["CDIHCAI202401Highland",20,24.4863978060188,22.651703197366899,33.184116173267498,38.450322661217797,"-"]
["CDIHCAI202601Highland",16,19.347037484885099,22.651703197366899,33.118834500354801,38.352400151848698,"-"]
["CDIHCAI202503Highland",20,24.721878862793599,22.651703197366899,33.234639108363098,38.526107063861097,"-"]
["CDIHCAI202501Highland",13,16.212508573922801,22.651703197366899,33.281717775854098,38.5967250650978,"-"]
["CDIHCAI202502Highland",15,19.274507536332401,22.651703197366899,33.4418273732161,38.836889461140601,"-"]
["ECBCOM202601Highland",24,29.9505610601678,35.930602607535199,49.323024017457101,56.019234722417998,"-"]
["ECBCOM202503Highland",28,34.182705557800197,35.930602607535199,49.176654361320402,55.799680238213,"-"]
["ECBCOM202504Highland",17,20.753785517235801,35.930602607535199,49.176654361320402,55.799680238213,"-"]
["ECBCOM202401Highland",31,38.365843646168599,35.930602607535199,49.267468234149298,55.935901047456397,"-"]
["ECBCOM202403Highland",26,31.828045605482099,35.930602607535199,49.194787226419898,55.826879535862297,"-"]
["ECBCOM202302Highland",35,43.309870853524799,35.930602607535199,49.266482282292998,55.9344221196719,"-"]
["ECBCOM202501Highland",24,29.9505610601678,35.930602607535199,49.323024017457101,56.019234722417998,"-"]
["ECBCOM202402Highland",30,37.128235786614802,35.930602607535199,49.267468234149298,55.935901047456397,"-"]
["ECBCOM202502Highland",30,37.026792519438203,35.930602607535199,49.249236010141203,55.908552711444102,"-"]
["ECBCOM202404Highland",31,37.948823606536301,35.930602607535199,49.194787226419898,55.826879535862297,"-"]
["ECBCOM202304Highland",25,30.599365276946902,35.930602607535199,49.193806647638198,55.8254086676898,"-"]
["ECBCOM202303Highland",49,59.974755942815897,35.930602607535199,49.193806647638198,55.8254086676898,"aboveUCL"]
["ECBHCAI202402Highland",23,28.8137504228105,25.917762728150102,37.314085146151797,43.012246355152698,"-"]
["ECBHCAI202504Highland",27,33.250822034211403,25.917762728150102,37.2169722449039,42.866577003280902,"-"]
["ECBHCAI202401Highland",13,15.916158573912201,25.917762728150102,37.1839302078522,42.817013947703202,"-"]
["ECBHCAI202304Highland",21,26.9604067169928,25.917762728150102,37.454481947733797,43.222841557525697,"-"]
["ECBHCAI202303Highland",23,29.9447974169357,25.917762728150102,37.5356062337586,43.344527986562902,"-"]
["ECBHCAI202502Highland",19,24.414376212687799,25.917762728150102,37.459595199973101,43.230511435884601,"-"]
["ECBHCAI202501Highland",21,26.189436927106101,25.917762728150102,37.288331355390198,42.9736156690103,"-"]
["ECBHCAI202601Highland",17,20.556227327690401,25.917762728150102,37.114100600707701,42.712269536986597,"-"]
["ECBHCAI202403Highland",22,27.595549590457001,25.917762728150102,37.321230355773203,43.022964169584696,"-"]
["ECBHCAI202302Highland",18,23.750148438427701,25.917762728150102,37.613447706290202,43.461290195360199,"-"]
["ECBHCAI202404Highland",23,28.393659572366801,25.917762728150102,37.230703619624499,42.887174065361698,"-"]
["ECBHCAI202503Highland",18,22.249690976514199,25.917762728150102,37.2379728901563,42.898077971159502,"-"]
["SABCAUN202403Highland",6,7.3449336012650903,7.4940971152859097,13.551799964452799,16.580651389036301,"-"]
["SABCAUN202402Highland",7,8.6632550168767803,7.4940971152859097,13.584993105249101,16.630441100230701,"-"]
["SABCAUN202304Highland",5,6.1198730553893803,7.4940971152859097,13.551352137839199,16.579979649115899,"-"]
["SABCAUN202601Highland",10,12.479400441736599,7.4940971152859097,13.6103652209502,16.668499273782299,"-"]
["SABCAUN202401Highland",5,6.1880392977691301,7.4940971152859097,13.584993105249101,16.630441100230701,"-"]
["SABCAUN202404Highland",5,6.1207780010542496,7.4940971152859097,13.551799964452799,16.580651389036301,"-"]
["SABCAUN202501Highland",7,8.7355803092156101,7.4940971152859097,13.6103652209502,16.668499273782299,"-"]
["SABCAUN202503Highland",5,6.1040545638929,7.4940971152859097,13.543518753678599,16.568229572875001,"-"]
["SABCAUN202303Highland",11,13.4637207218566,7.4940971152859097,13.551352137839199,16.579979649115899,"-"]
["SABCAUN202302Highland",3,3.7122746445878398,7.4940971152859097,13.584542824772701,16.629765679516101,"-"]
["SABCAUN202502Highland",7,8.6395849212022497,7.4940971152859097,13.5766665176379,16.617951218813801,"-"]
["SABCAUN202504Highland",4,4.88324365111432,7.4940971152859097,13.543518753678599,16.568229572875001,"-"]
["SABHCAI202601Highland",11,13.3010882708585,15.382086822398,24.007598551401301,28.320354415902901,"-"]
["SABHCAI202304Highland",10,12.838288912853701,15.382086822398,24.269823873156099,28.713692398535098,"-"]
["SABHCAI202504Highland",14,17.2411669807022,15.382086822398,24.086849515751901,28.4392308624289,"-"]
["SABHCAI202502Highland",18,23.129409043598901,15.382086822398,24.273763055562402,28.719601172144699,"-"]
["SABHCAI202302Highland",17,22.430695747403998,15.382086822398,24.392289006894,28.897390099142001,"-"]
["SABHCAI202403Highland",7,8.7804021424181204,15.382086822398,24.167168595828102,28.559709482543202,"-"]
["SABHCAI202501Highland",17,21.200972750514399,15.382086822398,24.141823637779801,28.521692045470701,"-"]
["SABHCAI202503Highland",11,13.597033374536499,15.382086822398,24.103028137190801,28.4634987945871,"-"]
["SABHCAI202404Highland",7,8.6415485655029407,15.382086822398,24.097427986592699,28.455098568690001,"-"]
["SABHCAI202303Highland",13,16.925320279137601,15.382086822398,24.332320958236799,28.807438026156301,"-"]
["SABHCAI202402Highland",7,8.7694023025944894,15.382086822398,24.161664020126999,28.551452618991501,"-"]
["SABHCAI202401Highland",13,15.916158573912201,15.382086822398,24.061394364131498,28.401048134998199,"-"]
["CDICA202304Lanarkshire",12,7.0828355404397598,4.4350050017000804,7.6708671252600196,9.2887981870399905,"-"]
["CDICA202401Lanarkshire",7,4.1489965889806699,4.4350050017000804,7.6776512424085102,9.2989743627627295,"-"]
["CDICA202402Lanarkshire",9,5.3344241858322903,4.4350050017000804,7.6776512424085102,9.2989743627627295,"-"]
["CDICA202502Lanarkshire",7,4.1376605327266303,4.4350050017000804,7.6732183678265002,9.2923250508897102,"-"]
["CDICA202503Lanarkshire",6,3.50801653861605,4.4350050017000804,7.65557129712173,9.2658544448325504,"-"]
["CDICA202601Lanarkshire",10,5.9766207694940201,4.4350050017000804,7.6911587453657999,9.3192356171986503,"-"]
["CDICA202302Lanarkshire",8,4.7737792653513402,4.4350050017000804,7.6885980093491204,9.3153945131736293,"-"]
["CDICA202403Lanarkshire",8,4.69017005710859,4.4350050017000804,7.6599800141692196,9.2724675204037794,"-"]
["CDICA202404Lanarkshire",7,4.1038987999700103,4.4350050017000804,7.6599800141692196,9.2724675204037794,"-"]
["CDICA202501Lanarkshire",6,3.5859724616964099,4.4350050017000804,7.6911587453657999,9.3192356171986503,"-"]
["CDICA202504Lanarkshire",3,1.7540082693080301,4.4350050017000804,7.65557129712173,9.2658544448325504,"-"]
["CDICA202303Lanarkshire",12,7.0828355404397598,4.4350050017000804,7.6708671252600196,9.2887981870399905,"-"]
["CDIHCAI202404Lanarkshire",28,18.307474026271201,18.7314739150533,25.730718488307701,29.230340774934898,"-"]
["CDIHCAI202401Lanarkshire",28,18.017902072702199,18.7314739150533,25.675143824492999,29.146978779212802,"-"]
["CDIHCAI202304Lanarkshire",30,19.4605534581403,18.7314739150533,25.703081567751099,29.188885394100001,"-"]
["CDIHCAI202403Lanarkshire",26,17.125543406665798,18.7314739150533,25.756557211609302,29.269098859887301,"-"]
["CDIHCAI202501Lanarkshire",26,17.3194777511324,18.7314739150533,25.796222217148099,29.328596368195502,"-"]
["CDIHCAI202502Lanarkshire",28,18.726591760299598,18.7314739150533,25.810382881391298,29.349837364560301,"-"]
["CDIHCAI202303Lanarkshire",27,17.822840960849199,18.7314739150533,25.764181423285098,29.2805351774009,"-"]
["CDIHCAI202503Lanarkshire",16,10.692328254477401,18.7314739150533,25.807543936434001,29.345578947124402,"-"]
["CDIHCAI202402Lanarkshire",36,23.410979749502498,18.7314739150533,25.711780789106999,29.201934226133801,"-"]
["CDIHCAI202504Lanarkshire",33,21.689835354431601,18.7314739150533,25.749049989396401,29.257838026567899,"-"]
["CDIHCAI202302Lanarkshire",39,25.695931477516101,18.7314739150533,25.7575985732283,29.2706609023158,"-"]
["CDIHCAI202601Lanarkshire",39,25.5974376308587,18.7314739150533,25.744119893420599,29.2504428826043,"-"]
["ECBCOM202601Lanarkshire",60,35.859724616964101,42.181825349503001,52.223832588676103,57.244836208262598,"-"]
["ECBCOM202501Lanarkshire",67,40.043359155609899,42.181825349503001,52.223832588676103,57.244836208262598,"-"]
["ECBCOM202502Lanarkshire",83,49.060832030901402,42.181825349503001,52.168504304047801,57.161843781320101,"-"]
["ECBCOM202401Lanarkshire",80,47.4171038740648,42.181825349503001,52.1821753288664,57.182350318548004,"-"]
["ECBCOM202504Lanarkshire",53,30.987479424441801,42.181825349503001,52.114080580317797,57.080208195725199,"-"]
["ECBCOM202402Lanarkshire",69,40.897252091380899,42.181825349503001,52.1821753288664,57.182350318548004,"-"]
["ECBCOM202503Lanarkshire",76,44.434876155803401,42.181825349503001,52.114080580317797,57.080208195725199,"-"]
["ECBCOM202302Lanarkshire",77,45.9476254290066,42.181825349503001,52.215935255920499,57.232990209129198,"-"]
["ECBCOM202403Lanarkshire",70,41.038987999700097,42.181825349503001,52.127677103084103,57.100602979874601,"-"]
["ECBCOM202304Lanarkshire",51,30.102051046869001,42.181825349503001,52.161253050964397,57.150966901695099,"-"]
["ECBCOM202404Lanarkshire",77,45.142886799670201,42.181825349503001,52.127677103084103,57.100602979874601,"-"]
["ECBCOM202303Lanarkshire",71,41.906776947601898,42.181825349503001,52.161253050964397,57.150966901695099,"-"]
["ECBHCAI202401Lanarkshire",62,39.896783160983503,42.885216594990503,53.391688294275703,58.644924143918303,"-"]
["ECBHCAI202402Lanarkshire",57,37.067384603378997,42.885216594990503,53.447123710544702,58.728077268321798,"-"]
["ECBHCAI202304Lanarkshire",43,27.893459956667801,42.885216594990503,53.433960912748503,58.7083330716275,"-"]
["ECBHCAI202302Lanarkshire",70,46.120902651951901,42.885216594990503,53.516450631102899,58.8320676491592,"-"]
["ECBHCAI202504Lanarkshire",80,52.581419041046402,42.885216594990503,53.503515763047602,58.812665347076098,"-"]
["ECBHCAI202503Lanarkshire",92,61.480887463245097,42.885216594990503,53.592022994403003,58.945426194109203,"aboveUCL"]
["ECBHCAI202502Lanarkshire",69,46.147672552166902,42.885216594990503,53.596318603963702,58.951869608450302,"-"]
["ECBHCAI202501Lanarkshire",76,50.6261657340794,42.885216594990503,53.574892093191302,58.919729842291801,"-"]
["ECBHCAI202601Lanarkshire",62,40.693362387519002,42.885216594990503,53.496056031447402,58.801475749675902,"-"]
["ECBHCAI202403Lanarkshire",63,41.496509023843998,42.885216594990503,53.514874946123498,58.82970412169,"-"]
["ECBHCAI202404Lanarkshire",53,34.653432978299101,42.885216594990503,53.475778356185501,58.771059236783003,"-"]
["ECBHCAI202303Lanarkshire",58,38.286102804787099,42.885216594990503,53.526411146035898,58.847008421558499,"-"]
["SABCAUN202304Lanarkshire",18,10.624253310659601,9.1163991701612908,13.755722254522301,16.075383796702699,"-"]
["SABCAUN202404Lanarkshire",17,9.96661137135575,9.1163991701612908,13.740113176052001,16.051970178997401,"-"]
["SABCAUN202403Lanarkshire",17,9.96661137135575,9.1163991701612908,13.740113176052001,16.051970178997401,"-"]
["SABCAUN202303Lanarkshire",18,10.624253310659601,9.1163991701612908,13.755722254522301,16.075383796702699,"-"]
["SABCAUN202501Lanarkshire",17,10.160255308139799,9.1163991701612908,13.7848147739131,16.119022575789,"-"]
["SABCAUN202402Lanarkshire",24,14.2251311622194,9.1163991701612908,13.765448784915799,16.089973592292999,"-"]
["SABCAUN202502Lanarkshire",16,9.4575097890894408,9.1163991701612908,13.7590932800787,16.080440335037402,"-"]
["SABCAUN202503Lanarkshire",7,4.0926859617187299,9.1163991701612908,13.7337923063765,16.0424888744841,"-"]
["SABCAUN202601Lanarkshire",15,8.9649311542410306,9.1163991701612908,13.7848147739131,16.119022575789,"-"]
["SABCAUN202401Lanarkshire",15,8.8907069763871593,9.1163991701612908,13.765448784915799,16.089973592292999,"-"]
["SABCAUN202302Lanarkshire",14,8.3541137143648392,9.1163991701612908,13.781143393223401,16.1135155047544,"-"]
["SABCAUN202504Lanarkshire",9,5.2620248079240799,9.1163991701612908,13.7337923063765,16.0424888744841,"-"]
["SABHCAI202503Lanarkshire",38,25.3942796043839,20.1007337041654,27.430870860467,31.095939438617801,"-"]
["SABHCAI202304Lanarkshire",35,22.703979034497099,20.1007337041654,27.322657758023901,30.933619784953201,"-"]
["SABHCAI202504Lanarkshire",17,11.1735515462224,20.1007337041654,27.3702766813105,31.0050481698831,"-"]
["SABHCAI202501Lanarkshire",27,17.985611510791401,20.1007337041654,27.419142633504901,31.0783470981746,"-"]
["SABHCAI202404Lanarkshire",26,16.999797310108999,20.1007337041654,27.351286985497001,30.9765636261629,"-"]
["SABHCAI202403Lanarkshire",28,18.4428928994862,20.1007337041654,27.378053451229,31.016713324760801,"-"]
["SABHCAI202502Lanarkshire",37,24.745853397538799,20.1007337041654,27.433811738080301,31.100350755037802,"-"]
["SABHCAI202303Lanarkshire",43,28.3845244932042,20.1007337041654,27.385951411131,31.028560264613699,"-"]
["SABHCAI202402Lanarkshire",32,20.8097597773356,20.1007337041654,27.331669325956302,30.947137136851701,"-"]
["SABHCAI202302Lanarkshire",25,16.471750947125699,20.1007337041654,27.379132203060699,31.018331452508299,"-"]
["SABHCAI202601Lanarkshire",20,13.126891092748,20.1007337041654,27.365169569652899,30.997387502396698,"-"]
["SABHCAI202401Lanarkshire",32,20.5918880830883,20.1007337041654,27.293716906774499,30.890208508079098,"-"]
["CDICA202601Lothian",12,5.2207370536448598,7.7602374057813801,11.4351142277281,13.2725526387015,"-"]
["CDICA202302Lothian",15,6.5463446526706797,7.7602374057813801,11.440860130078301,13.2811714922268,"-"]
["CDICA202503Lothian",22,9.3632784114282792,7.7602374057813801,11.394950433570999,13.212306947465899,"-"]
["CDICA202504Lothian",16,6.8096570264932996,7.7602374057813801,11.394950433570999,13.212306947465899,"-"]
["CDICA202502Lothian",15,6.4542078959895299,7.7602374057813801,11.414866818426701,13.2421815247494,"-"]
["CDICA202402Lothian",23,9.92356567460088,7.7602374057813801,11.419869735776,13.249685900773301,"-"]
["CDICA202304Lothian",18,7.7702264790395503,7.7602374057813801,11.4208020912435,13.251084433974601,"-"]
["CDICA202303Lothian",15,6.4751887325329598,7.7602374057813801,11.4208020912435,13.251084433974601,"-"]
["CDICA202501Lothian",12,5.2207370536448598,7.7602374057813801,11.4351142277281,13.2725526387015,"-"]
["CDICA202401Lothian",23,9.92356567460088,7.7602374057813801,11.419869735776,13.249685900773301,"-"]
["CDICA202404Lothian",15,6.4015440197685303,7.7602374057813801,11.3999260868625,13.2197704274031,"-"]
["CDICA202403Lothian",32,13.656627242172901,7.7602374057813801,11.3999260868625,13.2197704274031,"aboveUCL"]
["CDIHCAI202404Lothian",45,18.691744064332799,14.9764911276595,19.964804038988301,22.4589604946527,"-"]
["CDIHCAI202302Lothian",32,13.332277861335999,14.9764911276595,19.972373696107599,22.470314980331601,"-"]
["CDIHCAI202402Lothian",39,16.354601304174601,14.9764911276595,19.988625545080399,22.494692753790801,"-"]
["CDIHCAI202601Lothian",38,16.8620594786961,14.9764911276595,20.132320574195099,22.710235297462901,"-"]
["CDIHCAI202504Lothian",28,12.300825473252299,14.9764911276595,20.106559402936799,22.6715935405755,"-"]
["CDIHCAI202501Lothian",29,12.3534623773173,14.9764911276595,20.028107730494298,22.5539160319118,"-"]
["CDIHCAI202401Lothian",29,11.8949471085024,14.9764911276595,19.933472548318001,22.411963258647301,"-"]
["CDIHCAI202403Lothian",35,14.542674439379899,14.9764911276595,19.965601952689902,22.460157365205099,"-"]
["CDIHCAI202503Lothian",44,19.503373197046098,14.9764911276595,20.1295316744452,22.706051947837999,"-"]
["CDIHCAI202303Lothian",30,12.6126732140455,14.9764911276595,19.995037909165301,22.5043112999182,"-"]
["CDIHCAI202304Lothian",45,18.680648093951199,14.9764911276595,19.9633232143809,22.456739257741599,"-"]
["CDIHCAI202502Lothian",41,18.058730515290499,14.9764911276595,20.113220820325399,22.6815856666584,"-"]
["ECBCOM202501Lothian",57,24.798501004813101,29.029036221626601,36.136613517110803,39.690402164852799,"-"]
["ECBCOM202601Lothian",70,30.454299479595001,29.029036221626601,36.136613517110803,39.690402164852799,"-"]
["ECBCOM202404Lothian",55,23.472328072484601,29.029036221626601,36.068556152686298,39.588316118216099,"-"]
["ECBCOM202504Lothian",68,28.941042362596502,29.029036221626601,36.058932744316898,39.573881005662003,"-"]
["ECBCOM202502Lothian",67,28.828795268753201,29.029036221626601,36.097453013612203,39.631661409605002,"-"]
["ECBCOM202303Lothian",82,35.397698404513498,29.029036221626601,36.108932421592101,39.648880521574803,"-"]
["ECBCOM202403Lothian",70,29.873872092253102,29.029036221626601,36.068556152686298,39.588316118216099,"-"]
["ECBCOM202304Lothian",63,27.195792676638401,29.029036221626601,36.108932421592101,39.648880521574803,"-"]
["ECBCOM202503Lothian",74,31.494663747531501,29.029036221626601,36.058932744316898,39.573881005662003,"-"]
["ECBCOM202302Lothian",74,32.295300286508699,29.029036221626601,36.147726663772701,39.707071884845703,"-"]
["ECBCOM202402Lothian",55,23.730265743610801,29.029036221626601,36.107129153381102,39.646175619258401,"-"]
["ECBCOM202401Lothian",72,31.0650751552723,29.029036221626601,36.107129153381102,39.646175619258401,"-"]
["ECBHCAI202303Lothian",69,29.009148392304599,34.980302046998098,42.650114027721699,46.485020018083603,"-"]
["ECBHCAI202502Lothian",92,40.522029448944402,34.980302046998098,42.830732192181799,46.755947264773702,"-"]
["ECBHCAI202402Lothian",65,27.257668840291,34.980302046998098,42.640314053939498,46.470320057410298,"-"]
["ECBHCAI202401Lothian",79,32.403476605920403,34.980302046998098,42.556024092371402,46.3438851150581,"-"]
["ECBHCAI202501Lothian",93,39.6162758996728,34.980302046998098,42.7006544177734,46.560830603161001,"-"]
["ECBHCAI202304Lothian",79,32.7949155427143,34.980302046998098,42.6016446686398,46.412315979460601,"-"]
["ECBHCAI202601Lothian",85,37.717764623399198,34.980302046998098,42.8599222201792,46.799732306769798,"-"]
["ECBHCAI202503Lothian",88,39.006746394092303,34.980302046998098,42.8556599630665,46.793338921100698,"-"]
["ECBHCAI202404Lothian",86,35.721999767391601,34.980302046998098,42.603907803130603,46.415710681196899,"-"]
["ECBHCAI202403Lothian",85,35.317923638494001,34.980302046998098,42.6051272493836,46.417539850576297,"-"]
["ECBHCAI202302Lothian",79,32.914060970173203,34.980302046998098,42.615476460232202,46.433063666849201,"-"]
["ECBHCAI202504Lothian",93,40.856313179016603,34.980302046998098,42.820551591876601,46.740676364315803,"-"]
["SABCAUN202304Lothian",27,11.655339718559301,9.4488075820393593,13.488042241925401,15.5076595718685,"-"]
["SABCAUN202601Lothian",26,11.311596949563899,9.4488075820393593,13.5038349085529,15.5313485718096,"-"]
["SABCAUN202402Lothian",25,10.786484428913999,9.4488075820393593,13.487013438218,15.5061163663073,"-"]
["SABCAUN202504Lothian",24,10.214485539739901,9.4488075820393593,13.459516339323301,15.464870717965301,"-"]
["SABCAUN202303Lothian",15,6.4751887325329598,9.4488075820393593,13.488042241925401,15.5076595718685,"-"]
["SABCAUN202403Lothian",24,10.2424704316296,9.4488075820393593,13.465006702957799,15.473106263417,"-"]
["SABCAUN202401Lothian",21,9.0606469202877609,9.4488075820393593,13.487013438218,15.5061163663073,"-"]
["SABCAUN202302Lothian",18,7.8556135832048204,9.4488075820393593,13.5101752002618,15.540859009373101,"-"]
["SABCAUN202501Lothian",14,6.0908598959190003,9.4488075820393593,13.5038349085529,15.5313485718096,"-"]
["SABCAUN202404Lothian",30,12.8030880395371,9.4488075820393593,13.465006702957799,15.473106263417,"-"]
["SABCAUN202503Lothian",19,8.0864677189607903,9.4488075820393593,13.459516339323301,15.464870717965301,"-"]
["SABCAUN202502Lothian",28,12.0478547391804,9.4488075820393593,13.481492990174001,15.497835694241401,"-"]
["SABHCAI202504Lothian",41,18.011923014405099,16.699139168164901,22.1162179336614,24.824757316409599,"-"]
["SABHCAI202404Lothian",40,16.6148836127403,16.699139168164901,21.966531822144798,24.600228149134701,"-"]
["SABHCAI202503Lothian",45,19.9466316787972,16.699139168164901,22.140475428397401,24.8611435585136,"-"]
["SABHCAI202601Lothian",40,17.749536293364301,16.699139168164901,22.143420357939,24.865560952826101,"-"]
["SABHCAI202303Lothian",40,16.8168976187273,16.699139168164901,21.998457178172501,24.648116183176299,"-"]
["SABHCAI202401Lothian",34,13.945800058244201,16.699139168164901,21.933447437358101,24.550601571954601,"-"]
["SABHCAI202402Lothian",34,14.2578575472292,16.699139168164901,21.991686063353502,24.637959510947798,"-"]
["SABHCAI202403Lothian",51,21.190754183096399,16.699139168164901,21.967374376500299,24.601491980668101,"-"]
["SABHCAI202501Lothian",31,13.2054252998909,16.699139168164901,22.033377147515498,24.7004961371908,"-"]
["SABHCAI202304Lothian",48,19.926024633548,16.699139168164901,21.964968150258599,24.5978826413055,"-"]
["SABHCAI202302Lothian",31,12.915644178169201,16.699139168164901,21.9745249767467,24.612217881037701,"-"]
["SABHCAI202502Lothian",32,14.094618938763301,16.699139168164901,22.123252035499299,24.835308469166499,"-"]
["CDICA202504Orkney",0,0,6.0569351907934603]
["CDICA202601Orkney",0,0,6.0569351907934603]
["CDICA202303Orkney",0,0,6.0569351907934603]
["CDICA202502Orkney",0,0,6.0569351907934603]
["CDICA202401Orkney",1,18.265113632961,6.0569351907934603]
["CDICA202302Orkney",0,0,6.0569351907934603]
["CDICA202503Orkney",0,0,6.0569351907934603]
["CDICA202501Orkney",1,18.417600161469402,6.0569351907934603]
["CDICA202403Orkney",2,36.133159578249,6.0569351907934603]
["CDICA202304Orkney",0,0,6.0569351907934603]
["CDICA202402Orkney",0,0,6.0569351907934603]
["CDICA202404Orkney",0,0,6.0569351907934603]
["CDIHCAI202601Orkney",0,0,10.1533150573662]
["CDIHCAI202303Orkney",0,0,10.1533150573662]
["CDIHCAI202501Orkney",1,30.2388872089507,10.1533150573662]
["CDIHCAI202403Orkney",0,0,10.1533150573662]
["CDIHCAI202502Orkney",0,0,10.1533150573662]
["CDIHCAI202404Orkney",0,0,10.1533150573662]
["CDIHCAI202504Orkney",1,27.7161862527716,10.1533150573662]
["CDIHCAI202304Orkney",1,30.3766707168894,10.1533150573662]
["CDIHCAI202402Orkney",0,0,10.1533150573662]
["CDIHCAI202401Orkney",0,0,10.1533150573662]
["CDIHCAI202503Orkney",0,0,10.1533150573662]
["CDIHCAI202302Orkney",0,0,10.1533150573662]
["ECBCOM202601Orkney",3,55.252800484408098,40.884312537855799]
["ECBCOM202502Orkney",1,18.215208950903801,40.884312537855799]
["ECBCOM202503Orkney",2,36.034435098526998,40.884312537855799]
["ECBCOM202501Orkney",2,36.835200322938697,40.884312537855799]
["ECBCOM202504Orkney",2,36.034435098526998,40.884312537855799]
["ECBCOM202304Orkney",5,90.167984189723299,40.884312537855799]
["ECBCOM202401Orkney",0,0,40.884312537855799]
["ECBCOM202404Orkney",0,0,40.884312537855799]
["ECBCOM202403Orkney",4,72.266319156498,40.884312537855799]
["ECBCOM202302Orkney",1,18.2317682317682,40.884312537855799]
["ECBCOM202303Orkney",4,72.134387351778699,40.884312537855799]
["ECBCOM202402Orkney",1,18.265113632961,40.884312537855799]
["ECBHCAI202402Orkney",3,95.724313975749794,45.689917758147999]
["ECBHCAI202401Orkney",2,66.800267201068806,45.689917758147999]
["ECBHCAI202403Orkney",2,66.334991708125997,45.689917758147999]
["ECBHCAI202404Orkney",1,32.041012495994899,45.689917758147999]
["ECBHCAI202303Orkney",1,28.851702250432801,45.689917758147999]
["ECBHCAI202501Orkney",1,30.2388872089507,45.689917758147999]
["ECBHCAI202601Orkney",0,0,45.689917758147999]
["ECBHCAI202503Orkney",3,83.682008368200798,45.689917758147999]
["ECBHCAI202304Orkney",1,30.3766707168894,45.689917758147999]
["ECBHCAI202302Orkney",1,28.826751225136899,45.689917758147999]
["ECBHCAI202504Orkney",0,0,45.689917758147999]
["ECBHCAI202502Orkney",1,32.247662044501801,45.689917758147999]
["SABCAUN202401Orkney",0,0,7.5711689884918201]
["SABCAUN202504Orkney",0,0,7.5711689884918201]
["SABCAUN202303Orkney",0,0,7.5711689884918201]
["SABCAUN202402Orkney",1,18.265113632961,7.5711689884918201]
["SABCAUN202601Orkney",1,18.417600161469402,7.5711689884918201]
["SABCAUN202501Orkney",0,0,7.5711689884918201]
["SABCAUN202304Orkney",0,0,7.5711689884918201]
["SABCAUN202404Orkney",0,0,7.5711689884918201]
["SABCAUN202503Orkney",1,18.017217549263499,7.5711689884918201]
["SABCAUN202302Orkney",1,18.2317682317682,7.5711689884918201]
["SABCAUN202403Orkney",0,0,7.5711689884918201]
["SABCAUN202502Orkney",2,36.430417901807502,7.5711689884918201]
["SABHCAI202401Orkney",0,0,7.6149862930246703]
["SABHCAI202601Orkney",1,26.4620269912675,7.6149862930246703]
["SABHCAI202502Orkney",2,64.495324089003503,7.6149862930246703]
["SABHCAI202503Orkney",1,27.8940027894003,7.6149862930246703]
["SABHCAI202501Orkney",0,0,7.6149862930246703]
["SABHCAI202303Orkney",0,0,7.6149862930246703]
["SABHCAI202304Orkney",0,0,7.6149862930246703]
["SABHCAI202302Orkney",0,0,7.6149862930246703]
["SABHCAI202402Orkney",0,0,7.6149862930246703]
["SABHCAI202403Orkney",0,0,7.6149862930246703]
["SABHCAI202504Orkney",0,0,7.6149862930246703]
["SABHCAI202404Orkney",0,0,7.6149862930246703]
["CDICA202302Scotland",70,5.1141004857694901,5.7887469171907702,7.08938925127479,7.7397104183168102,"-"]
["CDICA202303Scotland",86,6.2147438511850996,5.7887469171907702,7.0823012293824403,7.7290783854782799,"-"]
["CDICA202304Scotland",79,5.7088926074839801,5.7887469171907702,7.0823012293824403,7.7290783854782799,"-"]
["CDICA202401Scotland",93,6.7432972659315302,5.7887469171907702,7.0844842007290101,7.7323528424981296,"-"]
["CDICA202402Scotland",94,6.8158058386834801,5.7887469171907702,7.0844842007290101,7.7323528424981296,"-"]
["CDICA202403Scotland",105,7.5306457896184904,5.7887469171907702,7.0774229095563497,7.7217609057391403,"-"]
["CDICA202404Scotland",85,6.0962370677863902,5.7887469171907702,7.0774229095563497,7.7217609057391403,"-"]
["CDICA202501Scotland",64,4.6792903343408998,5.7887469171907702,7.0898816982942803,7.7404490888460398,"-"]
["CDICA202502Scotland",73,5.2786637185130001,5.7887469171907702,7.0827128570662197,7.7296958270039404,"-"]
["CDICA202503Scotland",84,6.0080562037393399,5.7887469171907702,7.0756612190643997,7.7191183700012198,"-"]
["CDICA202504Scotland",70,5.0067135031161198,5.7887469171907702,7.0756612190643997,7.7191183700012198,"-"]
["CDICA202601Scotland",73,5.3373155376075898,5.7887469171907702,7.0898816982942803,7.7404490888460398,"-"]
["CDIHCAI202302Scotland",244,15.7967246397829,15.256906154071901,17.244610758947498,18.238463061385399,"-"]
["CDIHCAI202303Scotland",239,15.5423196554417,15.256906154071901,17.249056912090001,18.245132291099001,"-"]
["CDIHCAI202304Scotland",223,14.2392838214917,15.256906154071901,17.230941273843801,18.217958833729799,"-"]
["CDIHCAI202401Scotland",202,12.698724029694899,15.256906154071901,17.215604655059799,18.194953905553799,"-"]
["CDIHCAI202402Scotland",266,17.0701467519233,15.256906154071901,17.235884500009298,18.225373672978002,"-"]
["CDIHCAI202403Scotland",285,18.3579845638336,15.256906154071901,17.2395892472505,18.2309307938398,"aboveUCL"]
["CDIHCAI202404Scotland",282,18.0736095818331,15.256906154071901,17.2346094041744,18.2234610292257,"-"]
["CDIHCAI202501Scotland",208,13.400343641504699,15.256906154071901,17.239754655649001,18.231178906437599,"-"]
["CDIHCAI202502Scotland",213,13.961930469586299,15.256906154071901,17.256980626413799,18.2570178625847,"-"]
["CDIHCAI202503Scotland",246,16.148906042907502,15.256906154071901,17.258459794474099,18.259236614675299,"-"]
["CDIHCAI202504Scotland",221,14.4036623103735,15.256906154071901,17.251266184310602,18.2484461994299,"-"]
["CDIHCAI202601Scotland",214,13.895084321734799,15.256906154071901,17.247519629696601,18.242826367509,"-"]
["ECBCOM202302Scotland",502,36.675406340804102,36.487195412418103,39.752591330509198,41.385289289554798,"-"]
["ECBCOM202303Scotland",575,41.552066446877099,36.487195412418103,39.734796124903397,41.358596481146101,"aboveUCL"]
["ECBCOM202304Scotland",442,31.940892816556001,36.487195412418103,39.734796124903397,41.358596481146101,"-"]
["ECBCOM202401Scotland",504,36.544320666983801,36.487195412418103,39.740276698261397,41.366817341183001,"-"]
["ECBCOM202402Scotland",490,35.529200648456502,36.487195412418103,39.740276698261397,41.366817341183001,"-"]
["ECBCOM202403Scotland",514,36.864304151084802,36.487195412418103,39.722548602867697,41.340225198092597,"-"]
["ECBCOM202404Scotland",494,35.429895429252703,36.487195412418103,39.722548602867697,41.340225198092597,"-"]
["ECBCOM202501Scotland",446,32.608804517438202,36.487195412418103,39.753827669236003,41.387143797645003,"-"]
["ECBCOM202502Scotland",565,40.855410972052702,36.487195412418103,39.7358295584025,41.360146631394798,"-"]
["ECBCOM202503Scotland",575,41.126575204168098,36.487195412418103,39.718125698283899,41.333590841216797,"-"]
["ECBCOM202504Scotland",447,31.9714419413272,36.487195412418103,39.718125698283899,41.333590841216797,"-"]
["ECBCOM202601Scotland",462,33.778627101023403,36.487195412418103,39.753827669236003,41.387143797645003,"-"]
["ECBHCAI202302Scotland",581,37.614332031614197,38.813784141961001,41.984166185233299,43.569357206869498,"-"]
["ECBHCAI202303Scotland",580,37.717763180569897,38.813784141961001,41.9912577842817,43.579994605442103,"-"]
["ECBHCAI202304Scotland",544,34.736190129558302,38.813784141961001,41.962363403266998,43.536653033919997,"-"]
["ECBHCAI202401Scotland",565,35.518708300879297,38.813784141961001,41.937901548785199,43.499960252197297,"-"]
["ECBHCAI202402Scotland",614,39.402519194289098,38.813784141961001,41.970247832086201,43.548479677148798,"-"]
["ECBHCAI202403Scotland",618,39.807840212102398,38.813784141961001,41.976156891259102,43.557343265908102,"-"]
["ECBHCAI202404Scotland",576,36.916308933105903,38.813784141961001,41.9682140585927,43.545429016908599,"-"]
["ECBHCAI202501Scotland",604,38.912536343600301,38.813784141961001,41.9764207170888,43.557739004652603,"-"]
["ECBHCAI202502Scotland",672,44.048907397004498,38.813784141961001,42.003896081514903,43.598952051291803,"aboveUCL"]
["ECBHCAI202503Scotland",658,43.195041366801398,38.813784141961001,42.0062553495098,43.602490953284203,"-"]
["ECBHCAI202504Scotland",625,40.734339113047199,38.813784141961001,41.994781565913897,43.585280277890398,"-"]
["ECBHCAI202601Scotland",609,39.542553046432303,38.813784141961001,41.988805824124498,43.576316665206299,"-"]
["SABCAUN202302Scotland",140,10.228200971539,10.015738155681101,11.726569054351801,12.581984503687099,"-"]
["SABCAUN202303Scotland",140,10.117024874022301,10.015738155681101,11.7172456557924,12.567999405847999,"-"]
["SABCAUN202304Scotland",137,9.9002314838646299,10.015738155681101,11.7172456557924,12.567999405847999,"-"]
["SABCAUN202401Scotland",148,10.731268767288899,10.015738155681101,11.7201170791904,12.5723065409451,"-"]
["SABCAUN202402Scotland",136,9.8611658942654596,10.015738155681101,11.7201170791904,12.5723065409451,"-"]
["SABCAUN202403Scotland",143,10.2560223610995,10.015738155681101,11.710828841520399,12.55837418444,"-"]
["SABCAUN202404Scotland",147,10.542904105465899,10.015738155681101,11.710828841520399,12.55837418444,"-"]
["SABCAUN202501Scotland",123,8.9930111113114197,10.015738155681101,11.727216806277699,12.582956131575999,"-"]
["SABCAUN202502Scotland",156,11.2804320560004,10.015738155681101,11.7177871000785,12.5688115722773,"-"]
["SABCAUN202503Scotland",126,9.0120843056090099,10.015738155681101,11.7085115599369,12.5548982620648,"-"]
["SABCAUN202504Scotland",132,9.4412311773046795,10.015738155681101,11.7085115599369,12.5548982620648,"-"]
["SABCAUN202601Scotland",137,10.016605871948499,10.015738155681101,11.727216806277699,12.582956131575999,"-"]
["SABHCAI202302Scotland",283,18.321610955158,18.625244238086999,20.8214326447745,21.919526848118199,"-"]
["SABHCAI202303Scotland",278,18.0785140762042,18.625244238086999,20.826345140304099,21.926895591412698,"-"]
["SABHCAI202304Scotland",301,19.2198404944799,18.625244238086999,20.806329412314,21.8968719994275,"-"]
["SABHCAI202401Scotland",271,17.036406990333301,18.625244238086999,20.7893841860019,21.871454159959399,"-"]
["SABHCAI202402Scotland",270,17.326840688042399,18.625244238086999,20.811791117222,21.905064556789501,"-"]
["SABHCAI202403Scotland",313,20.161576029754102,18.625244238086999,20.8158844432227,21.9112045457906,"-"]
["SABHCAI202404Scotland",287,18.394063652433001,18.625244238086999,20.8103822807767,21.902951302121501,"-"]
["SABHCAI202501Scotland",283,18.2321983199319,18.625244238086999,20.816067200764401,21.911478682103201,"-"]
["SABHCAI202502Scotland",303,19.8613377102565,18.625244238086999,20.835099946975699,21.940027801420001,"-"]
["SABHCAI202503Scotland",296,19.4312040191082,18.625244238086999,20.836734260111399,21.942479271123599,"-"]
["SABHCAI202504Scotland",282,18.379333807806901,18.625244238086999,20.8287861358254,21.930557084694598,"-"]
["SABHCAI202601Scotland",291,18.894717465536601,18.625244238086999,20.824646617414,21.924347807077499,"-"]
["CDICA202504Shetland",1,17.1081988113317,10.0893629287979]
["CDICA202303Shetland",0,0,10.0893629287979]
["CDICA202304Shetland",0,0,10.0893629287979]
["CDICA202601Shetland",1,17.4883810071391,10.0893629287979]
["CDICA202503Shetland",1,17.1081988113317,10.0893629287979]
["CDICA202501Shetland",1,17.4883810071391,10.0893629287979]
["CDICA202403Shetland",0,0,10.0893629287979]
["CDICA202502Shetland",0,0,10.0893629287979]
["CDICA202401Shetland",0,0,10.0893629287979]
["CDICA202404Shetland",3,51.465211766690999,10.0893629287979]
["CDICA202402Shetland",1,17.3435878481157,10.0893629287979]
["CDICA202302Shetland",0,0,10.0893629287979]
["CDIHCAI202501Shetland",0,0,58.681619612701297]
["CDIHCAI202303Shetland",2,91.743119266055004,58.681619612701297]
["CDIHCAI202404Shetland",2,77.821011673151801,58.681619612701297]
["CDIHCAI202403Shetland",2,75.987841945288693,58.681619612701297]
["CDIHCAI202304Shetland",3,113.59333585763,58.681619612701297]
["CDIHCAI202401Shetland",3,127.01100762066,58.681619612701297]
["CDIHCAI202402Shetland",1,41.000410004099997,58.681619612701297]
["CDIHCAI202504Shetland",1,36.036036036036002,58.681619612701297]
["CDIHCAI202601Shetland",0,0,58.681619612701297]
["CDIHCAI202503Shetland",1,34.9040139616056,58.681619612701297]
["CDIHCAI202502Shetland",2,73.0460189919649,58.681619612701297]
["CDIHCAI202302Shetland",0,0,58.681619612701297]
["ECBCOM202504Shetland",2,34.216397622663401,27.385413663880101]
["ECBCOM202601Shetland",3,52.465143021417298,27.385413663880101]
["ECBCOM202502Shetland",3,51.888602988214899,27.385413663880101]
["ECBCOM202503Shetland",1,17.1081988113317,27.385413663880101]
["ECBCOM202501Shetland",4,69.953524028556402,27.385413663880101]
["ECBCOM202403Shetland",1,17.155070588897001,27.385413663880101]
["ECBCOM202402Shetland",0,0,27.385413663880101]
["ECBCOM202304Shetland",0,0,27.385413663880101]
["ECBCOM202401Shetland",1,17.3435878481157,27.385413663880101]
["ECBCOM202404Shetland",3,51.465211766690999,27.385413663880101]
["ECBCOM202302Shetland",1,17.439082656474,27.385413663880101]
["ECBCOM202303Shetland",2,34.4990548204159,27.385413663880101]
["ECBHCAI202303Shetland",1,45.871559633027502,97.802699354502195]
["ECBHCAI202601Shetland",4,150.71590052750599,97.802699354502195]
["ECBHCAI202304Shetland",1,37.864445285876599,97.802699354502195]
["ECBHCAI202302Shetland",1,48.947626040137102,97.802699354502195]
["ECBHCAI202404Shetland",1,38.910505836575901,97.802699354502195]
["ECBHCAI202503Shetland",4,139.616055846422,97.802699354502195]
["ECBHCAI202501Shetland",3,100.772589855559,97.802699354502195]
["ECBHCAI202401Shetland",3,127.01100762066,97.802699354502195]
["ECBHCAI202502Shetland",6,219.13805697589501,97.802699354502195]
["ECBHCAI202402Shetland",4,164.00164001639999,97.802699354502195]
["ECBHCAI202504Shetland",1,36.036036036036002,97.802699354502195]
["ECBHCAI202403Shetland",4,151.97568389057699,97.802699354502195]
["SABCAUN202303Shetland",4,68.9981096408318,25.9440761026232]
["SABCAUN202401Shetland",2,34.6871756962313,25.9440761026232]
["SABCAUN202503Shetland",0,0,25.9440761026232]
["SABCAUN202302Shetland",3,52.317247969421899,25.9440761026232]
["SABCAUN202402Shetland",1,17.3435878481157,25.9440761026232]
["SABCAUN202601Shetland",1,17.4883810071391,25.9440761026232]
["SABCAUN202404Shetland",2,34.310141177794002,25.9440761026232]
["SABCAUN202504Shetland",0,0,25.9440761026232]
["SABCAUN202304Shetland",2,34.4990548204159,25.9440761026232]
["SABCAUN202502Shetland",2,34.592401992143301,25.9440761026232]
["SABCAUN202501Shetland",2,34.976762014278201,25.9440761026232]
["SABCAUN202403Shetland",0,0,25.9440761026232]
["SABHCAI202502Shetland",2,73.0460189919649,65.201799569668097]
["SABHCAI202302Shetland",1,48.947626040137102,65.201799569668097]
["SABHCAI202601Shetland",0,0,65.201799569668097]
["SABHCAI202303Shetland",2,91.743119266055004,65.201799569668097]
["SABHCAI202504Shetland",1,36.036036036036002,65.201799569668097]
["SABHCAI202501Shetland",4,134.363453140746,65.201799569668097]
["SABHCAI202402Shetland",0,0,65.201799569668097]
["SABHCAI202304Shetland",2,75.728890571753098,65.201799569668097]
["SABHCAI202503Shetland",1,34.9040139616056,65.201799569668097]
["SABHCAI202404Shetland",0,0,65.201799569668097]
["SABHCAI202403Shetland",2,75.987841945288693,65.201799569668097]
["SABHCAI202401Shetland",3,127.01100762066,65.201799569668097]
["CDICA202601Tayside",5,4.8382949053417397,5.8121481858932,10.555217821215701,12.926752638877,"-"]
["CDICA202502Tayside",5,4.7851268294588696,5.8121481858932,10.5290850072728,12.8875534179626,"-"]
["CDICA202302Tayside",4,3.8403801239811499,5.8121481858932,10.536643753754101,12.8988915376846,"-"]
["CDICA202501Tayside",9,8.7089308296151398,5.8121481858932,10.555217821215701,12.926752638877,"-"]
["CDICA202504Tayside",9,8.5196062463626294,5.8121481858932,10.5033794381254,12.848995064241601,"-"]
["CDICA202401Tayside",3,2.8789420595867599,5.8121481858932,10.535542144890499,12.897239124389101,"-"]
["CDICA202503Tayside",6,5.6797374975750898,5.8121481858932,10.5033794381254,12.848995064241601,"-"]
["CDICA202303Tayside",6,5.6979552926459398,5.8121481858932,10.5108969922212,12.8602713953851,"-"]
["CDICA202403Tayside",6,5.6952984222259797,5.8121481858932,10.5098013867203,12.858627987133801,"-"]
["CDICA202304Tayside",6,5.6979552926459398,5.8121481858932,10.5108969922212,12.8602713953851,"-"]
["CDICA202404Tayside",4,3.7968656148173201,5.8121481858932,10.5098013867203,12.858627987133801,"-"]
["CDICA202402Tayside",7,6.7175314723691004,5.8121481858932,10.535542144890499,12.897239124389101,"-"]
["CDIHCAI202401Tayside",6,4.9641341309042204,11.5379520277595,17.7172692209848,20.806927817597501,"-"]
["CDIHCAI202403Tayside",13,11.2158886003434,11.5379520277595,17.848099767574599,21.003173637482199,"-"]
["CDIHCAI202303Tayside",17,14.5599054462611,11.5379520277595,17.8250347809396,20.9685761575297,"-"]
["CDIHCAI202601Tayside",7,5.8938434595177096,11.5379520277595,17.771633952595099,20.8884749150129,"-"]
["CDIHCAI202402Tayside",8,6.9708878297012102,11.5379520277595,17.879472719596102,21.050233065514401,"-"]
["CDIHCAI202304Tayside",22,18.2521114374367,11.5379520277595,17.7257991518401,20.819722713880498,"-"]
["CDIHCAI202404Tayside",9,7.6052696068075596,11.5379520277595,17.782922835680601,20.905408239641201,"-"]
["CDIHCAI202302Tayside",17,14.5455789996064,11.5379520277595,17.8219408829831,20.963935310594898,"-"]
["CDIHCAI202503Tayside",16,14.115944841945501,11.5379520277595,17.918960851073901,21.109465262731099,"-"]
["CDIHCAI202501Tayside",13,11.1683848797251,11.5379520277595,17.834722603461099,20.983107891311899,"-"]
["CDIHCAI202502Tayside",9,7.9793600553235597,11.5379520277595,17.934669016637201,21.133027511076101,"-"]
["CDIHCAI202504Tayside",11,9.5187822881421909,11.5379520277595,17.8575392813493,21.017332908144201,"-"]
["ECBCOM202504Tayside",43,40.704785399288099,42.516262072150298,55.204345929269103,61.548387857828601,"-"]
["ECBCOM202403Tayside",46,43.663954570399198,42.516262072150298,55.221714977588498,61.574441430307601,"-"]
["ECBCOM202501Tayside",45,43.544654148075701,42.516262072150298,55.344550007112097,61.758693974593001,"-"]
["ECBCOM202402Tayside",42,40.305188834214597,42.516262072150298,55.291334418764798,61.678870592072101,"-"]
["ECBCOM202502Tayside",59,56.464496587614597,42.516262072150298,55.273870196865502,61.652674259223097,"-"]
["ECBCOM202503Tayside",51,48.277768729388299,42.516262072150298,55.204345929269103,61.548387857828601,"-"]
["ECBCOM202404Tayside",40,37.968656148173203,42.516262072150298,55.221714977588498,61.574441430307601,"-"]
["ECBCOM202304Tayside",43,40.835346263962599,42.516262072150298,55.224678194220203,61.578886255255199,"-"]
["ECBCOM202601Tayside",48,46.447631091280698,42.516262072150298,55.344550007112097,61.758693974593001,"-"]
["ECBCOM202303Tayside",47,44.633983125726601,42.516262072150298,55.224678194220203,61.578886255255199,"-"]
["ECBCOM202401Tayside",48,46.063072953388101,42.516262072150298,55.291334418764798,61.678870592072101,"-"]
["ECBCOM202302Tayside",36,34.563421115830302,42.516262072150298,55.294313872321503,61.683339772407102,"-"]
["ECBHCAI202401Tayside",59,48.8139856205581,48.146022041761697,60.768840303010499,67.080249433634904,"-"]
["ECBHCAI202601Tayside",69,58.096456958103197,48.146022041761697,60.879894017438701,67.246830005277204,"-"]
["ECBHCAI202503Tayside",63,55.5815328151605,48.146022041761697,61.180846470005797,67.698258684127893,"-"]
["ECBHCAI202501Tayside",51,43.814432989690701,48.146022041761697,61.008768543430399,67.440141794264804,"-"]
["ECBHCAI202302Tayside",64,54.7598268220477,48.146022041761697,60.982658646557503,67.400976948955503,"-"]
["ECBHCAI202502Tayside",49,43.443182523428298,48.146022041761697,61.212934371132,67.746390535817099,"-"]
["ECBHCAI202304Tayside",56,46.459920022566301,48.146022041761697,60.786264844201803,67.106386245421902,"-"]
["ECBHCAI202404Tayside",52,43.941557728221497,48.146022041761697,60.902954416363997,67.281420603665197,"-"]
["ECBHCAI202303Tayside",51,43.679716338783301,48.146022041761697,60.988978715652898,67.410457052598602,"-"]
["ECBHCAI202403Tayside",56,48.314597047633001,48.146022041761697,61.036094784530398,67.481131155914795,"-"]
["ECBHCAI202504Tayside",60,51.920630662593801,48.146022041761697,61.055377378889403,67.510055047453207,"-"]
["ECBHCAI202402Tayside",62,54.0243806801844,48.146022041761697,61.100181973988903,67.577261940102503,"-"]
["SABCAUN202503Tayside",14,13.2527208276752,12.022388713285901,18.769438042944699,22.1429627077741,"-"]
["SABCAUN202304Tayside",5,4.7482960772049498,12.022388713285901,18.780249982411199,22.159180616973799,"-"]
["SABCAUN202401Tayside",12,11.515768238347,12.022388713285901,18.8156952742453,22.212348554725001,"-"]
["SABCAUN202404Tayside",16,15.1874624592693,12.022388713285901,18.778674254427798,22.156817024998801,"-"]
["SABCAUN202302Tayside",16,15.3615204959246,12.022388713285901,18.817279636419201,22.214725097985799,"-"]
["SABCAUN202601Tayside",21,20.320838602435298,12.022388713285901,18.843993337509101,22.254795649620799,"-"]
["SABCAUN202303Tayside",14,13.2952290161739,12.022388713285901,18.780249982411199,22.159180616973799,"-"]
["SABCAUN202504Tayside",11,10.412852078887701,12.022388713285901,18.769438042944699,22.1429627077741,"-"]
["SABCAUN202403Tayside",11,10.441380440747601,12.022388713285901,18.778674254427798,22.156817024998801,"-"]
["SABCAUN202502Tayside",16,15.3124058542684,12.022388713285901,18.8064084530053,22.198418322864999,"-"]
["SABCAUN202402Tayside",14,13.435062944738201,12.022388713285901,18.8156952742453,22.212348554725001,"-"]
["SABCAUN202501Tayside",10,9.6765898106834793,12.022388713285901,18.843993337509101,22.254795649620799,"-"]
["SABHCAI202601Tayside",31,26.1013067492927,23.289569833810798,32.146047006398298,36.574285592692,"-"]
["SABHCAI202504Tayside",33,28.556346864426601,23.289569833810798,32.268096638106897,36.757360040255001,"-"]
["SABHCAI202302Tayside",29,24.813046528740401,23.289569833810798,32.217520364515799,36.681495629868301,"-"]
["SABHCAI202502Tayside",17,15.072124548944499,23.289569833810798,32.377678382594702,36.921732656986599,"-"]
["SABHCAI202304Tayside",30,24.8892428692319,23.289569833810798,32.080927407501399,36.476606194346701,"-"]
["SABHCAI202503Tayside",21,18.527177605053499,23.289569833810798,32.355361072951297,36.888256692521601,"-"]
["SABHCAI202501Tayside",16,13.745704467354001,23.289569833810798,32.235679939708199,36.708734992657,"-"]
["SABHCAI202303Tayside",27,23.124555708767598,23.289569833810798,32.2219160069236,36.688089093480102,"-"]
["SABHCAI202403Tayside",33,28.471101831640901,23.289569833810798,32.254685488922,36.737243316477503,"-"]
["SABHCAI202404Tayside",25,21.125748907798801,23.289569833810798,32.162085639193002,36.598343541884098,"-"]
["SABHCAI202402Tayside",29,25.269468382666901,23.289569833810798,32.299258477528902,36.804102799387998,"-"]
["SABHCAI202401Tayside",28,23.165959277553,23.289569833810798,32.068808544393697,36.458427899685198,"-"]
["CDICA202504Western Isles",0,0,11.5281157935186]
["CDICA202403Western Isles",1,15.2892423887979,11.5281157935186]
["CDICA202601Western Isles",1,15.586301135878401,11.5281157935186]
["CDICA202503Western Isles",0,0,11.5281157935186]
["CDICA202302Western Isles",1,15.409101079481401,11.5281157935186]
["CDICA202303Western Isles",2,30.483221700713202,11.5281157935186]
["CDICA202502Western Isles",1,15.4150231014182,11.5281157935186]
["CDICA202304Western Isles",2,30.483221700713202,11.5281157935186]
["CDICA202501Western Isles",0,0,11.5281157935186]
["CDICA202404Western Isles",0,0,11.5281157935186]
["CDICA202402Western Isles",2,30.914512082844102,11.5281157935186]
["CDICA202401Western Isles",0,0,11.5281157935186]
["CDIHCAI202601Western Isles",0,0,10.1645384664253]
["CDIHCAI202503Western Isles",1,14.705882352941201,10.1645384664253]
["CDIHCAI202501Western Isles",1,15.5134967421657,10.1645384664253]
["CDIHCAI202404Western Isles",2,30.534351145038201,10.1645384664253]
["CDIHCAI202403Western Isles",1,13.8504155124654,10.1645384664253]
["CDIHCAI202504Western Isles",1,14.2186833499218,10.1645384664253]
["CDIHCAI202303Western Isles",1,17.1703296703297,10.1645384664253]
["CDIHCAI202302Western Isles",0,0,10.1645384664253]
["CDIHCAI202304Western Isles",1,14.8720999405116,10.1645384664253]
["CDIHCAI202402Western Isles",0,0,10.1645384664253]
["CDIHCAI202502Western Isles",0,0,10.1645384664253]
["CDIHCAI202401Western Isles",0,0,10.1645384664253]
["ECBCOM202504Western Isles",1,15.247468502489699,23.056231587037299]
["ECBCOM202503Western Isles",2,30.494937004979501,23.056231587037299]
["ECBCOM202502Western Isles",3,46.2450693042545,23.056231587037299]
["ECBCOM202601Western Isles",0,0,23.056231587037299]
["ECBCOM202501Western Isles",3,46.758903407635103,23.056231587037299]
["ECBCOM202403Western Isles",0,0,23.056231587037299]
["ECBCOM202304Western Isles",0,0,23.056231587037299]
["ECBCOM202401Western Isles",2,30.914512082844102,23.056231587037299]
["ECBCOM202404Western Isles",2,30.578484777595801,23.056231587037299]
["ECBCOM202402Western Isles",0,0,23.056231587037299]
["ECBCOM202302Western Isles",3,46.2273032384442,23.056231587037299]
["ECBCOM202303Western Isles",2,30.483221700713202,23.056231587037299]
["ECBHCAI202502Western Isles",7,107.197549770291,68.610634648370507]
["ECBHCAI202501Western Isles",7,108.59447719516,68.610634648370507]
["ECBHCAI202401Western Isles",5,69.570057047446795,68.610634648370507]
["ECBHCAI202403Western Isles",4,55.4016620498615,68.610634648370507]
["ECBHCAI202503Western Isles",4,58.823529411764703,68.610634648370507]
["ECBHCAI202404Western Isles",3,45.801526717557302,68.610634648370507]
["ECBHCAI202302Western Isles",0,0,68.610634648370507]
["ECBHCAI202504Western Isles",2,28.437366699843601,68.610634648370507]
["ECBHCAI202303Western Isles",6,103.021978021978,68.610634648370507]
["ECBHCAI202402Western Isles",5,76.115086010047193,68.610634648370507]
["ECBHCAI202304Western Isles",6,89.232599643069605,68.610634648370507]
["ECBHCAI202601Western Isles",6,86.405529953917096,68.610634648370507]
["SABCAUN202401Western Isles",0,0,2.5618035096708098]
["SABCAUN202302Western Isles",0,0,2.5618035096708098]
["SABCAUN202404Western Isles",0,0,2.5618035096708098]
["SABCAUN202402Western Isles",0,0,2.5618035096708098]
["SABCAUN202501Western Isles",0,0,2.5618035096708098]
["SABCAUN202403Western Isles",1,15.2892423887979,2.5618035096708098]
["SABCAUN202502Western Isles",0,0,2.5618035096708098]
["SABCAUN202503Western Isles",0,0,2.5618035096708098]
["SABCAUN202303Western Isles",1,15.241610850356601,2.5618035096708098]
["SABCAUN202504Western Isles",0,0,2.5618035096708098]
["SABCAUN202304Western Isles",0,0,2.5618035096708098]
["SABCAUN202601Western Isles",1,15.586301135878401,2.5618035096708098]
["SABHCAI202502Western Isles",2,30.627871362940301,27.9524807826695]
["SABHCAI202501Western Isles",1,15.5134967421657,27.9524807826695]
["SABHCAI202302Western Isles",4,67.957866123003697,27.9524807826695]
["SABHCAI202503Western Isles",1,14.705882352941201,27.9524807826695]
["SABHCAI202404Western Isles",2,30.534351145038201,27.9524807826695]
["SABHCAI202303Western Isles",1,17.1703296703297,27.9524807826695]
["SABHCAI202504Western Isles",0,0,27.9524807826695]
["SABHCAI202401Western Isles",1,13.914011409489399,27.9524807826695]
["SABHCAI202402Western Isles",2,30.446034404018899,27.9524807826695]
["SABHCAI202403Western Isles",4,55.4016620498615,27.9524807826695]
["SABHCAI202304Western Isles",1,14.8720999405116,27.9524807826695]
["SABHCAI202601Western Isles",1,14.400921658986199,27.9524807826695]

{"sheet":"trend data","index":12,"n_rows":4805,"n_cols":6,"rows_kept":4805,"cut":false,"hidden":true,"merged":[]}
["ref","cases","OCBD","rate","lower","upper"]
["CDICA201404Ayrshire & Arran",9,93507.287671232902,9.6249182541189402,4.3919795834112403,18.272312122675]
["CDICA201404Borders",0,28925.8082191781,0,0,12.681054457186899]
["CDICA201404Dumfries & Galloway",5,37679.671232876703,13.2697548476414,4.27633736864603,30.967100264289801]
["CDICA201404Fife",5,92345.315068493102,5.41445984161889,1.74487450729834,12.635510054067399]
["CDICA201404Forth Valley",5,75316.493150684895,6.6386521608176201,2.1393851385124099,15.492359086070399]
["CDICA201404Grampian",7,146620.273972603,4.7742374300214498,1.9126815307291301,9.8372572001763494]
["CDICA201404Greater Glasgow & Clyde",19,286745.095890411,6.6260941415582097,3.9874679012393299,10.3480604229095]
["CDICA201404Highland",9,81068.383561643801,11.101738562674599,5.06587254252993,21.0759641553026]
["CDICA201404Lanarkshire",18,165148.821917808,10.899260310169399,6.4562295170274897,17.226550604701501]
["CDICA201404Lothian",21,214521.31506849299,9.7892370244397604,6.0573359146629802,14.9646936454058]
["CDICA201404Orkney",0,5421.6986301369898,0,0,67.655872129556897]
["CDICA201404Shetland",0,5880.4383561643799,0,0,62.377960116021001]
["CDICA201404Tayside",20,103773.47945205501,19.272746857486201,11.7672771298156,29.766847945524098]
["CDICA201404Western Isles",3,6850.8493150684899,43.790190997216598,8.8011155876005898,127.947434213145]
["SABCAUN201404Ayrshire & Arran",7,93507.287671232902,7.4860475309814003,2.9991019635159102,15.424908386820301]
["SABCAUN201404Borders",2,28925.8082191781,6.9142406837710499,0.77651539885174403,24.963800436585199]
["SABCAUN201404Dumfries & Galloway",2,37679.671232876703,5.3079019390565598,0.59611283144174299,19.1641296280856]
["SABCAUN201404Fife",9,92345.315068493102,9.7460277149139998,4.4472434583997096,18.502230944864401]
["SABCAUN201404Forth Valley",9,75316.493150684895,11.949573889471701,5.4527511992701099,22.6855270950436]
["SABCAUN201404Grampian",12,146620.273972603,8.1844070228939199,4.2241290375906297,14.297502011233901]
["SABCAUN201404Greater Glasgow & Clyde",15,286745.095890411,5.2311269538617502,2.9256539857015098,8.6285081565151796]
["SABCAUN201404Highland",1,81068.383561643801,1.2335265069638499,1.6122357269882599E-2,6.8631642632967402]
["SABCAUN201404Lanarkshire",17,165148.821917808,10.2937458484933,5.9930028305636096,16.4822917908321]
["SABCAUN201404Lothian",32,214521.31506849299,14.9169326086701,10.2013358510915,21.059075073184701]
["SABCAUN201404Orkney",0,5421.6986301369898,0,0,67.655872129556897]
["SABCAUN201404Shetland",0,5880.4383561643799,0,0,62.377960116021001]
["SABCAUN201404Tayside",13,103773.47945205501,12.527285457366,6.6637022578195904,21.423499094991701]
["SABCAUN201404Western Isles",0,6850.8493150684899,0,0,53.542229930344703]
["CDICA201501Ayrshire & Arran",6,91257.534246575306,6.5747996037107104,2.40083271893345,14.311032372834299]
["CDICA201501Borders",1,28329.041095890399,3.5299465188924701,4.6136875535201398E-2,19.6401152817071]
["CDICA201501Dumfries & Galloway",5,36695.342465753398,13.6257074168645,4.3910473456359096,31.797772648747902]
["CDICA201501Fife",4,90498.082191780806,4.4199831677353298,1.18910850209431,11.3161322024886]
["CDICA201501Forth Valley",4,74053.972602739697,5.4014657950328697,1.4531568689063801,13.828944297796999]
["CDICA201501Grampian",6,144180,4.16146483562214,1.5195871415478399,9.0580491529184108]
["CDICA201501Greater Glasgow & Clyde",14,281542.191780822,4.9726117110357899,2.7162680670958399,8.3437532892797908]
["CDICA201501Highland",9,79375.068493150698,11.338572893044599,5.1739432311501403,21.5255794862207]
["CDICA201501Lanarkshire",6,161965.47945205501,3.7044930934039701,1.3527208069866801,8.0633819705660006]
["CDICA201501Lothian",29,211963.561643836,13.681596862732899,9.1608135826168304,19.649883671788398]
["CDICA201501Orkney",1,5306.3013698630102,18.845518380834399,0.24631345865424201,104.85375672469]
["CDICA201501Shetland",1,5762.4657534246599,17.353682308752902,0.22681496064352999,96.553395152560299]
["CDICA201501Tayside",5,101756.712328767,4.9136807642187099,1.5834924541473701,11.4668617950631]
["CDICA201501Western Isles",1,6640.2739726027403,15.0596195898832,0.196831252515384,83.789559774056201]
["SABCAUN201501Ayrshire & Arran",9,91257.534246575306,9.8621994055660593,4.5002541624953896,18.722775715777601]
["SABCAUN201501Borders",6,28329.041095890399,21.179679113354801,7.73390364067604,46.100731840769299]
["SABCAUN201501Dumfries & Galloway",1,36695.342465753398,2.7251414833729002,3.5617965530434698E-2,15.162295690870399]
["SABCAUN201501Fife",6,90498.082191780806,6.6299747516030001,2.4209802988318598,14.431129314985499]
["SABCAUN201501Forth Valley",6,74053.972602739697,8.1021986925493099,2.95857286743672,17.6356443951186]
["SABCAUN201501Grampian",9,144180,6.2421972534332104,2.8483985181870999,11.850425482546299]
["SABCAUN201501Greater Glasgow & Clyde",26,281542.191780822,9.2348503204950401,6.0309317991487603,13.5318182105564]
["SABCAUN201501Highland",6,79375.068493150698,7.5590485953630902,2.7602379213981201,16.4533971643813]
["SABCAUN201501Lanarkshire",12,161965.47945205501,7.4089861868079403,3.8239195097774101,12.9429040626617]
["SABCAUN201501Lothian",35,211963.561643836,16.5122720757122,11.499638369984901,22.965397051054801]
["SABCAUN201501Orkney",0,5306.3013698630102,0,0,69.127198716761001]
["SABCAUN201501Shetland",1,5762.4657534246599,17.353682308752902,0.22681496064352999,96.553395152560299]
["SABCAUN201501Tayside",9,101756.712328767,8.8446253755936795,4.0359214537645203,16.790974344308701]
["SABCAUN201501Western Isles",0,6640.2739726027403,0,0,55.240152854983201]
["CDICA201502Ayrshire & Arran",10,92271.506849315105,10.837581764358299,5.1883624522916696,19.932076002709199]
["CDICA201502Borders",3,28643.8082191781,10.4734676934172,2.1049965225916498,30.601677868273601]
["CDICA201502Dumfries & Galloway",3,37103.068493150698,8.0855846209965296,1.62507089423838,23.6246927179543]
["CDICA201502Fife",2,91503.616438356199,2.1857059620669199,0.24546937466188301,7.89147065391625]
["CDICA201502Forth Valley",5,74876.794520547905,6.6776362850681101,2.15194823928032,15.5833347897093]
["CDICA201502Grampian",9,145782,6.1736016792196597,2.8170974355696599,11.720201026694101]
["CDICA201502Greater Glasgow & Clyde",13,284670.43835616403,4.5666842244206203,2.42917941644951,7.80970112654866]
["CDICA201502Highland",11,80257.013698630093,13.7059672333507,6.8325680788249699,24.5254710240356]
["CDICA201502Lanarkshire",11,163765.095890411,6.71693802650171,3.3484638891918301,12.019295401375199]
["CDICA201502Lothian",17,214318.712328767,7.9321118605461898,4.6180631941246597,12.700855852408599]
["CDICA201502Orkney",0,5365.2602739725999,0,0,68.367559170422993]
["CDICA201502Shetland",0,5826.4931506849298,0,0,62.955493082905598]
["CDICA201502Tayside",14,102887.342465753,13.6071159624518,7.4328294107603101,22.831949318976601]
["CDICA201502Western Isles",0,6714.0547945205499,0,0,54.633118208225099]
["SABCAUN201502Ayrshire & Arran",4,92271.506849315105,4.3350327057433198,1.16625427103096,11.098640275012199]
["SABCAUN201502Borders",2,28643.8082191781,6.9823117956114702,0.78416023925846001,25.209570540520001]
["SABCAUN201502Dumfries & Galloway",1,37103.068493150698,2.69519487366551,3.5226559315814497E-2,14.9956770569048]
["SABCAUN201502Fife",11,91503.616438356199,12.021382791368101,5.9927851077721801,21.5110739941892]
["SABCAUN201502Forth Valley",10,74876.794520547905,13.355272570136201,6.3936767675328703,24.562518991118701]
["SABCAUN201502Grampian",13,145782,8.9174246477617292,4.7434907555559196,15.2501066189601]
["SABCAUN201502Greater Glasgow & Clyde",23,284670.43835616403,8.0795182432057207,5.1200410307776103,12.1238563692011]
["SABCAUN201502Highland",3,80257.013698630093,3.7379910636410898,0.75127535795891798,10.9217693463575]
["SABCAUN201502Lanarkshire",23,163765.095890411,14.044506782685399,8.9000914187987998,21.074719789479499]
["SABCAUN201502Lothian",28,214318.712328767,13.0646548291349,8.6793828338362804,18.882883027467699]
["SABCAUN201502Orkney",0,5365.2602739725999,0,0,68.367559170422993]
["SABCAUN201502Shetland",2,5826.4931506849298,34.325965006324402,3.85503508294414,123.933571219527]
["SABCAUN201502Tayside",11,102887.342465753,10.6913053990693,5.3297276103870903,19.131032221933001]
["SABCAUN201502Western Isles",0,6714.0547945205499,0,0,54.633118208225099]
["CDICA201503Ayrshire & Arran",17,93285.479452054802,18.223629336372099,10.609768669585501,29.179579584628801]
["CDICA201503Borders",1,28958.5753424658,3.45320855109046,4.51338999800883E-2,19.213156253844001]
["CDICA201503Dumfries & Galloway",2,37510.794520547897,5.3317985544252497,0.59879658091806298,19.250408131316401]
["CDICA201503Fife",6,92509.150684931505,6.4858448656985903,2.3683502923355202,14.117409112485801]
["CDICA201503Forth Valley",4,75699.616438356199,5.2840426255756396,1.42156650219102,13.5283150739319]
["CDICA201503Grampian",14,147384,9.4989958204418397,5.18878619846401,15.938762611560801]
["CDICA201503Greater Glasgow & Clyde",17,287798.68493150698,5.9069067685440704,3.4389919378999898,9.45810809527954]
["CDICA201503Highland",7,81138.958904109604,8.6271750273165697,3.4562668026005201,17.776187485143598]
["CDICA201503Lanarkshire",18,165564.712328767,10.871881904555099,6.4400117861516604,17.183278357193998]
["CDICA201503Lothian",33,216673.86301369901,15.2302633741817,10.482027654558101,21.3897603767651]
["CDICA201503Orkney",0,5424.2191780821904,0,0,67.624433527266206]
["CDICA201503Shetland",1,5890.5205479452097,16.976428345519199,0.22188420062954001,94.4544083014177]
["CDICA201503Tayside",11,104017.97260274,10.5750955577751,5.2717957885350604,18.923086219520702]
["CDICA201503Western Isles",0,6787.8356164383604,0,0,54.039279966831401]
["SABCAUN201503Ayrshire & Arran",5,93285.479452054802,5.3598909812858997,1.7272890387433,12.5081648703288]
["SABCAUN201503Borders",2,28958.5753424658,6.9064171021809102,0.77563675839695501,24.935553469427401]
["SABCAUN201503Dumfries & Galloway",0,37510.794520547897,0,0,9.7787784538823406]
["SABCAUN201503Fife",14,92509.150684931505,15.133638019963399,8.2666856133939906,25.393364562852]
["SABCAUN201503Forth Valley",8,75699.616438356199,10.568085251151301,4.5503963239559502,20.824620035979098]
["SABCAUN201503Grampian",8,147384,5.4279976116810502,2.3371821660829601,10.695976152079799]
["SABCAUN201503Greater Glasgow & Clyde",31,287798.68493150698,10.7714182249921,7.3172629337083501,15.2897778984625]
["SABCAUN201503Highland",4,81138.958904109604,4.9298143013237601,1.3262684216179399,12.621412401459899]
["SABCAUN201503Lanarkshire",14,165564.712328767,8.4559081479873299,4.6190039792769602,14.1885221536674]
["SABCAUN201503Lothian",17,216673.86301369901,7.8458932533663397,4.5678668550580896,12.562803071404099]
["SABCAUN201503Orkney",0,5424.2191780821904,0,0,67.624433527266206]
["SABCAUN201503Shetland",1,5890.5205479452097,16.976428345519199,0.22188420062954001,94.4544083014177]
["SABCAUN201503Tayside",8,104017.97260274,7.6909785874727703,3.31157441110228,15.155224715047]
["SABCAUN201503Western Isles",1,6787.8356164383604,14.732236555320601,0.19255231224330999,81.968047605055006]
["CDICA201504Ayrshire & Arran",7,93285.479452054802,7.5038473738002596,3.0062330354637501,15.4615847428873]
["CDICA201504Borders",2,28958.5753424658,6.9064171021809102,0.77563675839695501,24.935553469427401]
["CDICA201504Dumfries & Galloway",4,37510.794520547897,10.663597108850499,2.8688285687611201,27.301161578779499]
["CDICA201504Fife",7,92509.150684931505,7.5668190099816899,3.0314610822983301,15.5913370207144]
["CDICA201504Forth Valley",3,75699.616438356199,3.96303196918173,0.79650491682810198,11.5793003093706]
["CDICA201504Grampian",15,147384,10.177495521901999,5.6920488836789804,16.7873201889699]
["CDICA201504Greater Glasgow & Clyde",25,287798.68493150698,8.6866276008001009,5.6199461861361799,12.8237843240142]
["CDICA201504Highland",9,81138.958904109604,11.092082177978501,5.0614662043860097,21.057632106085499]
["CDICA201504Lanarkshire",19,165564.712328767,11.475875343697099,6.9059816528436802,17.9220290151851]
["CDICA201504Lothian",18,216673.86301369901,8.3074163859172998,4.9209382430249997,13.130077151456399]
["CDICA201504Orkney",0,5424.2191780821904,0,0,67.624433527266206]
["CDICA201504Shetland",0,5890.5205479452097,0,0,62.271194245047901]
["CDICA201504Tayside",7,104017.97260274,6.7296062640386696,2.69605225943863,13.866270508245099]
["CDICA201504Western Isles",0,6787.8356164383604,0,0,54.039279966831401]
["SABCAUN201504Ayrshire & Arran",3,93285.479452054802,3.2159345887715398,0.64635050437985397,9.3964097863098708]
["SABCAUN201504Borders",4,28958.5753424658,13.812834204361801,3.71606813128236,35.363903439411303]
["SABCAUN201504Dumfries & Galloway",4,37510.794520547897,10.663597108850499,2.8688285687611201,27.301161578779499]
["SABCAUN201504Fife",7,92509.150684931505,7.5668190099816899,3.0314610822983301,15.5913370207144]
["SABCAUN201504Forth Valley",2,75699.616438356199,2.6420213127878198,0.29671663560825101,9.5389929014834092]
["SABCAUN201504Grampian",11,147384,7.4634967160614396,3.7206312075875201,13.3551882425595]
["SABCAUN201504Greater Glasgow & Clyde",35,287798.68493150698,12.1612786411201,8.4694768744277091,16.914001377959401]
["SABCAUN201504Highland",6,81138.958904109604,7.3947214519856397,2.7002327491938201,16.095714617329499]
["SABCAUN201504Lanarkshire",10,165564.712328767,6.0399343914195196,2.8915462408602801,11.1084219670733]
["SABCAUN201504Lothian",16,216673.86301369901,7.3843701208153796,4.2180490130551602,11.9925102520598]
["SABCAUN201504Orkney",0,5424.2191780821904,0,0,67.624433527266206]
["SABCAUN201504Shetland",1,5890.5205479452097,16.976428345519199,0.22188420062954001,94.4544083014177]
["SABCAUN201504Tayside",4,104017.97260274,3.8454892937363798,1.0345523592202901,9.8453011198845601]
["SABCAUN201504Western Isles",1,6787.8356164383604,14.732236555320601,0.19255231224330999,81.968047605055006]
["CDICA201601Ayrshire & Arran",10,91927.404371584693,10.8781489789252,5.2077835203333596,20.006685710072599]
["CDICA201601Borders",0,28707.267759562801,0,0,12.777591804199201]
["CDICA201601Dumfries & Galloway",2,36894.781420765001,5.4208208396495996,0.60879437799792702,19.571822248121201]
["CDICA201601Fife",5,91703.633879781395,5.4523466393433599,1.7570839814557599,12.7239249703411]
["CDICA201601Forth Valley",1,75037.704918032803,1.33266336049636,1.7418089272591902E-2,7.4147474733039003]
["CDICA201601Grampian",19,145179.80874316901,13.087219334757499,7.8756603662670397,20.438486618315999]
["CDICA201601Greater Glasgow & Clyde",19,286003.55191256799,6.64327413871011,3.9978065239215699,10.374890655742799]
["CDICA201601Highland",2,80259.016393442595,2.4919318599615998,0.27986058782872503,8.9970963550145608]
["CDICA201601Lanarkshire",12,163797.51366120201,7.3261185299923,3.7811499267822199,12.7981409189576]
["CDICA201601Lothian",16,216105.10928961699,7.4038045896255396,4.22915023640161,12.024072600999]
["CDICA201601Orkney",0,5380.4371584699502,0,0,68.174711169724503]
["CDICA201601Shetland",0,5778.2513661202202,0,0,63.481099385234003]
["CDICA201601Tayside",11,102646.010928962,10.716441779323301,5.3422583589593504,19.176011285071901]
["CDICA201601Western Isles",0,6638.52459016393,0,0,55.254709727072601]
["SABCAUN201601Ayrshire & Arran",6,91927.404371584693,6.5268893873551299,2.3833379781153798,14.206748638183701]
["SABCAUN201601Borders",2,28707.267759562801,6.9668768785345998,0.78242679500357204,25.153842918748499]
["SABCAUN201601Dumfries & Galloway",5,36894.781420765001,13.552052099123999,4.3673110376731996,31.625886156822698]
["SABCAUN201601Fife",6,91703.633879781395,6.5428159672120296,2.3891536768934198,14.241415215670299]
["SABCAUN201601Forth Valley",5,75037.704918032803,6.6633168024818099,2.1473336145802699,15.5499179814808]
["SABCAUN201601Grampian",9,145179.80874316901,6.1992091585693299,2.8287824726283701,11.768815242732]
["SABCAUN201601Greater Glasgow & Clyde",37,286003.55191256799,12.936902270119701,9.1075061731573204,17.832424242962599]
["SABCAUN201601Highland",9,80259.016393442595,11.213693369827199,5.1169590259988498,21.288503433654402]
["SABCAUN201601Lanarkshire",22,163797.51366120201,13.4312173049859,8.4142724408430993,20.336083944214401]
["SABCAUN201601Lothian",25,216105.10928961699,11.5684446712899,7.4843816838602502,17.078116646240201]
["SABCAUN201601Orkney",0,5380.4371584699502,0,0,68.174711169724503]
["SABCAUN201601Shetland",4,5778.2513661202202,69.225095042651006,18.623634061411799,177.23151819916299]
["SABCAUN201601Tayside",8,102646.010928962,7.7937758395078403,3.35583675632913,15.357788723900001]
["SABCAUN201601Western Isles",1,6638.52459016393,15.063588097296,0.19688312144075801,83.811639979142896]
["CDICA201602Ayrshire & Arran",5,91927.404371584693,5.4390744894626097,1.75280687225902,12.6929522808831]
["CDICA201602Borders",0,28707.267759562801,0,0,12.777591804199201]
["CDICA201602Dumfries & Galloway",5,36894.781420765001,13.552052099123999,4.3673110376731996,31.625886156822698]
["CDICA201602Fife",4,91703.633879781395,4.3618773114746903,1.17347627792536,11.167368389091299]
["CDICA201602Forth Valley",5,75037.704918032803,6.6633168024818099,2.1473336145802699,15.5499179814808]
["CDICA201602Grampian",8,145179.80874316901,5.5104081409505197,2.3726664151717198,10.858367722379899]
["CDICA201602Greater Glasgow & Clyde",15,286003.55191256799,5.2446901095079799,2.9332395596562399,8.6508799704959607]
["CDICA201602Highland",2,80259.016393442595,2.4919318599615998,0.27986058782872503,8.9970963550145608]
["CDICA201602Lanarkshire",14,163797.51366120201,8.5471382849910107,4.6688380548694504,14.3416010184451]
["CDICA201602Lothian",23,216105.10928961699,10.6429690975867,6.7445158026304703,15.9704854666917]
["CDICA201602Orkney",0,5380.4371584699502,0,0,68.174711169724503]
["CDICA201602Shetland",0,5778.2513661202202,0,0,63.481099385234003]
["CDICA201602Tayside",10,102646.010928962,9.7422197993848005,4.66397103229545,17.917527147527299]
["CDICA201602Western Isles",0,6638.52459016393,0,0,55.254709727072601]
["SABCAUN201602Ayrshire & Arran",6,91927.404371584693,6.5268893873551299,2.3833379781153798,14.206748638183701]
["SABCAUN201602Borders",7,28707.267759562801,24.3840690748711,9.7688812605450295,50.243072866046198]
["SABCAUN201602Dumfries & Galloway",1,36894.781420765001,2.7104104198247998,3.5425428549553398E-2,15.080334169708999]
["SABCAUN201602Fife",10,91703.633879781395,10.9046932786867,5.2204912858846999,20.0555049957573]
["SABCAUN201602Forth Valley",4,75037.704918032803,5.3306534419854499,1.43410621466935,13.647649048868599]
["SABCAUN201602Grampian",9,145179.80874316901,6.1992091585693299,2.8287824726283701,11.768815242732]
["SABCAUN201602Greater Glasgow & Clyde",35,286003.55191256799,12.2376102555186,8.5226364855190795,17.0201639838183]
["SABCAUN201602Highland",6,80259.016393442595,7.4757955798848004,2.7298375174987601,16.2721845538899]
["SABCAUN201602Lanarkshire",15,163797.51366120201,9.1576481624903696,5.1216707379780697,15.1051279316042]
["SABCAUN201602Lothian",18,216105.10928961699,8.3292801633287397,4.9338893572346301,13.1646333926388]
["SABCAUN201602Orkney",0,5380.4371584699502,0,0,68.174711169724503]
["SABCAUN201602Shetland",0,5778.2513661202202,0,0,63.481099385234003]
["SABCAUN201602Tayside",9,102646.010928962,8.76799781944632,4.0009552698198503,16.645501667434399]
["SABCAUN201602Western Isles",1,6638.52459016393,15.063588097296,0.19688312144075801,83.811639979142896]
["CDICA201603Ayrshire & Arran",9,92937.595628415307,9.6839174062388693,4.4189016896263604,18.384318364603001]
["CDICA201603Borders",0,29022.732240437199,0,0,12.638704936762201]
["CDICA201603Dumfries & Galloway",2,37300.218579234999,5.3618988740012403,0.60217704780229797,19.359085049771998]
["CDICA201603Fife",6,92711.366120218605,6.4716984023510298,2.36318461518806,14.086617224195599]
["CDICA201603Forth Valley",4,75862.295081967197,5.2727115567464802,1.41851810364034,13.4993050374679]
["CDICA201603Grampian",20,146775.19125683099,13.626281000720001,8.3197390579501302,21.045854937583201]
["CDICA201603Greater Glasgow & Clyde",20,289146.44808743201,6.9169101444235697,4.2232277087087402,10.683200170915599]
["CDICA201603Highland",8,81140.983606557405,9.8593825763698106,4.2452437850178297,19.428107463448701]
["CDICA201603Lanarkshire",15,165597.48633879799,9.0581085085502604,5.0660004038696202,14.9409417584345]
["CDICA201603Lothian",20,218479.89071038301,9.1541605659772394,5.5892159569792597,14.138643943767301]
["CDICA201603Orkney",0,5439.5628415300498,0,0,67.433681700488407]
["CDICA201603Shetland",1,5841.7486338797798,17.118162089351198,0.22373667971479499,95.242994489132101]
["CDICA201603Tayside",14,103773.989071038,13.490856548278501,7.3693231986188401,22.6368727825832]
["CDICA201603Western Isles",0,6711.47540983607,0,0,54.654115056126201]
["ECBCOM201603Ayrshire & Arran",47,92937.595628415307,50.571568677025198,37.154669729380103,67.251301389400197]
["ECBCOM201603Borders",19,29022.732240437199,65.465924581447396,39.396251745992899,102.239015736523]
["ECBCOM201603Dumfries & Galloway",30,37300.218579234999,80.428483110018504,54.2538036950289,114.821366512499]
["ECBCOM201603Fife",42,92711.366120218605,45.3018888164572,32.645975185300401,61.236852986859702]
["ECBCOM201603Forth Valley",38,75862.295081967197,50.0907597890915,35.4424977029121,68.755771755445707]
["ECBCOM201603Grampian",56,146775.19125683099,38.1535868020161,28.8188370922466,49.5467462859893]
["ECBCOM201603Greater Glasgow & Clyde",189,289146.44808743201,65.364800864802703,56.377135830314799,75.377728219600996]
["ECBCOM201603Highland",41,81140.983606557405,50.529335703895299,36.256507092579497,68.550878673931294]
["ECBCOM201603Lanarkshire",117,165597.48633879799,70.653246366692002,58.430914213257303,84.676981409748393]
["ECBCOM201603Lothian",92,218479.89071038301,42.109138603495303,33.944865160567197,51.643839131877399]
["ECBCOM201603Orkney",2,5439.5628415300498,36.767660532025999,4.1292537949807304,132.749289765974]
["ECBCOM201603Shetland",1,5841.7486338797798,17.118162089351198,0.22373667971479499,95.242994489132101]
["ECBCOM201603Tayside",44,103773.989071038,42.399834866018203,30.804613518759801,56.921453924108398]
["ECBCOM201603Western Isles",2,6711.47540983607,29.799706888128998,3.34670607203681,107.591559196093]
["SABCAUN201603Ayrshire & Arran",15,92937.595628415307,16.139862343731401,9.0266692074358694,26.621975552535901]
["SABCAUN201603Borders",4,29022.732240437199,13.782299911883699,3.70785348760311,35.2857289131111]
["SABCAUN201603Dumfries & Galloway",0,37300.218579234999,0,0,9.8339839072617306]
["SABCAUN201603Fife",6,92711.366120218605,6.4716984023510298,2.36318461518806,14.086617224195599]
["SABCAUN201603Forth Valley",1,75862.295081967197,1.31817788918662,1.72287622152811E-2,7.3341523920723404]
["SABCAUN201603Grampian",9,146775.19125683099,6.1318264503240103,2.7980348370563202,11.640893337919699]
["SABCAUN201603Greater Glasgow & Clyde",31,289146.44808743201,10.721210723856499,7.2831558663399001,15.2185095171625]
["SABCAUN201603Highland",9,81140.983606557405,11.091805398416,5.0613399061510398,21.057106657201601]
["SABCAUN201603Lanarkshire",13,165597.48633879799,7.8503607074102302,4.1758820415406097,13.4252704692436]
["SABCAUN201603Lothian",23,218479.89071038301,10.527284650873799,6.6712058482540497,15.7968932333581]
["SABCAUN201603Orkney",0,5439.5628415300498,0,0,67.433681700488407]
["SABCAUN201603Shetland",1,5841.7486338797798,17.118162089351198,0.22373667971479499,95.242994489132101]
["SABCAUN201603Tayside",13,103773.989071038,12.5272239376872,6.6636695333459501,21.4233938873002]
["SABCAUN201603Western Isles",2,6711.47540983607,29.799706888128998,3.34670607203681,107.591559196093]
["CDICA201604Ayrshire & Arran",7,92937.595628415307,7.5319357604080102,3.0174859610000402,15.519460516233]
["CDICA201604Borders",1,29022.732240437199,3.4455749779709102,4.5034128153229103E-2,19.170684149726601]
["CDICA201604Dumfries & Galloway",8,37300.218579234999,21.447595496004901,9.23488573221751,42.262909152916201]
["CDICA201604Fife",4,92711.366120218605,4.3144656015673499,1.16072110099139,11.045983950079499]
["CDICA201604Forth Valley",4,75862.295081967197,5.2727115567464802,1.41851810364034,13.4993050374679]
["CDICA201604Grampian",12,146775.19125683099,8.1757686004320202,4.2196705824993597,14.2824113806999]
["CDICA201604Greater Glasgow & Clyde",12,289146.44808743201,4.1501460866541402,2.1419697903392101,7.2499720327779302]
["CDICA201604Highland",9,81140.983606557405,11.091805398416,5.0613399061510398,21.057106657201601]
["CDICA201604Lanarkshire",13,165597.48633879799,7.8503607074102302,4.1758820415406097,13.4252704692436]
["CDICA201604Lothian",16,218479.89071038301,7.3233284527817899,4.1831812120928902,11.8933761596838]
["CDICA201604Orkney",0,5439.5628415300498,0,0,67.433681700488407]
["CDICA201604Shetland",0,5841.7486338797798,0,0,62.791087435394502]
["CDICA201604Tayside",8,103773.989071038,7.7090608847305804,3.3193602698472899,15.1908562377706]
["CDICA201604Western Isles",0,6711.47540983607,0,0,54.654115056126201]
["ECBCOM201604Ayrshire & Arran",51,92937.595628415307,54.8755319686869,40.8551669205644,72.1530103046899]
["ECBCOM201604Borders",11,29022.732240437199,37.901324757680101,18.894206973906101,67.820667180290698]
["ECBCOM201604Dumfries & Galloway",23,37300.218579234999,61.661837051014203,39.0754901753957,92.527701945130104]
["ECBCOM201604Fife",38,92711.366120218605,40.987423214889901,29.001290043485799,56.260314821987102]
["ECBCOM201604Forth Valley",40,75862.295081967197,52.7271155674648,37.6644521707384,71.801647916731696]
["ECBCOM201604Grampian",41,146775.19125683099,27.933876051476101,20.043500692717501,37.896634131878301]
["ECBCOM201604Greater Glasgow & Clyde",197,289146.44808743201,68.131564922572196,58.948643646131302,78.339259652694693]
["ECBCOM201604Highland",36,81140.983606557405,44.367221593664098,31.069721260357401,61.425084767139602]
["ECBCOM201604Lanarkshire",79,165597.48633879799,47.7060381450314,37.767844033302197,59.456924969356699]
["ECBCOM201604Lothian",70,218479.89071038301,32.039561980920297,24.975225644883199,40.480804056707598]
["ECBCOM201604Orkney",1,5439.5628415300498,18.383830266013,0.24027913292845801,102.28499038481699]
["ECBCOM201604Shetland",3,5841.7486338797798,51.354486268053599,10.3214158078396,150.049008778]
["ECBCOM201604Tayside",40,103773.989071038,38.545304423652901,27.533988143418402,52.489432567749297]
["ECBCOM201604Western Isles",1,6711.47540983607,14.899853444064499,0.19474308751205399,82.9006438924131]
["SABCAUN201604Ayrshire & Arran",10,92937.595628415307,10.7599082291543,5.15117717772105,19.7892217349631]
["SABCAUN201604Borders",2,29022.732240437199,6.8911499559418301,0.77392215592744595,24.880431582675101]
["SABCAUN201604Dumfries & Galloway",5,37300.218579234999,13.404747185003099,4.3198402655245802,31.282126524683299]
["SABCAUN201604Fife",7,92711.366120218605,7.5503148027428697,3.0248490750767099,15.557330305741999]
["SABCAUN201604Forth Valley",4,75862.295081967197,5.2727115567464802,1.41851810364034,13.4993050374679]
["SABCAUN201604Grampian",16,146775.19125683099,10.901024800576,6.2268082651689101,17.703697070973899]
["SABCAUN201604Greater Glasgow & Clyde",28,289146.44808743201,9.683674202193,6.43325956469549,13.9962126537273]
["SABCAUN201604Highland",11,81140.983606557405,13.5566510425085,6.7581323953135204,24.258284487721099]
["SABCAUN201604Lanarkshire",12,165597.48633879799,7.2464868068402097,3.74005047105633,12.6590306915777]
["SABCAUN201604Lothian",25,218479.89071038301,11.4427007074715,7.40302970903568,16.892484943563598]
["SABCAUN201604Orkney",0,5439.5628415300498,0,0,67.433681700488407]
["SABCAUN201604Shetland",2,5841.7486338797798,34.236324178702397,3.8449678194226702,123.60992386126]
["SABCAUN201604Tayside",13,103773.989071038,12.5272239376872,6.6636695333459501,21.4233938873002]
["SABCAUN201604Western Isles",0,6711.47540983607,0,0,54.654115056126201]
["CDICA201701Ayrshire & Arran",12,91075.068493150698,13.1759439751642,6.80035675003354,23.01731633799]
["CDICA201701Borders",0,28595.342465753401,0,0,12.827604694185499]
["CDICA201701Dumfries & Galloway",2,36446.301369863002,5.4875252764434803,0.61628573167089895,19.8126579847575]
["CDICA201701Fife",3,91084.931506849302,3.29362930878903,0.66196587841335897,9.6234204444451095]
["CDICA201701Forth Valley",2,74626.027397260303,2.6800301044477499,0.30098527671658898,9.6762232834198407]
["CDICA201701Grampian",9,143376.16438356199,6.2771940082893396,2.8643680078757998,11.916864657522]
["CDICA201701Greater Glasgow & Clyde",16,285031.23287671199,5.6134199184131699,3.2064590424555202,9.1164168127116501]
["CDICA201701Highland",4,79616.712328767098,5.0240708049869101,1.35162625797842,12.8627298490426]
["CDICA201701Lanarkshire",10,162934.52054794499,6.1374348212829402,2.9382234037537001,11.2877411196841]
["CDICA201701Lothian",10,216229.31506849299,4.6247198243366698,2.21402921894154,8.5056121406224499]
["CDICA201701Orkney",0,5358.0821917808198,0,0,68.459149396442598]
["CDICA201701Shetland",0,5698.3561643835601,0,0,64.371151725863101]
["CDICA201701Tayside",6,101944.10958904101,5.8855779153766798,2.1491587395444798,12.8108385284104]
["CDICA201701Western Isles",0,6581.0958904109602,0,0,55.736879594780703]
["ECBCOM201701Ayrshire & Arran",48,91075.068493150698,52.703775900657,38.856156431658697,69.879429985814298]
["ECBCOM201701Borders",21,28595.342465753401,73.438532953924906,45.441934041578499,112.264637650493]
["ECBCOM201701Dumfries & Galloway",21,36446.301369863002,57.619015402656601,35.653210816601401,88.081523769215295]
["ECBCOM201701Fife",28,91084.931506849302,30.740540215364302,20.4221941212781,44.430567257958501]
["ECBCOM201701Forth Valley",35,74626.027397260303,46.900526827835598,32.662924605947801,65.229619253256999]
["ECBCOM201701Grampian",56,143376.16438356199,39.058096051578097,29.5020469001953,50.721353814605898]
["ECBCOM201701Greater Glasgow & Clyde",143,285031.23287671199,50.169940520817697,42.283563136749798,59.099988581973797]
["ECBCOM201701Highland",35,79616.712328767098,43.960619543635403,30.615485558518699,61.140773226170602]
["ECBCOM201701Lanarkshire",90,162934.52054794499,55.236913391546501,44.415588022987102,67.896510955287795]
["ECBCOM201701Lothian",52,216229.31506849299,24.048543086550701,17.959210645951298,31.5372453820688]
["ECBCOM201701Orkney",0,5358.0821917808198,0,0,68.459149396442598]
["ECBCOM201701Shetland",1,5698.3561643835601,17.548920621183701,0.229366751633029,97.639673072926598]
["ECBCOM201701Tayside",40,101944.10958904101,39.237186102511203,28.028218562069299,53.431608982498403]
["ECBCOM201701Western Isles",0,6581.0958904109602,0,0,55.736879594780703]
["SABCAUN201701Ayrshire & Arran",6,91075.068493150698,6.5879719875821197,2.4056427043460902,14.339704031800901]
["SABCAUN201701Borders",2,28595.342465753401,6.9941459956118903,0.78548929894175701,25.252297807424402]
["SABCAUN201701Dumfries & Galloway",10,36446.301369863002,27.437626382217399,13.135434970343001,50.462258673134698]
["SABCAUN201701Fife",7,91084.931506849302,7.6851350538410603,3.07886151329821,15.8351257663333]
["SABCAUN201701Forth Valley",7,74626.027397260303,9.38010536556712,3.75790993891412,19.327591138554499]
["SABCAUN201701Grampian",17,143376.16438356199,11.856922015657601,6.9030815650076498,18.985241260042901]
["SABCAUN201701Greater Glasgow & Clyde",28,285031.23287671199,9.8234848572230504,6.5261414827503801,14.1982867444287]
["SABCAUN201701Highland",10,79616.712328767098,12.5601770124673,6.0130342933085696,23.100208908532501]
["SABCAUN201701Lanarkshire",15,162934.52054794499,9.2061522319244098,5.1487979947458902,15.185133208177801]
["SABCAUN201701Lothian",30,216229.31506849299,13.87415947301,9.3589471711477206,19.8070371130114]
["SABCAUN201701Orkney",0,5358.0821917808198,0,0,68.459149396442598]
["SABCAUN201701Shetland",1,5698.3561643835601,17.548920621183701,0.229366751633029,97.639673072926598]
["SABCAUN201701Tayside",7,101944.10958904101,6.8665075679394603,2.7508984205987801,14.1483539524079]
["SABCAUN201701Western Isles",2,6581.0958904109602,30.390075350734801,3.41300839259182,109.72307893319601]
["CDICA201702Ayrshire & Arran",4,92087.013698630093,4.3437177940101899,1.1685908211732701,11.1208760173869]
["CDICA201702Borders",2,28913.068493150698,6.9172872484073604,0.77685754840393595,24.9748000293209]
["CDICA201702Dumfries & Galloway",12,36851.260273972599,32.563336805269003,16.806561083192999,56.885535160151299]
["CDICA201702Fife",2,92096.986301369907,2.1716237200806798,0.24388784485220499,7.84062685273509]
["CDICA201702Forth Valley",7,75455.205479452095,9.2770272846268202,3.7166142252996801,19.115200027141899]
["CDICA201702Grampian",17,144969.23287671199,11.7266261693317,6.82722352583174,18.776612235207299]
["CDICA201702Greater Glasgow & Clyde",22,288198.24657534203,7.6336342297102204,4.78225291602448,11.558016147738799]
["CDICA201702Highland",8,80501.342465753405,9.9377224714026706,4.2789753042008201,19.582477768849099]
["CDICA201702Lanarkshire",6,164744.904109589,3.6419942895525201,1.3298989443863201,7.9273439984463803]
["CDICA201702Lothian",10,218631.86301369901,4.5738987273659397,2.1896992275246001,8.4121438753408793]
["CDICA201702Orkney",1,5417.61643835616,18.4583019373631,0.24125248768428501,102.699340064822]
["CDICA201702Shetland",0,5761.6712328767098,0,0,63.663776432172298]
["CDICA201702Tayside",10,103076.821917808,9.7015020583131992,4.64447790149271,17.842640597433]
["CDICA201702Western Isles",0,6654.2191780821904,0,0,55.124386412420499]
["ECBCOM201702Ayrshire & Arran",53,92087.013698630093,57.554260770634997,43.108855699951,75.284219206302794]
["ECBCOM201702Borders",19,28913.068493150698,65.714228859870005,39.545676930543301,102.626795870866]
["ECBCOM201702Dumfries & Galloway",27,36851.260273972599,73.267507811855296,48.2719522801249,106.605139744773]
["ECBCOM201702Fife",28,92096.986301369907,30.4027320811295,20.1977744056597,43.942319266112797]
["ECBCOM201702Forth Valley",36,75455.205479452095,47.710426035223698,33.410918801798204,66.053650831010501]
["ECBCOM201702Grampian",51,144969.23287671199,35.179878507995198,26.1916332676184,46.2562101075128]
["ECBCOM201702Greater Glasgow & Clyde",171,288198.24657534203,59.334156967293097,50.773462896350701,68.924711769876595]
["ECBCOM201702Highland",47,80501.342465753405,58.384119519490703,42.8945103926117,77.640621417856295]
["ECBCOM201702Lanarkshire",109,164744.904109589,66.162896260203993,54.325334305957099,79.813077684365595]
["ECBCOM201702Lothian",77,218631.86301369901,35.219020200717701,27.7931687954047,44.018467679656297]
["ECBCOM201702Orkney",3,5417.61643835616,55.374905812089402,11.1294546930766,161.795985747168]
["ECBCOM201702Shetland",2,5761.6712328767098,34.712150679264496,3.8984063127825399,125.327890930348]
["ECBCOM201702Tayside",28,103076.821917808,27.164205763277,18.046289341744099,39.2615439650301]
["ECBCOM201702Western Isles",6,6654.2191780821904,90.168355436246003,32.925587240953,196.264879757714]
["SABCAUN201702Ayrshire & Arran",8,92087.013698630093,8.6874355880203797,3.7406279401489102,17.118762851374498]
["SABCAUN201702Borders",3,28913.068493150698,10.375930872611001,2.0853932092830498,30.3166919917734]
["SABCAUN201702Dumfries & Galloway",5,36851.260273972599,13.568057002195401,4.3724688093028803,31.663236163949598]
["SABCAUN201702Fife",16,92096.986301369907,17.3729897606454,9.9236794898921303,28.214425117475699]
["SABCAUN201702Forth Valley",3,75455.205479452095,3.9758688362686398,0.79908491815812099,11.6168074352749]
["SABCAUN201702Grampian",9,144969.23287671199,6.2082138543520902,2.8328914363606801,11.7859101008459]
["SABCAUN201702Greater Glasgow & Clyde",33,288198.24657534203,11.4504513445653,7.8806219368714396,16.081298428578101]
["SABCAUN201702Highland",7,80501.342465753405,8.6955071624773392,3.4836424023257102,17.916985004845198]
["SABCAUN201702Lanarkshire",10,164744.904109589,6.0699904825875297,2.9059352344816798,11.1637000084788]
["SABCAUN201702Lothian",20,218631.86301369901,9.1477974547318706,5.5853308598529496,14.1288160885943]
["SABCAUN201702Orkney",1,5417.61643835616,18.4583019373631,0.24125248768428501,102.699340064822]
["SABCAUN201702Shetland",0,5761.6712328767098,0,0,63.663776432172298]
["SABCAUN201702Tayside",10,103076.821917808,9.7015020583131992,4.64447790149271,17.842640597433]
["SABCAUN201702Western Isles",1,6654.2191780821904,15.028059239374301,0.19641875449155199,83.6139625181181]
["CDICA201703Ayrshire & Arran",7,93098.958904109604,7.5188810727839499,3.0122559194962499,15.49256149378]
["CDICA201703Borders",1,29230.794520547901,3.4210496717666898,4.4713579104185101E-2,19.0342288695708]
["CDICA201703Dumfries & Galloway",4,37256.219178082203,10.7364624973894,2.8884315513363799,27.487713051579501]
["CDICA201703Fife",7,93109.041095890396,7.5180669004966898,3.0119297412699901,15.4908839018478]
["CDICA201703Forth Valley",8,76284.383561643801,10.4870743217521,4.5155147132783497,20.664986404776499]
["CDICA201703Grampian",15,146562.30136986301,10.234555448297799,5.7239612426326598,16.8814379660109]
["CDICA201703Greater Glasgow & Clyde",27,291365.26027397299,9.2667190229239207,6.1053341628132802,13.4831920167278]
["CDICA201703Highland",4,81385.972602739697,4.91485187444371,1.3222430784571499,12.5831052871069]
["CDICA201703Lanarkshire",11,166555.287671233,6.6044135576849099,3.29236926408185,11.8179440080385]
["CDICA201703Lothian",15,221034.41095890399,6.7862736552766298,3.7954132527722999,11.193652553905499]
["CDICA201703Orkney",1,5477.1506849315101,18.2576682206527,0.23863017803554301,101.583042890204]
["CDICA201703Shetland",0,5824.9863013698596,0,0,62.971778862257402]
["CDICA201703Tayside",7,104209.534246575,6.7172356642885998,2.6910962810205401,13.840781040399101]
["CDICA201703Western Isles",0,6727.3424657534197,0,0,54.525208299242003]
["ECBCOM201703Ayrshire & Arran",57,93098.958904109604,61.225174449812101,46.368267973578703,79.326108876915796]
["ECBCOM201703Borders",14,29230.794520547901,47.894695404733604,26.162274328083701,80.364513769577798]
["ECBCOM201703Dumfries & Galloway",19,37256.219178082203,50.998196862599798,30.689825509010898,79.644570590044694]
["ECBCOM201703Fife",48,93109.041095890396,51.552458746263,38.007341357423599,68.3529096349084]
["ECBCOM201703Forth Valley",52,76284.383561643801,68.165983091388398,50.905672115798403,89.392830481499701]
["ECBCOM201703Grampian",51,146562.30136986301,34.797488524212604,25.906941601666102,45.753425215039798]
["ECBCOM201703Greater Glasgow & Clyde",176,291365.26027397299,60.405279556837399,51.809904723680198,70.018966009427203]
["ECBCOM201703Highland",35,81385.972602739697,43.0049539013825,29.949931524637801,59.811625982123402]
["ECBCOM201703Lanarkshire",90,166555.287671233,54.036110926512897,43.4500317616179,66.420499847564201]
["ECBCOM201703Lothian",85,221034.41095890399,38.455550713234302,30.7158591649575,47.551601817744199]
["ECBCOM201703Orkney",2,5477.1506849315101,36.515336441305401,4.1009161146905697,131.83827602864801]
["ECBCOM201703Shetland",3,5824.9863013698596,51.502267040430503,10.351117337558801,150.480798871194]
["ECBCOM201703Tayside",41,104209.534246575,39.343808890833202,28.230513348894501,53.375977187800899]
["ECBCOM201703Western Isles",4,6727.3424657534197,59.458843077524598,15.9962183440626,152.227758192355]
["SABCAUN201703Ayrshire & Arran",15,93098.958904109604,16.111888013108501,9.0110237810093405,26.5758331549068]
["SABCAUN201703Borders",7,29230.794520547901,23.947347702366802,9.5939195173332195,49.343213877231904]
["SABCAUN201703Dumfries & Galloway",3,37256.219178082203,8.0523468730420706,1.6183906479330501,23.527577714046998]
["SABCAUN201703Fife",11,93109.041095890396,11.814105129351899,5.8894550243980701,21.140171145294499]
["SABCAUN201703Forth Valley",6,76284.383561643801,7.8653057413140504,2.8720697977630301,17.120011539615199]
["SABCAUN201703Grampian",12,146562.30136986301,8.1876443586382592,4.2257998885006396,14.3031573768806]
["SABCAUN201703Greater Glasgow & Clyde",25,291365.26027397299,8.5802953915962199,5.5511529419635197,12.666809560021701]
["SABCAUN201703Highland",9,81385.972602739697,11.0584167174984,5.0461042022171601,20.993720311158501]
["SABCAUN201703Lanarkshire",15,166555.287671233,9.0060184877521401,5.03686760355576,14.8550216166957]
["SABCAUN201703Lothian",13,221034.41095890399,5.8814371679064203,3.12854259355582,10.058121871071901]
["SABCAUN201703Orkney",0,5477.1506849315101,0,0,66.970907018259098]
["SABCAUN201703Shetland",0,5824.9863013698596,0,0,62.971778862257402]
["SABCAUN201703Tayside",11,104209.534246575,10.555656043882101,5.2621049874531902,18.888301134558301]
["SABCAUN201703Western Isles",0,6727.3424657534197,0,0,54.525208299242003]
["CDICA201704Ayrshire & Arran",6,93098.958904109604,6.4447552052433803,2.3533461238168201,14.0279713354574]
["CDICA201704Borders",1,29230.794520547901,3.4210496717666898,4.4713579104185101E-2,19.0342288695708]
["CDICA201704Dumfries & Galloway",1,37256.219178082203,2.6841156243473598,3.5081752037834701E-2,14.9340337054606]
["CDICA201704Fife",4,93109.041095890396,4.2960382288552497,1.1557635831159401,10.998805809837499]
["CDICA201704Forth Valley",5,76284.383561643801,6.55442145109504,2.1122407838721098,15.295793221571699]
["CDICA201704Grampian",7,146562.30136986301,4.77612587587232,1.91343809040042,9.8411483195050202]
["CDICA201704Greater Glasgow & Clyde",17,291365.26027397299,5.8346008662854301,3.3968955540101602,9.3423322643267301]
["CDICA201704Highland",7,81385.972602739697,8.6009907802765007,3.4457767240395598,17.7222351678361]
["CDICA201704Lanarkshire",9,166555.287671233,5.4036110926512899,2.4657403802325999,10.258421512538]
["CDICA201704Lothian",16,221034.41095890399,7.2386918989617399,4.1348357030693501,11.755923036021301]
["CDICA201704Orkney",0,5477.1506849315101,0,0,66.970907018259098]
["CDICA201704Shetland",0,5824.9863013698596,0,0,62.971778862257402]
["CDICA201704Tayside",2,104209.534246575,1.91921018979674,0.215540119901863,6.9292901947139001]
["CDICA201704Western Isles",0,6727.3424657534197,0,0,54.525208299242003]
["ECBCOM201704Ayrshire & Arran",50,93098.958904109604,53.706293377028203,39.858546314417097,70.806873312141605]
["ECBCOM201704Borders",9,29230.794520547901,30.7894470459002,14.049638577683,58.4518612681725]
["ECBCOM201704Dumfries & Galloway",21,37256.219178082203,56.366428111294503,34.878141016240498,86.166708035101905]
["ECBCOM201704Fife",43,93109.041095890396,46.182410960193998,33.4188603882208,62.209252502709397]
["ECBCOM201704Forth Valley",46,76284.383561643801,60.300677350074302,44.143463319888099,80.434894661365604]
["ECBCOM201704Grampian",46,146562.30136986301,31.385970041446701,22.9762828241597,41.865652345370002]
["ECBCOM201704Greater Glasgow & Clyde",178,291365.26027397299,61.091703188165098,52.445744818169601,70.755835339696404]
["ECBCOM201704Highland",36,81385.972602739697,44.233666869993399,30.9761948260123,61.240182266422799]
["ECBCOM201704Lanarkshire",88,166555.287671233,52.835308461479201,42.374065881770498,65.095526058717596]
["ECBCOM201704Lothian",83,221034.41095890399,37.550714225863999,29.907853704939001,46.550480078716902]
["ECBCOM201704Orkney",5,5477.1506849315101,91.288341103263406,29.418760848545499,213.03597876248]
["ECBCOM201704Shetland",1,5824.9863013698596,17.167422346810199,0.22438051790187599,95.517071484384701]
["ECBCOM201704Tayside",46,104209.534246575,44.141834365325103,32.314287862239098,58.880661932232698]
["ECBCOM201704Western Isles",4,6727.3424657534197,59.458843077524598,15.9962183440626,152.227758192355]
["SABCAUN201704Ayrshire & Arran",6,93098.958904109604,6.4447552052433803,2.3533461238168201,14.0279713354574]
["SABCAUN201704Borders",2,29230.794520547901,6.8420993435333699,0.76841344461693695,24.703334811610901]
["SABCAUN201704Dumfries & Galloway",6,37256.219178082203,16.104693746084099,5.8807382740882304,35.0542689429981]
["SABCAUN201704Fife",13,93109.041095890396,13.9621242437796,7.4269433041876196,23.877284278286499]
["SABCAUN201704Forth Valley",5,76284.383561643801,6.55442145109504,2.1122407838721098,15.295793221571699]
["SABCAUN201704Grampian",17,146562.30136986301,11.599162841404199,6.7530145744640002,18.572518623954998]
["SABCAUN201704Greater Glasgow & Clyde",28,291365.26027397299,9.6099308385877595,6.3842688418210303,13.8896283369412]
["SABCAUN201704Highland",2,81385.972602739697,2.4574259372218599,0.27598534229064398,8.8725130481046595]
["SABCAUN201704Lanarkshire",10,166555.287671233,6.0040123251680999,2.8743489819329602,11.0423554431692]
["SABCAUN201704Lothian",17,221034.41095890399,7.69111014264685,4.4777523686196004,12.314965167426299]
["SABCAUN201704Orkney",0,5477.1506849315101,0,0,66.970907018259098]
["SABCAUN201704Shetland",0,5824.9863013698596,0,0,62.971778862257402]
["SABCAUN201704Tayside",25,104209.534246575,23.990127372459298,15.520778721923699,35.4158406999871]
["SABCAUN201704Western Isles",1,6727.3424657534197,14.8647107693811,0.194283768029687,82.705115099442907]
["CDICA201801Ayrshire & Arran",8,90722.465753424694,8.8181024772224195,3.7968903678410899,17.376244528920498]
["CDICA201801Borders",0,28649.5890410959,0,0,12.803316261164399]
["CDICA201801Dumfries & Galloway",4,36244.109589041102,11.036276088320401,2.9690904309045001,28.2553019998461]
["CDICA201801Fife",2,91052.876712328798,2.1965258783846799,0.24668452351470599,7.9305358592006199]
["CDICA201801Forth Valley",0,74606.301369862995,0,0,4.9166054677750504]
["CDICA201801Grampian",12,142638.904109589,8.4128520720969906,4.3420338977879798,14.696577172244501]
["CDICA201801Greater Glasgow & Clyde",17,286111.23287671199,5.9417450440771198,3.4592747277565201,9.5138909590957503]
["CDICA201801Highland",15,79426.849315068495,18.885301543938098,10.5621328292193,31.150453783161101]
["CDICA201801Lanarkshire",10,163151.50684931499,6.1292722286873502,2.9343156603237301,11.2727287839498]
["CDICA201801Lothian",12,217597.808219178,5.5147614299096501,2.84627387498004,9.6338454838636398]
["CDICA201801Orkney",1,5382.7397260274001,18.5778999338321,0.242815649575781,103.364766134463]
["CDICA201801Shetland",0,5671.2328767123299,0,0,64.679013755856403]
["CDICA201801Tayside",4,101769.04109589,3.9304683987648601,1.0574142961225299,10.062866379854601]
["CDICA201801Western Isles",1,6534.2465753424704,15.3039832285115,0.200025118122237,85.149163951522098]
["ECBCOM201801Ayrshire & Arran",50,90722.465753424694,55.113140482640098,40.902648913765702,72.661673532244393]
["ECBCOM201801Borders",15,28649.5890410959,52.356771953983397,29.2819883548338,86.360135748617296]
["ECBCOM201801Dumfries & Galloway",18,36244.109589041102,49.663242397441998,29.418261639139899,78.493983445358595]
["ECBCOM201801Fife",29,91052.876712328798,31.8496252365779,21.325615890879099,45.743303005333303]
["ECBCOM201801Forth Valley",35,74606.301369862995,46.912927403392402,32.671560736325802,65.2468660706554]
["ECBCOM201801Grampian",53,142638.904109589,37.156763318428403,27.8308769276838,48.603142099403001]
["ECBCOM201801Greater Glasgow & Clyde",129,286111.23287671199,45.087359452114598,37.642297717360002,53.573605404862001]
["ECBCOM201801Highland",35,79426.849315068495,44.065703602522198,30.688669228828001,61.286924956532403]
["ECBCOM201801Lanarkshire",104,163151.50684931499,63.7444311783484,52.082493355860599,77.237995035397603]
["ECBCOM201801Lothian",65,217597.808219178,29.8716244120106,23.053055460209599,38.074592618109897]
["ECBCOM201801Orkney",1,5382.7397260274001,18.5778999338321,0.242815649575781,103.364766134463]
["ECBCOM201801Shetland",0,5671.2328767123299,0,0,64.679013755856403]
["ECBCOM201801Tayside",38,101769.04109589,37.339449788266201,26.4201095954793,51.253019477557402]
["ECBCOM201801Western Isles",6,6534.2465753424704,91.823899371069203,33.530120350085703,199.868418157962]
["SABCAUN201801Ayrshire & Arran",9,90722.465753424694,9.9203652868752208,4.5267960360382196,18.833200044599]
["SABCAUN201801Borders",3,28649.5890410959,10.4713543907967,2.1045717831645998,30.595503160151701]
["SABCAUN201801Dumfries & Galloway",7,36244.109589041102,19.313483154560799,7.7374749507609897,39.795193265416202]
["SABCAUN201801Fife",13,91052.876712328798,14.2774182095004,7.5946592166573499,24.416483294088099]
["SABCAUN201801Forth Valley",6,74606.301369862995,8.0422161262958394,2.9366698260808102,17.505083389582499]
["SABCAUN201801Grampian",15,142638.904109589,10.5160650901212,5.8814033794567404,17.345775433259298]
["SABCAUN201801Greater Glasgow & Clyde",18,286111.23287671199,6.2912594584345998,3.7266579436520102,9.9434912410442209]
["SABCAUN201801Highland",12,79426.849315068495,15.1082412351505,7.7976523320265398,26.392884523159001]
["SABCAUN201801Lanarkshire",13,163151.50684931499,7.96805389729355,4.2384871747775499,13.626543119694]
["SABCAUN201801Lothian",24,217597.808219178,11.0295228598193,7.0646804398302399,16.411858708310199]
["SABCAUN201801Orkney",0,5382.7397260274001,0,0,68.145548162377295]
["SABCAUN201801Shetland",1,5671.2328767123299,17.632850241545899,0.23046372305388199,98.106645422405805]
["SABCAUN201801Tayside",13,101769.04109589,12.7740222959858,6.7949502312287899,21.8454553485521]
["SABCAUN201801Western Isles",1,6534.2465753424704,15.3039832285115,0.200025118122237,85.149163951522098]
["CDICA201802Ayrshire & Arran",9,91730.493150684895,9.8113502837227493,4.4770510246531803,18.626241802350599]
["CDICA201802Borders",1,28967.917808219201,3.4520948541087999,4.5119343810822901E-2,19.2069598038435]
["CDICA201802Dumfries & Galloway",5,36646.8219178082,13.6437479113852,4.3968611109807298,31.839873034855401]
["CDICA201802Fife",8,92064.575342465803,8.6895529254778605,3.7415396213432,17.122935106517399]
["CDICA201802Forth Valley",2,75435.260273972599,2.6512800416359901,0.29775645268336098,9.5724214542100796]
["CDICA201802Grampian",33,144223.78082191799,22.881108657626399,15.747620892936499,32.134797627401397]
["CDICA201802Greater Glasgow & Clyde",11,289290.24657534203,3.8024095627901402,1.8955409537329999,6.8040353494211203]
["CDICA201802Highland",7,80309.369863013693,8.7162930202791102,3.4919697481899501,17.959814007868101]
["CDICA201802Lanarkshire",8,164964.30136986301,4.8495340710493302,2.0881078724642199,9.5561023573438195]
["CDICA201802Lothian",12,220015.561643836,5.4541596559545997,2.81499614009015,9.5279790499750305]
["CDICA201802Orkney",1,5442.5479452054797,18.373747187306499,0.240147345734288,102.22888958353499]
["CDICA201802Shetland",1,5734.2465753424704,17.439082656474,0.227931154668675,97.028550417763995]
["CDICA201802Tayside",4,102899.808219178,3.8872764383388798,1.0457943588025,9.9522854306254107]
["CDICA201802Western Isles",0,6606.8493150684899,0,0,55.519617862169902]
["ECBCOM201802Ayrshire & Arran",51,91730.493150684895,55.597651607762202,41.392789378746201,73.102488221171001]
["ECBCOM201802Borders",24,28967.917808219201,82.850276498611095,53.067638124814998,123.28067579361399]
["ECBCOM201802Dumfries & Galloway",19,36646.8219178082,51.846242063263603,31.200164321621301,80.968974196505499]
["ECBCOM201802Fife",31,92064.575342465803,33.672017586226701,22.874147214449302,47.796646600536697]
["ECBCOM201802Forth Valley",48,75435.260273972599,63.630720999263801,46.912108416425703,84.367361484616396]
["ECBCOM201802Grampian",50,144223.78082191799,34.668346450949102,25.729384877833802,45.707068217516699]
["ECBCOM201802Greater Glasgow & Clyde",138,289290.24657534203,47.702956333185398,40.075659274540399,56.359047330387]
["ECBCOM201802Highland",42,80309.369863013693,52.297758121674697,37.687420072136199,70.693523146785907]
["ECBCOM201802Lanarkshire",76,164964.30136986301,46.0705736749686,36.296863600213896,57.665169007763701]
["ECBCOM201802Lothian",73,220015.561643836,33.179471240390498,26.0062560717674,41.7189394465208]
["ECBCOM201802Orkney",2,5442.5479452054797,36.747494374612998,4.1269890008430803,132.67648004582401]
["ECBCOM201802Shetland",3,5734.2465753424704,52.317247969421899,10.514915238285001,152.86203349069399]
["ECBCOM201802Tayside",35,102899.808219178,34.013668835465197,23.688132647693401,47.306476442967401]
["ECBCOM201802Western Isles",6,6606.8493150684899,90.814845531826705,33.161657489095703,197.67206191446701]
["SABCAUN201802Ayrshire & Arran",9,91730.493150684895,9.8113502837227493,4.4770510246531803,18.626241802350599]
["SABCAUN201802Borders",3,28967.917808219201,10.356284562326399,2.0814446207122401,30.259288839710401]
["SABCAUN201802Dumfries & Galloway",5,36646.8219178082,13.6437479113852,4.3968611109807298,31.839873034855401]
["SABCAUN201802Fife",6,92064.575342465803,6.5171646941083896,2.3797869403445602,14.185581392296699]
["SABCAUN201802Forth Valley",13,75435.260273972599,17.2333202706339,9.1670071371788708,29.471510206909201]
["SABCAUN201802Grampian",9,144223.78082191799,6.2403023611708504,2.8475338533754799,11.846828146762]
["SABCAUN201802Greater Glasgow & Clyde",16,289290.24657534203,5.5307775458765702,3.1592526359223601,8.9822023186269]
["SABCAUN201802Highland",10,80309.369863013693,12.4518471718273,5.9611726797254097,22.900972707694901]
["SABCAUN201802Lanarkshire",13,164964.30136986301,7.8804928654551603,4.1919103926371299,13.4768008876094]
["SABCAUN201802Lothian",21,220015.561643836,9.54477939792055,5.9060716274635503,14.5909940934377]
["SABCAUN201802Orkney",0,5442.5479452054797,0,0,67.396695984768797]
["SABCAUN201802Shetland",0,5734.2465753424704,0,0,63.968255362934897]
["SABCAUN201802Tayside",18,102899.808219178,17.492743972524899,10.3619114284155,27.6477146780894]
["SABCAUN201802Western Isles",0,6606.8493150684899,0,0,55.519617862169902]
["CDICA201803Ayrshire & Arran",10,92738.520547945198,10.7830057466035,5.1622348375274703,19.831701827227398]
["CDICA201803Borders",2,29286.246575342499,6.8291441679108802,0.76695849188593002,24.656560272850601]
["CDICA201803Dumfries & Galloway",3,37049.534246575298,8.0972677821916292,1.6274190194638001,23.658828912941601]
["CDICA201803Fife",5,93076.273972602707,5.3719382895277503,1.7311714280577799,12.5362791954632]
["CDICA201803Forth Valley",5,76264.219178082203,6.5561544507846499,2.1127992637700199,15.2998374541716]
["CDICA201803Grampian",19,145808.657534247,13.0307763073241,7.8416939366735203,20.350338782523998]
["CDICA201803Greater Glasgow & Clyde",14,292469.26027397299,4.7868278488089304,2.61478441993542,8.0320187719616207]
["CDICA201803Highland",6,81191.890410958906,7.3899006041496804,2.6984723838724101,16.085221322688898]
["CDICA201803Lanarkshire",6,166777.095890411,3.5976163081425701,1.3136940231429299,7.8307487002048601]
["CDICA201803Lothian",16,222433.31506849299,7.1931670824908496,4.10883133112661,11.6819889266365]
["CDICA201803Orkney",1,5502.3561643835601,18.174032543966199,0.23753704849804599,101.11770600110501]
["CDICA201803Shetland",1,5797.2602739725999,17.2495274102079,0.22545364211792801,95.973892261049201]
["CDICA201803Tayside",3,104030.57534246601,2.8837675751807401,0.57959034155739597,8.4258746926883994]
["CDICA201803Western Isles",1,6679.4520547945203,14.9712879409352,0.195676745989145,83.298095169967198]
["ECBCOM201803Ayrshire & Arran",67,92738.520547945198,72.246138502243497,55.986913527322699,91.751807108088798]
["ECBCOM201803Borders",17,29286.246575342499,58.047725427242497,33.7952955040329,92.945713092960901]
["ECBCOM201803Dumfries & Galloway",19,37049.534246575298,51.2826959538803,30.8610321007341,80.088876650891294]
["ECBCOM201803Fife",39,93076.273972602707,41.901118658316499,29.792011870208501,57.2820719402905]
["ECBCOM201803Forth Valley",40,76264.219178082203,52.449235606277199,37.465954748781698,71.423242253505606]
["ECBCOM201803Grampian",57,145808.657534247,39.092328921972403,29.606180781913,50.649791824743502]
["ECBCOM201803Greater Glasgow & Clyde",151,292469.26027397299,51.629357512153497,43.722323953421203,60.552796024618303]
["ECBCOM201803Highland",43,81191.890410958906,52.960954329739401,38.324000457620699,71.340177183971306]
["ECBCOM201803Lanarkshire",100,166777.095890411,59.960271802376198,48.784751390261903,72.928687612912896]
["ECBCOM201803Lothian",77,222433.31506849299,34.617116584487199,27.3181752064542,43.266178867352203]
["ECBCOM201803Orkney",1,5502.3561643835601,18.174032543966199,0.23753704849804599,101.11770600110501]
["ECBCOM201803Shetland",0,5797.2602739725999,0,0,63.2729482394247]
["ECBCOM201803Tayside",53,104030.57534246601,50.946560494859803,38.159606176408303,66.640974564633794]
["ECBCOM201803Western Isles",3,6679.4520547945203,44.913863822805602,9.0269555347541104,131.23061365710501]
["SABCAUN201803Ayrshire & Arran",17,92738.520547945198,18.331109769226,10.672343610506299,29.351676689237401]
["SABCAUN201803Borders",3,29286.246575342499,10.243716251866299,2.0588202226610202,29.9303835262353]
["SABCAUN201803Dumfries & Galloway",4,37049.534246575298,10.7963570429222,2.9045449867544,27.641056304197299]
["SABCAUN201803Fife",8,93076.273972602707,8.5951012632444002,3.7008707124155502,16.936816246664002]
["SABCAUN201803Forth Valley",6,76264.219178082203,7.8673853409415901,2.8728291776877501,17.124538098504601]
["SABCAUN201803Grampian",15,145808.657534247,10.2874549794664,5.7535467842511601,16.968693358623199]
["SABCAUN201803Greater Glasgow & Clyde",23,292469.26027397299,7.8640743230432504,4.9835128767640899,11.8005683877842]
["SABCAUN201803Highland",9,81191.890410958906,11.084850906224499,5.0581664778775002,21.0439039838258]
["SABCAUN201803Lanarkshire",13,166777.095890411,7.7948353343089103,4.1463461492388998,13.330313921439799]
["SABCAUN201803Lothian",18,222433.31506849299,8.0923129678022008,4.7935206937852204,12.7901008767411]
["SABCAUN201803Orkney",0,5502.3561643835601,0,0,66.664123202325698]
["SABCAUN201803Shetland",0,5797.2602739725999,0,0,63.2729482394247]
["SABCAUN201803Tayside",15,104030.57534246601,14.4188378759037,8.0641381623667101,23.783223255145899]
["SABCAUN201803Western Isles",1,6679.4520547945203,14.9712879409352,0.195676745989145,83.298095169967198]
["CDICA201804Ayrshire & Arran",5,92738.520547945198,5.39150287330175,1.7374763494112899,12.5819362881762]
["CDICA201804Borders",1,29286.246575342499,3.4145720839554401,4.4628916160705301E-2,18.998188501627801]
["CDICA201804Dumfries & Galloway",0,37049.534246575298,0,0,9.9005225491990494]
["CDICA201804Fife",7,93076.273972602707,7.5207136053388499,3.0129900788721899,15.4963374044536]
["CDICA201804Forth Valley",2,76264.219178082203,2.6224617803138601,0.29451996950201997,9.4683733949251891]
["CDICA201804Grampian",12,145808.657534247,8.2299639835731409,4.24764185653172,14.3770863641522]
["CDICA201804Greater Glasgow & Clyde",22,292469.26027397299,7.5221580481283201,4.7124162853456903,11.389231075250301]
["CDICA201804Highland",7,81191.890410958906,8.6215507048412992,3.4540135552748499,17.7645986382174]
["CDICA201804Lanarkshire",11,166777.095890411,6.5956298982613797,3.28799051795102,11.8022265193704]
["CDICA201804Lothian",15,222433.31506849299,6.74359413983517,3.7715435406509101,11.123254616644401]
["CDICA201804Orkney",1,5502.3561643835601,18.174032543966199,0.23753704849804599,101.11770600110501]
["CDICA201804Shetland",0,5797.2602739725999,0,0,63.2729482394247]
["CDICA201804Tayside",3,104030.57534246601,2.8837675751807401,0.57959034155739597,8.4258746926883994]
["CDICA201804Western Isles",0,6679.4520547945203,0,0,54.916143754972403]
["ECBCOM201804Ayrshire & Arran",49,92738.520547945198,52.836728158357197,39.085553909396701,69.854788591653104]
["ECBCOM201804Borders",11,29286.246575342499,37.560292923509799,18.7241990361705,67.210424486373995]
["ECBCOM201804Dumfries & Galloway",23,37049.534246575298,62.079052996802503,39.339882518704897,93.153762317718702]
["ECBCOM201804Fife",46,93076.273972602707,49.421832263655297,36.179541186026903,65.923635467983601]
["ECBCOM201804Forth Valley",37,76264.219178082203,48.515542935806401,34.154668370842401,66.874567492652503]
["ECBCOM201804Grampian",51,145808.657534247,34.977346930185902,26.040847277556299,45.989911768408902]
["ECBCOM201804Greater Glasgow & Clyde",150,292469.26027397299,51.287441237238603,43.4077341060283,60.183640601230302]
["ECBCOM201804Highland",26,81191.890410958906,32.022902617981998,20.912947692418999,46.923131589820201]
["ECBCOM201804Lanarkshire",88,166777.095890411,52.765039186091101,42.317709725414701,65.008951084891294]
["ECBCOM201804Lothian",71,222433.31506849299,31.9196789285531,24.9283783522602,40.263062082643799]
["ECBCOM201804Orkney",3,5502.3561643835601,54.522097631898703,10.9580541305994,159.30422638173499]
["ECBCOM201804Shetland",1,5797.2602739725999,17.2495274102079,0.22545364211792801,95.973892261049201]
["ECBCOM201804Tayside",42,104030.57534246601,40.372746052530402,29.093878869671698,54.573881559580599]
["ECBCOM201804Western Isles",5,6679.4520547945203,74.856439704676006,24.123383895807301,174.68950258523299]
["SABCAUN201804Ayrshire & Arran",7,92738.520547945198,7.5481040226224501,3.0239633800590702,15.552775020636]
["SABCAUN201804Borders",3,29286.246575342499,10.243716251866299,2.0588202226610202,29.9303835262353]
["SABCAUN201804Dumfries & Galloway",3,37049.534246575298,8.0972677821916292,1.6274190194638001,23.658828912941601]
["SABCAUN201804Fife",12,93076.273972602707,12.892651894866599,6.6541442878285997,22.5224278168678]
["SABCAUN201804Forth Valley",4,76264.219178082203,5.2449235606277202,1.4110422963381399,13.4281616358329]
["SABCAUN201804Grampian",13,145808.657534247,8.9157943155375694,4.7426235246973203,15.247318511269301]
["SABCAUN201804Greater Glasgow & Clyde",16,292469.26027397299,5.4706603986387803,3.1249129333579901,8.8845696847287901]
["SABCAUN201804Highland",3,81191.890410958906,3.6949503020748402,0.74262486548796702,10.7960116165196]
["SABCAUN201804Lanarkshire",14,166777.095890411,8.3944380523326707,4.5854262001116304,14.0853789077001]
["SABCAUN201804Lothian",24,222433.31506849299,10.7897506237363,6.9111004302687098,16.055079171173102]
["SABCAUN201804Orkney",1,5502.3561643835601,18.174032543966199,0.23753704849804599,101.11770600110501]
["SABCAUN201804Shetland",0,5797.2602739725999,0,0,63.2729482394247]
["SABCAUN201804Tayside",11,104030.57534246601,10.5738144423294,5.2711571390803904,18.920793790303101]
["SABCAUN201804Western Isles",2,6679.4520547945203,29.9425758818704,3.3627512140462699,108.107386343491]
["CDICA201901Ayrshire & Arran",1,90604.109589041094,1.1037026957560401,1.44255426050872E-2,6.1408432295967703]
["CDICA201901Borders",1,28723.561643835601,3.4814624049751499,4.55031816485474E-2,19.370356637611199]
["CDICA201901Dumfries & Galloway",1,36199.726027397301,2.7624518463017198,3.61056169895735E-2,15.3698851898054]
["CDICA201901Fife",5,91385.753424657494,5.4713123354858801,1.7631959040999901,12.7681844627561]
["CDICA201901Forth Valley",3,74783.835616438402,4.0115620912877699,0.806258681413481,11.721097010049901]
["CDICA201901Grampian",6,142725.20547945201,4.2038825446734496,1.5350762560290101,9.1503776258763008]
["CDICA201901Greater Glasgow & Clyde",15,287635.06849315099,5.21494130690715,2.9166017101705402,8.6018106613104308]
["CDICA201901Highland",4,79365.205479452095,5.0399919912455999,1.3559095362682201,12.9034915989604]
["CDICA201901Lanarkshire",4,163896.16438356199,2.44056962226334,0.65658668317358904,6.24839675782302]
["CDICA201901Lothian",8,219439.726027397,3.64564800769082,1.5697397303666201,7.1838211691957099]
["CDICA201901Orkney",0,5392.6027397260304,0,0,68.020910671453905]
["CDICA201901Shetland",0,5649.0410958904104,0,0,64.933099798546394]
["CDICA201901Tayside",2,101973.69863013701,1.9612900452440101,0.22026596865817699,7.0812191138577596]
["CDICA201901Western Isles",0,6494.79452054795,0,0,56.4774987237926]
["ECBCOM201901Ayrshire & Arran",43,90604.109589041094,47.459215917509603,34.342791506678402,63.929151493145802]
["ECBCOM201901Borders",16,28723.561643835601,55.703398479602399,31.818511414858701,90.464530679218399]
["ECBCOM201901Dumfries & Galloway",18,36199.726027397301,49.724133233430997,29.454330620101999,78.590222918283899]
["ECBCOM201901Fife",25,91385.753424657494,27.356561677429401,17.6987447292788,40.385597601264202]
["ECBCOM201901Forth Valley",38,74783.835616438402,50.8131198229784,35.953614802143697,69.747300369192004]
["ECBCOM201901Grampian",56,142725.20547945201,39.236237083618903,29.636603512355201,50.952690086171998]
["ECBCOM201901Greater Glasgow & Clyde",151,287635.06849315099,52.497075822865298,44.457151247608003,61.570487749001899]
["ECBCOM201901Highland",43,79365.205479452095,54.179913905890203,39.206073070273597,72.982156510878298]
["ECBCOM201901Lanarkshire",80,163896.16438356199,48.811392445266897,38.702916261158101,60.7509789671942]
["ECBCOM201901Lothian",78,219439.726027397,35.545068074985501,28.095781074642002,44.362584907909699]
["ECBCOM201901Orkney",6,5392.6027397260304,111.263526901387,40.628632340067199,242.18166809263701]
["ECBCOM201901Shetland",1,5649.0410958904104,17.7021194044328,0.23136908032471801,98.492049092768895]
["ECBCOM201901Tayside",38,101973.69863013701,37.264510859636097,26.3670853886792,51.150156516520603]
["ECBCOM201901Western Isles",5,6494.79452054795,76.984729604319597,24.8092507964137,179.65620826069301]
["SABCAUN201901Ayrshire & Arran",11,90604.109589041094,12.1407296533164,6.0522807672446302,21.7246333843941]
["SABCAUN201901Borders",3,28723.561643835601,10.4443872149255,2.09915181977762,30.516709693347298]
["SABCAUN201901Dumfries & Galloway",6,36199.726027397301,16.574711077810299,6.0523682942392902,36.077331797466002]
["SABCAUN201901Fife",11,91385.753424657494,12.0368871380689,6.0005141868329801,21.538817487171801]
["SABCAUN201901Forth Valley",6,74783.835616438402,8.0231241825755308,2.9296982731948602,17.463526925338702]
["SABCAUN201901Grampian",10,142725.20547945201,7.0064709077890797,3.35426402046612,12.8860398639947]
["SABCAUN201901Greater Glasgow & Clyde",31,287635.06849315099,10.7775453676081,7.3214252373731998,15.298475235042799]
["SABCAUN201901Highland",10,79365.205479452095,12.599979978114,6.0320894863342502,23.173413037797999]
["SABCAUN201901Lanarkshire",16,163896.16438356199,9.7622784890533794,5.5763414444581496,15.854327850309399]
["SABCAUN201901Lothian",23,219439.726027397,10.4812380221111,6.6420258128240501,15.7277971936438]
["SABCAUN201901Orkney",0,5392.6027397260304,0,0,68.020910671453905]
["SABCAUN201901Shetland",2,5649.0410958904104,35.4042388088656,3.9761324311774602,127.82666856076]
["SABCAUN201901Tayside",13,101973.69863013701,12.748385294086001,6.7813130112560698,21.801612307785799]
["SABCAUN201901Western Isles",2,6494.79452054795,30.793891841727799,3.4583596810279298,111.18105454544499]
["CDICA201902Ayrshire & Arran",8,91610.821917808207,8.7325927576301794,3.7600716722639902,17.2077459430771]
["CDICA201902Borders",0,29042.712328767098,0,0,12.630010072517001]
["CDICA201902Dumfries & Galloway",4,36601.945205479497,10.9283809304244,2.9400633860674201,27.979066587984601]
["CDICA201902Fife",3,92401.150684931505,3.2467128144641499,0.65253642674587198,9.4863384876314196]
["CDICA201902Forth Valley",0,75614.767123287704,0,0,4.8510332465544597]
["CDICA201902Grampian",6,144311.04109588999,4.1576860331935199,1.51820728618253,9.0498240255919509]
["CDICA201902Greater Glasgow & Clyde",12,290831.01369862998,4.1261074076627997,2.1295629682360899,7.2079783904450503]
["CDICA201902Highland",5,80247.041095890396,6.2307593298365997,2.0079367903285701,14.540475774049799]
["CDICA201902Lanarkshire",13,165717.23287671199,7.8446880715607499,4.17286456768751,13.4155694283117]
["CDICA201902Lothian",11,221877.94520547899,4.9576806697993296,2.47145568880785,8.8712785857040295]
["CDICA201902Orkney",0,5452.5205479452097,0,0,67.273428136602803]
["CDICA201902Shetland",0,5711.8082191780804,0,0,64.219549251309601]
["CDICA201902Tayside",3,103106.73972602699,2.9096061110762701,0.58478346668090497,8.5013704668874102]
["CDICA201902Western Isles",1,6566.9589041095896,15.227748712942301,0.199028722755487,84.725006059551006]
["ECBCOM201902Ayrshire & Arran",57,91610.821917808207,62.219723398115001,47.121479582400703,80.614691536997299]
["ECBCOM201902Borders",19,29042.712328767098,65.420886950631996,39.369148885184202,102.168679862171]
["ECBCOM201902Dumfries & Galloway",20,36601.945205479497,54.641904652121902,33.362469797226701,84.394678104836103]
["ECBCOM201902Fife",33,92401.150684931505,35.713840959105703,24.5795794456476,50.157405783549699]
["ECBCOM201902Forth Valley",41,75614.767123287704,54.222212882241202,38.906271348205799,73.560839162903406]
["ECBCOM201902Grampian",49,144311.04109588999,33.9544359377471,25.117526814499701,44.890742232777598]
["ECBCOM201902Greater Glasgow & Clyde",134,290831.01369862998,46.074866052234597,38.603618157381803,54.569865373489897]
["ECBCOM201902Highland",41,80247.041095890396,51.092226504660097,36.660400277122299,69.314527323817003]
["ECBCOM201902Lanarkshire",80,165717.23287671199,48.275003517296902,38.277609489057397,60.0833857917305]
["ECBCOM201902Lothian",69,221877.94520547899,31.0981787469231,24.195064502798498,39.357470469403601]
["ECBCOM201902Orkney",5,5452.5205479452097,91.700708984659599,29.5516513353022,213.998305322058]
["ECBCOM201902Shetland",3,5711.8082191780804,52.522771859306097,10.556222194699,153.46253907839201]
["ECBCOM201902Tayside",47,103106.73972602699,45.5838290735283,33.490203261123803,60.618484015890303]
["ECBCOM201902Western Isles",6,6566.9589041095896,91.366492277654004,33.363095044078797,198.87280336876901]
["SABCAUN201902Ayrshire & Arran",15,91610.821917808207,16.3736114205566,9.1573999131326005,27.007534120269501]
["SABCAUN201902Borders",3,29042.712328767098,10.3296137290472,2.0760842173624798,30.181361235178599]
["SABCAUN201902Dumfries & Galloway",6,36601.945205479497,16.392571395636601,5.9858587525443498,35.680877601889399]
["SABCAUN201902Fife",9,92401.150684931505,9.7401384433924498,4.4445561046372202,18.491050527059699]
["SABCAUN201902Forth Valley",9,75614.767123287704,11.902436974150501,5.4312419911656997,22.5960405761445]
["SABCAUN201902Grampian",12,144311.04109588999,8.3153720663870505,4.2917226019846204,14.526287428125601]
["SABCAUN201902Greater Glasgow & Clyde",18,290831.01369862998,6.1891611114942098,3.6661794944363999,9.7821222774473107]
["SABCAUN201902Highland",6,80247.041095890396,7.4769111958039201,2.7302448922267901,16.274612858400602]
["SABCAUN201902Lanarkshire",11,165717.23287671199,6.6378129836283204,3.3090192273910302,11.8777089731263]
["SABCAUN201902Lothian",31,221877.94520547899,13.9716455239799,9.4912482070674802,19.832426192685201]
["SABCAUN201902Orkney",1,5452.5205479452097,18.340141796931899,0.23970811876449599,102.04191401959601]
["SABCAUN201902Shetland",2,5711.8082191780804,35.015181239537398,3.9324386681974901,126.421979895257]
["SABCAUN201902Tayside",10,103106.73972602699,9.6986870369209104,4.6431302437207398,17.837463315124001]
["SABCAUN201902Western Isles",0,6566.9589041095896,0,0,55.856866869685]
["CDICA201903Ayrshire & Arran",7,92617.534246575306,7.5579641122424199,3.0279135839573601,15.573091613396601]
["CDICA201903Borders",0,29361.863013698599,0,0,12.492727354337401]
["CDICA201903Dumfries & Galloway",5,37004.164383561598,13.5119927264758,4.3544014252359799,31.532401188670299]
["CDICA201903Fife",3,93416.547945205501,3.21142245778519,0.64544363949863504,9.3832261127658594]
["CDICA201903Forth Valley",2,76445.698630137005,2.6162361464920201,0.29382078925195698,9.4458958030350892]
["CDICA201903Grampian",5,145896.87671232899,3.4270781614185699,1.1044169673978499,7.9976362982372802]
["CDICA201903Greater Glasgow & Clyde",15,294026.95890411001,5.1015730176265599,2.8531973251668301,8.4148147773688997]
["CDICA201903Highland",5,81128.876712328798,6.1630336849470702,1.9861113904337,14.3824271243318]
["CDICA201903Lanarkshire",8,167538.30136986301,4.7750275218195899,2.0560269117538899,9.4092857353136008]
["CDICA201903Lothian",18,224316.16438356199,8.0243882777977298,4.7532851754048897,12.682744223502899]
["CDICA201903Orkney",0,5512.4383561643799,0,0,66.542195222074497]
["CDICA201903Shetland",0,5774.5753424657496,0,0,63.521510672490997]
["CDICA201903Tayside",4,104239.780821918,3.83730661026001,1.0323509710876999,9.8243516446318804]
["CDICA201903Western Isles",0,6639.1232876712302,0,0,55.249727012405799]
["ECBCOM201903Ayrshire & Arran",55,92617.534246575306,59.3840037390476,44.7330035681032,77.298254285487502]
["ECBCOM201903Borders",24,29361.863013698599,81.7386825515906,52.355634884569803,121.626631187027]
["ECBCOM201903Dumfries & Galloway",29,37004.164383561598,78.369557813559695,52.474058173551903,112.556502716477]
["ECBCOM201903Fife",40,93416.547945205501,42.818966103802602,30.586784114022102,58.3091317485381]
["ECBCOM201903Forth Valley",40,76445.698630137005,52.324722929840398,37.3770118643505,71.253685939672195]
["ECBCOM201903Grampian",50,145896.87671232899,34.270781614185701,25.434329020080298,45.182915064133901]
["ECBCOM201903Greater Glasgow & Clyde",132,294026.95890411001,44.8938425551138,37.561636890514599,53.2388803539355]
["ECBCOM201903Highland",26,81128.876712328798,32.0477751617248,20.9291910109113,46.959577306716596]
["ECBCOM201903Lanarkshire",88,167538.30136986301,52.525302740015398,42.125440421873598,64.713584775369]
["ECBCOM201903Lothian",62,224316.16438356199,27.6395596235255,21.189866612061401,35.433404951362]
["ECBCOM201903Orkney",2,5512.4383561643799,36.281584859147898,4.0746642511306002,130.994318157408]
["ECBCOM201903Shetland",2,5774.5753424657496,34.634581443455502,3.8896947696301201,125.047827939874]
["ECBCOM201903Tayside",51,104239.780821918,48.925659280815204,36.425450558856703,64.329829189934202]
["ECBCOM201903Western Isles",5,6639.1232876712302,75.311148525964796,24.269919257361199,175.75063851589499]
["SABCAUN201903Ayrshire & Arran",8,92617.534246575306,8.6376732711342008,3.7192013280002501,17.0207052263045]
["SABCAUN201903Borders",2,29361.863013698599,6.8115568792992098,0.76498332193515495,24.593061534058801]
["SABCAUN201903Dumfries & Galloway",3,37004.164383561598,8.1071956358854802,1.6294143564538099,23.687836400199501]
["SABCAUN201903Fife",11,93416.547945205501,11.775215678545701,5.8700682262496597,21.070582324407201]
["SABCAUN201903Forth Valley",10,76445.698630137005,13.081180732460099,6.2624585834398898,24.0584195103425]
["SABCAUN201903Grampian",6,145896.87671232899,4.1124937937022903,1.50170503307185,8.9514563731398606]
["SABCAUN201903Greater Glasgow & Clyde",17,294026.95890411001,5.78178275331011,3.36614493074579,9.2577601792263593]
["SABCAUN201903Highland",10,81128.876712328798,12.326067369894099,5.9009571061965502,22.6696431891502]
["SABCAUN201903Lanarkshire",12,167538.30136986301,7.1625412827293804,3.6967245801297901,12.5123846002419]
["SABCAUN201903Lothian",15,224316.16438356199,6.6869902314981102,3.7398862225446501,11.0298890208398]
["SABCAUN201903Orkney",0,5512.4383561643799,0,0,66.542195222074497]
["SABCAUN201903Shetland",0,5774.5753424657496,0,0,63.521510672490997]
["SABCAUN201903Tayside",8,104239.780821918,7.6746132205200199,3.3045278266120799,15.1229764372899]
["SABCAUN201903Western Isles",0,6639.1232876712302,0,0,55.249727012405799]
["CDICA201904Ayrshire & Arran",6,92617.534246575306,6.4782549533506497,2.3655787843053,14.100888535758701]
["CDICA201904Borders",2,29361.863013698599,6.8115568792992098,0.76498332193515495,24.593061534058801]
["CDICA201904Dumfries & Galloway",2,37004.164383561598,5.4047970905903204,0.60699480397947103,19.513968654059799]
["CDICA201904Fife",4,93416.547945205501,4.2818966103802598,1.15195906212031,10.9626001461172]
["CDICA201904Forth Valley",0,76445.698630137005,0,0,4.7983046243093099]
["CDICA201904Grampian",8,145896.87671232899,5.4833250582697204,2.3610050066058998,10.8049999747864]
["CDICA201904Greater Glasgow & Clyde",10,294026.95890411001,3.4010486784177099,1.6282113155123601,6.2550818273941102]
["CDICA201904Highland",3,81128.876712328798,3.6978202109682399,0.74320167046007402,10.8043969985189]
["CDICA201904Lanarkshire",12,167538.30136986301,7.1625412827293804,3.6967245801297901,12.5123846002419]
["CDICA201904Lothian",11,224316.16438356199,4.9037928364319399,2.44459204001646,8.7748516445550795]
["CDICA201904Orkney",0,5512.4383561643799,0,0,66.542195222074497]
["CDICA201904Shetland",0,5774.5753424657496,0,0,63.521510672490997]
["CDICA201904Tayside",4,104239.780821918,3.83730661026001,1.0323509710876999,9.8243516446318804]
["CDICA201904Western Isles",1,6639.1232876712302,15.062229705192999,0.196865367073362,83.8040820806428]
["ECBCOM201904Ayrshire & Arran",41,92617.534246575306,44.268075514562803,31.7638411728588,60.056508391684403]
["ECBCOM201904Borders",12,29361.863013698599,40.8693412757953,21.093448889745599,71.395458150354301]
["ECBCOM201904Dumfries & Galloway",21,37004.164383561598,56.750369451198402,35.115714349230402,86.753634729707898]
["ECBCOM201904Fife",34,93416.547945205501,36.3961211882322,25.201302335823001,50.861803151680903]
["ECBCOM201904Forth Valley",53,76445.698630137005,69.330257882038595,51.929223704009303,90.687887606123795]
["ECBCOM201904Grampian",38,145896.87671232899,26.045794026781198,18.429107461167799,35.751078179586798]
["ECBCOM201904Greater Glasgow & Clyde",125,294026.95890411001,42.513108480221398,35.386853328130599,50.652963670829799]
["ECBCOM201904Highland",43,81128.876712328798,53.0020896905448,38.353767133963302,71.395587891076602]
["ECBCOM201904Lanarkshire",73,167538.30136986301,43.5721261366037,34.152077400210203,54.786373136540199]
["ECBCOM201904Lothian",63,224316.16438356199,28.085358972291999,21.580345514081301,35.934109885255097]
["ECBCOM201904Orkney",2,5512.4383561643799,36.281584859147898,4.0746642511306002,130.994318157408]
["ECBCOM201904Shetland",4,5774.5753424657496,69.269162886911005,18.635489637845001,177.344341604276]
["ECBCOM201904Tayside",54,104239.780821918,51.8036392385102,38.913658052158098,67.594124400088006]
["ECBCOM201904Western Isles",5,6639.1232876712302,75.311148525964796,24.269919257361199,175.75063851589499]
["SABCAUN201904Ayrshire & Arran",9,92617.534246575306,9.7173824300259692,4.4341722298377997,18.447849642862899]
["SABCAUN201904Borders",2,29361.863013698599,6.8115568792992098,0.76498332193515495,24.593061534058801]
["SABCAUN201904Dumfries & Galloway",2,37004.164383561598,5.4047970905903204,0.60699480397947103,19.513968654059799]
["SABCAUN201904Fife",8,93416.547945205501,8.5637932207605107,3.6873901245849998,16.875123132603701]
["SABCAUN201904Forth Valley",14,76445.698630137005,18.3136530254442,10.0037553293147,30.729244821319298]
["SABCAUN201904Grampian",13,145896.87671232899,8.9104032196882894,4.73975581183924,15.238098945111799]
["SABCAUN201904Greater Glasgow & Clyde",22,294026.95890411001,7.4823070925189601,4.6874508045622996,11.328893105866999]
["SABCAUN201904Highland",10,81128.876712328798,12.326067369894099,5.9009571061965502,22.6696431891502]
["SABCAUN201904Lanarkshire",16,167538.30136986301,9.5500550436391691,5.45511663044819,15.5096685492157]
["SABCAUN201904Lothian",21,224316.16438356199,9.3617863240973502,5.7928400737238199,14.3112546937113]
["SABCAUN201904Orkney",0,5512.4383561643799,0,0,66.542195222074497]
["SABCAUN201904Shetland",1,5774.5753424657496,17.317290721727701,0.22633931770896301,96.350917590752104]
["SABCAUN201904Tayside",14,104239.780821918,13.43057313591,7.3363936401679597,22.5357207221635]
["SABCAUN201904Western Isles",0,6639.1232876712302,0,0,55.249727012405799]
["CDICA202001Ayrshire & Arran",9,90962.704918032803,9.8941648757146901,4.51484043622367,18.783460184183799]
["CDICA202001Borders",3,28936.010928961801,10.3677041295189,2.0837397678338401,30.292654858191501]
["CDICA202001Dumfries & Galloway",2,36322.923497267802,5.5061647230858002,0.61837906599433501,19.8799555301437]
["CDICA202001Fife",1,92183.497267759594,1.0847928638413,1.41783885598992E-2,6.0356316416094398]
["CDICA202001Forth Valley",1,75206.775956284197,1.32966742329345,1.7378931970603799E-2,7.3980785091348702]
["CDICA202001Grampian",10,143732.75956284199,6.9573561590375599,3.3307509228197301,12.795709850689599]
["CDICA202001Greater Glasgow & Clyde",7,290053.79781420802,2.4133454044562499,0.96684784743785601,4.9726683694474501]
["CDICA202001Highland",3,79828.879781420794,3.7580384545220902,0.75530455720092804,10.980344387193799]
["CDICA202001Lanarkshire",3,165346.50273224001,1.8143716077612799,0.36465915939445698,5.3012829274252304]
["CDICA202001Lothian",6,222069.836065574,2.7018527623122499,0.986599882046443,5.8809856845309598]
["CDICA202001Orkney",0,5462.4863387978103,0,0,67.1506941152862]
["CDICA202001Shetland",0,5691.2295081967204,0,0,64.451758397240695]
["CDICA202001Tayside",0,102554.016393443,0,0,3.5767467930100101]
["CDICA202001Western Isles",1,6484.3715846994501,15.421694869547601,0.20156362509464101,85.804094610549001]
["ECBCOM202001Ayrshire & Arran",52,90962.704918032803,57.166285948573801,42.6912086733142,74.967834061845807]
["ECBCOM202001Borders",13,28936.010928961801,44.926717894581799,23.8980960791082,76.831289861729701]
["ECBCOM202001Dumfries & Galloway",20,36322.923497267802,55.061647230858,33.6187501958483,85.042972487047905]
["ECBCOM202001Fife",31,92183.497267759594,33.628578779080399,22.8446382708008,47.734986223085201]
["ECBCOM202001Forth Valley",39,75206.775956284197,51.857029508444498,36.870739687583502,70.892572561971704]
["ECBCOM202001Grampian",48,143732.75956284199,33.395309563380302,24.620880578353301,44.278520022694202]
["ECBCOM202001Greater Glasgow & Clyde",95,290053.79781420802,32.7525447747634,26.497989326926501,40.038826679844497]
["ECBCOM202001Highland",20,79828.879781420794,25.053589696813901,15.2968611708085,38.6953868335031]
["ECBCOM202001Lanarkshire",76,165346.50273224001,45.9640807299524,36.212962758715697,57.531874950784598]
["ECBCOM202001Lothian",71,222069.836065574,31.9719243540283,24.969180571365801,40.328963773389198]
["ECBCOM202001Orkney",3,5462.4863387978103,54.920045816723103,11.0380352380747,160.46696278544999]
["ECBCOM202001Shetland",1,5691.2295081967204,17.5708956836087,0.22965396865304599,97.761939163089394]
["ECBCOM202001Tayside",41,102554.016393443,39.978931534681003,28.686235323477099,54.237619532687802]
["ECBCOM202001Western Isles",5,6484.3715846994501,77.108474347738195,24.849129021484899,179.94498645747399]
["SABCAUN202001Ayrshire & Arran",15,90962.704918032803,16.4902747928578,9.2226471654300308,27.1999650951524]
["SABCAUN202001Borders",3,28936.010928961801,10.3677041295189,2.0837397678338401,30.292654858191501]
["SABCAUN202001Dumfries & Galloway",8,36322.923497267802,22.024658892343201,9.4833571530078604,43.400023935757901]
["SABCAUN202001Fife",6,92183.497267759594,6.5087571830478304,2.37671688059284,14.167281189976499]
["SABCAUN202001Forth Valley",6,75206.775956284197,7.9780045397606898,2.9132225292535101,17.3653172903851]
["SABCAUN202001Grampian",16,143732.75956284199,11.131769854460099,6.35861286473245,18.078436199571598]
["SABCAUN202001Greater Glasgow & Clyde",23,290053.79781420802,7.92956347178482,5.0250137581946701,11.8988392263644]
["SABCAUN202001Highland",8,79828.879781420794,10.021435878725599,4.3150205453107402,19.7474366860027]
["SABCAUN202001Lanarkshire",19,165346.50273224001,11.4910201824881,6.9150955527156901,17.945680913808499]
["SABCAUN202001Lothian",27,222069.836065574,12.1583374304051,8.0104633250703596,17.690532946211601]
["SABCAUN202001Orkney",3,5462.4863387978103,54.920045816723103,11.0380352380747,160.46696278544999]
["SABCAUN202001Shetland",2,5691.2295081967204,35.141791367217301,3.9466578309791398,126.879104560887]
["SABCAUN202001Tayside",13,102554.016393443,12.676246584167201,6.7429399027483496,21.6782445125903]
["SABCAUN202001Western Isles",0,6484.3715846994501,0,0,56.568280280400302]
["CDICA202002Ayrshire & Arran",8,90962.704918032803,8.7948132228574991,3.786862502345,17.3303525947106]
["CDICA202002Borders",0,28936.010928961801,0,0,12.676583173336001]
["CDICA202002Dumfries & Galloway",2,36322.923497267802,5.5061647230858002,0.61837906599433501,19.8799555301437]
["CDICA202002Fife",1,92183.497267759594,1.0847928638413,1.41783885598992E-2,6.0356316416094398]
["CDICA202002Forth Valley",2,75206.775956284197,2.6593348465869,0.298661061065566,9.6015032511197393]
["CDICA202002Grampian",10,143732.75956284199,6.9573561590375599,3.3307509228197301,12.795709850689599]
["CDICA202002Greater Glasgow & Clyde",13,290053.79781420802,4.48192717970446,2.3840941733484899,7.6647541245065502]
["CDICA202002Highland",9,79828.879781420794,11.274115363566301,5.1445303939715004,21.4032108524111]
["CDICA202002Lanarkshire",13,165346.50273224001,7.8622769669655499,4.1822207177026396,13.4456490242521]
["CDICA202002Lothian",19,222069.836065574,8.5558670806554709,5.1487716024754597,13.361812800954899]
["CDICA202002Orkney",0,5462.4863387978103,0,0,67.1506941152862]
["CDICA202002Shetland",0,5691.2295081967204,0,0,64.451758397240695]
["CDICA202002Tayside",2,102554.016393443,1.95019178217956,0.21901955960703201,7.0411489402834198]
["CDICA202002Western Isles",1,6484.3715846994501,15.421694869547601,0.20156362509464101,85.804094610549001]
["ECBCOM202002Ayrshire & Arran",45,90962.704918032803,49.470824378573397,36.0807847233906,66.197738992007999]
["ECBCOM202002Borders",7,28936.010928961801,24.191309635543998,9.6916569027541506,49.845894424417402]
["ECBCOM202002Dumfries & Galloway",22,36322.923497267802,60.567811953943803,37.943997133979202,91.705173123478602]
["ECBCOM202002Fife",36,92183.497267759594,39.052543098287003,27.347929056372202,54.067072131629999]
["ECBCOM202002Forth Valley",29,75206.775956284197,38.560355275509998,25.818932534156001,55.381437058016601]
["ECBCOM202002Grampian",45,143732.75956284199,31.308102715669001,22.8340830857694,41.893896815765899]
["ECBCOM202002Greater Glasgow & Clyde",111,290053.79781420802,38.268762842091903,31.480788100299801,46.085990487478703]
["ECBCOM202002Highland",26,79828.879781420794,32.569666605858103,21.270018593047801,47.724304389730001]
["ECBCOM202002Lanarkshire",70,165346.50273224001,42.335337514429902,33.000907059991,53.489136450016801]
["ECBCOM202002Lothian",48,222069.836065574,21.614822098497999,15.9356496635992,28.658884902950501]
["ECBCOM202002Orkney",1,5462.4863387978103,18.306681938907701,0.239270793922086,101.855748176746]
["ECBCOM202002Shetland",2,5691.2295081967204,35.141791367217301,3.9466578309791398,126.879104560887]
["ECBCOM202002Tayside",41,102554.016393443,39.978931534681003,28.686235323477099,54.237619532687802]
["ECBCOM202002Western Isles",5,6484.3715846994501,77.108474347738195,24.849129021484899,179.94498645747399]
["SABCAUN202002Ayrshire & Arran",13,90962.704918032803,14.291571487143401,7.6021878411551498,24.4406874787703]
["SABCAUN202002Borders",5,28936.010928961801,17.2795068825315,5.56852796769485,40.3244994570451]
["SABCAUN202002Dumfries & Galloway",4,36322.923497267802,11.0123294461716,2.9626480634349499,28.193993311989502]
["SABCAUN202002Fife",13,92183.497267759594,14.102307229937001,7.5015115484049302,24.117017785381599]
["SABCAUN202002Forth Valley",11,75206.775956284197,14.626341656227901,7.29138435900812,26.1723899065362]
["SABCAUN202002Grampian",13,143732.75956284199,9.0445630067488203,4.8111201053237602,15.4675318966045]
["SABCAUN202002Greater Glasgow & Clyde",14,290053.79781420802,4.8266908089124998,2.6365593929036302,8.0989065009484609]
["SABCAUN202002Highland",9,79828.879781420794,11.274115363566301,5.1445303939715004,21.4032108524111]
["SABCAUN202002Lanarkshire",16,165346.50273224001,9.6766485747268298,5.5274285148915601,15.7152614697458]
["SABCAUN202002Lothian",20,222069.836065574,9.0061758743741809,5.4988615881941501,13.9100808932698]
["SABCAUN202002Orkney",0,5462.4863387978103,0,0,67.1506941152862]
["SABCAUN202002Shetland",0,5691.2295081967204,0,0,64.451758397240695]
["SABCAUN202002Tayside",11,102554.016393443,10.726054801987599,5.3470505513438003,19.193212837125301]
["SABCAUN202002Western Isles",3,6484.3715846994501,46.265084608642901,9.2985289179640294,135.178649248325]
["CDICA202003Ayrshire & Arran",7,91962.295081967197,7.6118152485872699,3.0494877254627402,15.6840512140681]
["CDICA202003Borders",4,29253.989071038301,13.673348924437899,3.6785423928394398,35.006790344628001]
["CDICA202003Dumfries & Galloway",6,36722.076502732198,16.338945319591598,5.9662768267493496,35.564152445753102]
["CDICA202003Fife",6,93196.502732240406,6.4380098223625302,2.3508830014559599,14.0132890031289]
["CDICA202003Forth Valley",1,76033.224043715803,1.3152145165185201,1.71900305361407E-2,7.3176646122964497]
["CDICA202003Grampian",10,145312.24043715801,6.8817327225262801,3.2945471084412499,12.6566260479647]
["CDICA202003Greater Glasgow & Clyde",10,293241.20218579198,3.4101619845577398,1.63257420166365,6.2718426800057596]
["CDICA202003Highland",8,80706.120218579206,9.9125072278698507,4.2681181480791004,19.532790635067801]
["CDICA202003Lanarkshire",8,167163.49726775999,4.7857338059790298,2.0606368136353099,9.4303826790190204]
["CDICA202003Lothian",21,224510.163934426,9.35369679126579,5.7878344724056499,14.298888318246499]
["CDICA202003Orkney",2,5522.5136612021897,36.215392531317399,4.0672304107138304,130.75533138532899]
["CDICA202003Shetland",1,5753.7704918032796,17.379907687047702,0.22715772986333899,96.699309389577607]
["CDICA202003Tayside",6,103680.983606557,5.7869821362502201,2.11315582131988,12.596230103522799]
["CDICA202003Western Isles",0,6555.6284153005499,0,0,55.953407668656801]
["ECBCOM202003Ayrshire & Arran",64,91962.295081967197,69.593739415654994,53.592717969259198,88.871441908059296]
["ECBCOM202003Borders",8,29253.989071038301,27.346697848875898,11.774915739850099,53.887206471912997]
["ECBCOM202003Dumfries & Galloway",23,36722.076502732198,62.632623725100999,39.690683736922203,93.984432142089503]
["ECBCOM202003Fife",44,93196.502732240406,47.212072030658497,34.3008324659747,63.381845501210798]
["ECBCOM202003Forth Valley",56,76033.224043715803,73.652012925037099,55.632131600547901,95.645466225376794]
["ECBCOM202003Grampian",39,145312.24043715801,26.838757617852501,19.0825593954402,36.690658719411303]
["ECBCOM202003Greater Glasgow & Clyde",106,293241.20218579198,36.147717036312102,29.5940569030676,43.720148342891697]
["ECBCOM202003Highland",32,80706.120218579206,39.650028911479403,27.1157128642114,55.976182061415798]
["ECBCOM202003Lanarkshire",112,167163.49726775999,67.000273283706406,55.166562230551797,80.619655061618502]
["ECBCOM202003Lothian",83,224510.163934426,36.969373032145803,29.444835417995002,45.829809055142]
["ECBCOM202003Orkney",1,5522.5136612021897,18.107696265658699,0.236670024422933,100.748620479173]
["ECBCOM202003Shetland",1,5753.7704918032796,17.379907687047702,0.22715772986333899,96.699309389577607]
["ECBCOM202003Tayside",39,103680.983606557,37.6153838856265,26.744822074114499,51.423140832313798]
["ECBCOM202003Western Isles",6,6555.6284153005499,91.524406508402194,33.420758497692198,199.21652725460399]
["SABCAUN202003Ayrshire & Arran",15,91962.295081967197,16.311032675544102,9.1224010005884004,26.904313300639899]
["SABCAUN202003Borders",1,29253.989071038301,3.4183372311094802,4.4678127140160097E-2,19.0191372394521]
["SABCAUN202003Dumfries & Galloway",3,36722.076502732198,8.1694726597957796,1.6419310245341401,23.869799192283601]
["SABCAUN202003Fife",6,93196.502732240406,6.4380098223625302,2.3508830014559599,14.0132890031289]
["SABCAUN202003Forth Valley",9,76033.224043715803,11.8369306486667,5.40135057427121,22.471680867973699]
["SABCAUN202003Grampian",18,145312.24043715801,12.3871189005473,7.3375697433360703,19.5781479214359]
["SABCAUN202003Greater Glasgow & Clyde",27,293241.20218579198,9.2074373583059099,6.0662767174191297,13.3969364536597]
["SABCAUN202003Highland",13,80706.120218579206,16.107824245288501,8.5683163489162499,27.546746604893102]
["SABCAUN202003Lanarkshire",16,167163.49726775999,9.5714676119580595,5.4673477701644702,15.544443410292001]
["SABCAUN202003Lothian",27,224510.163934426,12.026181588770299,7.9233930715369896,17.498244544622398]
["SABCAUN202003Orkney",2,5522.5136612021897,36.215392531317399,4.0672304107138304,130.75533138532899]
["SABCAUN202003Shetland",0,5753.7704918032796,0,0,63.751195805966297]
["SABCAUN202003Tayside",12,103680.983606557,11.573964272500399,5.9735443785662001,20.218786407022201]
["SABCAUN202003Western Isles",0,6555.6284153005499,0,0,55.953407668656801]
["CDICA202004Ayrshire & Arran",8,91962.295081967197,8.6992174269568796,3.74570095340647,17.141979196942]
["CDICA202004Borders",0,29253.989071038301,0,0,12.5387942257997]
["CDICA202004Dumfries & Galloway",3,36722.076502732198,8.1694726597957796,1.6419310245341401,23.869799192283601]
["CDICA202004Fife",2,93196.502732240406,2.1460032741208401,0.24101049768956501,7.7481244754980896]
["CDICA202004Forth Valley",1,76033.224043715803,1.3152145165185201,1.71900305361407E-2,7.3176646122964497]
["CDICA202004Grampian",11,145312.24043715801,7.5699059947789102,3.77367734644641,13.545597108817599]
["CDICA202004Greater Glasgow & Clyde",9,293241.20218579198,3.06914578610197,1.40049247953913,5.8265834860102403]
["CDICA202004Highland",3,80706.120218579206,3.7171902104512,0.74709472505744001,10.8609928177678]
["CDICA202004Lanarkshire",4,167163.49726775999,2.39286690298951,0.643753215961406,6.12626727062014]
["CDICA202004Lothian",8,224510.163934426,3.5633130633393502,1.5342880265615999,7.02157854046445]
["CDICA202004Orkney",1,5522.5136612021897,18.107696265658699,0.236670024422933,100.748620479173]
["CDICA202004Shetland",1,5753.7704918032796,17.379907687047702,0.22715772986333899,96.699309389577607]
["CDICA202004Tayside",5,103680.983606557,4.8224851135418501,1.5541035638984499,11.254042124270301]
["CDICA202004Western Isles",0,6555.6284153005499,0,0,55.953407668656801]
["ECBCOM202004Ayrshire & Arran",51,91962.295081967197,55.457511096850098,41.2884539170159,72.918224682118407]
["ECBCOM202004Borders",8,29253.989071038301,27.346697848875898,11.774915739850099,53.887206471912997]
["ECBCOM202004Dumfries & Galloway",23,36722.076502732198,62.632623725100999,39.690683736922203,93.984432142089503]
["ECBCOM202004Fife",26,93196.502732240406,27.898042563571,18.2191574515554,40.8789777093398]
["ECBCOM202004Forth Valley",46,76033.224043715803,60.499867759851902,44.289281823661199,80.700594158155596]
["ECBCOM202004Grampian",36,145312.24043715801,24.7742378010946,17.349039116475598,34.299187605446697]
["ECBCOM202004Greater Glasgow & Clyde",83,293241.20218579198,28.3043444718293,22.543437884720799,35.088036290119597]
["ECBCOM202004Highland",21,80706.120218579206,26.0203314731584,16.1007326669381,39.776980379123103]
["ECBCOM202004Lanarkshire",81,167163.49726775999,48.4555547855377,38.479259917531103,60.226785508809797]
["ECBCOM202004Lothian",90,224510.163934426,40.087271962567698,32.233874905967099,49.274764516270501]
["ECBCOM202004Orkney",2,5522.5136612021897,36.215392531317399,4.0672304107138304,130.75533138532899]
["ECBCOM202004Shetland",2,5753.7704918032796,34.759815374095403,3.9037593762945799,125.499983859138]
["ECBCOM202004Tayside",47,103680.983606557,45.331360067293403,33.304715589118501,60.282744594038199]
["ECBCOM202004Western Isles",5,6555.6284153005499,76.270338757001895,24.5790297929905,177.989062691632]
["SABCAUN202004Ayrshire & Arran",12,91962.295081967197,13.048826140435301,6.7347488036823799,22.795251685949001]
["SABCAUN202004Borders",4,29253.989071038301,13.673348924437899,3.6785423928394398,35.006790344628001]
["SABCAUN202004Dumfries & Galloway",1,36722.076502732198,2.7231575532652599,3.5592035297226599E-2,15.151257388783799]
["SABCAUN202004Fife",12,93196.502732240406,12.876019644725099,6.6455600653446902,22.493372611135101]
["SABCAUN202004Forth Valley",12,76033.224043715803,15.7825741982222,8.1456884746998099,27.5708900730774]
["SABCAUN202004Grampian",16,145312.24043715801,11.010772356042001,6.2894975075071002,17.8819314582719]
["SABCAUN202004Greater Glasgow & Clyde",15,293241.20218579198,5.1152429768366101,2.8608426320003302,8.4373627590148192]
["SABCAUN202004Highland",7,80706.120218579206,8.6734438243861192,3.47480326520866,17.871523769479602]
["SABCAUN202004Lanarkshire",15,167163.49726775999,8.9732508862106801,5.0185414063716296,14.800972934707399]
["SABCAUN202004Lothian",26,224510.163934426,11.5807674558529,7.5629616381596501,16.969288565895098]
["SABCAUN202004Orkney",0,5522.5136612021897,0,0,66.420795266206994]
["SABCAUN202004Shetland",0,5753.7704918032796,0,0,63.751195805966297]
["SABCAUN202004Tayside",10,103680.983606557,9.6449702270837108,4.6174139644551202,17.738669362785]
["SABCAUN202004Western Isles",1,6555.6284153005499,15.254067751400401,0.19937271612622101,84.871441408260395]
["CDICA202101Ayrshire & Arran",6,90226.849315068495,6.6499052616236698,2.4282580598963399,14.4745110439057]
["CDICA202101Borders",0,28869.041095890399,0,0,12.7059900613657]
["CDICA202101Dumfries & Galloway",0,36061.6438356164,0,0,10.171742334254301]
["CDICA202101Fife",5,91449.863013698603,5.4674767519892598,1.7619598413975901,12.759233513769001]
["CDICA202101Forth Valley",0,74423.835616438402,0,0,4.9286595646049003]
["CDICA202101Grampian",6,142530.41095890399,4.20962793808964,1.5371742254467999,9.1628833319250909]
["CDICA202101Greater Glasgow & Clyde",8,287314.52054794499,2.7844050432059602,1.1989065352807,5.4867249528206896]
["CDICA202101Highland",3,79843.561643835594,3.7573474156655702,0.755165669639278,10.9783252900714]
["CDICA202101Lanarkshire",10,164384.383561644,6.0833029168187496,2.9123084029075899,11.188183740795401]
["CDICA202101Lothian",8,220342.191780822,3.6307163577449302,1.5633104744125199,7.1543980590254401]
["CDICA202101Orkney",0,5432.0547945205499,0,0,67.526886808202306]
["CDICA202101Shetland",0,5661.3698630136996,0,0,64.791694964490304]
["CDICA202101Tayside",2,101697.534246575,1.96661601956918,0.220864111139258,7.1004484936645698]
["CDICA202101Western Isles",1,6450.41095890411,15.5028882093102,0.20262483296021799,86.255842687895097]
["ECBCOM202101Ayrshire & Arran",47,90226.849315068495,52.090924549385399,38.270932624040597,69.271777763040404]
["ECBCOM202101Borders",10,28869.041095890399,34.639183084690401,16.5830939781893,63.707093051554899]
["ECBCOM202101Dumfries & Galloway",21,36061.6438356164,58.233618233618202,36.0335117319785,89.021060022753602]
["ECBCOM202101Fife",32,91449.863013698603,34.991851212731298,23.930095793623099,49.399969884580202]
["ECBCOM202101Forth Valley",38,74423.835616438402,51.058911013189899,36.127528189186499,70.084679219998804]
["ECBCOM202101Grampian",47,142530.41095890399,32.975418848368797,24.226869534615101,43.851513596034401]
["ECBCOM202101Greater Glasgow & Clyde",91,287314.52054794499,31.672607366467801,25.500010187609401,38.887490696774698]
["ECBCOM202101Highland",30,79843.561643835594,37.5734741566556,25.345546903414199,53.640669082218203]
["ECBCOM202101Lanarkshire",58,164384.383561644,35.283156917548702,26.7902507573782,45.612676056619797]
["ECBCOM202101Lothian",79,220342.191780822,35.853324032731201,28.384305274460701,44.684666340043798]
["ECBCOM202101Orkney",3,5432.0547945205499,55.227719776062898,11.099872695682899,161.36593337167599]
["ECBCOM202101Shetland",0,5661.3698630136996,0,0,64.791694964490304]
["ECBCOM202101Tayside",37,101697.534246575,36.382396362029802,25.613001670946101,50.150052412611402]
["ECBCOM202101Western Isles",0,6450.41095890411,0,0,56.866105366387501]
["SABCAUN202101Ayrshire & Arran",9,90226.849315068495,9.9748578924355105,4.5516617444784204,18.936650886557999]
["SABCAUN202101Borders",4,28869.041095890399,13.8556732338762,3.7275931195648502,35.473580807630498]
["SABCAUN202101Dumfries & Galloway",3,36061.6438356164,8.3190883190883191,1.6720013366556901,24.306950510619]
["SABCAUN202101Fife",13,91449.863013698603,14.2154395551721,7.5616905978620004,24.310490687036001]
["SABCAUN202101Forth Valley",8,74423.835616438402,10.7492444238295,4.62839967213257,21.181597752131101]
["SABCAUN202101Grampian",14,142530.41095890399,9.8224651888758192,5.3654799697091997,16.481525401758599]
["SABCAUN202101Greater Glasgow & Clyde",23,287314.52054794499,8.0051644992171198,5.0729226001293801,12.0122836138097]
["SABCAUN202101Highland",6,79843.561643835594,7.5146948313311297,2.74404184329474,16.356854578876401]
["SABCAUN202101Lanarkshire",25,164384.383561644,15.2082572920469,9.8392139612781602,22.451453017205701]
["SABCAUN202101Lothian",21,220342.191780822,9.5306304390804293,5.89731660433731,14.569364743375401]
["SABCAUN202101Orkney",0,5432.0547945205499,0,0,67.526886808202306]
["SABCAUN202101Shetland",0,5661.3698630136996,0,0,64.791694964490304]
["SABCAUN202101Tayside",13,101697.534246575,12.7830041271996,6.7997279820945096,21.860815599864001]
["SABCAUN202101Western Isles",1,6450.41095890411,15.5028882093102,0.20262483296021799,86.255842687895097]
["CDICA202102Ayrshire & Arran",7,91229.369863013693,7.6729676095657702,3.0739869241554101,15.8100548978314]
["CDICA202102Borders",1,29189.8082191781,3.4258532721122399,4.4776362806453002E-2,19.060955411757501]
["CDICA202102Dumfries & Galloway",9,36462.328767123297,24.683009298393898,11.263188947013001,46.859166812573498]
["CDICA202102Fife",4,92465.972602739697,4.3259156719035898,1.1638015145291101,11.0752986566599]
["CDICA202102Forth Valley",2,75250.767123287704,2.6577802146831102,0.29848646552166602,9.5958902673701907]
["CDICA202102Grampian",3,144114.082191781,2.0816841452091599,0.41838462819278099,6.0823243552106403]
["CDICA202102Greater Glasgow & Clyde",17,290506.904109589,5.8518402693751597,3.4069323076889999,9.3699359060142999]
["CDICA202102Highland",6,80730.712328767098,7.4321157672505702,2.71388753732447,16.177108924163502]
["CDICA202102Lanarkshire",7,166210.87671232899,4.21151740395144,1.6872415067228901,8.6777795434240108]
["CDICA202102Lothian",13,222790.438356164,5.83507986066149,3.1038835168543502,9.9788440631869904]
["CDICA202102Orkney",1,5492.41095890411,18.206940585515301,0.237967161024944,101.300801616367]
["CDICA202102Shetland",0,5724.2739726027403,0,0,64.079698316528905]
["CDICA202102Tayside",4,102827.506849315,3.8900097090379302,1.04652969088487,9.9592832067258907]
["CDICA202102Western Isles",0,6522.0821917808198,0,0,56.241203109613998]
["ECBCOM202102Ayrshire & Arran",51,91229.369863013693,55.9030497268364,41.620160133696203,73.504040476649095]
["ECBCOM202102Borders",10,29189.8082191781,34.2585327211224,16.4008621762312,63.007015105933398]
["ECBCOM202102Dumfries & Galloway",25,36462.328767123297,68.563914717760895,44.358470137381602,101.218665649911]
["ECBCOM202102Fife",30,92465.972602739697,32.444367539276897,21.885658903668102,46.318250356626599]
["ECBCOM202102Forth Valley",24,75250.767123287704,31.893362576197301,20.428482502475699,47.457117319219599]
["ECBCOM202102Grampian",61,144114.082191781,42.327577619252899,32.375320135248003,54.372693556601902]
["ECBCOM202102Greater Glasgow & Clyde",124,290506.904109589,42.684011376618798,35.5016581379153,50.892362669967198]
["ECBCOM202102Highland",32,80730.712328767098,39.637950758669703,27.107452902428001,55.959130651890902]
["ECBCOM202102Lanarkshire",77,166210.87671232899,46.326691443465897,36.558812473568999,57.901382786567602]
["ECBCOM202102Lothian",76,222790.438356164,34.112774570021003,26.875869493798799,42.697946953779599]
["ECBCOM202102Orkney",4,5492.41095890411,72.827762342061007,19.592859995849199,186.45514143359199]
["ECBCOM202102Shetland",3,5724.2739726027403,52.4083930007275,10.533233905947499,153.12834365357]
["ECBCOM202102Tayside",45,102827.506849315,43.762609226676702,31.917585814993501,58.559480655259001]
["ECBCOM202102Western Isles",8,6522.0821917808198,122.660214403334,52.814921099900701,241.70436723179199]
["SABCAUN202102Ayrshire & Arran",8,91229.369863013693,8.7691058395037391,3.7757934411166398,17.279695689723699]
["SABCAUN202102Borders",3,29189.8082191781,10.2775598163367,2.0656222282247598,30.029268622189601]
["SABCAUN202102Dumfries & Galloway",11,36462.328767123297,30.168122475814801,15.0391247196892,53.982867537417498]
["SABCAUN202102Fife",8,92465.972602739697,8.6518313438071797,3.7252974977712499,17.048603987229502]
["SABCAUN202102Forth Valley",5,75250.767123287704,6.6444505367077697,2.1412537345626901,15.5058905257708]
["SABCAUN202102Grampian",19,144114.082191781,13.183999586324701,7.9339010338992297,20.589629640066999]
["SABCAUN202102Greater Glasgow & Clyde",20,290506.904109589,6.8845179639707696,4.2034501561343296,10.633170296228201]
["SABCAUN202102Highland",9,80730.712328767098,11.148173650875901,5.0870614974850898,21.164118298813701]
["SABCAUN202102Lanarkshire",20,166210.87671232899,12.032906868432701,7.3468795519985202,18.584881114450901]
["SABCAUN202102Lothian",27,222790.438356164,12.1190120182969,7.9845539626070199,17.633313980007902]
["SABCAUN202102Orkney",0,5492.41095890411,0,0,66.784833107013299]
["SABCAUN202102Shetland",1,5724.2739726027403,17.4694643335758,0.22832824727262699,97.197589704206095]
["SABCAUN202102Tayside",17,102827.506849315,16.532541263411201,9.6252198224356995,26.471818243637799]
["SABCAUN202102Western Isles",0,6522.0821917808198,0,0,56.241203109613998]
["CDICA202103Ayrshire & Arran",9,92231.890410958906,9.7580131556434306,4.4527125761201898,18.524984562937199]
["CDICA202103Borders",1,29510.5753424658,3.3886157365458001,4.4289663210730697E-2,18.853771113803699]
["CDICA202103Dumfries & Galloway",2,36863.0136986301,5.4254923820141201,0.60931902339983701,19.588688807538599]
["CDICA202103Fife",4,93482.082191780806,4.2788948493829002,1.15115149806684,10.9549149756093]
["CDICA202103Forth Valley",0,76077.698630137005,0,0,4.8215147914613201]
["CDICA202103Grampian",8,145697.753424658,5.4908190496821296,2.36423176246227,10.819767032394999]
["CDICA202103Greater Glasgow & Clyde",19,293699.287671233,6.4692019346225296,3.8930529071650901,10.1030397512182]
["CDICA202103Highland",6,81617.863013698603,7.3513319002152402,2.6843887597448601,16.001270783683498]
["CDICA202103Lanarkshire",9,168037.369863014,5.35595148111216,2.4439926588175598,10.1679426871915]
["CDICA202103Lothian",22,225238.68493150701,9.7674162884985805,6.1190061800315796,14.7887561529705]
["CDICA202103Orkney",1,5552.7671232876701,18.009039057411801,0.23538056144858599,100.19970594662399]
["CDICA202103Shetland",0,5787.17808219178,0,0,63.383179856566599]
["CDICA202103Tayside",5,103957.47945205501,4.8096587435115703,1.5499701125955201,11.2241097335581]
["CDICA202103Western Isles",1,6593.7534246575296,15.1658689004122,0.19821994528716899,84.380715672940795]
["ECBCOM202103Ayrshire & Arran",59,92231.890410958906,63.969197353662501,48.6932611289104,82.517407145629207]
["ECBCOM202103Borders",18,29510.5753424658,60.995083257824497,36.130732335596001,96.404238313174304]
["ECBCOM202103Dumfries & Galloway",22,36863.0136986301,59.6804162021553,37.388069145559101,90.361575287904202]
["ECBCOM202103Fife",40,93482.082191780806,42.788948493828997,30.565341696340798,58.268254984477998]
["ECBCOM202103Forth Valley",24,76077.698630137005,31.546695591673402,20.206433779622699,46.941279087489001]
["ECBCOM202103Grampian",42,145697.753424658,28.826800010831199,20.773504646528998,38.966642682315602]
["ECBCOM202103Greater Glasgow & Clyde",126,293699.287671233,42.9010233559179,35.737015719902999,51.079648202017303]
["ECBCOM202103Highland",24,81617.863013698603,29.4053276008609,18.8348349578566,43.754937361343998]
["ECBCOM202103Lanarkshire",83,168037.369863014,49.393774770256599,39.340444521985603,61.231962583330898]
["ECBCOM202103Lothian",83,225238.68493150701,36.849797815699198,29.349597866487802,45.681575290595703]
["ECBCOM202103Orkney",2,5552.7671232876701,36.018078114823702,4.0450706841682296,130.042929555266]
["ECBCOM202103Shetland",1,5787.17808219178,17.279578851689099,0.225846418497925,96.141094163942995]
["ECBCOM202103Tayside",39,103957.47945205501,37.5153381993903,26.673688835495799,51.286370636677098]
["ECBCOM202103Western Isles",3,6593.7534246575296,45.497606701236499,9.1442783513373094,132.93621031778599]
["SABCAUN202103Ayrshire & Arran",17,92231.890410958906,18.431802627326501,10.730966835957499,29.5129055647987]
["SABCAUN202103Borders",6,29510.5753424658,20.3316944192748,7.42425627172004,44.254966625081501]
["SABCAUN202103Dumfries & Galloway",5,36863.0136986301,13.5637309550353,4.3710746888129499,31.6531406393756]
["SABCAUN202103Fife",9,93482.082191780806,9.6275134111115293,4.3931637884326502,18.277238867746899]
["SABCAUN202103Forth Valley",7,76077.698630137005,9.2011195475714107,3.6862036458441301,18.958793073394201]
["SABCAUN202103Grampian",11,145697.753424658,7.5498761933129304,3.7636922808328999,13.5097557627012]
["SABCAUN202103Greater Glasgow & Clyde",18,293699.287671233,6.1287176222739799,3.6303755014946399,9.6865898471588601]
["SABCAUN202103Highland",10,81617.863013698603,12.2522198336921,5.8656034828185799,22.533825556010601]
["SABCAUN202103Lanarkshire",18,168037.369863014,10.7119029622243,6.3452474865399404,16.9304276804213]
["SABCAUN202103Lothian",19,225238.68493150701,8.4354958855214992,5.0763343164097297,13.1738274850489]
["SABCAUN202103Orkney",0,5552.7671232876701,0,0,66.058911008023998]
["SABCAUN202103Shetland",1,5787.17808219178,17.279578851689099,0.225846418497925,96.141094163942995]
["SABCAUN202103Tayside",10,103957.47945205501,9.6193174870231495,4.6051330224311,17.6914898004359]
["SABCAUN202103Western Isles",1,6593.7534246575296,15.1658689004122,0.19821994528716899,84.380715672940795]
["CDICA202104Ayrshire & Arran",6,92231.890410958906,6.5053421037622901,2.3754698412029498,14.159847760342601]
["CDICA202104Borders",1,29510.5753424658,3.3886157365458001,4.4289663210730697E-2,18.853771113803699]
["CDICA202104Dumfries & Galloway",5,36863.0136986301,13.5637309550353,4.3710746888129499,31.6531406393756]
["CDICA202104Fife",1,93482.082191780806,1.0697237123457299,1.3981432724094999E-2,5.95178904768155]
["CDICA202104Forth Valley",0,76077.698630137005,0,0,4.8215147914613201]
["CDICA202104Grampian",5,145697.753424658,3.4317619060513298,1.1059263601807701,8.0085665672076107]
["CDICA202104Greater Glasgow & Clyde",11,293699.287671233,3.7453274358341,1.8670849161640299,6.7018925362350403]
["CDICA202104Highland",4,81617.863013698603,4.9008879334768203,1.31848635805883,12.5473545170129]
["CDICA202104Lanarkshire",9,168037.369863014,5.35595148111216,2.4439926588175598,10.1679426871915]
["CDICA202104Lothian",24,225238.68493150701,10.6553632238166,6.8250219980791798,15.855111588922201]
["CDICA202104Orkney",0,5552.7671232876701,0,0,66.058911008023998]
["CDICA202104Shetland",0,5787.17808219178,0,0,63.383179856566599]
["CDICA202104Tayside",1,103957.47945205501,0.96193174870231501,1.25725772687236E-2,5.35205004850192]
["CDICA202104Western Isles",0,6593.7534246575296,0,0,55.629885684509503]
["ECBCOM202104Ayrshire & Arran",59,92231.890410958906,63.969197353662501,48.6932611289104,82.517407145629207]
["ECBCOM202104Borders",12,29510.5753424658,40.663388838549601,20.987152896877902,71.035675776689203]
["ECBCOM202104Dumfries & Galloway",28,36863.0136986301,75.956893348197696,50.4612609257534,109.783622375183]
["ECBCOM202104Fife",37,93482.082191780806,39.579777356791801,27.863939842983701,54.557371349902603]
["ECBCOM202104Forth Valley",21,76077.698630137005,27.603358642714198,17.080270429084301,42.196935740875404]
["ECBCOM202104Grampian",44,145697.753424658,30.1995047732517,21.940747550966201,40.542604114226201]
["ECBCOM202104Greater Glasgow & Clyde",111,293699.287671233,37.793758670689499,31.0900384508173,45.513956376653297]
["ECBCOM202104Highland",29,81617.863013698603,35.531437517706998,23.7908541442795,51.031222518779401]
["ECBCOM202104Lanarkshire",76,168037.369863014,45.228034729391602,35.633066326899502,56.610588028696803]
["ECBCOM202104Lothian",79,225238.68493150701,35.073903945063101,27.767255159798498,43.713260550042797]
["ECBCOM202104Orkney",1,5552.7671232876701,18.009039057411801,0.23538056144858599,100.19970594662399]
["ECBCOM202104Shetland",4,5787.17808219178,69.118315406756594,18.594907125567499,176.95813876977201]
["ECBCOM202104Tayside",44,103957.47945205501,42.324996942901798,30.750241766949198,56.820984584878602]
["ECBCOM202104Western Isles",4,6593.7534246575296,60.663475601648699,16.320300749351301,155.311883262766]
["SABCAUN202104Ayrshire & Arran",12,92231.890410958906,13.0106842075246,6.7150630224269499,22.728620791251501]
["SABCAUN202104Borders",3,29510.5753424658,10.1658472096374,2.04316981270058,29.7028635284701]
["SABCAUN202104Dumfries & Galloway",8,36863.0136986301,21.701969528056502,9.3444138664867804,42.7641581908075]
["SABCAUN202104Fife",8,93482.082191780806,8.5577896987658004,3.6848051336650398,16.863293074324801]
["SABCAUN202104Forth Valley",9,76077.698630137005,11.830010846877499,5.3981929756945997,22.458544052181601]
["SABCAUN202104Grampian",15,145697.753424658,10.295285718154,5.7579263437713903,16.981609809176501]
["SABCAUN202104Greater Glasgow & Clyde",20,293699.287671233,6.8096862469710899,4.1577604805241801,10.5175923582257]
["SABCAUN202104Highland",10,81617.863013698603,12.2522198336921,5.8656034828185799,22.533825556010601]
["SABCAUN202104Lanarkshire",17,168037.369863014,10.1167972421007,5.8899836270022403,16.198962611593601]
["SABCAUN202104Lothian",21,225238.68493150701,9.3234428208395492,5.7691140694604099,14.252639422867301]
["SABCAUN202104Orkney",0,5552.7671232876701,0,0,66.058911008023998]
["SABCAUN202104Shetland",1,5787.17808219178,17.279578851689099,0.225846418497925,96.141094163942995]
["SABCAUN202104Tayside",12,103957.47945205501,11.543180984427799,5.9576565346873904,20.1650104740926]
["SABCAUN202104Western Isles",0,6593.7534246575296,0,0,55.629885684509503]
["CDICA202201Ayrshire & Arran",2,90110.958904109604,2.2194858697800299,0.24926308386448401,8.0134326904556392]
["CDICA202201Borders",0,28804.931506849302,0,0,12.7342691010503]
["CDICA202201Dumfries & Galloway",1,35943.287671232902,2.7821606335703901,3.6363213488641598E-2,15.4795420505957]
["CDICA202201Fife",2,91575.616438356199,2.1839874824607901,0.24527637792691101,7.8852660995907602]
["CDICA202201Forth Valley",0,74665.479452054802,0,0,4.9127086832822497]
["CDICA202201Grampian",7,143580.821917808,4.8753029175491802,1.9531709479861901,10.0455013877443]
["CDICA202201Greater Glasgow & Clyde",7,290761.64383561601,2.4074702246344,0.96449410024792903,4.96056263405998]
["CDICA202201Highland",4,79801.6438356164,5.0124280750902903,1.34849401322041,12.8329218914763]
["CDICA202201Lanarkshire",7,164806.02739726001,4.2474174704343204,1.7016239908620201,8.7517511865758006]
["CDICA202201Lothian",7,223347.94520547899,3.1341233041387602,1.25560989513398,6.4578223206927898]
["CDICA202201Orkney",1,5432.0547945205499,18.409239925354299,0.24061124059188799,102.426366078771]
["CDICA202201Shetland",0,5676.1643835616396,0,0,64.622819999335206]
["CDICA202201Tayside",2,102148.76712328799,1.95792867239026,0.21988846404102499,7.0690829090376202]
["CDICA202201Western Isles",3,6440.5479452054797,46.579887697804999,9.3617992146207794,136.09844993024601]
["ECBCOM202201Ayrshire & Arran",49,90110.958904109604,54.377403809610698,40.225256599606503,71.891696925266402]
["ECBCOM202201Borders",15,28804.931506849302,52.074416481196103,29.124073163397799,85.894403121313502]
["ECBCOM202201Dumfries & Galloway",12,35943.287671232902,33.385927602844703,17.231115930523401,58.322535244563198]
["ECBCOM202201Fife",47,91575.616438356199,51.323705837828498,37.707261008074902,68.2515116698127]
["ECBCOM202201Forth Valley",27,74665.479452054802,36.1612892572901,23.824695032594601,52.615127902586998]
["ECBCOM202201Grampian",34,143580.821917808,23.680042742381701,16.396470200481801,33.0917040955405]
["ECBCOM202201Greater Glasgow & Clyde",105,290761.64383561601,36.112053369516097,29.535340769766002,43.716373348527299]
["ECBCOM202201Highland",28,79801.6438356164,35.086996525632003,23.309722248177401,50.712679350790602]
["ECBCOM202201Lanarkshire",83,164806.02739726001,50.362235720864,40.111790394543299,62.432534213396302]
["ECBCOM202201Lothian",83,223347.94520547899,37.161747749073903,29.5980552703741,46.068290149646501]
["ECBCOM202201Orkney",1,5432.0547945205499,18.409239925354299,0.24061124059188799,102.426366078771]
["ECBCOM202201Shetland",1,5676.1643835616396,17.617530649676599,0.230263493928727,98.021409414219605]
["ECBCOM202201Tayside",41,102148.76712328799,40.137537784000202,28.800040670871098,54.452793502472801]
["ECBCOM202201Western Isles",2,6440.5479452054797,31.053258465203299,3.4874882847731898,112.11749528051401]
["SABCAUN202201Ayrshire & Arran",15,90110.958904109604,16.6461440233502,9.3098213899251192,27.4570643662111]
["SABCAUN202201Borders",5,28804.931506849302,17.3581388270654,5.5938680532232201,40.507999705415699]
["SABCAUN202201Dumfries & Galloway",8,35943.287671232902,22.2572850685631,9.5835211157287006,43.858418395593901]
["SABCAUN202201Fife",12,91575.616438356199,13.103924894764701,6.7631863248670898,22.891504786343202]
["SABCAUN202201Forth Valley",9,74665.479452054802,12.0537630857634,5.5002941301130797,22.883323841383401]
["SABCAUN202201Grampian",16,143580.821917808,11.1435495258267,6.3653415674341201,18.097566853549999]
["SABCAUN202201Greater Glasgow & Clyde",17,290761.64383561601,5.8467134026835499,3.40394745387127,9.3617267939935207]
["SABCAUN202201Highland",3,79801.6438356164,3.7593210563177202,0.75556233928406502,10.9840919298542]
["SABCAUN202201Lanarkshire",14,164806.02739726001,8.4948349408686408,4.6402675748686404,14.2538390484942]
["SABCAUN202201Lothian",19,223347.94520547899,8.5069061112337803,5.1193077449129696,13.285349795885001]
["SABCAUN202201Orkney",2,5432.0547945205499,36.818479850708599,4.1349611438164198,132.93277243427201]
["SABCAUN202201Shetland",0,5676.1643835616396,0,0,64.622819999335206]
["SABCAUN202201Tayside",9,102148.76712328799,8.8106790257561496,4.0204312780059901,16.7265292983062]
["SABCAUN202201Western Isles",1,6440.5479452054797,15.526629232601699,0.20293513132616001,86.387934330602405]
["CDICA202202Ayrshire & Arran",8,91112.1917808219,8.7803836606682406,3.78064943487044,17.301918858349101]
["CDICA202202Borders",2,29124.9863013699,6.8669560194983896,0.77120501530906105,24.793079604522699]
["CDICA202202Dumfries & Galloway",1,36342.657534246602,2.7515874397948901,3.59636177360192E-2,15.3094371928968]
["CDICA202202Fife",4,92593.123287671202,4.3199752400323197,1.16220335956423,11.060089840281201]
["CDICA202202Forth Valley",0,75495.095890411001,0,0,4.8587228735758501]
["CDICA202202Grampian",5,145176.16438356199,3.4440915430096299,1.10989973330424,8.03733975166306]
["CDICA202202Greater Glasgow & Clyde",11,293992.32876712299,3.74159422666885,1.86522387233255,6.69521232814391]
["CDICA202202Highland",6,80688.328767123297,7.4360196718372498,2.7153130745922498,16.185606355003699]
["CDICA202202Lanarkshire",8,166637.20547945201,4.80084863220205,2.0671449414605498,9.4601667416494806]
["CDICA202202Lothian",19,225829.58904109601,8.4134236264949394,5.0630516158479901,13.139356940985101]
["CDICA202202Orkney",0,5492.41095890411,0,0,66.784833107013299]
["CDICA202202Shetland",0,5739.2328767123299,0,0,63.912679120221703]
["CDICA202202Tayside",2,103283.753424658,1.9364129726936601,0.217472107293322,6.9914006792679704]
["CDICA202202Western Isles",0,6512.1095890410998,0,0,56.3273305263209]
["ECBCOM202202Ayrshire & Arran",54,91112.1917808219,59.267589709510602,44.520399598046303,77.333193007411893]
["ECBCOM202202Borders",11,29124.9863013699,37.768258107241202,18.8278718563135,67.582557587290694]
["ECBCOM202202Dumfries & Galloway",22,36342.657534246602,60.534923675487597,37.9233935707461,91.655377280236806]
["ECBCOM202202Fife",41,92593.123287671202,44.279746210331297,31.7722152917347,60.072341500086097]
["ECBCOM202202Forth Valley",28,75495.095890411001,37.088501802348802,24.639403802551701,53.605537257362897]
["ECBCOM202202Grampian",45,145176.16438356199,30.996823887086599,22.607056660717699,41.4773693997167]
["ECBCOM202202Greater Glasgow & Clyde",109,293992.32876712299,37.0757973369914,30.442365719159898,44.724969134202802]
["ECBCOM202202Highland",25,80688.328767123297,30.983415299321901,20.045192984773401,45.739803025891199]
["ECBCOM202202Lanarkshire",72,166637.20547945201,43.207637689818498,33.805783116318899,54.413842008464002]
["ECBCOM202202Lothian",75,225829.58904109601,33.210882736164301,26.121357201884901,41.6308433612759]
["ECBCOM202202Orkney",2,5492.41095890411,36.413881171030503,4.0895220103678804,131.471972737192]
["ECBCOM202202Shetland",2,5739.2328767123299,34.847862823536197,3.9136476928064501,125.817878340588]
["ECBCOM202202Tayside",41,103283.753424658,39.696465940220001,28.483556707454898,53.854411156291803]
["ECBCOM202202Western Isles",2,6512.1095890410998,30.7120138666846,3.44916423768777,110.88543489281599]
["SABCAUN202202Ayrshire & Arran",6,91112.1917808219,6.58528774550118,2.4046625351239199,14.333861378392101]
["SABCAUN202202Borders",2,29124.9863013699,6.8669560194983896,0.77120501530906105,24.793079604522699]
["SABCAUN202202Dumfries & Galloway",6,36342.657534246602,16.5095246387693,6.0285650234001302,35.935443786330403]
["SABCAUN202202Fife",9,92593.123287671202,9.7199442900727302,4.4353412410152302,18.452713175742101]
["SABCAUN202202Forth Valley",11,75495.095890411001,14.5704828509227,7.2635381600823798,26.072436106295399]
["SABCAUN202202Grampian",21,145176.16438356199,14.465184480640399,8.9506956719973196,22.112760548818201]
["SABCAUN202202Greater Glasgow & Clyde",21,293992.32876712299,7.1430435236405403,4.4199373217469802,10.919488184851501]
["SABCAUN202202Highland",10,80688.328767123297,12.3933661197287,5.9331755765453797,22.793416538755]
["SABCAUN202202Lanarkshire",14,166637.20547945201,8.4014851063536007,4.5892756234964596,14.0972034545547]
["SABCAUN202202Lothian",29,225829.58904109601,12.841541324650199,8.5983359522180791,18.443372928431302]
["SABCAUN202202Orkney",0,5492.41095890411,0,0,66.784833107013299]
["SABCAUN202202Shetland",1,5739.2328767123299,17.423931411768098,0.227733125863576,96.944251069008402]
["SABCAUN202202Tayside",8,103283.753424658,7.7456518907746403,3.33511559121684,15.2629595355292]
["SABCAUN202202Western Isles",1,6512.1095890410998,15.3560069333423,0.20070507493796,85.438616370925402]
["CDICA202203Ayrshire & Arran",8,92113.424657534197,8.6849447078348891,3.7395554192740201,17.1138545229323]
["CDICA202203Borders",1,29445.041095890399,3.3961575965997501,4.4388236335493499E-2,18.895732939600499]
["CDICA202203Dumfries & Galloway",7,36742.027397260303,19.051752164666802,7.63261882709154,39.255899796546501]
["CDICA202203Fife",2,93610.630136986307,2.1365094937116398,0.23994428275458701,7.71384727133879]
["CDICA202203Forth Valley",0,76324.712328767098,0,0,4.8059106684282904]
["CDICA202203Grampian",8,146771.50684931499,5.4506492245891502,2.3469354765132899,10.740611601246099]
["CDICA202203Greater Glasgow & Clyde",17,297223.01369862998,5.7196109374078201,3.3299485961784101,9.1582109941240901]
["CDICA202203Highland",10,81575.013698630093,12.2586556184273,5.86868453766989,22.545662011159902]
["CDICA202203Lanarkshire",6,168468.383561644,3.56149912117163,1.3005055870806801,7.7521342536648996]
["CDICA202203Lothian",15,228311.23287671199,6.5699789760672802,3.6744444068818898,10.836884228412901]
["CDICA202203Orkney",0,5552.7671232876701,0,0,66.058911008023998]
["CDICA202203Shetland",0,5802.3013698630102,0,0,63.217976086306201]
["CDICA202203Tayside",7,104418.73972602699,6.7037775195970699,2.6857046043042798,13.813050699646601]
["CDICA202203Western Isles",1,6583.6712328767098,15.1890938145016,0.19852349803646099,84.509935758197997]
["ECBCOM202203Ayrshire & Arran",43,92113.424657534197,46.681577804612502,33.780071220163599,62.881646940760298]
["ECBCOM202203Borders",17,29445.041095890399,57.734679142195702,33.6130404435335,92.444465025433402]
["ECBCOM202203Dumfries & Galloway",22,36742.027397260303,59.876935374667099,37.511182771064099,90.659123179364599]
["ECBCOM202203Fife",52,93610.630136986307,55.549246836502597,41.483620091672897,72.847249913099105]
["ECBCOM202203Forth Valley",32,76324.712328767098,41.926132472220402,28.672286019304199,59.189485829519299]
["ECBCOM202203Grampian",56,146771.50684931499,38.154544572124003,28.819560531981299,49.547990058764398]
["ECBCOM202203Greater Glasgow & Clyde",119,297223.01369862998,40.037276561854803,33.166874620366201,47.911082168299998]
["ECBCOM202203Highland",28,81575.013698630093,34.324235731596602,22.802989155825699,49.610229799686401]
["ECBCOM202203Lanarkshire",94,168468.383561644,55.796819565022197,45.088168907736197,68.282105641651597]
["ECBCOM202203Lothian",81,228311.23287671199,35.477886470763302,28.1735049959766,44.0964729067204]
["ECBCOM202203Orkney",4,5552.7671232876701,72.036156229647304,19.379894126329098,184.42845511366099]
["ECBCOM202203Shetland",1,5802.3013698630102,17.234540852944502,0.225257765799841,95.890509209562595]
["ECBCOM202203Tayside",28,104418.73972602699,26.815110078388301,17.8143708460459,38.756981611920999]
["ECBCOM202203Western Isles",0,6583.6712328767098,0,0,55.715076933643502]
["SABCAUN202203Ayrshire & Arran",13,92113.424657534197,14.113035150231701,7.5072181052590103,24.135364105620599]
["SABCAUN202203Borders",4,29445.041095890399,13.584630386399001,3.6546744359101999,34.779651311025198]
["SABCAUN202203Dumfries & Galloway",7,36742.027397260303,19.051752164666802,7.63261882709154,39.255899796546501]
["SABCAUN202203Fife",12,93610.630136986307,12.8190569622698,6.6161605351960704,22.393863377944399]
["SABCAUN202203Forth Valley",6,76324.712328767098,7.8611498385413103,2.8705522416465201,17.1109655971221]
["SABCAUN202203Grampian",15,146771.50684931499,10.2199672961047,5.7158024107051499,16.857375466419999]
["SABCAUN202203Greater Glasgow & Clyde",15,297223.01369862998,5.0467155330068998,2.8225167433460099,8.3243298287791401]
["SABCAUN202203Highland",8,81575.013698630093,9.8069244947418799,4.2226564329924896,19.324737780884899]
["SABCAUN202203Lanarkshire",9,168468.383561644,5.3422486817574502,2.43773988727057,10.1419287699661]
["SABCAUN202203Lothian",28,228311.23287671199,12.2639607553256,8.1474491172349701,17.725606946754802]
["SABCAUN202203Orkney",1,5552.7671232876701,18.009039057411801,0.23538056144858599,100.19970594662399]
["SABCAUN202203Shetland",1,5802.3013698630102,17.234540852944502,0.225257765799841,95.890509209562595]
["SABCAUN202203Tayside",2,104418.73972602699,1.91536500559916,0.21510828004013399,6.91540719362375]
["SABCAUN202203Western Isles",0,6583.6712328767098,0,0,55.715076933643502]
["CDICA202204Ayrshire & Arran",4,92113.424657534197,4.3424723539174499,1.1682557603038199,11.1176874159364]
["CDICA202204Borders",1,29445.041095890399,3.3961575965997501,4.4388236335493499E-2,18.895732939600499]
["CDICA202204Dumfries & Galloway",1,36742.027397260303,2.7216788806666798,3.5572708847584199E-2,15.1430302668871]
["CDICA202204Fife",2,93610.630136986307,2.1365094937116398,0.23994428275458701,7.71384727133879]
["CDICA202204Forth Valley",2,76324.712328767098,2.6203832795137698,0.29428653998291399,9.4608689874921996]
["CDICA202204Grampian",5,146771.50684931499,3.4066557653682201,1.0978356057683201,7.9499773630580197]
["CDICA202204Greater Glasgow & Clyde",6,297223.01369862998,2.0186862132027601,0.737136977860398,4.3939717541252898]
["CDICA202204Highland",6,81575.013698630093,7.3551933710564104,2.6857988020423398,16.009675851144902]
["CDICA202204Lanarkshire",6,168468.383561644,3.56149912117163,1.3005055870806801,7.7521342536648996]
["CDICA202204Lothian",8,228311.23287671199,3.5039887872358801,1.5087442349014,6.9046788865153497]
["CDICA202204Orkney",0,5552.7671232876701,0,0,66.058911008023998]
["CDICA202204Shetland",2,5802.3013698630102,34.469081705889003,3.8711080439716001,124.45029270645099]
["CDICA202204Tayside",1,104418.73972602699,0.957682502799582,1.2517039053545599E-2,5.3284078547906697]
["CDICA202204Western Isles",0,6583.6712328767098,0,0,55.715076933643502]
["ECBCOM202204Ayrshire & Arran",43,92113.424657534197,46.681577804612502,33.780071220163599,62.881646940760298]
["ECBCOM202204Borders",9,29445.041095890399,30.565418369397701,13.947411281063999,58.0265566792499]
["ECBCOM202204Dumfries & Galloway",23,36742.027397260303,62.5986142553337,39.669131724116298,93.933398662835103]
["ECBCOM202204Fife",38,93610.630136986307,40.5936803805211,28.722691164941899,55.719854015159903]
["ECBCOM202204Forth Valley",31,76324.712328767098,40.615940832463501,27.5913080490655,57.6533843077951]
["ECBCOM202204Grampian",41,146771.50684931499,27.9345772760194,20.044003845040301,37.8975854516992]
["ECBCOM202204Greater Glasgow & Clyde",104,297223.01369862998,34.9905610288479,28.589095998111301,42.397441299153101]
["ECBCOM202204Highland",33,81575.013698630093,40.453563540810201,27.841630925373298,56.813989966254297]
["ECBCOM202204Lanarkshire",73,168468.383561644,43.3315726409215,33.963530218058203,54.483907896895403]
["ECBCOM202204Lothian",57,228311.23287671199,24.965920109055698,18.907687633827599,32.346976788228801]
["ECBCOM202204Orkney",4,5552.7671232876701,72.036156229647304,19.379894126329098,184.42845511366099]
["ECBCOM202204Shetland",3,5802.3013698630102,51.703622558833501,10.391586519156601,151.06912519171499]
["ECBCOM202204Tayside",35,104418.73972602699,33.518887597985398,23.3435522485102,46.618330831022803]
["ECBCOM202204Western Isles",1,6583.6712328767098,15.1890938145016,0.19852349803646099,84.509935758197997]
["SABCAUN202204Ayrshire & Arran",9,92113.424657534197,9.7705627963142501,4.45843914585826,18.5488092797099]
["SABCAUN202204Borders",1,29445.041095890399,3.3961575965997501,4.4388236335493499E-2,18.895732939600499]
["SABCAUN202204Dumfries & Galloway",4,36742.027397260303,10.8867155226667,2.92885413736043,27.872393950428499]
["SABCAUN202204Fife",15,93610.630136986307,16.023821202837301,8.9617699554473997,26.430570920316601]
["SABCAUN202204Forth Valley",6,76324.712328767098,7.8611498385413103,2.8705522416465201,17.1109655971221]
["SABCAUN202204Grampian",17,146771.50684931499,11.582629602251901,6.7433889483317602,18.546045688255401]
["SABCAUN202204Greater Glasgow & Clyde",19,297223.01369862998,6.3925063418087396,3.8468988369122301,9.98326321142682]
["SABCAUN202204Highland",11,81575.013698630093,13.4845211802701,6.7221749042536398,24.129215242466302]
["SABCAUN202204Lanarkshire",15,168468.383561644,8.9037478029290806,4.9796698640797299,14.6863307311655]
["SABCAUN202204Lothian",20,228311.23287671199,8.7599719680896992,5.3485379411750804,13.5298178048706]
["SABCAUN202204Orkney",1,5552.7671232876701,18.009039057411801,0.23538056144858599,100.19970594662399]
["SABCAUN202204Shetland",0,5802.3013698630102,0,0,63.217976086306201]
["SABCAUN202204Tayside",13,104418.73972602699,12.449872536394601,6.6225236115743504,21.291111623817901]
["SABCAUN202204Western Isles",0,6583.6712328767098,0,0,55.715076933643502]
["CDICA202301Ayrshire & Arran",9,90283.561643835594,9.9685921070599495,4.5488025823830203,18.9247556804842]
["CDICA202301Borders",1,28758.082191780799,3.4772833366677101,4.5448560663974E-2,19.347104901957799]
["CDICA202301Dumfries & Galloway",4,35918.630136986299,11.1362821598285,2.9959950740622801,28.511339609785001]
["CDICA202301Fife",3,92024.383561643801,3.2600055375436501,0.65520804771012198,9.5251775466306405]
["CDICA202301Forth Valley",0,74986.027397260303,0,0,4.8917079885064503]
["CDICA202301Grampian",3,144675.616438356,2.0736044358091599,0.416760738122328,6.05871682888165]
["CDICA202301Greater Glasgow & Clyde",8,294267.94520547899,2.7186107526641501,1.1705768908178,5.3570760080489004]
["CDICA202301Highland",6,79924.931506849302,7.5070442812776399,2.7412481929946,16.3402020151354]
["CDICA202301Lanarkshire",5,165740.547945206,3.0167632857428601,0.97218808631378495,7.0401007566339704]
["CDICA202301Lothian",10,226617.534246575,4.4127212103187601,2.1125374218945501,8.1157121999391197]
["CDICA202301Orkney",0,5424.6575342465803,0,0,67.618968926577196]
["CDICA202301Shetland",0,5671.2328767123299,0,0,64.679013755856403]
["CDICA202301Tayside",8,103011.780821918,7.7661020284952098,3.3439209925073001,15.303256934499201]
["CDICA202301Western Isles",0,6418.3561643835601,0,0,57.150108197644897]
["ECBCOM202301Ayrshire & Arran",43,90283.561643835594,47.627717844842003,34.464724127076202,64.156129226154306]
["ECBCOM202301Borders",16,28758.082191780799,55.636533386683404,31.780317197263901,90.355939113625595]
["ECBCOM202301Dumfries & Galloway",24,35918.630136986299,66.817692958971193,42.798374370435802,99.424295139078794]
["ECBCOM202301Fife",29,92024.383561643801,31.513386862922001,21.100480105101401,45.260388255350698]
["ECBCOM202301Forth Valley",19,74986.027397260303,25.3380538474748,15.2479989324329,39.570779800442601]
["ECBCOM202301Grampian",40,144675.616438356,27.648059144122101,19.749781303988101,37.650005824937999]
["ECBCOM202301Greater Glasgow & Clyde",109,294267.94520547899,37.041071505048997,30.4138528738047,44.683078955883303]
["ECBCOM202301Highland",24,79924.931506849302,30.028177125110599,19.233785384529501,44.681733426635503]
["ECBCOM202301Lanarkshire",82,165740.547945206,49.474917886182901,39.347421324682998,61.412380124106498]
["ECBCOM202301Lothian",71,226617.534246575,31.330320593263199,24.468105941624401,39.519653250248702]
["ECBCOM202301Orkney",5,5424.6575342465803,92.171717171717205,29.703439362615299,215.09747843575701]
["ECBCOM202301Shetland",1,5671.2328767123299,17.632850241545899,0.23046372305388199,98.106645422405805]
["ECBCOM202301Tayside",34,103011.780821918,33.005933621104603,22.853877965724099,46.124181475053803]
["ECBCOM202301Western Isles",0,6418.3561643835601,0,0,57.150108197644897]
["SABCAUN202301Ayrshire & Arran",17,90283.561643835594,18.829562868890999,10.9625422302472,30.149797174592798]
["SABCAUN202301Borders",5,28758.082191780799,17.386416683338599,5.6029809309571901,40.573990616365101]
["SABCAUN202301Dumfries & Galloway",5,35918.630136986299,13.920352699785701,4.4860003156280399,32.485374652204698]
["SABCAUN202301Fife",10,92024.383561643801,10.8666851251455,5.2022953376554897,19.985601817947099]
["SABCAUN202301Forth Valley",8,74986.027397260303,10.6686542515683,4.5936992306723701,21.022793231152299]
["SABCAUN202301Grampian",16,144675.616438356,11.0592236576489,6.3171735261221098,17.960618295705402]
["SABCAUN202301Greater Glasgow & Clyde",21,294267.94520547899,7.1363532257433802,4.4157975321361,10.909260803679899]
["SABCAUN202301Highland",8,79924.931506849302,10.0093923750368,4.3098348646874003,19.7237047248896]
["SABCAUN202301Lanarkshire",13,165740.547945206,7.8435845429314304,4.1722775621272303,13.413682232185201]
["SABCAUN202301Lothian",18,226617.534246575,7.9428981785737598,4.7050141213165304,12.5539471053394]
["SABCAUN202301Orkney",0,5424.6575342465803,0,0,67.618968926577196]
["SABCAUN202301Shetland",0,5671.2328767123299,0,0,64.679013755856403]
["SABCAUN202301Tayside",12,103011.780821918,11.6491530427428,6.0123507412987802,20.350135152356501]
["SABCAUN202301Western Isles",0,6418.3561643835601,0,0,57.150108197644897]
["CDICA202302Ayrshire & Arran",5,91286.712328767098,5.4772484104724999,1.76510887533267,12.7820372453732]
["CDICA202302Borders",2,29077.616438356199,6.8781428637383399,0.77246137261771797,24.8334695995914]
["CDICA202302Dumfries & Galloway",1,36317.726027397301,2.75347635819936,3.5988306153494298E-2,15.3199468635173]
["CDICA202302Fife",3,93046.876712328798,3.2241813008673499,0.64800795927374699,9.4205052658984396]
["CDICA202302Forth Valley",0,75819.205479452095,0,0,4.8379529556657204]
["CDICA202302Grampian",9,146283.12328767101,6.1524527216315699,2.8074468819249501,11.680051038516]
["CDICA202302Greater Glasgow & Clyde",15,297537.58904109598,5.0413798298030201,2.8195326021690401,8.3155288268112102]
["CDICA202302Highland",7,80812.986301369907,8.6619741707049691,3.47020822881146,17.847890689870098]
["CDICA202302Lanarkshire",8,167582.10958904101,4.7737792653513402,2.0554894386440998,9.4068260213691204]
["CDICA202302Lothian",15,229135.50684931499,6.5463446526706797,3.6612262508221201,10.7979004771103]
["CDICA202302Orkney",0,5484.9315068493197,0,0,66.875903333977405]
["CDICA202302Shetland",0,5734.2465753424704,0,0,63.968255362934897]
["CDICA202302Tayside",4,104156.35616438399,3.8403801239811499,1.0331778387834401,9.8322205179453395]
["CDICA202302Western Isles",1,6489.6712328767098,15.409101079481401,0.201399022565483,85.7340245719774]
["ECBCOM202302Ayrshire & Arran",48,91286.712328767098,52.581584740536002,38.7660703087749,69.717417900861307]
["ECBCOM202302Borders",14,29077.616438356199,48.147000046168401,26.300094668889301,80.787866286163805]
["ECBCOM202302Dumfries & Galloway",24,36317.726027397301,66.083432596784704,42.328062564167297,98.331720467220805]
["ECBCOM202302Fife",27,93046.876712328798,29.0176317078061,19.118129917540401,42.221016868987597]
["ECBCOM202302Forth Valley",17,75819.205479452095,22.421759622114799,13.0539135956246,35.901603749978598]
["ECBCOM202302Grampian",43,146283.12328767101,29.395051892239699,21.271066513569,39.596118250966803]
["ECBCOM202302Greater Glasgow & Clyde",102,297537.58904109598,34.281382842660499,27.951637698103301,41.615780572814998]
["ECBCOM202302Highland",35,80812.986301369907,43.309870853524799,30.1622847772028,60.235706862176599]
["ECBCOM202302Lanarkshire",77,167582.10958904101,45.9476254290066,36.2596716779301,57.4276073944404]
["ECBCOM202302Lothian",74,229135.50684931499,32.295300286508699,25.3576570992333,40.544497293416804]
["ECBCOM202302Orkney",1,5484.9315068493197,18.2317682317682,0.23829166169906901,101.438939073117]
["ECBCOM202302Shetland",1,5734.2465753424704,17.439082656474,0.227931154668675,97.028550417763995]
["ECBCOM202302Tayside",36,104156.35616438399,34.563421115830302,24.2042620948469,47.8520176748099]
["ECBCOM202302Western Isles",3,6489.6712328767098,46.2273032384442,9.2909354775472597,135.06825855881499]
["SABCAUN202302Ayrshire & Arran",22,91286.712328767098,24.099893006079,15.097891795186801,36.489428775474799]
["SABCAUN202302Borders",4,29077.616438356199,13.756285727476699,3.7008548890384798,35.219126860859298]
["SABCAUN202302Dumfries & Galloway",4,36317.726027397301,11.013905432797401,2.9630720512703901,28.198028185501599]
["SABCAUN202302Fife",15,93046.876712328798,16.120906504336698,9.0160676243417193,26.590708749746899]
["SABCAUN202302Forth Valley",8,75819.205479452095,10.5514162927599,4.5432190193463002,20.791773525315499]
["SABCAUN202302Grampian",12,146283.12328767101,8.2032702955087693,4.2338647334539301,14.3304546341173]
["SABCAUN202302Greater Glasgow & Clyde",20,297537.58904109598,6.7218397730706902,4.1041244414630604,10.381913067127201]
["SABCAUN202302Highland",3,80812.986301369907,3.7122746445878398,0.74610677633292799,10.8466303766458]
["SABCAUN202302Lanarkshire",14,167582.10958904101,8.3541137143648392,4.5633992014409497,14.0177170134866]
["SABCAUN202302Lothian",18,229135.50684931499,7.8556135832048204,4.6533106694339299,12.4159916426434]
["SABCAUN202302Orkney",1,5484.9315068493197,18.2317682317682,0.23829166169906901,101.438939073117]
["SABCAUN202302Shetland",3,5734.2465753424704,52.317247969421899,10.514915238285001,152.86203349069399]
["SABCAUN202302Tayside",16,104156.35616438399,15.3615204959246,8.7747018779858603,24.947719171782399]
["SABCAUN202302Western Isles",0,6489.6712328767098,0,0,56.522085030637797]
["CDICA202303Ayrshire & Arran",8,92289.863013698603,8.6683409626608192,3.7324061941108599,17.081136516197201]
["CDICA202303Borders",1,29397.150684931501,3.4016902206532,4.4460548475626797E-2,18.9265156649587]
["CDICA202303Dumfries & Galloway",5,36716.8219178082,13.6177363367468,4.3884785696361304,31.7791708554176]
["CDICA202303Fife",8,94069.369863013693,8.5043622718530099,3.6618004018480002,16.758013277794301]
["CDICA202303Forth Valley",1,76652.383561643801,1.3045908731537399,1.70511780892189E-2,7.2585561869196402]
["CDICA202303Grampian",9,147890.630136986,6.0855782355268797,2.7769311549475102,11.553093962010401]
["CDICA202303Greater Glasgow & Clyde",16,300807.23287671199,5.31902103782115,3.0382945426527201,8.6383013423423396]
["CDICA202303Highland",3,81701.041095890396,3.6719238332336301,0.73799692006843898,10.7287322203779]
["CDICA202303Lanarkshire",12,169423.67123287701,7.0828355404397598,3.65558692171098,12.373145067371]
["CDICA202303Lothian",15,231653.47945205501,6.4751887325329598,3.62143031331318,10.6805319936635]
["CDICA202303Orkney",0,5545.20547945205,0,0,66.148991341216799]
["CDICA202303Shetland",0,5797.2602739725999,0,0,63.2729482394247]
["CDICA202303Tayside",6,105300.931506849,5.6979552926459398,2.0806470648753699,12.402449894594]
["CDICA202303Western Isles",2,6560.9863013698596,30.483221700713202,3.42346934968214,110.059382946697]
["ECBCOM202303Ayrshire & Arran",53,92289.863013698603,57.427758877628001,43.0141042119049,75.118747595415201]
["ECBCOM202303Borders",11,29397.150684931501,37.418592427185203,18.6535598560632,66.956865481195194]
["ECBCOM202303Dumfries & Galloway",15,36716.8219178082,40.853209010240498,22.8482991951233,67.385527109880996]
["ECBCOM202303Fife",42,94069.369863013693,44.647901927228297,32.174691529915101,60.352825851626903]
["ECBCOM202303Forth Valley",30,76652.383561643801,39.1377261946121,26.400728099368798,55.8738276551883]
["ECBCOM202303Grampian",47,147890.630136986,31.780241896640401,23.348779214869701,42.262138231633898]
["ECBCOM202303Greater Glasgow & Clyde",120,300807.23287671199,39.892657783658699,33.074298934804702,47.702345099445601]
["ECBCOM202303Highland",49,81701.041095890396,59.974755942815897,44.365853797384801,79.291887352770104]
["ECBCOM202303Lanarkshire",71,169423.67123287701,41.906776947601898,32.728023161257703,52.860655826192001]
["ECBCOM202303Lothian",82,231653.47945205501,35.397698404513498,28.151803227862001,43.938565293578101]
["ECBCOM202303Orkney",4,5545.20547945205,72.134387351778699,19.406321254683199,184.679948461544]
["ECBCOM202303Shetland",2,5797.2602739725999,34.4990548204159,3.8744742248794002,124.55851035228299]
["ECBCOM202303Tayside",47,105300.931506849,44.633983125726601,32.792356360036997,59.355355784352298]
["ECBCOM202303Western Isles",2,6560.9863013698596,30.483221700713202,3.42346934968214,110.059382946697]
["SABCAUN202303Ayrshire & Arran",11,92289.863013698603,11.9189688236586,5.9417306732558997,21.3278143413131]
["SABCAUN202303Borders",4,29397.150684931501,13.6067608826128,3.6606282054619701,34.836310264545702]
["SABCAUN202303Dumfries & Galloway",4,36716.8219178082,10.8941890693975,2.9308647463652799,27.891527879137499]
["SABCAUN202303Fife",9,94069.369863013693,9.5674075558346292,4.36573667869001,18.163131618311301]
["SABCAUN202303Forth Valley",9,76652.383561643801,11.741317858383599,5.35772117277926,22.290165898095999]
["SABCAUN202303Grampian",19,147890.630136986,12.847331830556801,7.7313002496623699,20.063851073583699]
["SABCAUN202303Greater Glasgow & Clyde",21,300807.23287671199,6.9812151121402604,4.3198019336113997,10.6721029601217]
["SABCAUN202303Highland",11,81701.041095890396,13.4637207218566,6.7118056580880099,24.0919948820627]
["SABCAUN202303Lanarkshire",18,169423.67123287701,10.624253310659601,6.2933277918556003,16.791895237375101]
["SABCAUN202303Lothian",15,231653.47945205501,6.4751887325329598,3.62143031331318,10.6805319936635]
["SABCAUN202303Orkney",0,5545.20547945205,0,0,66.148991341216799]
["SABCAUN202303Shetland",4,5797.2602739725999,68.9981096408318,18.562568156653501,176.650385484955]
["SABCAUN202303Tayside",14,105300.931506849,13.2952290161739,7.2624624885172802,22.308621159628402]
["SABCAUN202303Western Isles",1,6560.9863013698596,15.241610850356601,0.19920990275498801,84.802133000542895]
["CDICA202304Ayrshire & Arran",6,92289.863013698603,6.5012557219956202,2.3739776711538498,14.150953140692501]
["CDICA202304Borders",1,29397.150684931501,3.4016902206532,4.4460548475626797E-2,18.9265156649587]
["CDICA202304Dumfries & Galloway",4,36716.8219178082,10.8941890693975,2.9308647463652799,27.891527879137499]
["CDICA202304Fife",0,94069.369863013693,0,0,3.89935374053956]
["CDICA202304Forth Valley",3,76652.383561643801,3.9137726194612101,0.786604589362349,11.435372930562201]
["CDICA202304Grampian",6,147890.630136986,4.0570521570179201,1.4814601429815299,8.8307793783695399]
["CDICA202304Greater Glasgow & Clyde",14,300807.23287671199,4.6541434080935096,2.54230610667482,7.8093819961605604]
["CDICA202304Highland",7,81701.041095890396,8.5678222775451296,3.43248857415047,17.6538918780237]
["CDICA202304Lanarkshire",12,169423.67123287701,7.0828355404397598,3.65558692171098,12.373145067371]
["CDICA202304Lothian",18,231653.47945205501,7.7702264790395503,4.6027312056357399,12.281035211745101]
["CDICA202304Orkney",0,5545.20547945205,0,0,66.148991341216799]
["CDICA202304Shetland",0,5797.2602739725999,0,0,63.2729482394247]
["CDICA202304Tayside",6,105300.931506849,5.6979552926459398,2.0806470648753699,12.402449894594]
["CDICA202304Western Isles",2,6560.9863013698596,30.483221700713202,3.42346934968214,110.059382946697]
["ECBCOM202304Ayrshire & Arran",42,92289.863013698603,45.5087900539693,32.795074766843101,61.516531847837499]
["ECBCOM202304Borders",10,29397.150684931501,34.016902206532002,16.285184461729301,62.562617279360197]
["ECBCOM202304Dumfries & Galloway",20,36716.8219178082,54.470945346987399,33.258087918695601,84.130630655946604]
["ECBCOM202304Fife",35,94069.369863013693,37.206584939356901,25.911774577289702,51.747209113817497]
["ECBCOM202304Forth Valley",27,76652.383561643801,35.223953575150901,23.207135835209701,51.2512927679348]
["ECBCOM202304Grampian",36,147890.630136986,24.342312942107501,17.046568407422601,33.701200620385997]
["ECBCOM202304Greater Glasgow & Clyde",85,300807.23287671199,28.257299263424901,22.570141590995799,34.941115602247699]
["ECBCOM202304Highland",25,81701.041095890396,30.599365276946902,19.796725966533401,45.1728425340985]
["ECBCOM202304Lanarkshire",51,169423.67123287701,30.102051046869001,22.4111598749137,39.579636341683198]
["ECBCOM202304Lothian",63,231653.47945205501,27.195792676638401,20.8968168457518,34.795944870174701]
["ECBCOM202304Orkney",5,5545.20547945205,90.167984189723299,29.057712419949802,210.42144629584899]
["ECBCOM202304Shetland",0,5797.2602739725999,0,0,63.2729482394247]
["ECBCOM202304Tayside",43,105300.931506849,40.835346263962599,29.549577584337701,55.0065774816306]
["ECBCOM202304Western Isles",0,6560.9863013698596,0,0,55.9077145411744]
["SABCAUN202304Ayrshire & Arran",14,92289.863013698603,15.169596684656399,8.2863278815454393,25.453701111178301]
["SABCAUN202304Borders",3,29397.150684931501,10.205070661959599,2.0510530881504199,29.817467734830501]
["SABCAUN202304Dumfries & Galloway",5,36716.8219178082,13.6177363367468,4.3884785696361304,31.7791708554176]
["SABCAUN202304Fife",11,94069.369863013693,11.6934981237979,5.8293311701525896,20.924356852902601]
["SABCAUN202304Forth Valley",11,76652.383561643801,14.3504996046911,7.1538742100314003,25.678797872716402]
["SABCAUN202304Grampian",18,147890.630136986,12.1711564710538,7.2096433545549701,19.2368139579822]
["SABCAUN202304Greater Glasgow & Clyde",18,300807.23287671199,5.9838986675488002,3.5445912938040101,9.4576999059060896]
["SABCAUN202304Highland",5,81701.041095890396,6.1198730553893803,1.9722023608283299,14.2817048760063]
["SABCAUN202304Lanarkshire",18,169423.67123287701,10.624253310659601,6.2933277918556003,16.791895237375101]
["SABCAUN202304Lothian",27,231653.47945205501,11.655339718559301,7.67906565278179,16.9586649877665]
["SABCAUN202304Orkney",0,5545.20547945205,0,0,66.148991341216799]
["SABCAUN202304Shetland",2,5797.2602739725999,34.4990548204159,3.8744742248794002,124.55851035228299]
["SABCAUN202304Tayside",5,105300.931506849,4.7482960772049498,1.5301952587282299,11.080910114437801]
["SABCAUN202304Western Isles",0,6560.9863013698596,0,0,55.9077145411744]
["CDICA202401Ayrshire & Arran",7,91435.109289617496,7.6557025571301596,3.06707010290287,15.774480470737499]
["CDICA202401Borders",0,29085.1912568306,0,0,12.611563940099501]
["CDICA202401Dumfries & Galloway",6,36265.737704918,16.544541431419301,6.0413516430042602,36.011663060439297]
["CDICA202401Fife",4,93178.032786885204,4.2928573187939199,1.1549078225723399,10.990661978195501]
["CDICA202401Forth Valley",0,76166.502732240406,0,0,4.8158932875655802]
["CDICA202401Grampian",10,147158.93442623,6.7953740212851201,3.2532039146651401,12.4977983469092]
["CDICA202401Greater Glasgow & Clyde",18,302654.56284153002,5.9473744030169504,3.5229559691996202,9.3999724020799498]
["CDICA202401Highland",14,80801.038251366102,17.3265100337536,9.4645326548324498,29.072876284514301]
["CDICA202401Lanarkshire",7,168715.491803279,4.1489965889806699,1.6621940703870299,8.5489561771279305]
["CDICA202401Lothian",23,231771.530054645,9.92356567460088,6.2886253729669397,14.8909726158944]
["CDICA202401Orkney",1,5474.9180327868899,18.265113632961,0.23872749057530601,101.624468094601]
["CDICA202401Shetland",0,5765.8196721311497,0,0,63.617971095853299]
["CDICA202401Tayside",3,104204.945355191,2.8789420595867599,0.57862049147121697,8.4117753630224303]
["CDICA202401Western Isles",0,6469.4535519125702,0,0,56.6987221257816]
["ECBCOM202401Ayrshire & Arran",44,91435.109289617496,48.121558930532402,34.961599012342703,64.602824706185103]
["ECBCOM202401Borders",12,29085.1912568306,41.258109303929103,21.294099506452898,72.074604684562303]
["ECBCOM202401Dumfries & Galloway",20,36265.737704918,55.148471438064199,33.671762073985199,85.177072882440896]
["ECBCOM202401Fife",29,93178.032786885204,31.1232155612559,20.839232343183699,44.700013558834598]
["ECBCOM202401Forth Valley",25,76166.502732240406,32.822827756561502,21.235228922637599,48.455267498245597]
["ECBCOM202401Grampian",48,147158.93442623,32.617795302168602,24.047653798199399,43.247621335629901]
["ECBCOM202401Greater Glasgow & Clyde",92,302654.56284153002,30.3976913931977,24.5040760688698,37.280588878169297]
["ECBCOM202401Highland",31,80801.038251366102,38.365843646168599,26.062767201926601,54.459423632442302]
["ECBCOM202401Lanarkshire",80,168715.491803279,47.4171038740648,37.597374478558201,59.015638272738997]
["ECBCOM202401Lothian",72,231771.530054645,31.0650751552723,24.305406389730699,39.122020593094597]
["ECBCOM202401Orkney",0,5474.9180327868899,0,0,66.998217516477695]
["ECBCOM202401Shetland",1,5765.8196721311497,17.3435878481157,0.22668302468599499,96.497231023851498]
["ECBCOM202401Tayside",48,104204.945355191,46.063072953388101,33.960260679869897,61.074585764881]
["ECBCOM202401Western Isles",2,6469.4535519125702,30.914512082844102,3.4719061395508199,111.616552782425]
["SABCAUN202401Ayrshire & Arran",15,91435.109289617496,16.405076908136,9.1749978666827392,27.059435023960599]
["SABCAUN202401Borders",7,29085.1912568306,24.067230427291999,9.64194760080807,49.590230749817898]
["SABCAUN202401Dumfries & Galloway",4,36265.737704918,11.0296942876128,2.9673197284191102,28.238451137724901]
["SABCAUN202401Fife",13,93178.032786885204,13.9517862860802,7.4214441821075097,23.8596048513932]
["SABCAUN202401Forth Valley",9,76166.502732240406,11.8162179923621,5.3918991107672198,22.432359170802499]
["SABCAUN202401Grampian",21,147158.93442623,14.2702854446987,8.8300970056052996,21.8148206422279]
["SABCAUN202401Greater Glasgow & Clyde",24,302654.56284153002,7.9298325373559297,5.0792526140795999,11.7995395483299]
["SABCAUN202401Highland",5,80801.038251366102,6.1880392977691301,1.9941697485393799,14.4407817306016]
["SABCAUN202401Lanarkshire",15,168715.491803279,8.8907069763871593,4.97237641727836,14.6648204755022]
["SABCAUN202401Lothian",21,231771.530054645,9.0606469202877609,5.6065025152949097,13.850906363058]
["SABCAUN202401Orkney",0,5474.9180327868899,0,0,66.998217516477695]
["SABCAUN202401Shetland",2,5765.8196721311497,34.6871756962313,3.89560145541666,125.237718990888]
["SABCAUN202401Tayside",12,104204.945355191,11.515768238347,5.9435082920113098,20.1171226074303]
["SABCAUN202401Western Isles",0,6469.4535519125702,0,0,56.6987221257816]
["CDICA202402Ayrshire & Arran",9,91435.109289617496,9.8430461448816295,4.4915142721752002,18.686414434761701]
["CDICA202402Borders",1,29085.1912568306,3.43817577532743,4.49374195799985E-2,19.129516049265799]
["CDICA202402Dumfries & Galloway",2,36265.737704918,5.5148471438064197,0.61935415981840403,19.9113033278397]
["CDICA202402Fife",12,93178.032786885204,12.8785719563818,6.6468773622181097,22.497831294695501]
["CDICA202402Forth Valley",3,76166.502732240406,3.9387393307873801,0.79162249193870204,11.508321382765301]
["CDICA202402Grampian",8,147158.93442623,5.4362992170280897,2.3407566635966002,10.7123346288456]
["CDICA202402Greater Glasgow & Clyde",14,302654.56284153002,4.6257356467909601,2.5267884874904101,7.7617154246317197]
["CDICA202402Highland",3,80801.038251366102,3.7128235786614798,0.74621710314635303,10.848234267943701]
["CDICA202402Lanarkshire",9,168715.491803279,5.3344241858322903,2.4341694645982401,10.127074448301]
["CDICA202402Lothian",23,231771.530054645,9.92356567460088,6.2886253729669397,14.8909726158944]
["CDICA202402Orkney",0,5474.9180327868899,0,0,66.998217516477695]
["CDICA202402Shetland",1,5765.8196721311497,17.3435878481157,0.22668302468599499,96.497231023851498]
["CDICA202402Tayside",7,104204.945355191,6.7175314723691004,2.6912147892976299,13.8413905492918]
["CDICA202402Western Isles",2,6469.4535519125702,30.914512082844102,3.4719061395508199,111.616552782425]
["ECBCOM202402Ayrshire & Arran",61,91435.109289617496,66.713979426419897,51.027877400767203,85.698709052611306]
["ECBCOM202402Borders",13,29085.1912568306,44.696285079256498,23.7755207871996,76.437215883980997]
["ECBCOM202402Dumfries & Galloway",20,36265.737704918,55.148471438064199,33.671762073985199,85.177072882440896]
["ECBCOM202402Fife",32,93178.032786885204,34.342858550351302,23.486265129000898,48.4837503401505]
["ECBCOM202402Forth Valley",35,76166.502732240406,45.951958859186099,32.002313603488297,63.910343509127799]
["ECBCOM202402Grampian",39,147158.93442623,26.5019586830119,18.843092808725299,36.230228510560103]
["ECBCOM202402Greater Glasgow & Clyde",93,302654.56284153002,30.728101082254199,24.800793473165601,37.644517908444698]
["ECBCOM202402Highland",30,80801.038251366102,37.128235786614802,25.045207096027202,53.0050375733911]
["ECBCOM202402Lanarkshire",69,168715.491803279,40.897252091380899,31.8189582866192,51.759056521132798]
["ECBCOM202402Lothian",55,231771.530054645,23.730265743610801,17.875622985032599,30.888926313765602]
["ECBCOM202402Orkney",1,5474.9180327868899,18.265113632961,0.23872749057530601,101.624468094601]
["ECBCOM202402Shetland",0,5765.8196721311497,0,0,63.617971095853299]
["ECBCOM202402Tayside",42,104204.945355191,40.305188834214597,29.045194999520898,54.482561052769803]
["ECBCOM202402Western Isles",0,6469.4535519125702,0,0,56.6987221257816]
["SABCAUN202402Ayrshire & Arran",13,91435.109289617496,14.2177333203846,7.5629107319826296,24.3144133626325]
["SABCAUN202402Borders",4,29085.1912568306,13.752703101309701,3.6998910547718502,35.209954547346101]
["SABCAUN202402Dumfries & Galloway",2,36265.737704918,5.5148471438064197,0.61935415981840403,19.9113033278397]
["SABCAUN202402Fife",8,93178.032786885204,8.5857146375878397,3.6968290278656202,16.918319716017901]
["SABCAUN202402Forth Valley",2,76166.502732240406,2.6258262205249201,0.29489781860387898,9.4805206744098101]
["SABCAUN202402Grampian",15,147158.93442623,10.1930610319277,5.7007543302964798,16.812994796258501]
["SABCAUN202402Greater Glasgow & Clyde",20,302654.56284153002,6.6081937811299403,4.0347361030104096,10.2063862993689]
["SABCAUN202402Highland",7,80801.038251366102,8.6632550168767803,3.4707213685227698,17.8505298575718]
["SABCAUN202402Lanarkshire",24,168715.491803279,14.2251311622194,9.1115460888938102,21.166903202316]
["SABCAUN202402Lothian",25,231771.530054645,10.786484428913999,6.9784805811761803,15.9237343060488]
["SABCAUN202402Orkney",1,5474.9180327868899,18.265113632961,0.23872749057530601,101.624468094601]
["SABCAUN202402Shetland",1,5765.8196721311497,17.3435878481157,0.22668302468599499,96.497231023851498]
["SABCAUN202402Tayside",14,104204.945355191,13.435062944738201,7.3388461792070103,22.543254360290799]
["SABCAUN202402Western Isles",0,6469.4535519125702,0,0,56.6987221257816]
["CDICA202403Ayrshire & Arran",10,92439.890710382504,10.8178405698578,5.1789115918934101,19.8957687343791]
["CDICA202403Borders",4,29404.8087431694,13.603217198034599,3.6596748476547698,34.8272376500924]
["CDICA202403Dumfries & Galloway",1,36664.262295082,2.7274515765564402,3.5648158758890901E-2,15.175148717451201]
["CDICA202403Fife",6,94201.967213114796,6.3692937392975004,2.3257908571347299,13.8637181951117]
["CDICA202403Forth Valley",5,77003.497267759594,6.49321157792847,2.09251516942349,15.1529501697387]
["CDICA202403Grampian",12,148776.06557377,8.0658135122210304,4.1629206579606999,14.090328668972001]
["CDICA202403Greater Glasgow & Clyde",10,305980.43715846998,3.2681827939283998,1.5646033648400099,6.0107198502122996]
["CDICA202403Highland",8,81688.961748633898,9.7932448016867895,4.2167662434726898,19.297781676414601]
["CDICA202403Lanarkshire",8,170569.508196721,4.69017005710859,2.0194890634772502,9.2420724305543001]
["CDICA202403Lothian",32,234318.469945355,13.656627242172901,9.3394429501945506,19.279830906540301]
["CDICA202403Orkney",2,5535.0819672131101,36.133159578249,4.0579951009710697,130.45843008790499]
["CDICA202403Shetland",0,5829.1803278688503,0,0,62.926471410028803]
["CDICA202403Tayside",6,105350.054644809,5.6952984222259797,2.0796768906010601,12.3966668196895]
["CDICA202403Western Isles",1,6540.5464480874298,15.2892423887979,0.19983245336555899,85.067148037180303]
["ECBCOM202403Ayrshire & Arran",53,92439.890710382504,57.334555020246498,42.944293365848701,74.996831693168801]
["ECBCOM202403Borders",25,29404.8087431694,85.020107487716203,55.005054985489302,125.51240501279899]
["ECBCOM202403Dumfries & Galloway",23,36664.262295082,62.731386260797997,39.753270170896499,94.132631918537399]
["ECBCOM202403Fife",38,94201.967213114796,40.338860348884197,28.5423892804431,55.370081961237901]
["ECBCOM202403Forth Valley",32,77003.497267759594,41.556554098742197,28.419540149221,58.6677311955956]
["ECBCOM202403Grampian",31,148776.06557377,20.836684906571001,14.154821486223,29.577190088350601]
["ECBCOM202403Greater Glasgow & Clyde",95,305980.43715846998,31.0477365423198,25.118738015054198,37.954758958982197]
["ECBCOM202403Highland",26,81688.961748633898,31.828045605482099,20.785693940361501,46.6376077774473]
["ECBCOM202403Lanarkshire",70,170569.508196721,41.038987999700097,31.9903869516234,51.851246683420399]
["ECBCOM202403Lothian",70,234318.469945355,29.873872092253102,23.287044212236999,37.744534812985201]
["ECBCOM202403Orkney",4,5535.0819672131101,72.266319156498,19.441814880956201,185.017722993088]
["ECBCOM202403Shetland",1,5829.1803278688503,17.155070588897001,0.22421907876549499,95.448348077940096]
["ECBCOM202403Tayside",46,105350.054644809,43.663954570399198,31.964453165090401,58.243219491204897]
["ECBCOM202403Western Isles",0,6540.5464480874298,0,0,56.082431667892699]
["SABCAUN202403Ayrshire & Arran",9,92439.890710382504,9.7360565128720502,4.4426934648689498,18.483301234383902]
["SABCAUN202403Borders",4,29404.8087431694,13.603217198034599,3.6596748476547698,34.8272376500924]
["SABCAUN202403Dumfries & Galloway",6,36664.262295082,16.364709459338599,5.9756847773194304,35.620231940217103]
["SABCAUN202403Fife",16,94201.967213114796,16.9847833047933,9.7019308733983909,27.583962420515501]
["SABCAUN202403Forth Valley",12,77003.497267759594,15.583707787028301,8.0430497154377392,27.2234864180468]
["SABCAUN202403Grampian",20,148776.06557377,13.4430225203684,8.2078477255607893,20.762811354865502]
["SABCAUN202403Greater Glasgow & Clyde",17,305980.43715846998,5.5559107496782696,3.23464260136695,8.8960951132693697]
["SABCAUN202403Highland",6,81688.961748633898,7.3449336012650903,2.6820523774380298,15.987343931319]
["SABCAUN202403Lanarkshire",17,170569.508196721,9.96661137135575,5.8025456465301302,15.9584857841187]
["SABCAUN202403Lothian",24,234318.469945355,10.2424704316296,6.5605540179331996,15.2407297835462]
["SABCAUN202403Orkney",0,5535.0819672131101,0,0,66.269976021733399]
["SABCAUN202403Shetland",0,5829.1803278688503,0,0,62.926471410028803]
["SABCAUN202403Tayside",11,105350.054644809,10.441380440747601,5.2051374035627997,18.683816259779899]
["SABCAUN202403Western Isles",1,6540.5464480874298,15.2892423887979,0.19983245336555899,85.067148037180303]
["CDICA202404Ayrshire & Arran",10,92439.890710382504,10.8178405698578,5.1789115918934101,19.8957687343791]
["CDICA202404Borders",1,29404.8087431694,3.4008042995086498,4.4448969367172499E-2,18.921586526991199]
["CDICA202404Dumfries & Galloway",2,36664.262295082,5.4549031531128698,0.61262204938559495,19.6948761177545]
["CDICA202404Fife",3,94201.967213114796,3.1846468696487502,0.64006218212774102,9.3049924324920408]
["CDICA202404Forth Valley",5,77003.497267759594,6.49321157792847,2.09251516942349,15.1529501697387]
["CDICA202404Grampian",16,148776.06557377,10.7544180162947,6.1430645481520898,17.4656018326869]
["CDICA202404Greater Glasgow & Clyde",9,305980.43715846998,2.94136451453556,1.34218416760912,5.5839986436408404]
["CDICA202404Highland",10,81688.961748633898,12.241556002108499,5.8604983011840801,22.514213034857299]
["CDICA202404Lanarkshire",7,170569.508196721,4.1038987999700103,1.644126743535,8.4560327404200208]
["CDICA202404Lothian",15,234318.469945355,6.4015440197685303,3.58024244895328,10.5590583589426]
["CDICA202404Orkney",0,5535.0819672131101,0,0,66.269976021733399]
["CDICA202404Shetland",3,5829.1803278688503,51.465211766690999,10.3436698307112,150.372529711113]
["CDICA202404Tayside",4,105350.054644809,3.7968656148173201,1.02147112614506,9.7208137727751804]
["CDICA202404Western Isles",0,6540.5464480874298,0,0,56.082431667892699]
["ECBCOM202404Ayrshire & Arran",54,92439.890710382504,58.416339077232301,43.880960429136799,76.222469089561997]
["ECBCOM202404Borders",14,29404.8087431694,47.611260193121097,26.007449045288102,79.888925966504203]
["ECBCOM202404Dumfries & Galloway",21,36664.262295082,57.276483107685102,35.4412603686674,87.557898603626995]
["ECBCOM202404Fife",34,94201.967213114796,36.092664522685801,24.9911837043704,50.437737270916799]
["ECBCOM202404Forth Valley",31,77003.497267759594,40.257911783156501,27.3480909873043,57.145170391042797]
["ECBCOM202404Grampian",33,148776.06557377,22.180987158607799,15.265771516207799,31.1515295951483]
["ECBCOM202404Greater Glasgow & Clyde",99,305980.43715846998,32.355009659891103,26.2958333281988,39.3915716802193]
["ECBCOM202404Highland",31,81688.961748633898,37.948823606536301,25.779476254079601,53.867473375567897]
["ECBCOM202404Lanarkshire",77,170569.508196721,45.142886799670201,35.624610383383498,56.421805383364102]
["ECBCOM202404Lothian",55,234318.469945355,23.472328072484601,17.681322735195302,30.553177114702901]
["ECBCOM202404Orkney",0,5535.0819672131101,0,0,66.269976021733399]
["ECBCOM202404Shetland",3,5829.1803278688503,51.465211766690999,10.3436698307112,150.372529711113]
["ECBCOM202404Tayside",40,105350.054644809,37.968656148173203,27.122072165132899,51.704176329053503]
["ECBCOM202404Western Isles",2,6540.5464480874298,30.578484777595801,3.4341680293383101,110.40332938261599]
["SABCAUN202404Ayrshire & Arran",9,92439.890710382504,9.7360565128720502,4.4426934648689498,18.483301234383902]
["SABCAUN202404Borders",7,29404.8087431694,23.805630096560499,9.53714382253842,49.051206502537298]
["SABCAUN202404Dumfries & Galloway",6,36664.262295082,16.364709459338599,5.9756847773194304,35.620231940217103]
["SABCAUN202404Fife",6,94201.967213114796,6.3692937392975004,2.3257908571347299,13.8637181951117]
["SABCAUN202404Forth Valley",14,77003.497267759594,18.1809924181997,9.9312900349866204,30.506648036696699]
["SABCAUN202404Grampian",18,148776.06557377,12.098720268331499,7.1667354198137199,19.1223267472636]
["SABCAUN202404Greater Glasgow & Clyde",17,305980.43715846998,5.5559107496782696,3.23464260136695,8.8960951132693697]
["SABCAUN202404Highland",5,81688.961748633898,6.1207780010542496,1.97249399040308,14.283816711790699]
["SABCAUN202404Lanarkshire",17,170569.508196721,9.96661137135575,5.8025456465301302,15.9584857841187]
["SABCAUN202404Lothian",30,234318.469945355,12.8030880395371,8.6364456760554091,18.277953374659202]
["SABCAUN202404Orkney",0,5535.0819672131101,0,0,66.269976021733399]
["SABCAUN202404Shetland",2,5829.1803278688503,34.310141177794002,3.85325796133605,123.87643943664]
["SABCAUN202404Tayside",16,105350.054644809,15.1874624592693,8.6752776457607297,24.665042009764498]
["SABCAUN202404Western Isles",0,6540.5464480874298,0,0,56.082431667892699]
["CDICA202501Ayrshire & Arran",5,90678.082191780806,5.5140116322985104,1.77695626370506,12.867830117162899]
["CDICA202501Borders",2,28844.383561643801,6.9337588571645696,0.77870742005706595,25.034270616575601]
["CDICA202501Dumfries & Galloway",1,35965.479452054802,2.78044395691454,3.6340776293975703E-2,15.4699907083185]
["CDICA202501Fife",4,92406.575342465803,4.3286962915525198,1.1645495849040799,11.082417656519899]
["CDICA202501Forth Valley",1,75535.890410958906,1.3238739817051499,1.7303210910228101E-2,7.3658446324846096]
["CDICA202501Grampian",10,145940.547945206,6.8521052858829696,3.2803633280389399,12.6021363719669]
["CDICA202501Greater Glasgow & Clyde",10,300148.76712328801,3.3316811845815302,1.59500245875312,6.1275037210118102]
["CDICA202501Highland",2,80132.054794520503,2.4958800883473198,0.28030400024086299,9.0113513961690401]
["CDICA202501Lanarkshire",6,167318.630136986,3.5859724616964099,1.30944219355007,7.8054041310196096]
["CDICA202501Lothian",12,229852.60273972599,5.2207370536448598,2.6945222695106001,9.1202085032933393]
["CDICA202501Orkney",1,5429.58904109589,18.417600161469402,0.24072051000178399,102.472881231396]
["CDICA202501Shetland",1,5718.0821917808198,17.4883810071391,0.22857549073908101,97.302839358142904]
["CDICA202501Tayside",9,103342.191780822,8.7089308296151398,3.97400220834517,16.533366639806498]
["CDICA202501Western Isles",0,6415.8904109589002,0,0,57.172072113170501]
["ECBCOM202501Ayrshire & Arran",54,90678.082191780806,59.551325628823903,44.7335352522894,77.703415665679799]
["ECBCOM202501Borders",11,28844.383561643801,38.135673714405101,19.011032380954401,68.240011430121399]
["ECBCOM202501Dumfries & Galloway",15,35965.479452054802,41.706659353718202,23.325615158015498,68.793254988563305]
["ECBCOM202501Fife",30,92406.575342465803,32.465222186643899,21.8997266058132,46.3480228826798]
["ECBCOM202501Forth Valley",31,75535.890410958906,41.040093432859599,27.879444303390301,58.255459068950103]
["ECBCOM202501Grampian",25,145940.547945206,17.130263214707401,11.0826850010396,25.288847522227002]
["ECBCOM202501Greater Glasgow & Clyde",78,300148.76712328801,25.987113239735901,20.540915628724701,32.4336280683778]
["ECBCOM202501Highland",24,80132.054794520503,29.9505610601678,19.184070387535801,44.566241223797199]
["ECBCOM202501Lanarkshire",67,167318.630136986,40.043359155609899,31.031472862996601,50.854628930670799]
["ECBCOM202501Lothian",57,229852.60273972599,24.798501004813101,18.780894464854601,32.130061014438603]
["ECBCOM202501Orkney",2,5429.58904109589,36.835200322938697,4.1368389644993497,132.99314154073599]
["ECBCOM202501Shetland",4,5718.0821917808198,69.953524028556402,18.819603382434401,179.09645713485901]
["ECBCOM202501Tayside",45,103342.191780822,43.544654148075701,31.758623631339599,58.267831312713099]
["ECBCOM202501Western Isles",3,6415.8904109589002,46.758903407635103,9.39777845833569,136.62150315826401]
["SABCAUN202501Ayrshire & Arran",10,90678.082191780806,11.028023264597,5.2795340393376096,20.282328904081702]
["SABCAUN202501Borders",5,28844.383561643801,17.334397142911399,5.5862170112629199,40.452594679318302]
["SABCAUN202501Dumfries & Galloway",4,35965.479452054802,11.121775827658199,2.9920924341056701,28.4742001985286]
["SABCAUN202501Fife",13,92406.575342465803,14.0682629475457,7.4834022012356103,24.0587970594725]
["SABCAUN202501Forth Valley",7,75535.890410958906,9.2671178719360494,3.7126442613186601,19.094781804803599]
["SABCAUN202501Grampian",19,145940.547945206,13.0190000431777,7.8346071862776698,20.3319476322716]
["SABCAUN202501Greater Glasgow & Clyde",15,300148.76712328801,4.9975217768722899,2.7950037600106299,8.2431869450753297]
["SABCAUN202501Highland",7,80132.054794520503,8.7355803092156101,3.4996967290675101,17.999555228271099]
["SABCAUN202501Lanarkshire",17,167318.630136986,10.160255308139799,5.9152848454912501,16.268547438697802]
["SABCAUN202501Lothian",14,229852.60273972599,6.0908598959190003,3.3271063975741901,10.2201087163773]
["SABCAUN202501Orkney",0,5429.58904109589,0,0,67.557552969332306]
["SABCAUN202501Shetland",2,5718.0821917808198,34.976762014278201,3.9281239326552702,126.283267646702]
["SABCAUN202501Tayside",10,103342.191780822,9.6765898106834793,4.6325514613500198,17.796822921133]
["SABCAUN202501Western Isles",0,6415.8904109589002,0,0,57.172072113170501]
["CDICA202502Ayrshire & Arran",9,91685.616438356199,9.8161525761797694,4.4792423752566899,18.635358657617601]
["CDICA202502Borders",0,29164.876712328802,0,0,12.577106115126499]
["CDICA202502Dumfries & Galloway",3,36365.095890411001,8.2496688831530491,1.65804916002026,24.104118814520501]
["CDICA202502Fife",3,93433.315068493102,3.2108461503274199,0.64532781108057202,9.3815422411302105]
["CDICA202502Forth Valley",1,76375.178082191793,1.30932591597213,1.7113065735390499E-2,7.2849012848748904]
["CDICA202502Grampian",11,147562.10958904101,7.4544881681583997,3.71614035219651,13.3390683382285]
["CDICA202502Greater Glasgow & Clyde",10,303483.75342465797,3.29506930343228,1.5774749592063799,6.0601685152864002]
["CDICA202502Highland",8,81022.410958904104,9.8738113385168607,4.2514565080109596,19.456539623311201]
["CDICA202502Lanarkshire",7,169177.726027397,4.1376605327266303,1.6576525565335201,8.5255983733652894]
["CDICA202502Lothian",15,232406.52054794499,6.4542078959895299,3.6096961939545702,10.645925049339199]
["CDICA202502Orkney",0,5489.9178082191802,0,0,66.815162277361594]
["CDICA202502Shetland",0,5781.61643835616,0,0,63.444151502695298]
["CDICA202502Tayside",5,104490.438356164,4.7851268294588696,1.54206440958951,11.1668605793071]
["CDICA202502Western Isles",1,6487.17808219178,15.4150231014182,0.201476424188298,85.766973851213393]
["ECBCOM202502Ayrshire & Arran",56,91685.616438356199,61.078282696229699,46.134720911844099,79.317055878324595]
["ECBCOM202502Borders",22,29164.876712328802,75.433200753768404,47.2567368850031,114.21272308206601]
["ECBCOM202502Dumfries & Galloway",31,36365.095890411001,85.246578459248099,57.909888536128499,121.00553743439001]
["ECBCOM202502Fife",42,93433.315068493102,44.9518461045839,32.3937233259593,60.763682559618601]
["ECBCOM202502Forth Valley",33,76375.178082191793,43.207755227080199,29.737166984872701,60.682045216097102]
["ECBCOM202502Grampian",43,147562.10958904101,29.140271930073698,21.086700738627599,39.252921118779902]
["ECBCOM202502Greater Glasgow & Clyde",92,303483.75342465797,30.314637591577,24.437125041359199,37.178729345715297]
["ECBCOM202502Highland",30,81022.410958904104,37.026792519438203,24.9767775684425,52.860215066359999]
["ECBCOM202502Lanarkshire",83,169177.726027397,49.060832030901402,39.075267069411403,60.819223580219401]
["ECBCOM202502Lothian",67,232406.52054794499,28.828795268753201,22.340782514742401,36.612255235968]
["ECBCOM202502Orkney",1,5489.9178082191802,18.215208950903801,0.23807522967209399,101.34680561346801]
["ECBCOM202502Shetland",3,5781.61643835616,51.888602988214899,10.428764574409501,151.60960630814799]
["ECBCOM202502Tayside",59,104490.438356164,56.464496587614597,42.980693686877601,72.836678384966802]
["ECBCOM202502Western Isles",3,6487.17808219178,46.2450693042545,9.2945061675847498,135.12016795872199]
["SABCAUN202502Ayrshire & Arran",8,91685.616438356199,8.7254689566042405,3.75700431264011,17.1937083529128]
["SABCAUN202502Borders",1,29164.876712328802,3.4287818524440201,4.4814639745080501E-2,19.0772496119727]
["SABCAUN202502Dumfries & Galloway",5,36365.095890411001,13.7494481385884,4.4309242746678903,32.086541460259099]
["SABCAUN202502Fife",26,93433.315068493102,27.827333302837602,18.1729799051685,40.775367490566403]
["SABCAUN202502Forth Valley",14,76375.178082191793,18.330562823609799,10.0129922348781,30.757618479321302]
["SABCAUN202502Grampian",8,147562.10958904101,5.42144594047884,2.3343611535867699,10.6830659549963]
["SABCAUN202502Greater Glasgow & Clyde",23,303483.75342465797,7.5786593978942403,4.8026436611040904,11.3722842433622]
["SABCAUN202502Highland",7,81022.410958904104,8.6395849212022497,3.4612385232535798,17.801757918070301]
["SABCAUN202502Lanarkshire",16,169177.726027397,9.4575097890894408,5.4022535678944701,15.359371381575301]
["SABCAUN202502Lothian",28,232406.52054794499,12.0478547391804,8.0038810803178393,17.413260032292101]
["SABCAUN202502Orkney",2,5489.9178082191802,36.430417901807502,4.09137919565869,131.53167844688201]
["SABCAUN202502Shetland",2,5781.61643835616,34.592401992143301,3.8849577355931202,124.89553943080401]
["SABCAUN202502Tayside",16,104490.438356164,15.3124058542684,8.7466469508390503,24.8679550437726]
["SABCAUN202502Western Isles",0,6487.17808219178,0,0,56.543807584454399]
["CDICA202503Ayrshire & Arran",8,92693.150684931505,8.6306269027281104,3.7161673092418499,17.006820218642002]
["CDICA202503Borders",0,29485.369863013701,0,0,12.440398439962101]
["CDICA202503Dumfries & Galloway",1,36764.712328767098,2.7199995230685801,3.5550759418019703E-2,15.133686562485501]
["CDICA202503Fife",3,94460.054794520503,3.1759456486934199,0.63831337835143498,9.2795689559005297]
["CDICA202503Forth Valley",1,77214.465753424694,1.2950941125376501,1.69270541513101E-2,7.2057175752566804]
["CDICA202503Grampian",10,149183.67123287701,6.7031464753202998,3.2090510817772202,12.328176885619801]
["CDICA202503Greater Glasgow & Clyde",14,306818.73972602701,4.5629546658399196,2.49249464278908,7.6563725893663204]
["CDICA202503Highland",12,81912.767123287704,14.6497309533429,7.5610064039832299,25.5919038708067]
["CDICA202503Lanarkshire",6,171036.821917808,3.50801653861605,1.28097605890768,7.6357214325191904]
["CDICA202503Lothian",22,234960.438356164,9.3632784114282792,5.8658253905233098,14.1768546695445]
["CDICA202503Orkney",0,5550.2465753424704,0,0,66.088910513477302]
["CDICA202503Shetland",1,5845.1506849315101,17.1081988113317,0.22360645833171,95.1875602416616]
["CDICA202503Tayside",6,105638.684931507,5.6797374975750898,2.0739947133043399,12.3627961453188]
["CDICA202503Western Isles",0,6558.4657534246599,0,0,55.929200980275503]
["ECBCOM202503Ayrshire & Arran",65,92693.150684931505,70.123843584665806,54.117206113183101,89.380367819190297]
["ECBCOM202503Borders",13,29485.369863013701,44.089662298274703,23.452836865848099,75.399801781492897]
["ECBCOM202503Dumfries & Galloway",26,36764.712328767098,70.719987599782996,46.184551698080398,103.62593684158]
["ECBCOM202503Fife",33,94460.054794520503,34.935402135627697,24.043829204525,49.064146954526997]
["ECBCOM202503Forth Valley",44,77214.465753424694,56.9841409516564,41.4005017769815,76.500773265611102]
["ECBCOM202503Grampian",47,149183.67123287701,31.504788434005398,23.1464049817234,41.895833520923297]
["ECBCOM202503Greater Glasgow & Clyde",113,306818.73972602701,36.829562659993599,30.352090699729001,44.2797904995926]
["ECBCOM202503Highland",28,81912.767123287704,34.182705557800197,22.708964891351599,49.405670417781103]
["ECBCOM202503Lanarkshire",76,171036.821917808,44.434876155803401,35.008173553434503,55.617814994902901]
["ECBCOM202503Lothian",74,234960.438356164,31.494663747531501,24.729012477991599,39.5393539536866]
["ECBCOM202503Orkney",2,5550.2465753424704,36.034435098526998,4.0469076826624004,130.101986289851]
["ECBCOM202503Shetland",1,5845.1506849315101,17.1081988113317,0.22360645833171,95.1875602416616]
["ECBCOM202503Tayside",51,105638.684931507,48.277768729388299,35.943092107372202,63.477951277204497]
["ECBCOM202503Western Isles",2,6558.4657534246599,30.494937004979501,3.4247850565805602,110.10168094168]
["SABCAUN202503Ayrshire & Arran",14,92693.150684931505,15.1035970797742,8.2502758771661799,25.342957612122198]
["SABCAUN202503Borders",3,29485.369863013701,10.174537453448,2.0449164102494799,29.7282549317258]
["SABCAUN202503Dumfries & Galloway",6,36764.712328767098,16.319997138411502,5.9593577697311204,35.522908902129103]
["SABCAUN202503Fife",12,94460.054794520503,12.703782594773701,6.5566652288570504,22.192488312345901]
["SABCAUN202503Forth Valley",11,77214.465753424694,14.2460352379141,7.1017976301255104,25.491869233765701]
["SABCAUN202503Grampian",16,149183.67123287701,10.725034360512501,6.1262802187855598,17.417881609100299]
["SABCAUN202503Greater Glasgow & Clyde",18,306818.73972602701,5.8666559989370404,3.4751420324591802,9.2723949671859494]
["SABCAUN202503Highland",5,81912.767123287704,6.1040545638929,1.96710466256045,14.2447898901738]
["SABCAUN202503Lanarkshire",7,171036.821917808,4.0926859617187299,1.6396345939625001,8.4329288258287107]
["SABCAUN202503Lothian",19,234960.438356164,8.0864677189607903,4.8662952525122796,12.6287454986317]
["SABCAUN202503Orkney",1,5550.2465753424704,18.017217549263499,0.23548745543652799,100.245209900278]
["SABCAUN202503Shetland",0,5845.1506849315101,0,0,62.754541160274698]
["SABCAUN202503Tayside",14,105638.684931507,13.2527208276752,7.2392425707519799,22.237294891217001]
["SABCAUN202503Western Isles",0,6558.4657534246599,0,0,55.929200980275503]
["CDICA202504Ayrshire & Arran",4,92693.150684931505,4.3153134513640499,1.1609491981047699,11.0481546326416]
["CDICA202504Borders",3,29485.369863013701,10.174537453448,2.0449164102494799,29.7282549317258]
["CDICA202504Dumfries & Galloway",3,36764.712328767098,8.1599985692057295,1.64002688654178,23.842117523058299]
["CDICA202504Fife",2,94460.054794520503,2.1172970991289501,0.237786602551569,7.6444811028458597]
["CDICA202504Forth Valley",4,77214.465753424694,5.1803764501505896,1.3936771809199899,13.2629067903439]
["CDICA202504Grampian",8,149183.67123287701,5.3625171802562397,2.3089876627869099,10.5669456728768]
["CDICA202504Greater Glasgow & Clyde",12,306818.73972602701,3.9111039992913601,2.0185955960193498,6.8323846968501396]
["CDICA202504Highland",5,81912.767123287704,6.1040545638929,1.96710466256045,14.2447898901738]
["CDICA202504Lanarkshire",3,171036.821917808,1.7540082693080301,0.35252711094063099,5.1249115963176699]
["CDICA202504Lothian",16,234960.438356164,6.8096570264932996,3.88976535979383,11.059153369497499]
["CDICA202504Orkney",0,5550.2465753424704,0,0,66.088910513477302]
["CDICA202504Shetland",1,5845.1506849315101,17.1081988113317,0.22360645833171,95.1875602416616]
["CDICA202504Tayside",9,105638.684931507,8.5196062463626294,3.8876108559898399,16.173945625897701]
["CDICA202504Western Isles",0,6558.4657534246599,0,0,55.929200980275503]
["ECBCOM202504Ayrshire & Arran",55,92693.150684931505,59.3355599562557,44.696511654927299,77.235196566151998]
["ECBCOM202504Borders",17,29485.369863013701,57.655712236205403,33.567066033626098,92.318023630288394]
["ECBCOM202504Dumfries & Galloway",14,36764.712328767098,38.0799933229601,20.801034922719499,63.896014410105202]
["ECBCOM202504Fife",35,94460.054794520503,37.052699234756602,25.8046039865255,51.533183673198401]
["ECBCOM202504Forth Valley",32,77214.465753424694,41.443011601204702,28.3418911324198,58.507436848066703]
["ECBCOM202504Grampian",27,149183.67123287701,18.0984954833648,11.924108467815,26.3335371680549]
["ECBCOM202504Greater Glasgow & Clyde",81,306818.73972602701,26.3999519952167,20.964585363440801,32.813250272254599]
["ECBCOM202504Highland",17,81912.767123287704,20.753785517235801,12.082821664759599,33.230852373288002]
["ECBCOM202504Lanarkshire",53,171036.821917808,30.987479424441801,23.2100067158716,40.533370812239397]
["ECBCOM202504Lothian",68,234960.438356164,28.941042362596502,22.472734500845402,36.690362642890598]
["ECBCOM202504Orkney",2,5550.2465753424704,36.034435098526998,4.0469076826624004,130.101986289851]
["ECBCOM202504Shetland",2,5845.1506849315101,34.216397622663401,3.84272993411928,123.5379792196]
["ECBCOM202504Tayside",43,105638.684931507,40.704785399288099,29.455100158451899,54.830707629263998]
["ECBCOM202504Western Isles",1,6558.4657534246599,15.247468502489699,0.19928646305581699,84.834724135439302]
["SABCAUN202504Ayrshire & Arran",15,92693.150684931505,16.182425442615202,9.0504738103429307,26.6921814659317]
["SABCAUN202504Borders",8,29485.369863013701,27.1320998758614,11.682514344107499,53.464336941405399]
["SABCAUN202504Dumfries & Galloway",5,36764.712328767098,13.5999976153429,4.3827620542910601,31.7377747052563]
["SABCAUN202504Fife",14,94460.054794520503,14.8210796939026,8.0959519527907506,24.868909867269601]
["SABCAUN202504Forth Valley",9,77214.465753424694,11.6558470128388,5.3187196770056202,22.127904783149301]
["SABCAUN202504Grampian",12,149183.67123287701,8.0437757703843609,4.1515465578023401,14.0518305032098]
["SABCAUN202504Greater Glasgow & Clyde",21,306818.73972602701,6.8444319987598803,4.2351639518024102,10.4630041935383]
["SABCAUN202504Highland",4,81912.767123287704,4.88324365111432,1.3137395150564,12.502181260859]
["SABCAUN202504Lanarkshire",9,171036.821917808,5.2620248079240799,2.4011326552218599,9.9896287063530202]
["SABCAUN202504Lothian",24,234960.438356164,10.214485539739901,6.5426290069552397,15.199088445339701]
["SABCAUN202504Orkney",0,5550.2465753424704,0,0,66.088910513477302]
["SABCAUN202504Shetland",0,5845.1506849315101,0,0,62.754541160274698]
["SABCAUN202504Tayside",11,105638.684931507,10.412852078887701,5.1909157166678197,18.6327675814745]
["SABCAUN202504Western Isles",0,6558.4657534246599,0,0,55.929200980275503]
["CDICA202601Ayrshire & Arran",9,90678.082191780806,9.9252209381373202,4.5290117349817596,18.8424181982578]
["CDICA202601Borders",2,28844.383561643801,6.9337588571645696,0.77870742005706595,25.034270616575601]
["CDICA202601Dumfries & Galloway",2,35965.479452054802,5.5608879138290899,0.62452484573067102,20.0775330915056]
["CDICA202601Fife",1,92406.575342465803,1.0821740728881299,1.4144160610095199E-2,6.0210610649891496]
["CDICA202601Forth Valley",7,75535.890410958906,9.2671178719360494,3.7126442613186601,19.094781804803599]
["CDICA202601Grampian",10,145940.547945206,6.8521052858829696,3.2803633280389399,12.6021363719669]
["CDICA202601Greater Glasgow & Clyde",9,300148.76712328801,2.9985130661233699,1.36826181992454,5.6924916348955499]
["CDICA202601Highland",4,80132.054794520503,4.9917601766946298,1.3429337265021,12.780007511100299]
["CDICA202601Lanarkshire",10,167318.630136986,5.9766207694940201,2.8612356027622901,10.991977916023499]
["CDICA202601Lothian",12,229852.60273972599,5.2207370536448598,2.6945222695106001,9.1202085032933393]
["CDICA202601Orkney",0,5429.58904109589,0,0,67.557552969332306]
["CDICA202601Shetland",1,5718.0821917808198,17.4883810071391,0.22857549073908101,97.302839358142904]
["CDICA202601Tayside",5,103342.191780822,4.8382949053417397,1.5591984585849501,11.2909368079661]
["CDICA202601Western Isles",1,6415.8904109589002,15.586301135878401,0.20371505112372401,86.719940227338]
["ECBCOM202601Ayrshire & Arran",35,90678.082191780806,38.5980814260896,26.880854199837099,53.6825133025105]
["ECBCOM202601Borders",13,28844.383561643801,45.069432571569699,23.974011018422502,77.0753529321928]
["ECBCOM202601Dumfries & Galloway",21,35965.479452054802,58.389323095205398,36.129858020032003,89.259084247413398]
["ECBCOM202601Fife",29,92406.575342465803,31.383048113755802,21.013208933784,45.073192178406003]
["ECBCOM202601Forth Valley",36,75535.890410958906,47.659463341385397,33.375230367062798,65.983094513158306]
["ECBCOM202601Grampian",43,145940.547945206,29.4640527292968,21.3209974135012,39.6890646867664]
["ECBCOM202601Greater Glasgow & Clyde",77,300148.76712328801,25.6539451212778,20.244868339897501,32.063565304796001]
["ECBCOM202601Highland",24,80132.054794520503,29.9505610601678,19.184070387535801,44.566241223797199]
["ECBCOM202601Lanarkshire",60,167318.630136986,35.859724616964101,27.363077574665599,46.159565789167601]
["ECBCOM202601Lothian",70,229852.60273972599,30.454299479595001,23.739494373009101,38.477883394658299]
["ECBCOM202601Orkney",3,5429.58904109589,55.252800484408098,11.104913509804501,161.439214903634]
["ECBCOM202601Shetland",3,5718.0821917808198,52.465143021417298,10.5446397363473,153.29415748935]
["ECBCOM202601Tayside",48,103342.191780822,46.447631091280698,34.243778338854803,61.584467704326698]
["ECBCOM202601Western Isles",0,6415.8904109589002,0,0,57.172072113170501]
["SABCAUN202601Ayrshire & Arran",9,90678.082191780806,9.9252209381373202,4.5290117349817596,18.8424181982578]
["SABCAUN202601Borders",6,28844.383561643801,20.801276571493698,7.5957273831190797,45.277082246417997]
["SABCAUN202601Dumfries & Galloway",4,35965.479452054802,11.121775827658199,2.9920924341056701,28.4742001985286]
["SABCAUN202601Fife",10,92406.575342465803,10.8217407288813,5.1807787463080501,19.902941761329998]
["SABCAUN202601Forth Valley",6,75535.890410958906,7.9432438902309004,2.90052944204893,17.289655549996699]
["SABCAUN202601Grampian",17,145940.547945206,11.6485789860011,6.7817845770270404,18.651643495154602]
["SABCAUN202601Greater Glasgow & Clyde",10,300148.76712328801,3.3316811845815302,1.59500245875312,6.1275037210118102]
["SABCAUN202601Highland",10,80132.054794520503,12.479400441736599,5.9743634776491001,22.9516476536281]
["SABCAUN202601Lanarkshire",15,167318.630136986,8.9649311542410306,5.0138883636885403,14.787249911773101]
["SABCAUN202601Lothian",26,229852.60273972599,11.311596949563899,7.3871765512948704,16.574873255160401]
["SABCAUN202601Orkney",1,5429.58904109589,18.417600161469402,0.24072051000178399,102.472881231396]
["SABCAUN202601Shetland",1,5718.0821917808198,17.4883810071391,0.22857549073908101,97.302839358142904]
["SABCAUN202601Tayside",21,103342.191780822,20.320838602435298,12.5740285147142,31.0642314149691]
["SABCAUN202601Western Isles",1,6415.8904109589002,15.586301135878401,0.20371505112372401,86.719940227338]
["CDIHCAI201404Ayrshire & Arran",22,116457,18.891092849721399,11.834727883064801,28.602831840660599]
["CDIHCAI201404Borders",3,32633,9.1931480403272801,1.8476731129578099,26.860803237333201]
["CDIHCAI201404Dumfries & Galloway",10,43399,23.042005576165302,11.031084162154899,42.377996898662502]
["CDIHCAI201404Fife",17,99647,17.060222585727601,9.9324350679666296,27.3167388055987]
["CDIHCAI201404Forth Valley",7,87095,8.0372007577932205,3.2199080321240201,16.560552796702598]
["CDIHCAI201404Grampian",23,159496,14.420424336660499,9.1383127140054192,21.638809168804599]
["CDIHCAI201404Greater Glasgow & Clyde",92,477840,19.2533065461242,15.520405220281701,23.612799952697902]
["CDIHCAI201404Highland",15,80452,18.644657684084901,10.4275460233698,30.753522581553501]
["CDIHCAI201404Lanarkshire",33,163546,20.1778093013586,13.8871108075375,28.338216830561599]
["CDIHCAI201404Lothian",74,288140,25.681960158256398,20.1649878945789,32.241909964870402]
["CDIHCAI201404Golden Jubilee",0,12222,0,0,30.012252433770399]
["CDIHCAI201404Orkney",1,4331,23.089355806973,0.30178098431602401,128.465858449205]
["CDIHCAI201404Shetland",0,3359,0,0,109.20206884356701]
["CDIHCAI201404Tayside",23,134798,17.062567693882698,10.8126554150136,25.603521618923601]
["CDIHCAI201404Western Isles",1,8425,11.869436201780401,0.15513512677420799,66.039837738101696]
["SABHCAI201404Ayrshire & Arran",22,116457,18.891092849721399,11.834727883064801,28.602831840660599]
["SABHCAI201404Borders",6,32633,18.386296080654599,6.7138808588964496,40.020516865374802]
["SABHCAI201404Dumfries & Galloway",5,43399,11.521002788082701,3.71278108093383,26.886106983893001]
["SABHCAI201404Fife",10,99647,10.035425050428,4.8043395340889399,18.456779304997202]
["SABHCAI201404Forth Valley",13,87095,14.9262299787588,7.9397849397376703,25.526046766464599]
["SABHCAI201404Grampian",27,159496,16.9283242212971,11.153146645732001,24.630923354051799]
["SABHCAI201404Greater Glasgow & Clyde",77,477840,16.1141804788214,12.7165416725128,20.140297161835601]
["SABHCAI201404Highland",14,80452,17.401680505145901,9.5055942061654193,29.199007964280302]
["SABHCAI201404Lanarkshire",31,163546,18.954911767942999,12.876491321214401,26.906056840719501]
["SABHCAI201404Lothian",44,288140,15.270354688693001,11.0943209087018,20.5003343424309]
["SABHCAI201404Golden Jubilee",0,12222,0,0,30.012252433770399]
["SABHCAI201404Orkney",0,4331,0,0,84.694008137968595]
["SABHCAI201404Shetland",1,3359,29.770765108663301,0.38910790207582702,165.64025988196099]
["SABHCAI201404Tayside",23,134798,17.062567693882698,10.8126554150136,25.603521618923601]
["SABHCAI201404Western Isles",2,8425,23.738872403560801,2.6660338880028598,85.708973750800794]
["CDIHCAI201501Ayrshire & Arran",18,118008,15.2532031726663,9.0353086127048101,24.108065030116201]
["CDIHCAI201501Borders",4,34341,11.647884452986199,3.13363148881733,29.8211543680695]
["CDIHCAI201501Dumfries & Galloway",8,44394,18.020453214398302,7.7592299942778604,35.5096578185819]
["CDIHCAI201501Fife",10,99050,10.095911155981799,4.8332965325932404,18.5680230934382]
["CDIHCAI201501Forth Valley",13,87778,14.810089088382099,7.8780055290215403,25.327428776290599]
["CDIHCAI201501Grampian",24,162238,14.7930817687595,9.4753324096448406,22.012010032983301]
["CDIHCAI201501Greater Glasgow & Clyde",71,480533,14.7752599717397,11.5390656545438,18.637318090226898]
["CDIHCAI201501Highland",9,81010,11.109739538328601,5.0695234952748498,21.091153512819702]
["CDIHCAI201501Lanarkshire",20,161714,12.367513016807401,7.5511785710424197,19.101681880525401]
["CDIHCAI201501Lothian",52,287680,18.0756395995551,13.4987062609317,23.704383231756601]
["CDIHCAI201501Golden Jubilee",0,12254,0,0,29.933878671906498]
["CDIHCAI201501Orkney",0,4585,0,0,80.002126334905498]
["CDIHCAI201501Shetland",0,3528,0,0,103.971017359847]
["CDIHCAI201501Tayside",20,137758,14.5182130983319,8.8643221550657998,22.423448247123901]
["CDIHCAI201501Western Isles",2,8813,22.693747872461099,2.5486594243077398,81.935561539827106]
["SABHCAI201501Ayrshire & Arran",21,118008,17.795403701443998,11.0113523339529,27.203628232065402]
["SABHCAI201501Borders",6,34341,17.4718266794793,6.3799561477058901,38.030037764414999]
["SABHCAI201501Dumfries & Galloway",6,44394,13.515339910798801,4.9352181391261896,29.4181539592687]
["SABHCAI201501Fife",11,99050,11.105502271580001,5.5362090853011496,19.872196506222899]
["SABHCAI201501Forth Valley",13,87778,14.810089088382099,7.8780055290215403,25.327428776290599]
["SABHCAI201501Grampian",19,162238,11.7111897336013,7.0475897490156898,18.289522665756099]
["SABHCAI201501Greater Glasgow & Clyde",72,480533,14.9833622248628,11.723026779737999,18.8694024587091]
["SABHCAI201501Highland",9,81010,11.109739538328601,5.0695234952748498,21.091153512819702]
["SABHCAI201501Lanarkshire",33,161714,20.406396477732301,14.044432913226601,28.659250341782599]
["SABHCAI201501Lothian",47,287680,16.3375973303671,12.0031481890171,21.726134086529299]
["SABHCAI201501Golden Jubilee",1,12254,8.1606006202056491,0.106660147141562,45.404409412722998]
["SABHCAI201501Orkney",4,4585,87.241003271537593,23.470455606864999,223.356218572274]
["SABHCAI201501Shetland",0,3528,0,0,103.971017359847]
["SABHCAI201501Tayside",20,137758,14.5182130983319,8.8643221550657998,22.423448247123901]
["SABHCAI201501Western Isles",1,8813,11.346873936230599,0.14830516771504601,63.132376369398301]
["CDIHCAI201502Ayrshire & Arran",28,118290,23.6706399526587,15.725371145119601,34.2121495942312]
["CDIHCAI201502Borders",5,32123,15.565171372536801,5.0160628251236599,36.323822712510399]
["CDIHCAI201502Dumfries & Galloway",12,43654,27.488889906995901,14.1875419614964,48.020883813876303]
["CDIHCAI201502Fife",14,94851,14.759991987432899,8.0625830520966595,24.766408248118399]
["CDIHCAI201502Forth Valley",5,85671,5.8362806550641402,1.8808113145807499,13.619896546018699]
["CDIHCAI201502Grampian",22,155593,14.1394535743896,8.8579621517553804,21.408418037236999]
["CDIHCAI201502Greater Glasgow & Clyde",91,454759,20.010599020580099,16.110782196769499,24.568927156706099]
["CDIHCAI201502Highland",20,79471,25.1664129053365,15.3657471459722,38.869642808411697]
["CDIHCAI201502Lanarkshire",27,158944,16.987114958727599,11.1918806460619,24.716464611925201]
["CDIHCAI201502Lothian",57,274583,20.758750541730599,15.721430221561199,26.895977356045002]
["CDIHCAI201502Golden Jubilee",0,11881,0,0,30.873642727509601]
["CDIHCAI201502Orkney",0,4168,0,0,88.006177842020605]
["CDIHCAI201502Shetland",0,3263,0,0,112.414878714539]
["CDIHCAI201502Tayside",26,135612,19.1723446302687,12.520733837809299,28.093220052647901]
["CDIHCAI201502Western Isles",1,8554,11.6904372223521,0.152795586050117,65.043913133447205]
["SABHCAI201502Ayrshire & Arran",18,118290,15.216839969566299,9.0137686936179708,24.050592087868399]
["SABHCAI201502Borders",6,32123,18.678205647044201,6.8204736191628399,40.6559015928704]
["SABHCAI201502Dumfries & Galloway",7,43654,16.035185779081001,6.4241052379585302,33.040302053163899]
["SABHCAI201502Fife",21,94851,22.1399879811494,13.699672815522399,33.845144072382702]
["SABHCAI201502Forth Valley",19,85671,22.177866489243701,13.3462532910881,34.635472659907599]
["SABHCAI201502Grampian",25,155593,16.0675608799882,10.395153520761401,23.720014809770099]
["SABHCAI201502Greater Glasgow & Clyde",89,454759,19.5708056355124,15.716455072192,24.0839071908553]
["SABHCAI201502Highland",10,79471,12.5832064526683,6.0240593619478799,23.142563795661999]
["SABHCAI201502Lanarkshire",14,158944,8.8081336823032004,4.8114056842310502,14.7795361180181]
["SABHCAI201502Lothian",51,274583,18.573618905758899,13.8281721104177,24.421494757760499]
["SABHCAI201502Golden Jubilee",4,11881,33.667199730662396,9.0574900225129191,86.195460159403694]
["SABHCAI201502Orkney",2,4168,47.984644913627598,5.3889960428080901,173.24810553034899]
["SABHCAI201502Shetland",1,3263,30.646644192460901,0.40055575944612398,170.51352526616799]
["SABHCAI201502Tayside",17,135612,12.5357637967142,7.29830219462636,20.072199154658101]
["SABHCAI201502Western Isles",0,8554,0,0,42.881663461017297]
["CDIHCAI201503Ayrshire & Arran",30,114903,26.108978877836101,17.612061796293201,37.2737184275665]
["CDIHCAI201503Borders",4,31173,12.8316171045456,3.4520911993544399,32.8517711530451]
["CDIHCAI201503Dumfries & Galloway",7,42757,16.371588277942799,6.5588766765170998,33.733455243090397]
["CDIHCAI201503Fife",14,93360,14.9957155098543,8.1913460269325196,25.161938611206899]
["CDIHCAI201503Forth Valley",6,85803,6.9927624908219999,2.5534547051777698,15.220790961478899]
["CDIHCAI201503Grampian",22,148857,14.779284816972,9.2587980751867605,22.3771807013967]
["CDIHCAI201503Greater Glasgow & Clyde",83,439656,18.878395836745099,15.0359936557587,23.402974016170301]
["CDIHCAI201503Highland",19,79641,23.857058550244201,14.356761789791801,37.257889507250603]
["CDIHCAI201503Lanarkshire",33,155047,21.283868762375299,14.648341626278,29.891594224790101]
["CDIHCAI201503Lothian",63,267000,23.595505617977501,18.130413227680599,30.189519475647401]
["CDIHCAI201503Golden Jubilee",0,12077,0,0,30.372588328686099]
["CDIHCAI201503Orkney",2,4206,47.551117451260097,5.3403080138906596,171.682858737636]
["CDIHCAI201503Shetland",4,3047,131.27666557269399,35.317374124540898,336.09723076924001]
["CDIHCAI201503Tayside",23,135107,17.0235443019237,10.7879260484876,25.544964414779798]
["CDIHCAI201503Western Isles",3,8267,36.288859320188699,7.2934700248157904,106.029828479968]
["SABHCAI201503Ayrshire & Arran",18,114903,15.665387326701699,9.2794678882889894,24.759532284395998]
["SABHCAI201503Borders",5,31173,16.039521380682,5.1689277942914504,37.4307945014586]
["SABHCAI201503Dumfries & Galloway",10,42757,23.387983254203998,11.1967168312407,43.014306134786203]
["SABHCAI201503Fife",25,93360,26.778063410454202,17.324476454111299,39.531579523313702]
["SABHCAI201503Forth Valley",16,85803,18.647366642192001,10.6516202701512,30.284063768693301]
["SABHCAI201503Grampian",16,148857,10.7485707759796,6.1397245278339696,17.456105682266799]
["SABHCAI201503Greater Glasgow & Clyde",85,439656,19.333296941244999,15.4422135433681,23.9062819521113]
["SABHCAI201503Highland",12,79641,15.067615926469999,7.7766848330277698,26.321915370361399]
["SABHCAI201503Lanarkshire",24,155047,15.4791772817275,9.9147934463482592,23.032915720595302]
["SABHCAI201503Lothian",32,267000,11.9850187265918,8.1962695963727406,16.9199268869876]
["SABHCAI201503Golden Jubilee",3,12077,24.8406061107891,4.9925574807611302,72.579994373097307]
["SABHCAI201503Orkney",0,4206,0,0,87.211067343210104]
["SABHCAI201503Shetland",1,3047,32.819166393173603,0.42895091666317697,182.60112666344199]
["SABHCAI201503Tayside",27,135107,19.984160702258201,13.166470111894,29.077203633252498]
["SABHCAI201503Western Isles",1,8267,12.096286440062901,0.15810008988420199,67.301999872203595]
["CDIHCAI201504Ayrshire & Arran",31,117416,26.4018532397629,17.9353635758272,37.476817231657698]
["CDIHCAI201504Borders",2,32713,6.1137773973649603,0.68661802666903404,22.073735330006301]
["CDIHCAI201504Dumfries & Galloway",9,44283,20.3238262990312,9.2740351455912204,38.583527450116897]
["CDIHCAI201504Fife",15,93976,15.9615220907466,8.9269274354318497,26.327811342588902]
["CDIHCAI201504Forth Valley",7,84874,8.2475198529585008,3.3041672368197799,16.993912692094401]
["CDIHCAI201504Grampian",38,151027,25.161063915723702,17.803102883459701,34.536676524727397]
["CDIHCAI201504Greater Glasgow & Clyde",112,447333,25.037276480831999,20.615146825068901,30.126691946761301]
["CDIHCAI201504Highland",13,79839,16.282769072758899,8.6613756350461895,27.8459279691033]
["CDIHCAI201504Lanarkshire",44,158949,27.681835054011,20.1115931942531,37.1626517777906]
["CDIHCAI201504Lothian",61,268100,22.752704214845199,17.402982271377599,29.227418232766301]
["CDIHCAI201504Golden Jubilee",0,12688,0,0,28.9099739317104]
["CDIHCAI201504Orkney",0,3935,0,0,93.217217089083107]
["CDIHCAI201504Shetland",1,3187,31.377470975839302,0.41010776375045499,174.57974049058899]
["CDIHCAI201504Tayside",33,135734,24.312257798340902,16.732590390981802,34.144739046746103]
["CDIHCAI201504Western Isles",1,8107,12.3350191192796,0.161220358094573,68.630274200506605]
["SABHCAI201504Ayrshire & Arran",21,117416,17.885126388226499,11.066870496568701,27.340786267711199]
["SABHCAI201504Borders",4,32713,12.227554794729899,3.2895802573128701,31.305238350315602]
["SABHCAI201504Dumfries & Galloway",8,44283,18.065623376916701,7.7786793208674103,35.598666513066497]
["SABHCAI201504Fife",16,93976,17.025623563463,9.7252593645162708,27.650288622043799]
["SABHCAI201504Forth Valley",16,84874,18.8514739496194,10.7682090397505,30.615542139467799]
["SABHCAI201504Grampian",34,151027,22.5125308719633,15.5880648356653,31.4601632337172]
["SABHCAI201504Greater Glasgow & Clyde",91,447333,20.342787140675998,16.378230984570099,24.976786297582599]
["SABHCAI201504Highland",15,79839,18.787810468568001,10.5076082199444,30.9896466480184]
["SABHCAI201504Lanarkshire",34,158949,21.390508905372201,14.811157465199701,29.8921922924876]
["SABHCAI201504Lothian",30,268100,11.1898545318911,7.5482235605351802,15.9748678421584]
["SABHCAI201504Golden Jubilee",2,12688,15.762925598991201,1.7702818022087099,56.911893430839903]
["SABHCAI201504Orkney",1,3935,25.412960609911099,0.33215081145430803,141.39406173913801]
["SABHCAI201504Shetland",0,3187,0,0,115.095622606069]
["SABHCAI201504Tayside",31,135734,22.838787628744502,15.514894202037199,32.419128383988699]
["SABHCAI201504Western Isles",0,8107,0,0,45.246052700819298]
["CDIHCAI201601Ayrshire & Arran",29,119132,24.342745861733199,16.2992199789031,34.961717497895698]
["CDIHCAI201601Borders",2,32229,6.2055912377051703,0.69692933402910795,22.4052283300908]
["CDIHCAI201601Dumfries & Galloway",8,45223,17.6901134378524,7.6169926003575901,34.858716785664903]
["CDIHCAI201601Fife",5,94690,5.2803886366036501,1.7016684563464699,12.3226334036748]
["CDIHCAI201601Forth Valley",5,85625,5.8394160583941597,1.88182173584172,13.627213512338299]
["CDIHCAI201601Grampian",30,155101,19.342235059735302,13.047489936102799,27.613374952338599]
["CDIHCAI201601Greater Glasgow & Clyde",72,462860,15.5554595342004,12.1706374012614,19.5898772235468]
["CDIHCAI201601Highland",8,82505,9.6963820374522793,4.1750591644866502,19.106911692601901]
["CDIHCAI201601Lanarkshire",29,158839,18.2574808453843,12.224697174665501,26.2218934201255]
["CDIHCAI201601Lothian",45,272449,16.516852695366801,12.046312425462499,22.101477333999998]
["CDIHCAI201601Golden Jubilee",0,12668,0,0,28.955616454494901]
["CDIHCAI201601Orkney",1,3843,26.0213374967473,0.34010237914980501,144.77898333164401]
["CDIHCAI201601Shetland",0,3146,0,0,116.59559734441901]
["CDIHCAI201601Tayside",18,138172,13.027241409258,7.7167494048582199,20.589877385244101]
["CDIHCAI201601Western Isles",0,7965,0,0,46.052699214757297]
["SABHCAI201601Ayrshire & Arran",26,119132,21.8245307725884,14.252776392682099,31.9794661197637]
["SABHCAI201601Borders",3,32229,9.3083868565577603,1.8708342391992301,27.197511311052001]
["SABHCAI201601Dumfries & Galloway",6,45223,13.267585078389301,4.8447487797883397,28.878878598672699]
["SABHCAI201601Fife",20,94690,21.1215545464146,12.896095590215999,32.622340095335197]
["SABHCAI201601Forth Valley",10,85625,11.6788321167883,5.5911009816450798,21.4792722616648]
["SABHCAI201601Grampian",29,155101,18.6974938910774,12.5193175706584,26.8538521928247]
["SABHCAI201601Greater Glasgow & Clyde",68,462860,14.6912673378559,11.407776756212099,18.6250349782228]
["SABHCAI201601Highland",10,82505,12.1204775468153,5.8025334410443001,22.291530057633501]
["SABHCAI201601Lanarkshire",22,158839,13.8505027102916,8.6769427223671496,20.970920162351899]
["SABHCAI201601Lothian",40,272449,14.681646840326099,10.4875106338331,19.992871332361702]
["SABHCAI201601Golden Jubilee",2,12668,15.7878118092832,1.7730766898029799,57.001744857159501]
["SABHCAI201601Orkney",5,3843,130.10668748373701,41.928437713101097,303.62481316522798]
["SABHCAI201601Shetland",2,3146,63.572790845518099,7.1396489213045502,229.528958630164]
["SABHCAI201601Tayside",36,138172,26.054482818516,18.245576118511501,36.0716483522123]
["SABHCAI201601Western Isles",0,7965,0,0,46.052699214757297]
["CDIHCAI201602Ayrshire & Arran",21,116346,18.049610644113201,11.1686492550248,27.592231451099099]
["CDIHCAI201602Borders",2,32572,6.1402431536288802,0.68959030782341002,22.169289692082]
["CDIHCAI201602Dumfries & Galloway",6,43631,13.751690311934199,5.0215230929469401,29.932605873525201]
["CDIHCAI201602Fife",13,93313,13.931606528565201,7.4107098617175797,23.825094500500899]
["CDIHCAI201602Forth Valley",8,84437,9.4745194642159305,4.0795297839332498,18.6697271243427]
["CDIHCAI201602Grampian",21,147762,14.212043691882901,8.7940584603965597,21.725787146963199]
["CDIHCAI201602Greater Glasgow & Clyde",71,450499,15.760301354719999,12.3083554817545,19.8798363011927]
["CDIHCAI201602Highland",9,78289,11.4958678741586,5.2457190454880802,21.824194281106202]
["CDIHCAI201602Lanarkshire",21,149629,14.034712522305201,8.6843303519044905,21.454703034903499]
["CDIHCAI201602Lothian",50,263796,18.954040243218198,14.066889434651999,24.9891817488346]
["CDIHCAI201602Golden Jubilee",0,13158,0,0,27.877317924117801]
["CDIHCAI201602Orkney",2,3801,52.6177321757432,5.9093226799326803,189.97582316508701]
["CDIHCAI201602Shetland",0,2995,0,0,122.474039814872]
["CDIHCAI201602Tayside",24,118332,20.281918669506101,12.9910673315414,30.1793638553488]
["CDIHCAI201602Western Isles",2,6544,30.562347188264098,3.4323556702970901,110.34506476932999]
["SABHCAI201602Ayrshire & Arran",13,116346,11.1735684939749,5.9436127527070397,19.108444150424098]
["SABHCAI201602Borders",3,32572,9.2103647304433292,1.85113338742331,26.911107455602799]
["SABHCAI201602Dumfries & Galloway",4,43631,9.1677935412894502,2.4664123892983398,23.471574388711598]
["SABHCAI201602Fife",17,93313,18.218254691200599,10.6066395595219,29.1709737310074]
["SABHCAI201602Forth Valley",18,84437,21.317668794485801,12.6276241312229,33.693103000745602]
["SABHCAI201602Grampian",24,147762,16.242335647866199,10.4036151343103,24.168490435505301]
["SABHCAI201602Greater Glasgow & Clyde",72,450499,15.9822774301386,12.504580981418,20.127393338699601]
["SABHCAI201602Highland",10,78289,12.773186526842901,6.1150100467927802,23.491968059434299]
["SABHCAI201602Lanarkshire",33,149629,22.054548249336701,15.178751606503599,30.973955648778201]
["SABHCAI201602Lothian",41,263796,15.542312999439,11.1521351636493,21.085557486453801]
["SABHCAI201602Golden Jubilee",3,13158,22.7998176014592,4.5823922096938796,66.617160058055603]
["SABHCAI201602Orkney",1,3801,26.3088660878716,0.34386041648847698,146.37875110326399]
["SABHCAI201602Shetland",0,2995,0,0,122.474039814872]
["SABHCAI201602Tayside",19,118332,16.0565189466924,9.6625330908022207,25.075681795684599]
["SABHCAI201602Western Isles",2,6544,30.562347188264098,3.4323556702970901,110.34506476932999]
["CDIHCAI201603Ayrshire & Arran",18,118267,15.2197992677585,9.0155216482033893,24.055269331884201]
["CDIHCAI201603Borders",9,31455,28.6123032904149,13.0561786155529,54.318688477937599]
["CDIHCAI201603Dumfries & Galloway",4,43380,9.2208390963577695,2.4806832401446699,23.6073827144738]
["CDIHCAI201603Fife",8,94057,8.5054807191384008,3.6622819818405001,16.7602172001884]
["CDIHCAI201603Forth Valley",9,83611,10.764133905825799,4.9118189993208503,20.4350425909692]
["CDIHCAI201603Grampian",25,145070,17.233059902116199,11.1491908854748,25.440602910984801]
["CDIHCAI201603Greater Glasgow & Clyde",100,448881,22.277619235387601,18.1254701370821,27.0959000875078]
["CDIHCAI201603Highland",13,78191,16.6259543937282,8.8439279370573693,28.432825301188601]
["CDIHCAI201603Lanarkshire",27,147746,18.274606419124702,12.0401383279931,26.589780781055602]
["CDIHCAI201603Lothian",31,263612,11.759707448826299,7.9886296891618098,16.692631488977401]
["CDIHCAI201603Golden Jubilee",0,12380,0,0,29.629220456021098]
["CDIHCAI201603Orkney",1,3947,25.335697998479901,0.331140978736433,140.964183669498]
["CDIHCAI201603Shetland",0,3141,0,0,116.78120001449901]
["CDIHCAI201603Tayside",18,106847,16.8465188540623,9.9791168565151107,26.626339888569198]
["CDIHCAI201603Western Isles",0,7305,0,0,50.213518034981803]
["ECBHCAI201603Ayrshire & Arran",62,118267,52.423753033390497,40.190666899616197,67.206283153703396]
["ECBHCAI201603Borders",12,31455,38.149737720553198,19.689809467085201,66.644529073627595]
["ECBHCAI201603Dumfries & Galloway",16,43380,36.8833563854311,21.068256662973301,59.900035120912598]
["ECBHCAI201603Fife",30,94057,31.895552696768998,21.515450594633901,45.534750932760701]
["ECBHCAI201603Forth Valley",36,83611,43.056535623303098,30.151866900849999,59.610479435981802]
["ECBHCAI201603Grampian",47,145070,32.398152615978503,23.802755021827,43.083850927226599]
["ECBHCAI201603Greater Glasgow & Clyde",161,448881,35.866966968973998,30.540225772106101,41.855409121867297]
["ECBHCAI201603Highland",25,78191,31.972989218708001,20.685412921638399,47.200678649672803]
["ECBHCAI201603Lanarkshire",74,147746,50.085958333897402,39.3265442850836,62.879427783342699]
["ECBHCAI201603Lothian",68,263612,25.795487307102899,20.0302093583764,32.702546507822902]
["ECBHCAI201603Golden Jubilee",1,12380,8.0775444264943506,0.10557459152445101,44.942296683643498]
["ECBHCAI201603Orkney",0,3947,0,0,92.933810297831698]
["ECBHCAI201603Shetland",0,3141,0,0,116.78120001449901]
["ECBHCAI201603Tayside",45,106847,42.116297135155897,30.716873417174501,56.356522861390303]
["ECBHCAI201603Western Isles",4,7305,54.757015742641997,14.7312852782308,140.19004273153701]
["SABHCAI201603Ayrshire & Arran",16,118267,13.528710460229799,7.7277767597028797,21.9711629071946]
["SABHCAI201603Borders",3,31455,9.5374344301382905,1.9168690731251701,27.8667490714957]
["SABHCAI201603Dumfries & Galloway",6,43380,13.8312586445367,5.0505780098747799,30.1057982219404]
["SABHCAI201603Fife",13,94057,13.8214061685999,7.3520904273626897,23.6366356903286]
["SABHCAI201603Forth Valley",12,83611,14.3521785411011,7.4074339116523502,25.072103694620999]
["SABHCAI201603Grampian",27,145070,18.6117046942855,12.2622339381517,27.0802629853026]
["SABHCAI201603Greater Glasgow & Clyde",84,448881,18.713200157725499,14.925852141334699,23.1685691540028]
["SABHCAI201603Highland",11,78191,14.068115256231501,7.0131026575830804,25.173499046455198]
["SABHCAI201603Lanarkshire",31,147746,20.981955518254299,14.2535070297627,29.783398346299201]
["SABHCAI201603Lothian",40,263612,15.1738160630017,10.839080863834701,20.663087422539999]
["SABHCAI201603Golden Jubilee",2,12380,16.155088852988701,1.81432435431536,58.327795141397097]
["SABHCAI201603Orkney",1,3947,25.335697998479901,0.331140978736433,140.964183669498]
["SABHCAI201603Shetland",1,3141,31.836994587710901,0.41611379913170998,177.13646384702599]
["SABHCAI201603Tayside",24,106847,22.462025138749802,14.387479100732399,33.423348186950903]
["SABHCAI201603Western Isles",2,7305,27.378507871320998,3.0747892548150801,98.849843100683998]
["CDIHCAI201604Ayrshire & Arran",16,120423,13.2864984263803,7.5894220708650399,21.577800947868699]
["CDIHCAI201604Borders",5,32616,15.3298994358597,4.9402436267919896,35.774777930891901]
["CDIHCAI201604Dumfries & Galloway",5,43532,11.485803546816101,3.7014377040211199,26.803963911466699]
["CDIHCAI201604Fife",18,95378,18.8722766256369,11.1790842622834,29.828100170625898]
["CDIHCAI201604Forth Valley",7,85427,8.1941306612663407,3.2827781621482899,16.883904922668702]
["CDIHCAI201604Grampian",32,145837,21.942305450605801,15.005821446076901,30.9771901425955]
["CDIHCAI201604Greater Glasgow & Clyde",65,443247,14.6645098556787,11.3171535078563,18.691492333932999]
["CDIHCAI201604Highland",15,77349,19.392623046193201,10.8458665615864,31.987257737412801]
["CDIHCAI201604Lanarkshire",27,147122,18.352115930996,12.091205104659201,26.702558089734001]
["CDIHCAI201604Lothian",25,264048,9.4679755196025006,6.1254511367472197,13.9772627109335]
["CDIHCAI201604Golden Jubilee",0,12049,0,0,30.443169495023799]
["CDIHCAI201604Orkney",1,3715,26.917900403768499,0.35182057687017498,149.76733053660999]
["CDIHCAI201604Shetland",0,2392,0,0,153.34855737689901]
["CDIHCAI201604Tayside",15,109748,13.6676750373583,7.6440293460668398,22.544214006005902]
["CDIHCAI201604Western Isles",2,8800,22.727272727272702,2.5524244893663801,82.056602710283698]
["ECBHCAI201604Ayrshire & Arran",52,120423,43.181119885736102,32.247227001028399,56.627695441167603]
["ECBHCAI201604Borders",10,32616,30.659798871719399,14.6780114530709,56.388358088209799]
["ECBHCAI201604Dumfries & Galloway",16,43532,36.754571349811599,20.994692962413399,59.690883110015399]
["ECBHCAI201604Fife",25,95378,26.211495313384599,16.9579265842839,38.695173565146803]
["ECBHCAI201604Forth Valley",38,85427,44.482423589731603,31.4742320247728,61.0576357065097]
["ECBHCAI201604Grampian",47,145837,32.227761130577299,23.677569279513801,42.857260187831301]
["ECBHCAI201604Greater Glasgow & Clyde",148,443247,33.389960902160603,28.2269086088397,39.223845817230398]
["ECBHCAI201604Highland",16,77349,20.685464582606102,11.8158085306828,33.594015740929898]
["ECBHCAI201604Lanarkshire",69,147122,46.899851823656597,36.489112410074398,59.355872515576301]
["ECBHCAI201604Lothian",89,264048,33.705992849784899,27.067803551532101,41.478721861957503]
["ECBHCAI201604Golden Jubilee",0,12049,0,0,30.443169495023799]
["ECBHCAI201604Orkney",3,3715,80.753701211305497,16.230179460336998,235.948476997011]
["ECBHCAI201604Shetland",0,2392,0,0,153.34855737689901]
["ECBHCAI201604Tayside",49,109748,44.647738455370501,33.027813211670399,59.028226001197197]
["ECBHCAI201604Western Isles",2,8800,22.727272727272702,2.5524244893663801,82.056602710283698]
["SABHCAI201604Ayrshire & Arran",11,120423,9.1344676681364891,4.5536277114760297,16.3452252803981]
["SABHCAI201604Borders",5,32616,15.3298994358597,4.9402436267919896,35.774777930891901]
["SABHCAI201604Dumfries & Galloway",5,43532,11.485803546816101,3.7014377040211199,26.803963911466699]
["SABHCAI201604Fife",17,95378,17.823816813101601,10.3769984400771,28.539401872145501]
["SABHCAI201604Forth Valley",21,85427,24.582391983798999,15.210971545590001,37.578818879389097]
["SABHCAI201604Grampian",23,145837,15.771032042622901,9.9942012289954505,23.665486174205899]
["SABHCAI201604Greater Glasgow & Clyde",76,443247,17.146196138947399,13.508690968526601,21.4613845524974]
["SABHCAI201604Highland",12,77349,15.514098436954599,8.0071229981921501,27.101884471821901]
["SABHCAI201604Lanarkshire",31,147122,21.0709479207732,14.313961539534001,29.909720993952799]
["SABHCAI201604Lothian",34,264048,12.876446706659401,8.9158738863237996,17.9942058743055]
["SABHCAI201604Golden Jubilee",2,12049,16.5988878745124,1.8641659479146899,59.930127301062001]
["SABHCAI201604Orkney",0,3715,0,0,98.737482973227898]
["SABHCAI201604Shetland",2,2392,83.612040133779303,9.3901904291070792,301.880478198368]
["SABHCAI201604Tayside",25,109748,22.779458395597199,14.737517966212,33.628569671397798]
["SABHCAI201604Western Isles",1,8800,11.363636363636401,0.14852425489462501,63.225640107216698]
["CDIHCAI201701Ayrshire & Arran",26,119981,21.6700977654795,14.1519220310966,31.753175567628901]
["CDIHCAI201701Borders",5,33461,14.942769193987001,4.8154862715234898,34.8713474490891]
["CDIHCAI201701Dumfries & Galloway",7,43221,16.195830730432,6.4884637111089898,33.371308989352798]
["CDIHCAI201701Fife",10,94451,10.587500397031301,5.0686389932701603,19.472135683106099]
["CDIHCAI201701Forth Valley",4,85603,4.6727334322395198,1.2571059303701499,11.963228650326201]
["CDIHCAI201701Grampian",25,147658,16.931016267320398,10.953779150170201,24.994705768035399]
["CDIHCAI201701Greater Glasgow & Clyde",77,439173,17.532953983965299,13.836169966718201,21.913550231483999]
["CDIHCAI201701Highland",18,78104,23.046194817166899,13.6515248741175,36.425081149159503]
["CDIHCAI201701Lanarkshire",20,147866,13.5257598095573,8.2583642719594401,20.890599486205701]
["CDIHCAI201701Lothian",47,259482,18.113009765609899,13.307534514981599,24.087120702063199]
["CDIHCAI201701Golden Jubilee",1,11569,8.6437894372893105,0.11297548993626901,48.0928025709661]
["CDIHCAI201701Orkney",0,3608,0,0,101.665673294219]
["CDIHCAI201701Shetland",0,2383,0,0,153.92771684663899]
["CDIHCAI201701Tayside",17,106222,16.0042175820452,9.3176305964646708,25.625869139740299]
["CDIHCAI201701Western Isles",0,8557,0,0,42.866629571758999]
["ECBHCAI201701Ayrshire & Arran",47,119981,39.1728690375976,28.780104108287599,52.093033513746001]
["ECBHCAI201701Borders",15,33461,44.828307581961099,25.071484195694801,73.942273056129196]
["ECBHCAI201701Dumfries & Galloway",11,43221,25.450591147821701,12.687385990585099,45.541312416218602]
["ECBHCAI201701Fife",35,94451,37.0562513896094,25.807077813025799,51.538124037928803]
["ECBHCAI201701Forth Valley",24,85603,28.036400593437101,17.958003568519299,41.717982824563798]
["ECBHCAI201701Grampian",43,147658,29.1213479797911,21.073006848695499,39.227429924686703]
["ECBHCAI201701Greater Glasgow & Clyde",137,439173,31.194996049392799,26.189813856752099,36.877927614430803]
["ECBHCAI201701Highland",22,78104,28.167571443203901,17.646175677021301,42.6482636954293]
["ECBHCAI201701Lanarkshire",60,147866,40.577279428671901,30.9628491750987,52.232124461076999]
["ECBHCAI201701Lothian",90,259482,34.684486785210503,27.8895358421026,42.633729736082401]
["ECBHCAI201701Golden Jubilee",0,11569,0,0,31.706262360233499]
["ECBHCAI201701Orkney",1,3608,27.7161862527716,0.36225428023079298,154.208878310285]
["ECBHCAI201701Shetland",1,2383,41.963911036508598,0.54847395848623703,233.48117202832901]
["ECBHCAI201701Tayside",58,106222,54.602624691683502,41.459385590682501,70.588123328165594]
["ECBHCAI201701Western Isles",3,8557,35.059016010283997,7.0462915385242599,102.43643707419599]
["SABHCAI201701Ayrshire & Arran",18,119981,15.002375376101201,8.8867295552468306,23.711625491319101]
["SABHCAI201701Borders",4,33461,11.9542153551896,3.2160437212718098,30.605429071273299]
["SABHCAI201701Dumfries & Galloway",6,43221,13.8821406260845,5.06915791093145,30.216550446953502]
["SABHCAI201701Fife",13,94451,13.7637505161406,7.3214213647971196,23.538036051764799]
["SABHCAI201701Forth Valley",21,85603,24.5318505192575,15.179697746867699,37.5015567259275]
["SABHCAI201701Grampian",20,147658,13.544813013856301,8.2699975039452998,20.920027249639599]
["SABHCAI201701Greater Glasgow & Clyde",84,439173,19.126858891598499,15.255790850199,23.680714639602002]
["SABHCAI201701Highland",6,78104,7.6820649390556204,2.8051581745924401,16.7211605918746]
["SABHCAI201701Lanarkshire",35,147866,23.6700796667253,16.484548892362699,32.920531788960297]
["SABHCAI201701Lothian",28,259482,10.790729222065499,7.1687213477474296,15.596284811669401]
["SABHCAI201701Golden Jubilee",4,11569,34.575157749157199,9.3017580566579596,88.520033032576293]
["SABHCAI201701Orkney",0,3608,0,0,101.665673294219]
["SABHCAI201701Shetland",1,2383,41.963911036508598,0.54847395848623703,233.48117202832901]
["SABHCAI201701Tayside",18,106222,16.945642145694901,10.037833017341701,26.783006703639099]
["SABHCAI201701Western Isles",1,8557,11.686338670094701,0.15274201742114099,65.021109377528006]
["CDIHCAI201702Ayrshire & Arran",25,116808,21.4026436545442,13.846766674849601,31.596023083149799]
["CDIHCAI201702Borders",3,32504,9.2296332759045008,1.8550060514137401,26.967406843585302]
["CDIHCAI201702Dumfries & Galloway",7,43510,16.0882555734314,6.4453663538920196,33.149651708315702]
["CDIHCAI201702Fife",13,90490,14.3662283125207,7.6419004235435199,24.5683616214525]
["CDIHCAI201702Forth Valley",8,84320,9.4876660341556001,4.0851904217975701,18.695632699218699]
["CDIHCAI201702Grampian",33,140460,23.4942332336608,16.1695957861991,32.995885019016299]
["CDIHCAI201702Greater Glasgow & Clyde",79,433299,18.232213783092,14.434051397189,22.7231480348673]
["CDIHCAI201702Highland",5,74844,6.6805622361177903,2.15289116203633,15.590162965554599]
["CDIHCAI201702Lanarkshire",16,144126,11.1013973883963,6.34126371397097,18.029110108829698]
["CDIHCAI201702Lothian",33,256027,12.8892655852703,8.8708668387690697,18.102004904838299]
["CDIHCAI201702Golden Jubilee",0,11614,0,0,31.583412196103101]
["CDIHCAI201702Orkney",1,3521,28.4010224368077,0.37120518121917101,158.01920844745999]
["CDIHCAI201702Shetland",0,2201,0,0,166.65595149729299]
["CDIHCAI201702Tayside",14,109040,12.839325018341899,7.0134268623846303,21.5436407624934]
["CDIHCAI201702Western Isles",0,7803,0,0,47.008810617139801]
["ECBHCAI201702Ayrshire & Arran",49,116808,41.949181562906602,31.031576984062799,55.460497116459401]
["ECBHCAI201702Borders",13,32504,39.995077528919502,21.274783698204899,68.3974601010718]
["ECBHCAI201702Dumfries & Galloway",17,43510,39.071477821190499,22.7473536478435,62.561045087600299]
["ECBHCAI201702Fife",28,90490,30.942645596198499,20.556460965368501,44.722678478302697]
["ECBHCAI201702Forth Valley",37,84320,43.880455407969599,30.8915929149506,60.485491848898299]
["ECBHCAI201702Grampian",44,140460,31.325644311547801,22.758918030993399,42.0544378287629]
["ECBHCAI201702Greater Glasgow & Clyde",157,433299,36.233640049942402,30.787122153751199,42.365871812128702]
["ECBHCAI201702Highland",15,74844,20.041686708353399,11.208873559298601,33.057858996461199]
["ECBHCAI201702Lanarkshire",60,144126,41.630240206486,31.766320137415502,53.587522831145101]
["ECBHCAI201702Lothian",75,256027,29.2937854210689,23.040442461526901,36.720643712230199]
["ECBHCAI201702Golden Jubilee",0,11614,0,0,31.583412196103101]
["ECBHCAI201702Orkney",1,3521,28.4010224368077,0.37120518121917101,158.01920844745999]
["ECBHCAI201702Shetland",2,2201,90.867787369377595,10.205059294150001,328.077284802588]
["ECBHCAI201702Tayside",40,109040,36.683785766691102,26.204253344434999,49.954491944521401]
["ECBHCAI201702Western Isles",1,7803,12.815583749839799,0.167501402418647,71.304066761951503]
["SABHCAI201702Ayrshire & Arran",15,116808,12.841586192726499,7.1820160662980603,21.181617686555199]
["SABHCAI201702Borders",6,32504,18.459266551809002,6.74052652191632,40.179347983871999]
["SABHCAI201702Dumfries & Galloway",5,43510,11.491611123879601,3.7033092652596502,26.8175168235801]
["SABHCAI201702Fife",20,90490,22.101889711570301,13.4946545633501,34.136472357468101]
["SABHCAI201702Forth Valley",14,84320,16.603415559772301,9.0695453637858208,27.859565805767001]
["SABHCAI201702Grampian",20,140460,14.2389292325217,8.6938010211986008,21.992093006032199]
["SABHCAI201702Greater Glasgow & Clyde",86,433299,19.847726396783699,15.875076818655099,24.5121462554368]
["SABHCAI201702Highland",6,74844,8.0166746833413498,2.9273431947566699,17.449488627916399]
["SABHCAI201702Lanarkshire",26,144126,18.039770756143898,11.7810926357007,26.433660531615999]
["SABHCAI201702Lothian",29,256027,11.3269303628133,7.5841949268112003,16.268047233140699]
["SABHCAI201702Golden Jubilee",0,11614,0,0,31.583412196103101]
["SABHCAI201702Orkney",1,3521,28.4010224368077,0.37120518121917101,158.01920844745999]
["SABHCAI201702Shetland",0,2201,0,0,166.65595149729299]
["SABHCAI201702Tayside",19,109040,17.424798239178301,10.4859397074542,27.212541986857499]
["SABHCAI201702Western Isles",1,7803,12.815583749839799,0.167501402418647,71.304066761951503]
["CDIHCAI201703Ayrshire & Arran",28,118443,23.640063152740101,15.705057730352999,34.167955687559498]
["CDIHCAI201703Borders",6,32452,18.488845063478401,6.7513273162938496,40.243730027972902]
["CDIHCAI201703Dumfries & Galloway",13,41406,31.396415978360601,16.700854207758599,53.692485222557998]
["CDIHCAI201703Fife",12,87701,13.6828542433952,7.0619828369934696,23.902847880992901]
["CDIHCAI201703Forth Valley",14,80291,17.436574460400301,9.5246548812995293,29.257557992082202]
["CDIHCAI201703Grampian",26,138173,18.816990294775401,12.2886653486065,27.5725196513044]
["CDIHCAI201703Greater Glasgow & Clyde",102,426025,23.942256909805799,19.5215372112994,29.0646300515196]
["CDIHCAI201703Highland",12,73950,16.2271805273834,8.3751583067906008,28.347581636388799]
["CDIHCAI201703Lanarkshire",25,139493,17.922046267554599,11.594941120743201,26.457730956367499]
["CDIHCAI201703Lothian",25,252661,9.8946810152734308,6.4015147638766203,14.607194083363]
["CDIHCAI201703Golden Jubilee",0,11658,0,0,31.464209062064]
["CDIHCAI201703Orkney",2,2936,68.119891008174406,7.6503186329782498,245.946220657526]
["CDIHCAI201703Shetland",0,2600,0,0,141.08067278674699]
["CDIHCAI201703Tayside",19,123857,15.3402714420663,9.2315078332335503,23.957108425417601]
["CDIHCAI201703Western Isles",0,7180,0,0,51.0877088085713]
["ECBHCAI201703Ayrshire & Arran",60,118443,50.6572781844432,38.654480687969198,65.207359789617101]
["ECBHCAI201703Borders",12,32452,36.977690126956702,19.084893281990801,64.597056021538094]
["ECBHCAI201703Dumfries & Galloway",14,41406,33.811524899772998,18.469402141583799,56.733772611270702]
["ECBHCAI201703Fife",25,87701,28.505946340406599,18.442356663616501,42.0823966009118]
["ECBHCAI201703Forth Valley",25,80291,31.136740107857701,20.14438880766,45.9661514278881]
["ECBHCAI201703Grampian",64,138173,46.3187453409856,35.669120190874203,59.149195321147097]
["ECBHCAI201703Greater Glasgow & Clyde",139,426025,32.627193239833304,27.4283571527167,38.524559201674201]
["ECBHCAI201703Highland",22,73950,29.749830966869499,18.6374158901701,45.043948447164396]
["ECBHCAI201703Lanarkshire",84,139493,60.218075458983598,48.030592467395898,74.555214171448995]
["ECBHCAI201703Lothian",74,252661,29.288255805209399,22.9965828202373,36.769362653032097]
["ECBHCAI201703Golden Jubilee",2,11658,17.155601303825701,1.92668858349838,61.940135859538202]
["ECBHCAI201703Orkney",2,2936,68.119891008174406,7.6503186329782498,245.946220657526]
["ECBHCAI201703Shetland",3,2600,115.384615384615,23.190429498135401,337.13407386303697]
["ECBHCAI201703Tayside",56,123857,45.2134316187216,34.151403037486297,58.7147529996668]
["ECBHCAI201703Western Isles",3,7180,41.782729805013901,8.3976485647844203,122.08197660778499]
["SABHCAI201703Ayrshire & Arran",17,118443,14.3528954855922,8.3562334390185207,22.981780871486599]
["SABHCAI201703Borders",6,32452,18.488845063478401,6.7513273162938496,40.243730027972902]
["SABHCAI201703Dumfries & Galloway",4,41406,9.6604356856494196,2.59894795337574,24.732846982415001]
["SABHCAI201703Fife",13,87701,14.823092097011401,7.8849222851102398,25.349665831920301]
["SABHCAI201703Forth Valley",18,80291,22.418452877657501,13.2796789025927,35.432919481311103]
["SABHCAI201703Grampian",31,138173,22.435642274539902,15.241028635256701,31.846872920703198]
["SABHCAI201703Greater Glasgow & Clyde",76,426025,17.8393286778945,14.0547778785905,22.328957968994299]
["SABHCAI201703Highland",11,73950,14.874915483434799,7.4153010128340604,26.6171881533656]
["SABHCAI201703Lanarkshire",28,139493,20.072691819661198,13.335107516192201,29.0118871592238]
["SABHCAI201703Lothian",39,252661,15.4357023838266,10.974900989969001,21.101799730202998]
["SABHCAI201703Golden Jubilee",5,11658,42.889003259564198,13.8214947788169,100.088364813345]
["SABHCAI201703Orkney",1,2936,34.059945504087203,0.44516806644165602,189.504643373129]
["SABHCAI201703Shetland",2,2600,76.923076923076906,8.6389751947785101,277.73003994249899]
["SABHCAI201703Tayside",26,123857,20.991950394406501,13.7090496073133,30.7594868096247]
["SABHCAI201703Western Isles",1,7180,13.9275766016713,0.18203529847809199,77.491035228900699]
["CDIHCAI201704Ayrshire & Arran",18,123003,14.6337894197703,8.6683958827676495,23.1290662672777]
["CDIHCAI201704Borders",6,32440,18.495684340320601,6.7538247246722598,40.258616734518398]
["CDIHCAI201704Dumfries & Galloway",11,42845,25.673940949935801,12.798728203969601,45.9409747681499]
["CDIHCAI201704Fife",11,89968,12.2265694469145,6.0950728025417797,21.8782351940844]
["CDIHCAI201704Forth Valley",3,86859,3.4538735191517298,0.69417235629183105,10.0916265677005]
["CDIHCAI201704Grampian",22,139048,15.8218744606179,9.9119505859708497,23.955756196909]
["CDIHCAI201704Greater Glasgow & Clyde",74,433674,17.063508534060102,13.3979431829991,21.422044986044199]
["CDIHCAI201704Highland",15,74412,20.1580390259636,11.273946845564501,33.2497769006496]
["CDIHCAI201704Lanarkshire",28,143304,19.5388823759281,12.980476139927701,28.240350412421201]
["CDIHCAI201704Lothian",33,256805,12.8502170907887,8.8439922280700394,18.047164228776801]
["CDIHCAI201704Golden Jubilee",0,12434,0,0,29.500542805657201]
["CDIHCAI201704Orkney",0,3819,0,0,96.048638189458401]
["CDIHCAI201704Shetland",1,2589,38.624951718810401,0.50483331134519205,214.90368209482699]
["CDIHCAI201704Tayside",10,126195,7.92424422520702,3.7936370026812498,14.5739743048857]
["CDIHCAI201704Western Isles",2,7572,26.4131008980454,2.96636760518015,95.364250376452205]
["ECBHCAI201704Ayrshire & Arran",57,123003,46.340333162605802,35.095383645333399,60.040634377656701]
["ECBHCAI201704Borders",13,32440,40.073982737361298,21.316756144465302,68.532399603120794]
["ECBHCAI201704Dumfries & Galloway",9,42845,21.0059516863111,9.5852981293550208,39.8785003168054]
["ECBHCAI201704Fife",28,89968,31.1221767739641,20.675730846036299,44.982162274382098]
["ECBHCAI201704Forth Valley",34,86859,39.143899883719598,27.103911718256299,54.701689781123498]
["ECBHCAI201704Grampian",49,139048,35.239629480467201,26.068238625182701,46.589880812233098]
["ECBHCAI201704Greater Glasgow & Clyde",140,433674,32.282313442816502,27.156030342845199,38.094740127121703]
["ECBHCAI201704Highland",14,74412,18.814169757565999,10.277160472429401,31.569082792322099]
["ECBHCAI201704Lanarkshire",64,143304,44.660302573549899,34.391987272746498,57.031358267102497]
["ECBHCAI201704Lothian",58,256805,22.585230038355999,17.1488049540059,29.197296143628002]
["ECBHCAI201704Golden Jubilee",1,12434,8.0424642110342592,0.10511608839252901,44.747115404817997]
["ECBHCAI201704Orkney",2,3819,52.369730295888999,5.8814704127845303,189.080414729117]
["ECBHCAI201704Shetland",4,2589,154.49980687524101,41.565098090952503,395.55359681493798]
["ECBHCAI201704Tayside",54,126195,42.790918816117902,32.143517463734902,55.834198758386798]
["ECBHCAI201704Western Isles",4,7572,52.826201796090899,14.211838214141,135.246732983871]
["SABHCAI201704Ayrshire & Arran",14,123003,11.3818362153769,6.2172797823989701,19.0980593054013]
["SABHCAI201704Borders",4,32440,12.330456226880401,3.3172638396262601,31.568688722375899]
["SABHCAI201704Dumfries & Galloway",3,42845,7.0019838954370401,1.4072847869098399,20.458597083531199]
["SABHCAI201704Fife",11,89968,12.2265694469145,6.0950728025417797,21.8782351940844]
["SABHCAI201704Forth Valley",16,86859,18.420658768809201,10.5221217610125,29.915881181514699]
["SABHCAI201704Grampian",22,139048,15.8218744606179,9.9119505859708497,23.955756196909]
["SABHCAI201704Greater Glasgow & Clyde",88,433674,20.291739878341801,16.274032413144599,25.000355264138399]
["SABHCAI201704Highland",6,74412,8.06321561038542,2.9443379302850099,17.550791900066901]
["SABHCAI201704Lanarkshire",30,143304,20.934516831351502,14.121578857390499,29.886549353002501]
["SABHCAI201704Lothian",39,256805,15.186620198204899,10.797801674525701,20.761285105947401]
["SABHCAI201704Golden Jubilee",3,12434,24.127392633102801,4.8492131812089498,70.496106807455007]
["SABHCAI201704Orkney",0,3819,0,0,96.048638189458401]
["SABHCAI201704Shetland",1,2589,38.624951718810401,0.50483331134519205,214.90368209482699]
["SABHCAI201704Tayside",23,126195,18.225761717976098,11.5497787125719,27.3489718862686]
["SABHCAI201704Western Isles",2,7572,26.4131008980454,2.96636760518015,95.364250376452205]
["CDIHCAI201801Ayrshire & Arran",18,122158,14.7350153080437,8.7283575268756,23.289056288363899]
["CDIHCAI201801Borders",4,32986,12.126356636148699,3.2623549068536999,31.046148734429]
["CDIHCAI201801Dumfries & Galloway",14,44662,31.3465585956742,17.122924747535301,52.597702492998003]
["CDIHCAI201801Fife",6,91836,6.5333856004181401,2.3857101144253701,14.2208886152247]
["CDIHCAI201801Forth Valley",1,85107,1.1749914813117599,1.53572966157038E-2,6.5374837903287304]
["CDIHCAI201801Grampian",32,144477,22.148854142874001,15.1470751900408,31.268786580740901]
["CDIHCAI201801Greater Glasgow & Clyde",64,435205,14.705713399432501,11.324569672071,18.7792460222398]
["CDIHCAI201801Highland",13,75230,17.280340289778,9.1920187335697605,29.551921349531298]
["CDIHCAI201801Lanarkshire",19,143873,13.206091483461099,7.9471955523330102,20.6241308532313]
["CDIHCAI201801Lothian",42,258580,16.242555495397902,11.7048996742051,21.955883275252301]
["CDIHCAI201801Golden Jubilee",2,11871,16.847780304944799,1.8921182298394501,60.828751061452003]
["CDIHCAI201801Orkney",0,3683,0,0,99.595370416926897]
["CDIHCAI201801Shetland",1,2410,41.493775933610003,0.54232922949074802,230.865407860376]
["CDIHCAI201801Tayside",12,124965,9.6026887528507991,4.95613137108122,16.775126331460399]
["CDIHCAI201801Western Isles",0,8190,0,0,44.7875151703958]
["ECBHCAI201801Ayrshire & Arran",56,122158,45.842269847247003,34.626388169534103,59.531370538808197]
["ECBHCAI201801Borders",10,32986,30.315891590371699,14.5133699616007,55.7558566484282]
["ECBHCAI201801Dumfries & Galloway",19,44662,42.5417580941292,25.600888130867599,66.438036322756403]
["ECBHCAI201801Fife",35,91836,38.1114160024391,26.541925895271,53.005655227867202]
["ECBHCAI201801Forth Valley",29,85107,34.074752958041103,22.8154990133208,48.9390923068527]
["ECBHCAI201801Grampian",48,144477,33.223281214310902,24.4940517064577,44.050429287847699]
["ECBHCAI201801Greater Glasgow & Clyde",147,435205,33.777185464321398,28.537277006844899,39.700383049621102]
["ECBHCAI201801Highland",15,75230,19.938854180513101,11.151361593408801,32.888241376194898]
["ECBHCAI201801Lanarkshire",39,143873,27.1072404134202,19.2734526910995,37.057695478879403]
["ECBHCAI201801Lothian",75,258580,29.004563384639201,22.812960639250299,36.358095164789098]
["ECBHCAI201801Golden Jubilee",2,11871,16.847780304944799,1.8921182298394501,60.828751061452003]
["ECBHCAI201801Orkney",1,3683,27.151778441487899,0.35487739426356302,151.06859433709101]
["ECBHCAI201801Shetland",2,2410,82.987551867219906,9.3200562267319995,299.62576923257097]
["ECBHCAI201801Tayside",43,124965,34.409634697715397,24.899756293879701,46.350929042687099]
["ECBHCAI201801Western Isles",3,8190,36.630036630036599,7.3620411105191801,107.02669011525001]
["SABHCAI201801Ayrshire & Arran",23,122158,18.828075115833599,11.931468464063,28.252783339508301]
["SABHCAI201801Borders",12,32986,36.379069908445999,18.7759339352199,63.551314558023201]
["SABHCAI201801Dumfries & Galloway",2,44662,4.4780797993820203,0.502918263992301,16.168064660124902]
["SABHCAI201801Fife",16,91836,17.422361601115,9.9518813323727109,28.2946069465699]
["SABHCAI201801Forth Valley",19,85107,22.3248381449235,13.434698270422,34.865000273149597]
["SABHCAI201801Grampian",28,144477,19.380247375014701,12.8750884414557,28.011068720291899]
["SABHCAI201801Greater Glasgow & Clyde",96,435205,22.058570099148699,17.866998247856301,26.937648383032801]
["SABHCAI201801Highland",5,75230,6.6462847268376999,2.1418448242914701,15.510170902485299]
["SABHCAI201801Lanarkshire",30,143873,20.851723394938599,14.0657297517914,29.768351730225099]
["SABHCAI201801Lothian",40,258580,15.4691004718076,11.0500107691128,21.065193756789402]
["SABHCAI201801Golden Jubilee",4,11871,33.695560609889597,9.0651199526135997,86.268070268206102]
["SABHCAI201801Orkney",0,3683,0,0,99.595370416926897]
["SABHCAI201801Shetland",2,2410,82.987551867219906,9.3200562267319995,299.62576923257097]
["SABHCAI201801Tayside",17,124965,13.6038090665386,7.9201164903586596,21.782347631428699]
["SABHCAI201801Western Isles",2,8190,24.420024420024401,2.74253180786619,88.168266648412299]
["CDIHCAI201802Ayrshire & Arran",10,115914,8.6270855979432994,4.1301138909308603,15.8666139327868]
["CDIHCAI201802Borders",3,31525,9.5162569389373495,1.91261274211426,27.804872071178298]
["CDIHCAI201802Dumfries & Galloway",7,42410,16.505541145956101,6.6125416189069002,34.009463471559002]
["CDIHCAI201802Fife",4,87527,4.5700183943240402,1.22947249371595,11.700255488636399]
["CDIHCAI201802Forth Valley",9,83252,10.8105510978715,4.9329997880196998,20.523162759735801]
["CDIHCAI201802Grampian",43,138240,31.105324074074101,22.508666415398402,41.899912093600904]
["CDIHCAI201802Greater Glasgow & Clyde",86,417159,20.615640559115299,16.489288042320599,25.460528144746899]
["CDIHCAI201802Highland",22,73332,30.000545464462999,18.794481332543398,45.423552987342603]
["CDIHCAI201802Lanarkshire",27,136851,19.7294868141263,12.9986794207398,28.7066499424764]
["CDIHCAI201802Lothian",27,255469,10.5687969968959,6.9632021004805598,15.377731745447999]
["CDIHCAI201802Golden Jubilee",1,12349,8.0978216859664798,0.10583961803163799,45.055116442101202]
["CDIHCAI201802Orkney",0,3487,0,0,105.19350422871899]
["CDIHCAI201802Shetland",0,2417,0,0,151.76241176894601]
["CDIHCAI201802Tayside",5,117886,4.2413857455507902,1.3668373354889201,9.8979535907060203]
["CDIHCAI201802Western Isles",0,7527,0,0,48.732529460016202]
["ECBHCAI201802Ayrshire & Arran",64,115914,55.213347826837101,42.5186719821045,70.507632944328194]
["ECBHCAI201802Borders",12,31525,38.065027755749398,19.6460890336928,66.496547565771806]
["ECBHCAI201802Dumfries & Galloway",16,42410,37.7269511907569,21.550129074269801,61.2700665773447]
["ECBHCAI201802Fife",43,87527,49.1276977389834,35.550150756505701,66.176652322362102]
["ECBHCAI201802Forth Valley",38,83252,45.644549079901999,32.296512025900398,62.652796875750802]
["ECBHCAI201802Grampian",39,138240,28.2118055555556,20.0588068505972,38.567721510654103]
["ECBHCAI201802Greater Glasgow & Clyde",150,417159,35.957512603108199,30.433067209767501,42.1946184721808]
["ECBHCAI201802Highland",13,73332,17.7275950471827,9.42992921680103,30.3167927115753]
["ECBHCAI201802Lanarkshire",51,136851,37.266808426682999,27.745365270219601,49.000206758227201]
["ECBHCAI201802Lothian",90,255469,35.229323322986403,28.327634818238099,43.3034358743258]
["ECBHCAI201802Golden Jubilee",2,12349,16.195643371932999,1.8188788975968999,58.474216847558203]
["ECBHCAI201802Orkney",1,3487,28.677946659019199,0.37482461803060002,159.55997503398501]
["ECBHCAI201802Shetland",4,2417,165.494414563508,44.522978468132401,423.702218516291]
["ECBHCAI201802Tayside",54,117886,45.8069660519485,34.4091002013473,59.769580037617899]
["ECBHCAI201802Western Isles",3,7527,39.8565165404544,8.0105110528965202,116.453911524365]
["SABHCAI201802Ayrshire & Arran",16,115914,13.8033369567093,7.8846470145088698,22.417167240757699]
["SABHCAI201802Borders",6,31525,19.032513877874699,6.9498516754438704,41.4271063241166]
["SABHCAI201802Dumfries & Galloway",4,42410,9.4317377976892196,2.53742133830408,24.1473299258164]
["SABHCAI201802Fife",24,87527,27.4201103659442,17.563254532612302,40.800946950439702]
["SABHCAI201802Forth Valley",8,83252,9.6093787536635809,4.1375973714261702,18.9354700091064]
["SABHCAI201802Grampian",27,138240,19.53125,12.8680720298587,28.418212899868699]
["SABHCAI201802Greater Glasgow & Clyde",89,417159,21.334790811177498,17.1330341480705,26.254673997699101]
["SABHCAI201802Highland",14,73332,19.091256204658301,10.428517769519701,32.0340177377172]
["SABHCAI201802Lanarkshire",25,136851,18.2680433464133,11.8187892069172,26.968515131760601]
["SABHCAI201802Lothian",35,255469,13.7002924033836,9.5412919239442093,19.054473746350499]
["SABHCAI201802Golden Jubilee",1,12349,8.0978216859664798,0.10583961803163799,45.055116442101202]
["SABHCAI201802Orkney",1,3487,28.677946659019199,0.37482461803060002,159.55997503398501]
["SABHCAI201802Shetland",2,2417,82.7472072817542,9.2930639248755202,298.75800738539402]
["SABHCAI201802Tayside",12,117886,10.179325789321901,5.25374477704871,17.782464940798398]
["SABHCAI201802Western Isles",0,7527,0,0,48.732529460016202]
["CDIHCAI201803Ayrshire & Arran",17,110109,15.4392465647676,8.9887053484971293,24.721240514049601]
["CDIHCAI201803Borders",4,32651,12.250773330066499,3.2958267421357998,31.364682924072]
["CDIHCAI201803Dumfries & Galloway",13,43012,30.2241235004185,16.0772707459884,51.687692809570301]
["CDIHCAI201803Fife",7,89303,7.83848246979385,3.1402964072633801,16.151096221054299]
["CDIHCAI201803Forth Valley",10,82126,12.176411854954599,5.8293113210598397,22.394402350109001]
["CDIHCAI201803Grampian",26,136514,19.045665646014299,12.4380045798453,27.907597446266902]
["CDIHCAI201803Greater Glasgow & Clyde",100,412912,24.218235362498501,19.704390186295299,29.4562394098031]
["CDIHCAI201803Highland",10,73340,13.635124079629099,6.5276523255162298,25.077211445391999]
["CDIHCAI201803Lanarkshire",23,138817,16.5685758948832,10.4996097353567,24.8622539543979]
["CDIHCAI201803Lothian",36,252485,14.2582727686793,9.9848614509652798,19.740150092567401]
["CDIHCAI201803Golden Jubilee",0,12390,0,0,29.605306638058298]
["CDIHCAI201803Orkney",3,3756,79.872204472843407,16.053012964630501,233.37289458037699]
["CDIHCAI201803Shetland",0,2446,0,0,149.963102716902]
["CDIHCAI201803Tayside",6,114636,5.2339579189783301,1.9112152732856,11.392490377087301]
["CDIHCAI201803Western Isles",0,7123,0,0,51.496525234527802]
["ECBHCAI201803Ayrshire & Arran",49,110109,44.501357745506702,32.919529233345202,58.834697864655801]
["ECBHCAI201803Borders",10,32651,30.626933325166199,14.6622774663367,56.327913001287897]
["ECBHCAI201803Dumfries & Galloway",18,43012,41.848786385194799,24.789330855762799,66.143042361990894]
["ECBHCAI201803Fife",36,89303,40.312195558939798,28.230045389818599,55.8110231024923]
["ECBHCAI201803Forth Valley",40,82126,48.705647419818298,34.7918050882448,66.325375662160695]
["ECBHCAI201803Grampian",38,136514,27.835972867251702,19.6957763978805,38.208320359084098]
["ECBHCAI201803Greater Glasgow & Clyde",180,412912,43.592823652497401,37.456437293133298,50.4475736591179]
["ECBHCAI201803Highland",25,73340,34.087810199072798,22.053628603160998,50.322719720433099]
["ECBHCAI201803Lanarkshire",70,138817,50.426100549644502,39.307754593178203,63.711516933645697]
["ECBHCAI201803Lothian",84,252485,33.269303126918402,26.535958314571001,41.190290474356601]
["ECBHCAI201803Golden Jubilee",2,12390,16.142050040355102,1.8128600085895199,58.280718632001303]
["ECBHCAI201803Orkney",3,3756,79.872204472843407,16.053012964630501,233.37289458037699]
["ECBHCAI201803Shetland",2,2446,81.766148814390803,9.1828845079411803,295.21590509014601]
["ECBHCAI201803Tayside",42,114636,36.6377054328483,26.4022903604099,49.525038358933898]
["ECBHCAI201803Western Isles",7,7123,98.273199494595005,39.370755307853699,202.490712597054]
["SABHCAI201803Ayrshire & Arran",18,110109,16.3474375391657,9.6834836277513201,25.837529521419299]
["SABHCAI201803Borders",9,32651,27.564239992649501,12.5779332440726,52.329005116949801]
["SABHCAI201803Dumfries & Galloway",3,43012,6.9747977308658102,1.4018208103587899,20.379163769271301]
["SABHCAI201803Fife",23,89303,25.7550138293226,16.321112668477099,38.647117198612101]
["SABHCAI201803Forth Valley",20,82126,24.352823709909199,14.8689975335162,37.613050478865297]
["SABHCAI201803Grampian",25,136514,18.313140044244498,11.8479652032453,27.0350899123648]
["SABHCAI201803Greater Glasgow & Clyde",67,412912,16.226217692873998,12.574455405921,20.6071193106633]
["SABHCAI201803Highland",10,73340,13.635124079629099,6.5276523255162298,25.077211445391999]
["SABHCAI201803Lanarkshire",21,138817,15.1278301648933,9.36072430772251,23.125739357640398]
["SABHCAI201803Lothian",35,252485,13.862209636216001,9.6540559103237999,19.2796694992036]
["SABHCAI201803Golden Jubilee",1,12390,8.0710250201775597,0.10548938200748199,44.906023643543797]
["SABHCAI201803Orkney",0,3756,0,0,97.659677647907799]
["SABHCAI201803Shetland",1,2446,40.883074407195402,0.53434727844345897,227.467552307239]
["SABHCAI201803Tayside",19,114636,16.574200076764701,9.9740645669842607,25.884151385663699]
["SABHCAI201803Western Isles",1,7123,14.0390284992279,0.18349198976171599,78.111137574548295]
["CDIHCAI201804Ayrshire & Arran",21,110740,18.963337547408301,11.7340406919371,28.989035221325398]
["CDIHCAI201804Borders",0,31191,0,0,11.760115073115401]
["CDIHCAI201804Dumfries & Galloway",12,43800,27.397260273972599,14.1402501549581,47.8608142011634]
["CDIHCAI201804Fife",11,91463,12.0267211878027,5.9954463542534002,21.520626525932698]
["CDIHCAI201804Forth Valley",15,84592,17.732173255154201,9.9172135978832898,29.248420639435601]
["CDIHCAI201804Grampian",11,133702,8.2272516491899896,4.1013710333359104,14.7218520586183]
["CDIHCAI201804Greater Glasgow & Clyde",67,417273,16.056634385641999,12.443037365393,20.391750362004299]
["CDIHCAI201804Highland",11,72346,15.2047106958229,7.5797073770364403,27.207324025397199]
["CDIHCAI201804Lanarkshire",25,142634,17.527377764067499,11.3396043142296,25.875094748072499]
["CDIHCAI201804Lothian",36,254499,14.145438685417201,9.9058453803235693,19.583934695703601]
["CDIHCAI201804Golden Jubilee",0,11765,0,0,31.178049234640199]
["CDIHCAI201804Orkney",1,3843,26.0213374967473,0.34010237914980501,144.77898333164401]
["CDIHCAI201804Shetland",0,2501,0,0,146.66523360477501]
["CDIHCAI201804Tayside",9,115115,7.8182686878339096,3.5675811002233901,14.8424996401297]
["CDIHCAI201804Western Isles",1,6753,14.808233377758,0.19354560092887599,82.390883006590698]
["ECBHCAI201804Ayrshire & Arran",40,110740,36.120642947444502,25.801984690962598,49.187626888483003]
["ECBHCAI201804Borders",11,31191,35.266583309287903,17.580760793147999,63.106058284164703]
["ECBHCAI201804Dumfries & Galloway",15,43800,34.246575342465803,19.153354627217901,56.488182619432401]
["ECBHCAI201804Fife",45,91463,49.2002230410111,35.883425800649903,65.83564280825]
["ECBHCAI201804Forth Valley",29,84592,34.282201626631398,22.9544008242705,49.237035759401699]
["ECBHCAI201804Grampian",49,133702,36.648666437300903,27.110562626994401,48.452751246648397]
["ECBHCAI201804Greater Glasgow & Clyde",152,417273,36.426991442053499,30.865812184714802,42.700514721819097]
["ECBHCAI201804Highland",11,72346,15.2047106958229,7.5797073770364403,27.207324025397199]
["ECBHCAI201804Lanarkshire",72,142634,50.478847960514301,39.494799469606299,63.570891734725599]
["ECBHCAI201804Lothian",96,254499,37.721169827779299,30.553389099596899,46.064618189218002]
["ECBHCAI201804Golden Jubilee",1,11765,8.4997875053123693,0.111093365327046,47.291596510285402]
["ECBHCAI201804Orkney",0,3843,0,0,95.448802822155002]
["ECBHCAI201804Shetland",2,2501,79.968012794882,8.9809418258393094,288.72375203938299]
["ECBHCAI201804Tayside",56,115115,48.6470051687443,36.744910098718201,63.173636470310001]
["ECBHCAI201804Western Isles",3,6753,44.424700133274101,8.9286415956096707,129.80136117931201]
["SABHCAI201804Ayrshire & Arran",17,110740,15.3512732526639,8.9374874229516905,24.5803781087366]
["SABHCAI201804Borders",4,31191,12.824212112468301,3.4500990336147002,32.832812739375903]
["SABHCAI201804Dumfries & Galloway",5,43800,11.415525114155299,3.6787896377042801,26.6399579222368]
["SABHCAI201804Fife",16,91463,17.493412636803999,9.9924666153502599,28.4099966494122]
["SABHCAI201804Forth Valley",17,84592,20.096463022508001,11.7001295301881,32.178351046925101]
["SABHCAI201804Grampian",26,133702,19.446231170812698,12.6995987884474,28.494545764309301]
["SABHCAI201804Greater Glasgow & Clyde",88,417273,21.0893108348731,16.9136865618865,25.982999304579799]
["SABHCAI201804Highland",14,72346,19.351449976501801,10.5706475143673,32.470607756368999]
["SABHCAI201804Lanarkshire",24,142634,16.826282653504801,10.777647541792,25.0373998046128]
["SABHCAI201804Lothian",35,254499,13.752509833044501,9.5776576981367505,19.127098155617201]
["SABHCAI201804Golden Jubilee",4,11765,33.999150021249498,9.1467946415194206,87.0453261499256]
["SABHCAI201804Orkney",1,3843,26.0213374967473,0.34010237914980501,144.77898333164401]
["SABHCAI201804Shetland",1,2501,39.984006397441,0.522596338693603,222.46526707057501]
["SABHCAI201804Tayside",17,115115,14.7678408547974,8.5978139879048801,23.646189217404199]
["SABHCAI201804Western Isles",0,6753,0,0,54.318043720648902]
["CDIHCAI201901Ayrshire & Arran",17,111660,15.224789539673999,8.8638488018777597,24.377853051777599]
["CDIHCAI201901Borders",6,29390,20.415107179312699,7.4547150074300097,44.436526943442502]
["CDIHCAI201901Dumfries & Galloway",3,46147,6.5009643097059397,1.3065880056157999,18.994703708667899]
["CDIHCAI201901Fife",6,91885,6.5299015073189297,2.3844378741728001,14.2133049667277]
["CDIHCAI201901Forth Valley",5,80825,6.1862047633776696,1.9935785478682,14.4365005504976]
["CDIHCAI201901Grampian",19,134033,14.175613468325,8.5306369752285498,22.138246388926198]
["CDIHCAI201901Greater Glasgow & Clyde",62,427318,14.5091009505801,11.123401312879199,18.6003994442992]
["CDIHCAI201901Highland",8,75357,10.616133869448101,4.57108505335896,20.919300784242001]
["CDIHCAI201901Lanarkshire",20,145876,13.7102744796951,8.3710225906767004,21.175583259941899]
["CDIHCAI201901Lothian",34,251904,13.4972052845528,9.3456978370173793,18.861685692559899]
["CDIHCAI201901Golden Jubilee",0,11654,0,0,31.475008516006699]
["CDIHCAI201901Orkney",0,3829,0,0,95.797792960444497]
["CDIHCAI201901Shetland",0,2511,0,0,146.08114267046699]
["CDIHCAI201901Tayside",6,119250,5.0314465408805003,1.8372668684978399,10.951694145641699]
["CDIHCAI201901Western Isles",0,6871,0,0,53.385205828197002]
["ECBHCAI201901Ayrshire & Arran",52,111660,46.569944474297003,34.7779671963536,61.071798030733703]
["ECBHCAI201901Borders",9,29390,30.622660768968998,13.9735317574759,58.135227835097901]
["ECBHCAI201901Dumfries & Galloway",11,46147,23.836869135588401,11.882928682234599,42.653716686705103]
["ECBHCAI201901Fife",36,91885,39.179409043913601,27.4367714365453,54.242714220186897]
["ECBHCAI201901Forth Valley",28,80825,34.642746674914903,23.014588960794299,50.070586767727903]
["ECBHCAI201901Grampian",56,134033,41.780755485589403,31.558573828937199,54.257034926322099]
["ECBHCAI201901Greater Glasgow & Clyde",156,427318,36.506770133717701,31.002360180257199,42.706547998014599]
["ECBHCAI201901Highland",18,75357,23.886301206258199,14.149165953635,37.752890084185303]
["ECBHCAI201901Lanarkshire",59,145876,40.4453097151005,30.786911652320299,52.172642880611903]
["ECBHCAI201901Lothian",86,251904,34.139989837398403,27.306652178792,42.1632386160382]
["ECBHCAI201901Golden Jubilee",3,11654,25.742234425948201,5.1737700956883597,75.214397807095907]
["ECBHCAI201901Orkney",1,3829,26.116479498563599,0.34134589790355202,145.308339760644]
["ECBHCAI201901Shetland",1,2511,39.824771007566703,0.520515110741817,221.579304238752]
["ECBHCAI201901Tayside",56,119250,46.960167714884697,35.470778415211299,60.983087314714702]
["ECBHCAI201901Western Isles",1,6871,14.553922282055,0.190221720720812,80.975932607117898]
["SABHCAI201901Ayrshire & Arran",11,111660,9.8513344080243606,4.9109932822772597,17.627987318120901]
["SABHCAI201901Borders",3,29390,10.2075535896563,2.0515521162011598,29.8247224240863]
["SABHCAI201901Dumfries & Galloway",4,46147,8.6679524129412506,2.3319400818574598,22.191870807503701]
["SABHCAI201901Fife",13,91885,14.1481199325244,7.5258809307988503,24.1953642392691]
["SABHCAI201901Forth Valley",10,80825,12.3724095267553,5.9231428586867896,22.7548739549032]
["SABHCAI201901Grampian",19,134033,14.175613468325,8.5306369752285498,22.138246388926198]
["SABHCAI201901Greater Glasgow & Clyde",80,427318,18.721420581393701,14.844353679606201,23.300802763444501]
["SABHCAI201901Highland",12,75357,15.9242008041721,8.2187846754404301,27.818300383653199]
["SABHCAI201901Lanarkshire",31,145876,21.2509254435274,14.4362242563501,30.165194905757801]
["SABHCAI201901Lothian",33,251904,13.100228658536601,9.0160593882174496,18.398286687670801]
["SABHCAI201901Golden Jubilee",3,11654,25.742234425948201,5.1737700956883597,75.214397807095907]
["SABHCAI201901Orkney",0,3829,0,0,95.797792960444497]
["SABHCAI201901Shetland",1,2511,39.824771007566703,0.520515110741817,221.579304238752]
["SABHCAI201901Tayside",20,119250,16.771488469601699,10.240094687107399,25.903642629998199]
["SABHCAI201901Western Isles",0,6871,0,0,53.385205828197002]
["CDIHCAI201902Ayrshire & Arran",15,109780,13.663691018400399,7.6418011720909398,22.537642546284701]
["CDIHCAI201902Borders",4,29746,13.4471861762926,3.6176978066790801,34.427763805347801]
["CDIHCAI201902Dumfries & Galloway",6,45667,13.1385902292684,4.79764543474211,28.598102062053002]
["CDIHCAI201902Fife",6,87857,6.8292793972022698,2.4937577434736902,14.8649456146667]
["CDIHCAI201902Forth Valley",11,77293,14.2315604259118,7.0945817848845101,25.465967991168402]
["CDIHCAI201902Grampian",10,133401,7.4961956806920496,3.5887138893513599,13.7867233934157]
["CDIHCAI201902Greater Glasgow & Clyde",71,419871,16.909955676862701,13.2062034200383,21.329995102903101]
["CDIHCAI201902Highland",6,74804,8.0209614459119791,2.9289085352169399,17.4588194062854]
["CDIHCAI201902Lanarkshire",17,145187,11.709037310503,6.8169833195649101,18.748449046825801]
["CDIHCAI201902Lothian",30,244255,12.282246013387599,8.2851066982435704,17.5343885221702]
["CDIHCAI201902Golden Jubilee",0,11897,0,0,30.832121479830398]
["CDIHCAI201902Orkney",0,3479,0,0,105.435397886042]
["CDIHCAI201902Shetland",1,2542,39.339103068450001,0.51416736548886799,218.87711760169401]
["CDIHCAI201902Tayside",6,113492,5.2867162443167803,1.9304803340179699,11.507326744332399]
["CDIHCAI201902Western Isles",1,7013,14.259232853272501,0.18637009027131099,79.336322963568705]
["ECBHCAI201902Ayrshire & Arran",46,109780,41.901985789761298,30.674593620274202,55.892934560831002]
["ECBHCAI201902Borders",15,29746,50.4269481610973,28.202680450216601,83.176978374609703]
["ECBHCAI201902Dumfries & Galloway",15,45667,32.846475573170999,18.3703096912901,54.178781148994602]
["ECBHCAI201902Fife",37,87857,42.113889616080698,29.647940569204899,58.050430502966201]
["ECBHCAI201902Forth Valley",39,77293,50.457350600959998,35.875557411752197,68.979103174062601]
["ECBHCAI201902Grampian",52,133401,38.980217539598698,29.110035285678801,51.118634553801897]
["ECBHCAI201902Greater Glasgow & Clyde",164,419871,39.059615929654598,33.309881996072399,45.516606661135597]
["ECBHCAI201902Highland",19,74804,25.399711245387898,15.285103279247201,39.667070988810003]
["ECBHCAI201902Lanarkshire",64,145187,44.081081639540699,33.945941056249197,56.291691164559197]
["ECBHCAI201902Lothian",82,244255,33.571472436592899,26.699405009452502,41.671701837786998]
["ECBHCAI201902Golden Jubilee",3,11897,25.21644111961,5.0680941998110498,73.678119865839804]
["ECBHCAI201902Orkney",2,3479,57.487783845932697,6.4562620024214201,207.559098548576]
["ECBHCAI201902Shetland",3,2542,118.01730920535,23.719558101948099,344.82635406919599]
["ECBHCAI201902Tayside",41,113492,36.125894336164698,25.921550837327999,49.0103771428521]
["ECBHCAI201902Western Isles",2,7013,28.518465706545001,3.2028141318157899,102.96565005710799]
["SABHCAI201902Ayrshire & Arran",18,109780,16.396429222080499,9.7125040878855007,25.914962088485598]
["SABHCAI201902Borders",2,29746,6.7235930881463002,0.75510440080764196,24.275469100063798]
["SABHCAI201902Dumfries & Galloway",3,45667,6.5692951146342002,1.3203213851392099,19.1943546115115]
["SABHCAI201902Fife",12,87857,13.658558794404501,7.0494434909815302,23.860405682085101]
["SABHCAI201902Forth Valley",14,77293,18.112895087524102,9.8940921567854794,30.392384675743902]
["SABHCAI201902Grampian",26,133401,19.490108769799299,12.728253590400399,28.558839572264699]
["SABHCAI201902Greater Glasgow & Clyde",84,419871,20.006144744457199,15.957118817575999,24.7693469909042]
["SABHCAI201902Highland",10,74804,13.368269076520001,6.3998986892861396,24.5864216807263]
["SABHCAI201902Lanarkshire",27,145187,18.5967063166812,12.2523523277405,27.058440158401499]
["SABHCAI201902Lothian",25,244255,10.235205011156401,6.6218219555621403,15.1098985252976]
["SABHCAI201902Golden Jubilee",3,11897,25.21644111961,5.0680941998110498,73.678119865839804]
["SABHCAI201902Orkney",2,3479,57.487783845932697,6.4562620024214201,207.559098548576]
["SABHCAI201902Shetland",1,2542,39.339103068450001,0.51416736548886799,218.87711760169401]
["SABHCAI201902Tayside",22,113492,19.384626229161501,12.1439123909886,29.3500862410373]
["SABHCAI201902Western Isles",2,7013,28.518465706545001,3.2028141318157899,102.96565005710799]
["CDIHCAI201903Ayrshire & Arran",21,110670,18.9753320683112,11.741462602558199,29.007371106980901]
["CDIHCAI201903Borders",4,28962,13.8112008839169,3.7156287189239698,35.359721778671201]
["CDIHCAI201903Dumfries & Galloway",7,46074,15.192950470981501,6.0866842483361898,31.304886613465602]
["CDIHCAI201903Fife",8,90276,8.8617129691169296,3.81566813290322,17.462179861736502]
["CDIHCAI201903Forth Valley",14,72461,19.320738052193601,10.553871255909,32.4190749333059]
["CDIHCAI201903Grampian",11,133865,8.2172337803010507,4.0963770208723602,14.7039260743389]
["CDIHCAI201903Greater Glasgow & Clyde",62,416741,14.877345881494699,11.4057162655388,19.0724826444699]
["CDIHCAI201903Highland",15,75715,19.811133857227802,11.0799304321752,32.677572458973003]
["CDIHCAI201903Lanarkshire",24,146465,16.386167343734002,10.4957428701462,24.382511069068599]
["CDIHCAI201903Lothian",25,245501,10.183257909336399,6.5882139859138196,15.033210717254001]
["CDIHCAI201903Golden Jubilee",1,12067,8.2870638932626193,0.108313039120966,46.108032894962101]
["CDIHCAI201903Orkney",1,2983,33.523298692591403,0.43815402047358398,186.51881761431699]
["CDIHCAI201903Shetland",2,2694,74.239049740163296,8.3375410194595894,268.03938524517298]
["CDIHCAI201903Tayside",10,115794,8.6360260462545604,4.1343940234671903,15.8830568717296]
["CDIHCAI201903Western Isles",2,6702,29.841838257236599,3.35143770612118,107.74367410481899]
["ECBHCAI201903Ayrshire & Arran",50,110670,45.179362067407602,33.530217451011701,59.564888304107399]
["ECBHCAI201903Borders",8,28962,27.622401767833701,11.893628076996499,54.430486471864]
["ECBHCAI201903Dumfries & Galloway",12,46074,26.045057950253899,13.4423526671694,45.498625298670703]
["ECBHCAI201903Fife",28,90276,31.0159953919093,20.605190225045401,44.828693955221901]
["ECBHCAI201903Forth Valley",38,72461,52.442003284525498,37.106156679872797,71.983144664026298]
["ECBHCAI201903Grampian",74,133865,55.279572703843399,43.404471758442902,69.399648431462694]
["ECBHCAI201903Greater Glasgow & Clyde",172,416741,41.2726369615661,35.334504010107402,47.922922103813399]
["ECBHCAI201903Highland",17,75715,22.4526183715248,13.0718795115587,35.951014617466697]
["ECBHCAI201903Lanarkshire",65,146465,44.379203222612901,34.2490993814001,56.566059485466198]
["ECBHCAI201903Lothian",85,245501,34.6230768917438,27.654721722612301,42.812617048148198]
["ECBHCAI201903Golden Jubilee",3,12067,24.8611916797879,4.9966948450445097,72.640141878171505]
["ECBHCAI201903Orkney",4,2983,134.09319477036499,36.075105248902403,343.30816699761101]
["ECBHCAI201903Shetland",2,2694,74.239049740163296,8.3375410194595894,268.03938524517298]
["ECBHCAI201903Tayside",47,115794,40.589322417396403,29.8207650743255,53.976667651283798]
["ECBHCAI201903Western Isles",3,6702,44.762757385854997,8.9965856005896896,130.78910654191199]
["SABHCAI201903Ayrshire & Arran",22,110670,19.878919309659299,12.4535728298371,30.0984908978748]
["SABHCAI201903Borders",0,28962,0,0,12.6652078325234]
["SABHCAI201903Dumfries & Galloway",4,46074,8.6816859834179798,2.3356348256603701,22.227031778310401]
["SABHCAI201903Fife",14,90276,15.5079976959546,8.4711779994064909,26.021518329813901]
["SABHCAI201903Forth Valley",15,72461,20.700790770207401,11.577495931220099,34.145021442308803]
["SABHCAI201903Grampian",21,133865,15.6874463078475,9.7070008308752591,23.981218095914301]
["SABHCAI201903Greater Glasgow & Clyde",93,416741,22.3160188222421,18.011362709078298,27.3390069874586]
["SABHCAI201903Highland",10,75715,13.2074225714852,6.3228953516919999,24.290598790266799]
["SABHCAI201903Lanarkshire",31,146465,21.165466152323098,14.3781698673357,30.043887427524101]
["SABHCAI201903Lothian",25,245501,10.183257909336399,6.5882139859138196,15.033210717254001]
["SABHCAI201903Golden Jubilee",1,12067,8.2870638932626193,0.108313039120966,46.108032894962101]
["SABHCAI201903Orkney",1,2983,33.523298692591403,0.43815402047358398,186.51881761431699]
["SABHCAI201903Shetland",0,2694,0,0,136.158036097083]
["SABHCAI201903Tayside",22,115794,18.99925730176,11.9024898101635,28.7666026535728]
["SABHCAI201903Western Isles",5,6702,74.604595643091599,24.0422241318185,174.10178409340099]
["CDIHCAI201904Ayrshire & Arran",21,111501,18.833911803481602,11.653955266994201,28.791183580502199]
["CDIHCAI201904Borders",3,29415,10.1988781234064,2.0498084887014101,29.7993741983306]
["CDIHCAI201904Dumfries & Galloway",6,46458,12.914890869172201,4.7159600944588203,28.111187026298499]
["CDIHCAI201904Fife",12,91708,13.085008941422799,6.7534234394727299,22.858460134458898]
["CDIHCAI201904Forth Valley",13,75205,17.286084701815,9.1950743876930101,29.561745138291801]
["CDIHCAI201904Grampian",17,135055,12.5874643663693,7.3284021859069997,20.1549818352633]
["CDIHCAI201904Greater Glasgow & Clyde",70,429650,16.292330967066199,12.700068821974201,20.584758864605799]
["CDIHCAI201904Highland",8,73909,10.8241215548851,4.6606401976210101,21.329144612944599]
["CDIHCAI201904Lanarkshire",25,147326,16.969170411196899,10.978463555352301,25.051031483217901]
["CDIHCAI201904Lothian",42,249135,16.8583298211813,12.1486461466914,22.788256556945999]
["CDIHCAI201904Golden Jubilee",1,11659,8.5770649283815104,0.11210339163502001,47.721556989751001]
["CDIHCAI201904Orkney",0,2915,0,0,125.835248454731]
["CDIHCAI201904Shetland",2,2673,74.822297044519303,8.4030435863913695,270.14519410793002]
["CDIHCAI201904Tayside",8,117969,6.78144258237334,2.9199472434789802,13.362966111420199]
["CDIHCAI201904Western Isles",3,6884,43.579314352120903,8.7587328145194796,127.331288791966]
["ECBHCAI201904Ayrshire & Arran",46,111501,41.255235379054902,30.201136201771298,55.030236106295298]
["ECBHCAI201904Borders",14,29415,47.594764575896697,25.998438384307999,79.861247280036594]
["ECBHCAI201904Dumfries & Galloway",18,46458,38.744672607516499,22.950594058462901,61.236913730120797]
["ECBHCAI201904Fife",55,91708,59.972957648187702,45.176652962892902,78.064876711809504]
["ECBHCAI201904Forth Valley",38,75205,50.528555282228602,35.752266726683899,69.356700292533802]
["ECBHCAI201904Grampian",53,135055,39.243271259857103,29.393697274248701,51.332412167942501]
["ECBHCAI201904Greater Glasgow & Clyde",151,429650,35.144885371814297,29.762447909033099,41.219205075854397]
["ECBHCAI201904Highland",18,73909,24.354273498491398,14.4263716024851,38.492531871273499]
["ECBHCAI201904Lanarkshire",77,147326,52.265044866486598,41.245077398378598,65.323429644540198]
["ECBHCAI201904Lothian",95,249135,38.131936500290998,30.850111139403801,46.614942655643397]
["ECBHCAI201904Golden Jubilee",1,11659,8.5770649283815104,0.11210339163502001,47.721556989751001]
["ECBHCAI201904Orkney",1,2915,34.305317324185197,0.44837510911584999,190.86985692744699]
["ECBHCAI201904Shetland",3,2673,112.233445566779,22.5570956584931,327.92689563931799]
["ECBHCAI201904Tayside",54,117969,45.77473743102,34.3848908300996,59.727527675191098]
["ECBHCAI201904Western Isles",2,6884,29.052876234747199,3.2628320026763702,104.895134202571]
["SABHCAI201904Ayrshire & Arran",16,111501,14.349647088366901,8.1967065231682295,23.304396584292402]
["SABHCAI201904Borders",2,29415,6.7992520822709501,0.76360141106320301,24.548635181047]
["SABHCAI201904Dumfries & Galloway",2,46458,4.3049636230573904,0.483476161402215,15.543030346775501]
["SABHCAI201904Fife",10,91708,10.9041741178523,5.2202427438539702,20.0545501745219]
["SABHCAI201904Forth Valley",8,75205,10.637590585732299,4.5803238663116996,20.961581666087699]
["SABHCAI201904Grampian",20,135055,14.8087816074932,9.0417333044874706,22.872232672816899]
["SABHCAI201904Greater Glasgow & Clyde",69,429650,16.059583381822399,12.4947077760851,20.324810139035499]
["SABHCAI201904Highland",10,73909,13.530151943606301,6.4773981727984404,24.884150609601701]
["SABHCAI201904Lanarkshire",30,147326,20.3630044934363,13.7360597354132,29.0706465150936]
["SABHCAI201904Lothian",32,249135,12.844441768519101,8.7840085986775094,18.133222866420599]
["SABHCAI201904Golden Jubilee",1,11659,8.5770649283815104,0.11210339163502001,47.721556989751001]
["SABHCAI201904Orkney",1,2915,34.305317324185197,0.44837510911584999,190.86985692744699]
["SABHCAI201904Shetland",1,2673,37.411148522259602,0.48896874039382798,208.15025549700999]
["SABHCAI201904Tayside",30,117969,25.430409683899999,17.1543264466045,36.304979007050001]
["SABHCAI201904Western Isles",1,6884,14.526438117373599,0.18986249899370999,80.823014663496096]
["CDIHCAI202001Ayrshire & Arran",17,107445,15.8220484899251,9.2115720342284,25.334180946172399]
["CDIHCAI202001Borders",3,28855,10.396811644429,2.0895899045278798,30.377702028899499]
["CDIHCAI202001Dumfries & Galloway",12,44334,27.067262146433901,13.969931808254699,47.284333965149898]
["CDIHCAI202001Fife",7,87695,7.9822110724670701,3.1978777587985801,16.4472472299312]
["CDIHCAI202001Forth Valley",9,74682,12.051096649795101,5.4990773995369198,22.878261777584001]
["CDIHCAI202001Grampian",17,132936,12.7881085635193,7.4452169255707297,20.476252269975699]
["CDIHCAI202001Greater Glasgow & Clyde",65,413057,15.7363269476126,12.1443150482785,20.0576382981981]
["CDIHCAI202001Highland",16,71286,22.444799820441599,12.8207638812639,36.4512460166819]
["CDIHCAI202001Lanarkshire",20,140747,14.209894349435499,8.6760733190587001,21.9472484928793]
["CDIHCAI202001Lothian",25,240426,10.3982098441932,6.7272804179075001,15.350537230983999]
["CDIHCAI202001Golden Jubilee",1,10915,9.1617040769583102,0.119744703900385,50.974405216995599]
["CDIHCAI202001Orkney",0,3184,0,0,115.20406697410201]
["CDIHCAI202001Shetland",0,2514,0,0,145.90682149782899]
["CDIHCAI202001Tayside",8,111517,7.1737941300429497,3.0888856081671099,14.136102560131]
["CDIHCAI202001Western Isles",1,6357,15.730690577316301,0.205602240533695,87.523302334986198]
["ECBHCAI202001Ayrshire & Arran",50,107445,46.535436735073802,34.536638887835302,61.352749673000801]
["ECBHCAI202001Borders",10,28855,34.656038814763498,16.5911634570563,63.7380934813742]
["ECBHCAI202001Dumfries & Galloway",15,44334,33.834077683042402,18.922653779765898,55.807786320456998]
["ECBHCAI202001Fife",42,87695,47.893266434802399,34.513403931306797,64.739749099888797]
["ECBHCAI202001Forth Valley",37,74682,49.543397338046702,34.878272068083803,68.2913777442905]
["ECBHCAI202001Grampian",49,132936,36.859842330143799,27.2667783320876,48.731944297852998]
["ECBHCAI202001Greater Glasgow & Clyde",123,413057,29.777972531636099,24.747916795906399,35.529705189963302]
["ECBHCAI202001Highland",16,71286,22.444799820441599,12.8207638812639,36.4512460166819]
["ECBHCAI202001Lanarkshire",64,140747,45.471661918193597,35.016798540172502,58.067466909482]
["ECBHCAI202001Lothian",84,240426,34.937985076489198,27.866917201361201,43.256263841755597]
["ECBHCAI202001Golden Jubilee",0,10915,0,0,33.606023751309401]
["ECBHCAI202001Orkney",1,3184,31.4070351758794,0.41049417181931602,174.74423145210699]
["ECBHCAI202001Shetland",1,2514,39.7772474144789,0.51989397099152801,221.31488979455301]
["ECBHCAI202001Tayside",44,111517,39.455867715236202,28.665742681683799,52.969200547253202]
["ECBHCAI202001Western Isles",2,6357,31.461381154632701,3.5333231880484699,113.59101838139]
["SABHCAI202001Ayrshire & Arran",19,107445,17.683465959328,10.6416014305068,27.6165068476611]
["SABHCAI202001Borders",3,28855,10.396811644429,2.0895899045278798,30.377702028899499]
["SABHCAI202001Dumfries & Galloway",8,44334,18.044841430955898,7.7697310498933403,35.5577152794272]
["SABHCAI202001Fife",11,87695,12.543474542448299,6.2530533086159803,22.445305478549301]
["SABHCAI202001Forth Valley",8,74682,10.712085910929,4.6123999941883103,21.108376170939799]
["SABHCAI202001Grampian",16,132936,12.0358668833123,6.8750449392172204,19.5467256690828]
["SABHCAI202001Greater Glasgow & Clyde",75,413057,18.1573003241683,14.2812623005962,22.760723696030301]
["SABHCAI202001Highland",6,71286,8.4167999326655991,3.0734516464434498,18.320420936337801]
["SABHCAI202001Lanarkshire",29,140747,20.604346806681502,13.796092808562101,29.592526511821301]
["SABHCAI202001Lothian",43,240426,17.884920932012299,12.942019770177399,24.091586799345301]
["SABHCAI202001Golden Jubilee",1,10915,9.1617040769583102,0.119744703900385,50.974405216995599]
["SABHCAI202001Orkney",2,3184,62.814070351758801,7.0544395434749099,226.789605480684]
["SABHCAI202001Shetland",0,2514,0,0,145.90682149782899]
["SABHCAI202001Tayside",19,111517,17.037761058851999,10.253027481915799,26.608100811956401]
["SABHCAI202001Western Isles",1,6357,15.730690577316301,0.205602240533695,87.523302334986198]
["CDIHCAI202002Ayrshire & Arran",13,81868,15.8792202081399,8.4467138482246096,27.155800106576901]
["CDIHCAI202002Borders",4,20636,19.3836014731537,5.2147721921630197,49.626296867313201]
["CDIHCAI202002Dumfries & Galloway",3,27088,11.075014766686399,2.2258976925262899,32.359295335347603]
["CDIHCAI202002Fife",5,63495,7.8746357980943396,2.5376956631458798,18.3767250491215]
["CDIHCAI202002Forth Valley",7,57076,12.264349288667701,4.9134117677805396,25.2705400839024]
["CDIHCAI202002Grampian",13,95717,13.581704399427499,7.2245846539951399,23.226710439370599]
["CDIHCAI202002Greater Glasgow & Clyde",49,305581,16.0350283558206,11.861786054612001,21.199713814600301]
["CDIHCAI202002Highland",13,50361,25.813625623001901,13.7311723223616,44.145093288958499]
["CDIHCAI202002Lanarkshire",21,100174,20.9635234691637,12.971705893995599,32.046696352442503]
["CDIHCAI202002Lothian",30,182151,16.469851936031102,11.109896385852799,23.512701376784499]
["CDIHCAI202002Golden Jubilee",1,8152,12.266928361138399,0.160330402732176,68.251427004846306]
["CDIHCAI202002Orkney",0,2102,0,0,174.50511381805001]
["CDIHCAI202002Shetland",0,1591,0,0,230.55295364270401]
["CDIHCAI202002Tayside",7,81757,8.5619579974803397,3.4301391936817902,17.641808601450801]
["CDIHCAI202002Western Isles",0,3200,0,0,114.628046639232]
["ECBHCAI202002Ayrshire & Arran",36,81868,43.973225191772102,30.793811299249601,60.879608590925301]
["ECBHCAI202002Borders",14,20636,67.842605156038005,37.058735465905201,113.835946343394]
["ECBHCAI202002Dumfries & Galloway",10,27088,36.916715888954499,17.673435526925601,67.8958464044984]
["ECBHCAI202002Fife",23,63495,36.223324671234003,22.954946446696699,54.355516295576997]
["ECBHCAI202002Forth Valley",33,57076,57.817646646576499,39.792231833511899,81.200539802562005]
["ECBHCAI202002Grampian",36,95717,37.610873721491501,26.338348918655701,52.071124211183701]
["ECBHCAI202002Greater Glasgow & Clyde",125,305581,40.905684581174903,34.048873684083802,48.737771221425497]
["ECBHCAI202002Highland",13,50361,25.813625623001901,13.7311723223616,44.145093288958499]
["ECBHCAI202002Lanarkshire",51,100174,50.9114141393975,37.9038571145689,66.940795965721193]
["ECBHCAI202002Lothian",57,182151,31.292718678459099,23.699224679123098,40.544263552519098]
["ECBHCAI202002Golden Jubilee",1,8152,12.266928361138399,0.160330402732176,68.251427004846306]
["ECBHCAI202002Orkney",0,2102,0,0,174.50511381805001]
["ECBHCAI202002Shetland",0,1591,0,0,230.55295364270401]
["ECBHCAI202002Tayside",28,81757,34.247831989921401,22.752231035338799,49.499800329043502]
["ECBHCAI202002Western Isles",2,3200,62.5,7.0191673457575403,225.65565745328001]
["SABHCAI202002Ayrshire & Arran",23,81868,28.0940049836322,17.803345930436901,42.156929535198799]
["SABHCAI202002Borders",5,20636,24.229501841442101,7.8082470503705803,56.543426875071297]
["SABHCAI202002Dumfries & Galloway",4,27088,14.7666863555818,3.9726830684242498,37.805975419147799]
["SABHCAI202002Fife",4,63495,6.2997086384754697,1.69481122856093,16.128644179130202]
["SABHCAI202002Forth Valley",16,57076,28.032798374097698,16.012701906927301,45.526377523743598]
["SABHCAI202002Grampian",18,95717,18.805436860745701,11.139491404537001,29.722458268374002]
["SABHCAI202002Greater Glasgow & Clyde",69,305581,22.579937888808502,17.567686459547399,28.576890173919899]
["SABHCAI202002Highland",3,50361,5.9569905283850604,1.1972581302029801,17.405305534915801]
["SABHCAI202002Lanarkshire",16,100174,15.972208357457999,9.1235347898634398,25.9395005045739]
["SABHCAI202002Lothian",30,182151,16.469851936031102,11.109896385852799,23.512701376784499]
["SABHCAI202002Golden Jubilee",3,8152,36.8007850834151,7.3963587702590896,107.525587836592]
["SABHCAI202002Orkney",0,2102,0,0,174.50511381805001]
["SABHCAI202002Shetland",2,1591,125.707102451289,14.1177470184941,453.86430160307799]
["SABHCAI202002Tayside",24,81757,29.355284562789699,18.802781162175201,43.680473644227902]
["SABHCAI202002Western Isles",2,3200,62.5,7.0191673457575403,225.65565745328001]
["CDIHCAI202003Ayrshire & Arran",20,97707,20.469362481705499,12.4978895210942,31.615026391428302]
["CDIHCAI202003Borders",2,25295,7.9067009290373598,0.88797531158031695,28.547068742854201]
["CDIHCAI202003Dumfries & Galloway",10,36727,27.227924959838798,13.035042926276599,50.076583641600202]
["CDIHCAI202003Fife",7,75272,9.2996067594856004,3.7256601399968399,19.161724755936]
["CDIHCAI202003Forth Valley",10,66050,15.1400454201363,7.2481153906640401,27.845006622332399]
["CDIHCAI202003Grampian",14,107482,13.0254368173276,7.11508964360935,21.855925538623001]
["CDIHCAI202003Greater Glasgow & Clyde",77,376935,20.427925239099601,16.1207430267646,25.531828022899301]
["CDIHCAI202003Highland",14,59671,23.461983207923399,12.816008866525101,39.367843487494298]
["CDIHCAI202003Lanarkshire",27,122500,22.040816326530599,14.521487978838101,32.069663275737497]
["CDIHCAI202003Lothian",38,217934,17.436471592316899,12.337447205026599,23.9337168385842]
["CDIHCAI202003Golden Jubilee",1,10016,9.9840255591054294,0.130492556217322,55.549683800270302]
["CDIHCAI202003Orkney",0,2700,0,0,135.855462683534]
["CDIHCAI202003Shetland",2,2091,95.648015303682499,10.741910811298,345.33625243926201]
["CDIHCAI202003Tayside",5,99451,5.0276015324129499,1.62020478558735,11.732714170736999]
["CDIHCAI202003Western Isles",0,4152,0,0,88.345315328887693]
["ECBHCAI202003Ayrshire & Arran",60,97707,61.4080874451165,46.857980043652297,79.046079764618895]
["ECBHCAI202003Borders",13,25295,51.393556038742801,27.338033972186299,87.890533430529302]
["ECBHCAI202003Dumfries & Galloway",11,36727,29.950717455822701,14.930746042396001,53.593842784365201]
["ECBHCAI202003Fife",34,75272,45.169518546072901,31.276154053778601,63.122197798631703]
["ECBHCAI202003Forth Valley",42,66050,63.588190764572303,45.823663251414899,85.955371647460296]
["ECBHCAI202003Grampian",51,107482,47.449805548836103,35.326668489559403,62.389305140117898]
["ECBHCAI202003Greater Glasgow & Clyde",142,376935,37.672277713664201,31.730536439035301,44.403296749488597]
["ECBHCAI202003Highland",19,59671,31.841262925039,19.1615167451661,49.726928964605001]
["ECBHCAI202003Lanarkshire",58,122500,47.346938775510203,35.950194744599798,61.208258254403297]
["ECBHCAI202003Lothian",68,217934,31.202107059935599,24.228452418531901,39.556855240670203]
["ECBHCAI202003Golden Jubilee",1,10016,9.9840255591054294,0.130492556217322,55.549683800270302]
["ECBHCAI202003Orkney",1,2700,37.037037037037003,0.48407905298989001,206.06875294203999]
["ECBHCAI202003Shetland",2,2091,95.648015303682499,10.741910811298,345.33625243926201]
["ECBHCAI202003Tayside",42,99451,42.231852872268803,30.433610096991998,57.086930220055599]
["ECBHCAI202003Western Isles",3,4152,72.254335260115596,14.521945254131101,211.11478613774]
["SABHCAI202003Ayrshire & Arran",16,97707,16.3754899853644,9.3538945422516395,26.5944458794681]
["SABHCAI202003Borders",2,25295,7.9067009290373598,0.88797531158031695,28.547068742854201]
["SABHCAI202003Dumfries & Galloway",6,36727,16.3367549759033,5.9654770078788903,35.559384835891201]
["SABHCAI202003Fife",14,75272,18.599213518971201,10.1597415383465,31.208398723858501]
["SABHCAI202003Forth Valley",11,66050,16.654049962149902,8.3022181665265506,29.800773110391901]
["SABHCAI202003Grampian",22,107482,20.468543570086201,12.8229555188597,30.9912356270614]
["SABHCAI202003Greater Glasgow & Clyde",70,376935,18.570841126454201,14.4761950186669,23.463572356448399]
["SABHCAI202003Highland",3,59671,5.0275678302693096,1.0104592967296,14.6896916767592]
["SABHCAI202003Lanarkshire",24,122500,19.591836734693899,12.549052893681299,29.1525263978052]
["SABHCAI202003Lothian",27,217934,12.3890719208568,8.1624816568670706,18.026254514109102]
["SABHCAI202003Golden Jubilee",2,10016,19.968051118210902,2.24254547787781,72.094459250249201]
["SABHCAI202003Orkney",0,2700,0,0,135.855462683534]
["SABHCAI202003Shetland",1,2091,47.8240076518412,0.625066209025682,266.08590767264798]
["SABHCAI202003Tayside",24,99451,24.1324873555821,15.457451201857801,35.908985165871997]
["SABHCAI202003Western Isles",2,4152,48.169556840077099,5.4097628869036898,173.91572828769199]
["CDIHCAI202004Ayrshire & Arran",30,102772,29.190830187210501,19.690954117653501,41.673433118774298]
["CDIHCAI202004Borders",3,27161,11.045248702183301,2.2199151980837302,32.272323995578098]
["CDIHCAI202004Dumfries & Galloway",8,37533,21.314576506007999,9.1776105391514502,42.000792614449303]
["CDIHCAI202004Fife",6,77595,7.7324569882079999,2.82355917350819,16.8308464059253]
["CDIHCAI202004Forth Valley",11,70565,15.588464536243199,7.7710126819114098,27.894013518619499]
["CDIHCAI202004Grampian",17,108028,15.7366608657015,9.1618594921471299,25.197458730713201]
["CDIHCAI202004Greater Glasgow & Clyde",64,390384,16.3941145128899,12.6247729008711,20.935339986036499]
["CDIHCAI202004Highland",10,63656,15.7094382304889,7.5207053781789597,28.892212633609599]
["CDIHCAI202004Lanarkshire",25,127447,19.6159972380676,12.6908685316707,28.958455391626099]
["CDIHCAI202004Lothian",29,226514,12.8027406694509,8.5723561215937707,18.387646366049399]
["CDIHCAI202004Golden Jubilee",3,11255,26.654820079964502,5.3571849573658001,77.8808167075874]
["CDIHCAI202004Orkney",0,3055,0,0,120.068657690848]
["CDIHCAI202004Shetland",0,2118,0,0,173.18685044643101]
["CDIHCAI202004Tayside",15,104559,14.3459673485783,8.0233832828560292,23.6630266044161]
["CDIHCAI202004Western Isles",1,5151,19.413706076490001,0.253739748218346,108.015071431471]
["ECBHCAI202004Ayrshire & Arran",56,102772,54.489549682792997,41.1580034057326,70.760841107302895]
["ECBHCAI202004Borders",12,27161,44.180994808733097,22.802656632199302,77.180651007361803]
["ECBHCAI202004Dumfries & Galloway",15,37533,39.964830948765098,22.351448929532499,65.920187534466706]
["ECBHCAI202004Fife",39,77595,50.260970423351999,35.7359296220963,68.710636273378697]
["ECBHCAI202004Forth Valley",40,70565,56.685325586338799,40.4919122040274,77.191777816631699]
["ECBHCAI202004Grampian",42,108028,38.878809197615404,28.0173006790457,52.554451598796099]
["ECBHCAI202004Greater Glasgow & Clyde",159,390384,40.729128242960797,34.643912707047001,47.575316620145898]
["ECBHCAI202004Highland",19,63656,29.847932637928899,17.9619653402791,46.613918220543901]
["ECBHCAI202004Lanarkshire",57,127447,44.7244737027941,33.871628791002898,57.947053679999598]
["ECBHCAI202004Lothian",67,226514,29.5787456845934,22.9219541863622,37.564684076059798]
["ECBHCAI202004Golden Jubilee",1,11255,8.8849400266548209,0.116127360557326,49.434529803954398]
["ECBHCAI202004Orkney",0,3055,0,0,120.068657690848]
["ECBHCAI202004Shetland",3,2118,141.64305949008499,28.467949336710198,413.85674789607901]
["ECBHCAI202004Tayside",44,104559,42.081504222496399,30.573337796204399,56.494097470595896]
["ECBHCAI202004Western Isles",1,5151,19.413706076490001,0.253739748218346,108.015071431471]
["SABHCAI202004Ayrshire & Arran",25,102772,24.325691822675399,15.7378772599135,35.911223526802701]
["SABHCAI202004Borders",5,27161,18.4087478369721,5.9324393848329402,42.9597642573532]
["SABHCAI202004Dumfries & Galloway",5,37533,13.321610316255001,4.2930484142340699,31.088113313456699]
["SABHCAI202004Fife",16,77595,20.619885301888001,11.7783487858726,33.487512385400997]
["SABHCAI202004Forth Valley",20,70565,28.342662793169399,17.305056209701,43.775375662542203]
["SABHCAI202004Grampian",21,108028,19.439404598807702,12.0286191193498,29.7167934277185]
["SABHCAI202004Greater Glasgow & Clyde",79,390384,20.236485101848402,16.020789879581699,25.221108755379198]
["SABHCAI202004Highland",12,63656,18.851325876586699,9.7295299231363099,32.931752890708701]
["SABHCAI202004Lanarkshire",24,127447,18.831357348544898,12.061947158238,28.020937987799901]
["SABHCAI202004Lothian",25,226514,11.036845404698999,7.1404554321403104,16.293334029228099]
["SABHCAI202004Golden Jubilee",1,11255,8.8849400266548209,0.116127360557326,49.434529803954398]
["SABHCAI202004Orkney",1,3055,32.733224222585903,0.42782764094032799,182.12295677365199]
["SABHCAI202004Shetland",1,2118,47.2143531633617,0.61709794290495801,262.69387768815301]
["SABHCAI202004Tayside",20,104559,19.127956464771099,11.6788730901936,29.543218504646099]
["SABHCAI202004Western Isles",1,5151,19.413706076490001,0.253739748218346,108.015071431471]
["CDIHCAI202101Ayrshire & Arran",25,99393,25.152676747859498,16.2729077677083,37.132074334174099]
["CDIHCAI202101Borders",0,28168,0,0,13.0222148979531]
["CDIHCAI202101Dumfries & Galloway",8,37147,21.536059439524099,9.2729764547869706,42.437229095165797]
["CDIHCAI202101Fife",11,78592,13.996335504886,6.9773197004666896,25.045056289970798]
["CDIHCAI202101Forth Valley",7,68486,10.221067079403101,4.0948206941249596,21.060382353018401]
["CDIHCAI202101Grampian",17,111390,15.261693150193,8.8853340265523908,24.436942919126398]
["CDIHCAI202101Greater Glasgow & Clyde",60,384314,15.6122337463637,11.9130519734518,20.096471415461401]
["CDIHCAI202101Highland",14,65903,21.243342488202401,11.604085778711401,35.645093375753397]
["CDIHCAI202101Lanarkshire",30,126794,23.660425572188,15.9603667096194,33.778113069093799]
["CDIHCAI202101Lothian",31,225322,13.758088424565701,9.3461741402052301,19.529286852026502]
["CDIHCAI202101Golden Jubilee",1,12150,8.2304526748971192,0.107573122886642,45.793056209342097]
["CDIHCAI202101Orkney",0,3174,0,0,115.567028747808]
["CDIHCAI202101Shetland",1,2062,48.496605237633403,0.63385714988976805,269.82814400752]
["CDIHCAI202101Tayside",6,103158,5.8163205955912298,2.1238689589597302,12.660089637912501]
["CDIHCAI202101Western Isles",2,5794,34.5184673800483,3.8766543849541102,124.628599214791]
["ECBHCAI202101Ayrshire & Arran",41,99393,41.250389866489598,29.598549672814201,55.962549904888299]
["ECBHCAI202101Borders",9,28168,31.951150241408701,14.5797393621207,60.657282947796297]
["ECBHCAI202101Dumfries & Galloway",10,37147,26.920074299405101,12.887663110166599,49.510396193637497]
["ECBHCAI202101Fife",17,78592,21.630700325732899,12.5933601030343,34.634963759180202]
["ECBHCAI202101Forth Valley",28,68486,40.884268317612403,27.1610862476447,59.091714737342102]
["ECBHCAI202101Grampian",45,111390,40.398599515216802,29.464097082366798,54.058042895870102]
["ECBHCAI202101Greater Glasgow & Clyde",122,384314,31.744875284272801,26.3616722750909,37.903819753434398]
["ECBHCAI202101Highland",18,65903,27.312868913403001,16.178909894360999,43.168665130175498]
["ECBHCAI202101Lanarkshire",50,126794,39.434042620313299,29.266283619914699,51.990206071388002]
["ECBHCAI202101Lothian",75,225322,33.285697801368698,26.180201498732199,41.724626302407998]
["ECBHCAI202101Golden Jubilee",0,12150,0,0,30.190102818563101]
["ECBHCAI202101Orkney",3,3174,94.517958412098295,18.996571107483302,276.16527789662803]
["ECBHCAI202101Shetland",2,2062,96.993210475266693,10.892985211650901,350.193066852811]
["ECBHCAI202101Tayside",44,103158,42.653017701002298,30.988557616794999,57.261349943078002]
["ECBHCAI202101Western Isles",4,5794,69.036934760096599,18.573013282270601,176.749786357245]
["SABHCAI202101Ayrshire & Arran",12,99393,12.073284838972601,6.2312532752524303,21.091059350366301]
["SABHCAI202101Borders",7,28168,24.850894632206799,9.9559035095797306,51.2049611555246]
["SABHCAI202101Dumfries & Galloway",4,37147,10.768029719762,2.8969240842457298,27.568532106330899]
["SABHCAI202101Fife",14,78592,17.813517915309401,9.73055864559268,29.890047189819299]
["SABHCAI202101Forth Valley",10,68486,14.6015243991473,6.9903049025108803,26.854578854146101]
["SABHCAI202101Grampian",26,111390,23.341413053236401,15.243394893733701,34.202152417449298]
["SABHCAI202101Greater Glasgow & Clyde",59,384314,15.352029850590901,11.685943067892101,19.8034327473164]
["SABHCAI202101Highland",15,65903,22.7607240945025,12.7295712285047,37.542788624662599]
["SABHCAI202101Lanarkshire",34,126794,26.815148981813,18.5672718577853,37.472862065228703]
["SABHCAI202101Lothian",37,225322,16.420944248675202,11.5602520596685,22.634881071085399]
["SABHCAI202101Golden Jubilee",4,12150,32.921810699588498,8.8569579388869109,84.287099765750995]
["SABHCAI202101Orkney",0,3174,0,0,115.567028747808]
["SABHCAI202101Shetland",0,2062,0,0,177.89027606476299]
["SABHCAI202101Tayside",24,103158,23.265282382364902,14.9019851051393,34.618589772302101]
["SABHCAI202101Western Isles",2,5794,34.5184673800483,3.8766543849541102,124.628599214791]
["CDIHCAI202102Ayrshire & Arran",21,102178,20.552369394585899,12.717293998953901,31.418169864448]
["CDIHCAI202102Borders",2,29586,6.7599540323125797,0.75918797763888701,24.406749944247199]
["CDIHCAI202102Dumfries & Galloway",6,40199,14.925744421503,5.4502369230171901,32.488109825313501]
["CDIHCAI202102Fife",8,79728,10.034115994380899,4.3204803377229002,19.772423103528499]
["CDIHCAI202102Forth Valley",7,68278,10.2522042239081,4.1072950299926996,21.124540054319301]
["CDIHCAI202102Grampian",11,115650,9.5114569822740993,4.7415608292181401,17.0198103237474]
["CDIHCAI202102Greater Glasgow & Clyde",66,396839,16.631429874583901,12.862075330097399,21.159669905916299]
["CDIHCAI202102Highland",16,65070,24.588904256954098,14.045504441982199,39.933356747275099]
["CDIHCAI202102Lanarkshire",24,135443,17.7196311363452,11.349859198895199,26.366696571481299]
["CDIHCAI202102Lothian",30,232475,12.9046133992902,8.7049305799741106,18.422893078751201]
["CDIHCAI202102Golden Jubilee",0,12350,0,0,29.701194270894099]
["CDIHCAI202102Orkney",0,2939,0,0,124.80767242107601]
["CDIHCAI202102Shetland",2,2025,98.765432098765402,11.0920175340366,356.59165622246701]
["CDIHCAI202102Tayside",10,105386,9.4889264228645196,4.5427098623475599,17.451679420464298]
["CDIHCAI202102Western Isles",0,6022,0,0,60.911615616994702]
["ECBHCAI202102Ayrshire & Arran",50,102178,48.934212844252201,36.316909367020898,64.515318254571099]
["ECBHCAI202102Borders",19,29586,64.219563306969505,38.646213266437101,100.292556555362]
["ECBHCAI202102Dumfries & Galloway",15,40199,37.314361053757601,20.869099546559401,61.548356892737097]
["ECBHCAI202102Fife",30,79728,37.627934978928401,25.382283972750901,53.718418478861601]
["ECBHCAI202102Forth Valley",32,68278,46.867219309294398,32.051377928930599,66.165096792901096]
["ECBHCAI202102Grampian",42,115650,36.316472114137497,26.1707994617895,49.090811044658402]
["ECBHCAI202102Greater Glasgow & Clyde",150,396839,37.798704260417999,31.991381603520299,44.355178919502499]
["ECBHCAI202102Highland",20,65070,30.736130321192601,18.766425256455399,47.472097489277502]
["ECBHCAI202102Lanarkshire",45,135443,33.224308380647201,24.231638209467,44.458003722384902]
["ECBHCAI202102Lothian",80,232475,34.4123023981073,27.285770623344401,42.829777116978399]
["ECBHCAI202102Golden Jubilee",1,12350,8.0971659919028305,0.105831048022081,45.051468254535003]
["ECBHCAI202102Orkney",2,2939,68.050357264375606,7.6425095292358396,245.695169734773]
["ECBHCAI202102Shetland",2,2025,98.765432098765402,11.0920175340366,356.59165622246701]
["ECBHCAI202102Tayside",43,105386,40.8023836183174,29.5257249090456,54.962175695247801]
["ECBHCAI202102Western Isles",1,6022,16.605778811026202,0.21703976138703099,92.392167542927098]
["SABHCAI202102Ayrshire & Arran",18,102178,17.6163166239308,10.435110285659,27.843024311240701]
["SABHCAI202102Borders",6,29586,20.279862096937698,7.4053293472712802,44.142145841539097]
["SABHCAI202102Dumfries & Galloway",10,40199,24.876240702505001,11.9092022576024,45.751453702954102]
["SABHCAI202102Fife",5,79728,6.2713224964880601,2.0210087564149002,14.635136426274]
["SABHCAI202102Forth Valley",11,68278,16.110606637569902,8.0313059828799709,28.828335099759499]
["SABHCAI202102Grampian",22,115650,19.022913964548199,11.9173100309388,28.802420991507201]
["SABHCAI202102Greater Glasgow & Clyde",86,396839,21.6712571093063,17.333616177962401,26.7642254423947]
["SABHCAI202102Highland",10,65070,15.3680651605963,7.3572771100869803,28.2643720209782]
["SABHCAI202102Lanarkshire",26,135443,19.196267064373899,12.5363566755978,28.128273574711699]
["SABHCAI202102Lothian",36,232475,15.4855360791483,10.844296132689401,21.439259258509001]
["SABHCAI202102Golden Jubilee",5,12350,40.485829959514199,13.047043411453201,94.4801746553822]
["SABHCAI202102Orkney",0,2939,0,0,124.80767242107601]
["SABHCAI202102Shetland",0,2025,0,0,181.140616911379]
["SABHCAI202102Tayside",24,105386,22.773423414874799,14.5869373491352,33.886706808600202]
["SABHCAI202102Western Isles",1,6022,16.605778811026202,0.21703976138703099,92.392167542927098]
["CDIHCAI202103Ayrshire & Arran",29,108269,26.785137019830199,17.9345766057384,38.469546490309398]
["CDIHCAI202103Borders",3,29640,10.1214574898785,2.0342482015908301,29.5731643739506]
["CDIHCAI202103Dumfries & Galloway",10,42178,23.709042628858601,11.3504201610641,43.604786557092602]
["CDIHCAI202103Fife",8,84493,9.4682399725421007,4.0768259662453898,18.657353262378201]
["CDIHCAI202103Forth Valley",8,69862,11.4511465460479,4.9306240354695197,22.564709701957099]
["CDIHCAI202103Grampian",14,121265,11.5449635096689,6.3063873753714601,19.3717774192246]
["CDIHCAI202103Greater Glasgow & Clyde",76,413139,18.395745741747898,14.4931530204762,23.025408685069198]
["CDIHCAI202103Highland",13,70337,18.482448782291002,9.8314623786407296,31.607703529084802]
["CDIHCAI202103Lanarkshire",29,140006,20.7133979972287,13.8691104276009,29.749148814760101]
["CDIHCAI202103Lothian",43,241844,17.780056565389302,12.8661370357118,23.950330989478299]
["CDIHCAI202103Golden Jubilee",0,12063,0,0,30.4078379545338]
["CDIHCAI202103Orkney",0,2696,0,0,136.05702865190699]
["CDIHCAI202103Shetland",1,2456,40.716612377850197,0.53217159734230501,226.54138149165601]
["CDIHCAI202103Tayside",11,112116,9.8112669021370706,4.8910192113443101,17.556290484332099]
["CDIHCAI202103Western Isles",0,5975,0,0,61.390753011806197]
["ECBHCAI202103Ayrshire & Arran",54,108269,49.875772381752903,37.465490457434903,65.078616338144997]
["ECBHCAI202103Borders",14,29640,47.2334682860999,25.801081817625501,79.255013115461395]
["ECBHCAI202103Dumfries & Galloway",22,42178,52.159893783488997,32.676677535162298,78.974820704343699]
["ECBHCAI202103Fife",51,84493,60.360029824955902,44.938408892983098,79.364294025187306]
["ECBHCAI202103Forth Valley",47,69862,67.275485958031595,49.426951289920801,89.464576651294806]
["ECBHCAI202103Grampian",43,121265,35.459530779697403,25.6594899209556,47.765174187270802]
["ECBHCAI202103Greater Glasgow & Clyde",140,413139,33.886900050588302,28.5058159672726,39.9882323622058]
["ECBHCAI202103Highland",17,70337,24.169356099919,14.071361548227401,38.699846052028001]
["ECBHCAI202103Lanarkshire",63,140006,44.9980715112209,34.575806263950902,57.5732590031702]
["ECBHCAI202103Lothian",82,241844,33.906154380509797,26.965577688856499,42.0871368832332]
["ECBHCAI202103Golden Jubilee",2,12063,16.5796236425433,1.8620024460270399,59.860573974176901]
["ECBHCAI202103Orkney",2,2696,74.183976261127597,8.3313559000089494,267.84054297125198]
["ECBHCAI202103Shetland",1,2456,40.716612377850197,0.53217159734230501,226.54138149165601]
["ECBHCAI202103Tayside",61,112116,54.407934639123802,41.6152872645862,69.890745551077799]
["ECBHCAI202103Western Isles",5,5975,83.682008368200798,26.967529059656499,195.28538192367699]
["SABHCAI202103Ayrshire & Arran",17,108269,15.701632046107401,9.14146576783447,25.141370768747201]
["SABHCAI202103Borders",7,29640,23.6167341430499,9.4614672759055907,48.6619887256686]
["SABHCAI202103Dumfries & Galloway",6,42178,14.2254255773152,5.1945107418172496,30.963761365351001]
["SABHCAI202103Fife",14,84493,16.569419951948699,9.05097540712746,27.802523152714102]
["SABHCAI202103Forth Valley",16,69862,22.9022930920958,13.082090035209101,37.194233253344997]
["SABHCAI202103Grampian",23,121265,18.9667257658846,12.019332244530601,28.460837893767]
["SABHCAI202103Greater Glasgow & Clyde",81,413139,19.605992172126101,15.5694031792923,24.368844613672099]
["SABHCAI202103Highland",8,70337,11.373814635256,4.8973265332040201,22.4123256493471]
["SABHCAI202103Lanarkshire",21,140006,14.999357170407,9.2812284203899598,22.929344173889501]
["SABHCAI202103Lothian",44,241844,18.193546252956502,13.2180977267715,24.4246966533304]
["SABHCAI202103Golden Jubilee",3,12063,24.869435463815002,4.9983517114442604,72.664228802445194]
["SABHCAI202103Orkney",0,2696,0,0,136.05702865190699]
["SABHCAI202103Shetland",2,2456,81.433224755700294,9.1454949130391405,294.01388593261299]
["SABHCAI202103Tayside",26,112116,23.1902672232331,15.144687263307601,33.980678563092503]
["SABHCAI202103Western Isles",0,5975,0,0,61.390753011806197]
["CDIHCAI202104Ayrshire & Arran",26,112199,23.173112059822301,15.1334838743037,33.955541116941198]
["CDIHCAI202104Borders",2,30470,6.5638332786347204,0.73716230739823196,23.6986578224646]
["CDIHCAI202104Dumfries & Galloway",3,44880,6.6844919786096302,1.34347407966025,19.530940107929901]
["CDIHCAI202104Fife",4,86306,4.6346719810905403,1.24686625446059,11.8657829369207]
["CDIHCAI202104Forth Valley",7,75758,9.2399482562897592,3.7017594189107701,19.038799147665099]
["CDIHCAI202104Grampian",12,125861,9.5343275518230399,4.9208488474361802,16.655704801415499]
["CDIHCAI202104Greater Glasgow & Clyde",57,416309,13.691753000775901,10.3693109553888,17.739655280944898]
["CDIHCAI202104Highland",14,71270,19.643608811561698,10.7302380394895,32.960833292300798]
["CDIHCAI202104Lanarkshire",31,144693,21.424671545962799,14.5542538313486,30.4118234612063]
["CDIHCAI202104Lothian",28,245190,11.4197153228109,7.5865824575072303,16.5053842958588]
["CDIHCAI202104Golden Jubilee",0,12615,0,0,29.077269064252199]
["CDIHCAI202104Orkney",0,3289,0,0,111.526223546835]
["CDIHCAI202104Shetland",0,2344,0,0,156.48880087267099]
["CDIHCAI202104Tayside",12,116557,10.295391954151199,5.3136487451389796,17.985223212771]
["CDIHCAI202104Western Isles",1,6066,16.485328058028401,0.21546545385306701,91.721996858474597]
["ECBHCAI202104Ayrshire & Arran",55,112199,49.020044741931699,36.926001924446503,63.8078210455229]
["ECBHCAI202104Borders",12,30470,39.3829996718083,20.3263195532381,68.798938694156703]
["ECBHCAI202104Dumfries & Galloway",11,44880,24.509803921568601,12.2183937143288,43.857866843613699]
["ECBHCAI202104Fife",29,86306,33.601371862906397,22.498536307170902,48.259209428768699]
["ECBHCAI202104Forth Valley",37,75758,48.839726497531601,34.382891768376098,67.321427079636507]
["ECBHCAI202104Grampian",45,125861,35.753728319336403,26.0764317302806,47.8426629231531]
["ECBHCAI202104Greater Glasgow & Clyde",136,416309,32.668042247465202,27.408130718892298,38.642996483253398]
["ECBHCAI202104Highland",23,71270,32.271643047565597,20.450741190304601,48.425754275118003]
["ECBHCAI202104Lanarkshire",53,144693,36.629277159226802,27.435783247107,47.9131604524163]
["ECBHCAI202104Lothian",58,245190,23.655124597251099,17.961168303003699,30.580413704328901]
["ECBHCAI202104Golden Jubilee",0,12615,0,0,29.077269064252199]
["ECBHCAI202104Orkney",0,3289,0,0,111.526223546835]
["ECBHCAI202104Shetland",4,2344,170.64846416382301,45.909572934076799,436.897722761892]
["ECBHCAI202104Tayside",44,116557,37.749770498554398,27.426217444111799,50.678778086498802]
["ECBHCAI202104Western Isles",2,6066,32.970656116056702,3.7028248444484202,119.040241320557]
["SABHCAI202104Ayrshire & Arran",15,112199,13.3691031114359,7.4770446498822896,22.051733070091]
["SABHCAI202104Borders",4,30470,13.1276665572694,3.5317374124540901,33.609723076923999]
["SABHCAI202104Dumfries & Galloway",7,44880,15.5971479500891,6.2486160886328399,32.137730522032399]
["SABHCAI202104Fife",11,86306,12.745347947999001,6.3536893135944004,22.806537945697698]
["SABHCAI202104Forth Valley",16,75758,21.1198817286623,12.063953299186601,34.299526433448499]
["SABHCAI202104Grampian",27,125861,21.452236991601801,14.133705257448,31.213272985895902]
["SABHCAI202104Greater Glasgow & Clyde",80,416309,19.216495439685399,15.2369022184531,23.916976176997299]
["SABHCAI202104Highland",14,71270,19.643608811561698,10.7302380394895,32.960833292300798]
["SABHCAI202104Lanarkshire",24,144693,16.586842487197,10.6242802310821,24.681114385154402]
["SABHCAI202104Lothian",26,245190,10.604021371181499,6.9250856772829197,15.538063370364499]
["SABHCAI202104Golden Jubilee",2,12615,15.854141894570001,1.7805260013019499,57.241229001228398]
["SABHCAI202104Orkney",0,3289,0,0,111.526223546835]
["SABHCAI202104Shetland",1,2344,42.662116040955603,0.55759959175456597,237.36588436156401]
["SABHCAI202104Tayside",27,116557,23.164631896840199,15.2619085718375,33.704828978764397]
["SABHCAI202104Western Isles",5,6066,82.426640290141805,26.562971666905302,192.35577926046301]
["CDIHCAI202201Ayrshire & Arran",18,112586,15.987778231751699,9.4704376988974595,25.269079086866501]
["CDIHCAI202201Borders",1,31718,3.1527839081909299,4.1207309511088398E-2,17.5416367029292]
["CDIHCAI202201Dumfries & Galloway",3,42386,7.0778087104232501,1.42252434046978,20.680144199591702]
["CDIHCAI202201Fife",6,85576,7.01131158268673,2.5602280320226201,15.261165827659299]
["CDIHCAI202201Forth Valley",9,73342,12.2712770308963,5.5995486672331802,23.296260615657101]
["CDIHCAI202201Grampian",8,126203,6.3389935263028603,2.72943794019137,12.491111536161]
["CDIHCAI202201Greater Glasgow & Clyde",49,413693,11.84453205638,8.7618993900172395,15.659510185522601]
["CDIHCAI202201Highland",19,70326,27.017034951511501,16.258380480914699,42.192867193455399]
["CDIHCAI202201Lanarkshire",22,143728,15.3066904152288,9.5892025567605206,23.175720720164499]
["CDIHCAI202201Lothian",36,240326,14.979652638499401,10.490033302459899,20.738878840083402]
["CDIHCAI202201Golden Jubilee",0,12101,0,0,30.312350156643401]
["CDIHCAI202201Orkney",0,3422,0,0,107.19162748262499]
["CDIHCAI202201Shetland",2,2285,87.527352297592998,9.8299061297260906,316.01667564573103]
["CDIHCAI202201Tayside",12,117130,10.2450268931956,5.2876543736631501,17.897239494672199]
["CDIHCAI202201Western Isles",2,6232,32.092426187419797,3.6041937590539401,115.869400489489]
["ECBHCAI202201Ayrshire & Arran",48,112586,42.634075284671297,31.432212783062599,56.528110708439499]
["ECBHCAI202201Borders",6,31718,18.916703449145601,6.9075627110274302,41.175027645746098]
["ECBHCAI202201Dumfries & Galloway",14,42386,33.029773981975197,18.0423740167607,55.422040030724197]
["ECBHCAI202201Fife",27,85576,31.550902122090299,20.7871631930409,45.906956988850197]
["ECBHCAI202201Forth Valley",38,73342,51.812058574895701,36.660429483519202,71.118467528837598]
["ECBHCAI202201Grampian",41,126203,32.487341822302199,23.310766365538299,44.074116484525398]
["ECBHCAI202201Greater Glasgow & Clyde",109,413693,26.348040696845199,21.633970096076698,31.7839504893774]
["ECBHCAI202201Highland",14,70326,19.907288911640102,10.874272176356101,33.4032731669976]
["ECBHCAI202201Lanarkshire",41,143728,28.5261048647445,20.468444893340401,38.700084344710604]
["ECBHCAI202201Lothian",61,240326,25.382189193012799,19.414210476421001,32.6051730907378]
["ECBHCAI202201Golden Jubilee",0,12101,0,0,30.312350156643401]
["ECBHCAI202201Orkney",1,3422,29.222676797194602,0.381944314165021,162.59077526110701]
["ECBHCAI202201Shetland",1,2285,43.763676148796499,0.57199713044757206,243.49480653982801]
["ECBHCAI202201Tayside",50,117130,42.687612054981599,31.680945661260701,56.279742069628398]
["ECBHCAI202201Western Isles",1,6232,16.046213093709898,0.20972616223887999,89.278824284901702]
["SABHCAI202201Ayrshire & Arran",19,112586,16.875988133515701,10.155675356623499,26.3554578566335]
["SABHCAI202201Borders",4,31718,12.6111356327637,3.3927750475274601,32.287289934859501]
["SABHCAI202201Dumfries & Galloway",10,42386,23.592695701410801,11.2947204632039,43.390805629336398]
["SABHCAI202201Fife",13,85576,15.191175095821301,8.0807185347112807,25.979141851982298]
["SABHCAI202201Forth Valley",10,73342,13.634752256551501,6.52747431967168,25.0765276022614]
["SABHCAI202201Grampian",23,126203,18.224606388120701,11.549046572847001,27.347238236711199]
["SABHCAI202201Greater Glasgow & Clyde",72,413693,17.404210368558299,13.6171055046806,21.918114572136499]
["SABHCAI202201Highland",18,70326,25.595085743537201,15.161372732247999,40.453666326450403]
["SABHCAI202201Lanarkshire",21,143728,14.6109317599911,9.0408804563141203,22.335562732450001]
["SABHCAI202201Lothian",25,240326,10.4025365545135,6.7300796491258899,15.356924611971101]
["SABHCAI202201Golden Jubilee",1,12101,8.2637798529047206,0.108008713583398,45.978483839641903]
["SABHCAI202201Orkney",2,3422,58.445353594389204,6.5638034793758404,211.01639504690101]
["SABHCAI202201Shetland",1,2285,43.763676148796499,0.57199713044757206,243.49480653982801]
["SABHCAI202201Tayside",21,117130,17.928797063092301,11.0938928218656,27.4075451243027]
["SABHCAI202201Western Isles",1,6232,16.046213093709898,0.20972616223887999,89.278824284901702]
["CDIHCAI202202Ayrshire & Arran",27,114387,23.604080883317199,15.551437465863,34.344232747408697]
["CDIHCAI202202Borders",5,31861,15.6931671950033,5.0573110113131197,36.6225214837566]
["CDIHCAI202202Dumfries & Galloway",12,44824,26.7713724790291,13.817217490343699,46.767438470706701]
["CDIHCAI202202Fife",8,87058,9.18927611477406,3.9567099676763902,18.107649488825]
["CDIHCAI202202Forth Valley",11,76087,14.457134595923099,7.2070328689405301,25.869610629166399]
["CDIHCAI202202Grampian",20,130553,15.319448806232,9.3535291524327597,23.6609605572242]
["CDIHCAI202202Greater Glasgow & Clyde",59,430046,13.7194625691205,10.443235198545899,17.697493879380701]
["CDIHCAI202202Highland",7,72775,9.6186877361731398,3.8534921340823298,19.819187163570099]
["CDIHCAI202202Lanarkshire",22,142744,15.412206467522299,9.6553053373737292,23.3354816151138]
["CDIHCAI202202Lothian",28,243749,11.487226614262999,7.6314329607760296,16.602961142411299]
["CDIHCAI202202Golden Jubilee",0,12412,0,0,29.5528318760507]
["CDIHCAI202202Orkney",2,3242,61.690314620604603,6.9282342709513003,222.73229606739599]
["CDIHCAI202202Shetland",1,2403,41.614648356221402,0.54390904830324704,231.537924653977]
["CDIHCAI202202Tayside",14,117903,11.874167748064099,6.4862137950215004,19.924162987729499]
["CDIHCAI202202Western Isles",1,6287,15.9058374423413,0.20789143360469201,88.497794328536202]
["ECBHCAI202202Ayrshire & Arran",44,114387,38.465909587627998,27.946511637103299,51.640189334697403]
["ECBHCAI202202Borders",7,31861,21.970434073004601,8.8019173929833308,45.269807784715397]
["ECBHCAI202202Dumfries & Galloway",18,44824,40.157058718543603,23.787227796896101,63.469224925797597]
["ECBHCAI202202Fife",35,87058,40.203083002136502,27.998625129432099,55.914762038025302]
["ECBHCAI202202Forth Valley",44,76087,57.828538383692297,42.013979084907199,77.634370357985404]
["ECBHCAI202202Grampian",49,130553,37.532649575268302,27.7644821976853,49.621454483461797]
["ECBHCAI202202Greater Glasgow & Clyde",136,430046,31.6245238881422,26.532630210375999,37.408619596384497]
["ECBHCAI202202Highland",14,72775,19.237375472346301,10.5083348000607,32.279197371930998]
["ECBHCAI202202Lanarkshire",63,142744,44.134954884268303,33.912601102608299,56.46893529674]
["ECBHCAI202202Lothian",58,243749,23.7949694152591,18.0673514812921,30.761199578929102]
["ECBHCAI202202Golden Jubilee",2,12412,16.113438607798901,1.8096467536596901,58.177417326014897]
["ECBHCAI202202Orkney",2,3242,61.690314620604603,6.9282342709513003,222.73229606739599]
["ECBHCAI202202Shetland",4,2403,166.458593424886,44.782371601113603,426.17072915267403]
["ECBHCAI202202Tayside",49,117903,41.5595871182243,30.743377559132501,54.945419091790598]
["ECBHCAI202202Western Isles",3,6287,47.717512327023996,9.5904432472009091,139.422394153634]
["SABHCAI202202Ayrshire & Arran",20,114387,17.4845043580127,10.675437693422801,27.004899014986702]
["SABHCAI202202Borders",6,31861,18.831800634004001,6.87655987157867,40.990224000118502]
["SABHCAI202202Dumfries & Galloway",7,44824,15.616633946100301,6.2564226766429103,32.177881175906101]
["SABHCAI202202Fife",13,87058,14.9325736865078,7.9431593802574501,25.536895438963001]
["SABHCAI202202Forth Valley",16,76087,21.028559412251798,12.011788794929201,34.151215365899397]
["SABHCAI202202Grampian",20,130553,15.319448806232,9.3535291524327597,23.6609605572242]
["SABHCAI202202Greater Glasgow & Clyde",72,430046,16.742394999604699,13.099299208800501,21.084652738755501]
["SABHCAI202202Highland",9,72775,12.366884232222599,5.6431755184090102,23.477764975246]
["SABHCAI202202Lanarkshire",24,142744,16.813316146387901,10.7693421753346,25.018105725852799]
["SABHCAI202202Lothian",40,243749,16.4103237346615,11.722352849353999,22.3469134299243]
["SABHCAI202202Golden Jubilee",5,12412,40.283596519497301,12.981871264215901,94.008230502253497]
["SABHCAI202202Orkney",1,3242,30.845157310302302,0.40315035258257298,171.61802373334601]
["SABHCAI202202Shetland",1,2403,41.614648356221402,0.54390904830324704,231.537924653977]
["SABHCAI202202Tayside",25,117903,21.203870978685899,13.7181676611777,31.30258148051]
["SABHCAI202202Western Isles",3,6287,47.717512327023996,9.5904432472009091,139.422394153634]
["CDIHCAI202203Ayrshire & Arran",18,115947,15.5243343941628,9.1959145020403295,24.536594634392898]
["CDIHCAI202203Borders",5,31443,15.901790541615,5.1245423824522902,37.109377508315703]
["CDIHCAI202203Dumfries & Galloway",6,46399,12.9313131748529,4.7219568108874803,28.146932625008599]
["CDIHCAI202203Fife",9,89390,10.0682402953351,4.5942733902250401,19.1139316039101]
["CDIHCAI202203Forth Valley",10,77214,12.951019245214599,6.2001453305535303,23.819031359663398]
["CDIHCAI202203Grampian",11,132436,8.3058986982391492,4.1405774102138304,14.862583164255801]
["CDIHCAI202203Greater Glasgow & Clyde",54,439126,12.297153892049201,9.2373286626982303,16.045501091519601]
["CDIHCAI202203Highland",14,76066,18.405069281939401,10.053691071890499,30.882635983780901]
["CDIHCAI202203Lanarkshire",29,147577,19.650758587042699,13.1575968784207,28.222957025548101]
["CDIHCAI202203Lothian",30,244423,12.273804020079901,8.27941207079318,17.5223365578635]
["CDIHCAI202203Golden Jubilee",2,12653,15.806528096103699,1.77517865379152,57.069319833280403]
["CDIHCAI202203Orkney",1,3388,29.515938606847701,0.38577728544058498,164.222441836927]
["CDIHCAI202203Shetland",0,2788,0,0,131.56734191016599]
["CDIHCAI202203Tayside",13,120417,10.7958178662481,5.7426739524025097,18.462435064195599]
["CDIHCAI202203Western Isles",0,6470,0,0,56.693933422804001]
["ECBHCAI202203Ayrshire & Arran",43,115947,37.085909941611199,26.8363825305068,49.955961325600398]
["ECBHCAI202203Borders",13,31443,41.344655408199003,21.992671479389799,70.705436603544101]
["ECBHCAI202203Dumfries & Galloway",21,46399,45.259596111985203,28.005510166708699,69.187822160166604]
["ECBHCAI202203Fife",33,89390,36.916881082895202,25.407555924930399,51.846985230686101]
["ECBHCAI202203Forth Valley",44,77214,56.984484678944199,41.400751504044997,76.501234716865298]
["ECBHCAI202203Grampian",42,132436,31.713431393276799,22.853702601679,42.868648232465098]
["ECBHCAI202203Greater Glasgow & Clyde",156,439126,35.525111243697701,30.1687136437086,41.558178466808101]
["ECBHCAI202203Highland",14,76066,18.405069281939401,10.053691071890499,30.882635983780901]
["ECBHCAI202203Lanarkshire",60,147577,40.656741904226301,31.0234837144348,52.334410616570501]
["ECBHCAI202203Lothian",60,244423,24.547608040159901,18.7312677453641,31.598316506882]
["ECBHCAI202203Golden Jubilee",2,12653,15.806528096103699,1.77517865379152,57.069319833280403]
["ECBHCAI202203Orkney",1,3388,29.515938606847701,0.38577728544058498,164.222441836927]
["ECBHCAI202203Shetland",3,2788,107.604017216643,21.6266559164821,314.40049929838398]
["ECBHCAI202203Tayside",59,120417,48.996404162203,37.295992461146398,63.203172748466997]
["ECBHCAI202203Western Isles",9,6470,139.103554868624,63.4748220018881,264.07949707473398]
["SABHCAI202203Ayrshire & Arran",15,115947,12.936945328468999,7.2353483287376399,21.338908283363399]
["SABHCAI202203Borders",4,31443,12.721432433292,3.42244820651579,32.569674081794801]
["SABHCAI202203Dumfries & Galloway",11,46399,23.707407487230299,11.8183906959003,42.422057887915301]
["SABHCAI202203Fife",14,89390,15.661707126076699,8.5551411240006701,26.279433815217299]
["SABHCAI202203Forth Valley",6,77214,7.7706115471287598,2.8374915697719101,16.913895496513302]
["SABHCAI202203Grampian",19,132436,14.3465522969585,8.6335049812800708,22.405203858821999]
["SABHCAI202203Greater Glasgow & Clyde",85,439126,19.356631126373799,15.4608514130865,23.935135468948399]
["SABHCAI202203Highland",5,76066,6.5732390292640597,2.1183049737260702,15.3397070569502]
["SABHCAI202203Lanarkshire",27,147577,18.295533856901798,12.053926271761,26.6202304646242]
["SABHCAI202203Lothian",40,244423,16.365072026773301,11.690028289797599,22.285291489060398]
["SABHCAI202203Golden Jubilee",4,12653,31.613056192207399,8.5048635863017505,80.936399443126106]
["SABHCAI202203Orkney",2,3388,59.031877213695402,6.6296739983542299,213.13403301372401]
["SABHCAI202203Shetland",0,2788,0,0,131.56734191016599]
["SABHCAI202203Tayside",31,120417,25.743873373360898,17.488383281590799,36.542830099340797]
["SABHCAI202203Western Isles",1,6470,15.4559505409583,0.20201135132499301,85.994688244746101]
["CDIHCAI202204Ayrshire & Arran",20,119580,16.725204883759801,10.2118355196317,25.832157414511499]
["CDIHCAI202204Borders",1,32790,3.0497102775236402,3.9860123302003697E-2,16.968149830543101]
["CDIHCAI202204Dumfries & Galloway",5,46878,10.665984043687899,3.4372410540434202,24.890783672383002]
["CDIHCAI202204Fife",8,91962,8.6992453404667103,3.7457129723795899,17.1420342010627]
["CDIHCAI202204Forth Valley",19,79270,23.968714519995,14.423954405207599,37.432264138349197]
["CDIHCAI202204Grampian",4,132046,3.0292473834875699,0.81495871860924196,7.7555417214749003]
["CDIHCAI202204Greater Glasgow & Clyde",63,443639,14.2007352825157,10.911620330472999,18.169281104677101]
["CDIHCAI202204Highland",22,75533,29.126342128606002,18.2468180143523,44.099929668724997]
["CDIHCAI202204Lanarkshire",29,149515,19.396047219342499,12.9870492895475,27.857133591675101]
["CDIHCAI202204Lothian",29,248852,11.6535129313809,7.8028654562820101,16.7370940517227]
["CDIHCAI202204Golden Jubilee",0,13327,0,0,27.523805000791]
["CDIHCAI202204Orkney",1,3151,31.735956839098701,0.41479322217476999,176.57430432989801]
["CDIHCAI202204Shetland",0,2878,0,0,127.45300529727]
["CDIHCAI202204Tayside",10,123441,8.1010361225200693,3.87827400582756,14.899123365859399]
["CDIHCAI202204Western Isles",1,6190,16.155088852988701,0.21114918304890201,89.884593367287096]
["ECBHCAI202204Ayrshire & Arran",43,119580,35.959190500083601,26.021057411479099,48.438232545738302]
["ECBHCAI202204Borders",12,32790,36.596523330283603,18.8881658062569,63.931188228452399]
["ECBHCAI202204Dumfries & Galloway",20,46878,42.663936174751498,26.0491337394418,65.894649593141494]
["ECBHCAI202204Fife",28,91962,30.4473586916335,20.227421682392698,44.006819941949999]
["ECBHCAI202204Forth Valley",40,79270,50.460451621041997,36.045310769234199,68.714996866792106]
["ECBHCAI202204Grampian",49,132046,37.108280447722798,27.450558474731601,49.060401278186298]
["ECBHCAI202204Greater Glasgow & Clyde",139,443639,31.331781020153802,26.3393566751032,36.995001192170299]
["ECBHCAI202204Highland",14,75533,18.534944990931098,10.124635127353899,31.100559871079898]
["ECBHCAI202204Lanarkshire",59,149515,39.460923653145201,30.0375983961065,50.902828832238598]
["ECBHCAI202204Lothian",70,248852,28.129169144712499,21.927027186284299,35.540167031721197]
["ECBHCAI202204Golden Jubilee",2,13327,15.0071283859833,1.6854007283277599,54.183094758797701]
["ECBHCAI202204Orkney",4,3151,126.943827356395,34.151710237218701,325.00420887143002]
["ECBHCAI202204Shetland",3,2878,104.239054899236,20.9503532644726,304.568656026371]
["ECBHCAI202204Tayside",64,123441,51.846631184128498,39.926032227004498,66.208324342065097]
["ECBHCAI202204Western Isles",2,6190,32.310177705977402,3.62864870863072,116.65559028279399]
["SABHCAI202204Ayrshire & Arran",29,119580,24.251547081451701,16.2381558331384,34.830735314929797]
["SABHCAI202204Borders",7,32790,21.347971942665399,8.5525431551644306,43.987232260714102]
["SABHCAI202204Dumfries & Galloway",8,46878,17.0655744699006,7.3480791920724302,33.628050454330896]
["SABHCAI202204Fife",10,91962,10.8740566755834,5.2058243791279004,19.9991592984608]
["SABHCAI202204Forth Valley",14,79270,17.661158067364699,9.6473327245417,29.634396224829999]
["SABHCAI202204Grampian",32,132046,24.233979067900599,16.5730425929716,34.2124750376816]
["SABHCAI202204Greater Glasgow & Clyde",86,443639,19.385130703116701,15.5050726163535,23.940835815459199]
["SABHCAI202204Highland",14,75533,18.534944990931098,10.124635127353899,31.100559871079898]
["SABHCAI202204Lanarkshire",24,149515,16.051901147042098,10.2816371566462,23.8851251294595]
["SABHCAI202204Lothian",42,248852,16.877501486827502,12.162461855866001,22.814171866469799]
["SABHCAI202204Golden Jubilee",1,13327,7.5035641929916697,9.80725927119908E-2,41.748753128499096]
["SABHCAI202204Orkney",0,3151,0,0,116.410583702171]
["SABHCAI202204Shetland",3,2878,104.239054899236,20.9503532644726,304.568656026371]
["SABHCAI202204Tayside",30,123441,24.303108367560199,16.393894545406202,34.695620324549203]
["SABHCAI202204Western Isles",2,6190,32.310177705977402,3.62864870863072,116.65559028279399]
["CDIHCAI202301Ayrshire & Arran",15,118331,12.676306293363499,7.0895786621607497,20.9089959413099]
["CDIHCAI202301Borders",2,32121,6.2264562124466902,0.699272610019119,22.480561123579498]
["CDIHCAI202301Dumfries & Galloway",7,45647,15.3350713080816,6.14362148789278,31.597724841256099]
["CDIHCAI202301Fife",11,89474,12.2940742562085,6.1287246563144402,21.999028365127099]
["CDIHCAI202301Forth Valley",15,78301,19.1568434630464,10.7140002384662,31.598349941011499]
["CDIHCAI202301Grampian",14,134646,10.3976352806619,5.6796641940675601,17.446627369118101]
["CDIHCAI202301Greater Glasgow & Clyde",52,447480,11.6206310896576,8.67817068281229,15.239288835504899]
["CDIHCAI202301Highland",18,76330,23.581815799816599,13.9688025516582,37.271643365307902]
["CDIHCAI202301Lanarkshire",25,153017,16.338053941718901,10.5701531317163,24.119334873226901]
["CDIHCAI202301Lothian",29,246989,11.7414135852204,7.8617212690714604,16.863339375273]
["CDIHCAI202301Golden Jubilee",0,12960,0,0,28.3032213924029]
["CDIHCAI202301Orkney",1,3304,30.266343825665899,0.39558518252805702,168.39758866328901]
["CDIHCAI202301Shetland",1,2452,40.783034257748803,0.53303974024172196,226.910943288543]
["CDIHCAI202301Tayside",21,121920,17.2244094488189,10.658035320087899,26.3307559088712]
["CDIHCAI202301Western Isles",0,5936,0,0,61.794095223305597]
["ECBHCAI202301Ayrshire & Arran",34,118331,28.732960931624,19.895197944207599,40.152910671747897]
["ECBHCAI202301Borders",14,32121,43.585193487126801,23.808227174571801,73.133420153241701]
["ECBHCAI202301Dumfries & Galloway",12,45647,26.288693670996999,13.5680977235561,45.924237343329402]
["ECBHCAI202301Fife",25,89474,27.941077855019302,18.076906383483799,41.248499723903798]
["ECBHCAI202301Forth Valley",47,78301,60.0247761842122,44.099892351521099,79.822406533923697]
["ECBHCAI202301Grampian",63,134646,46.789358762978502,35.952203049408901,59.865140442329199]
["ECBHCAI202301Greater Glasgow & Clyde",162,447480,36.202735317779599,30.842075972335,42.227115923461398]
["ECBHCAI202301Highland",18,76330,23.581815799816599,13.9688025516582,37.271643365307902]
["ECBHCAI202301Lanarkshire",60,153017,39.211329460125299,29.9205490639938,50.4738383026828]
["ECBHCAI202301Lothian",87,246989,35.224240755661199,28.212226302254699,43.449611277892998]
["ECBHCAI202301Golden Jubilee",5,12960,38.580246913580197,12.432946460759799,90.033191126077995]
["ECBHCAI202301Orkney",2,3304,60.532687651331699,6.7982250322106896,218.55269487000501]
["ECBHCAI202301Shetland",1,2452,40.783034257748803,0.53303974024172196,226.910943288543]
["ECBHCAI202301Tayside",53,121920,43.471128608923898,32.560414906280002,56.862688035937303]
["ECBHCAI202301Western Isles",5,5936,84.231805929919105,27.144707906241099,196.568422674186]
["SABHCAI202301Ayrshire & Arran",23,118331,19.437002983157399,12.3173498460506,29.166520245647]
["SABHCAI202301Borders",4,32121,12.4529124248934,3.3502082425041602,31.882203609908601]
["SABHCAI202301Dumfries & Galloway",6,45647,13.144346835498499,4.7997474985950497,28.610632174464399]
["SABHCAI202301Fife",16,89474,17.8822898272124,10.214598364215099,29.041548645921601]
["SABHCAI202301Forth Valley",13,78301,16.602597667973601,8.8315036758975296,28.392881867731401]
["SABHCAI202301Grampian",27,134646,20.052582326990802,13.2115493769415,29.176757952541099]
["SABHCAI202301Greater Glasgow & Clyde",77,447480,17.207472959685301,13.5793158862821,21.506748001724201]
["SABHCAI202301Highland",12,76330,15.721210533211099,8.1140175132603805,27.463692676679599]
["SABHCAI202301Lanarkshire",27,153017,17.6450982570564,11.625389841701701,25.673838536096302]
["SABHCAI202301Lothian",48,246989,19.4340638651924,14.327873340083499,25.767438518397]
["SABHCAI202301Golden Jubilee",3,12960,23.148148148148099,4.6524009795642103,67.634922225609202]
["SABHCAI202301Orkney",0,3304,0,0,111.019899892718]
["SABHCAI202301Shetland",2,2452,81.566068515497605,9.1604141543328392,294.49351706790202]
["SABHCAI202301Tayside",39,121920,31.988188976378002,22.743843988078801,43.730329901844001]
["SABHCAI202301Western Isles",3,5936,50.5390835579515,10.1575331359758,147.666541786371]
["CDIHCAI202302Ayrshire & Arran",17,115702,14.692918013517501,8.5541940261851206,23.526223157434501]
["CDIHCAI202302Borders",2,31141,6.4224013358594796,0.72127855580823097,23.188019133955098]
["CDIHCAI202302Dumfries & Galloway",6,45765,13.1104555883317,4.7873718795666598,28.536862818043801]
["CDIHCAI202302Fife",16,88821,18.013758007678401,10.289694712284,29.255058190576399]
["CDIHCAI202302Forth Valley",11,75633,14.543916015495901,7.2502943146388299,26.0248973852866]
["CDIHCAI202302Grampian",19,133105,14.274444987040299,8.5901120596582192,22.2925929021971]
["CDIHCAI202302Greater Glasgow & Clyde",69,445421,15.4909624826849,12.052308256671701,19.6051705605183]
["CDIHCAI202302Highland",14,75789,18.472337674332699,10.090436146069001,30.995508434499399]
["CDIHCAI202302Lanarkshire",39,151775,25.695931477516101,18.270001377213401,35.128326942070998]
["CDIHCAI202302Lothian",32,240019,13.332277861335999,9.1176281137390003,18.8219285924269]
["CDIHCAI202302Golden Jubilee",2,13181,15.173355587588199,1.7040691530554699,54.783256494233903]
["CDIHCAI202302Orkney",0,3469,0,0,105.73933388456101]
["CDIHCAI202302Shetland",0,2043,0,0,179.54466433947201]
["CDIHCAI202302Tayside",17,116874,14.5455789996064,8.4684134813360608,23.290304702170602]
["CDIHCAI202302Western Isles",0,5886,0,0,62.319019579602802]
["ECBHCAI202302Ayrshire & Arran",51,115702,44.078754040552496,32.816900162441698,57.956883157336598]
["ECBHCAI202302Borders",13,31141,41.745608683086601,22.2059525810492,71.391125626191794]
["ECBHCAI202302Dumfries & Galloway",25,45765,54.626898284715402,35.341704834607903,80.643903950542295]
["ECBHCAI202302Fife",26,88821,29.272356762477301,19.116670125454601,42.892759119799202]
["ECBHCAI202302Forth Valley",35,75633,46.276096412941399,32.228052655826197,64.361156552118899]
["ECBHCAI202302Grampian",41,133105,30.802749708876501,22.102014557154298,41.7887060793852]
["ECBHCAI202302Greater Glasgow & Clyde",156,445421,35.023045613026802,29.742348356963799,40.970849325504602]
["ECBHCAI202302Highland",18,75789,23.750148438427701,14.068515203632099,37.537697265750403]
["ECBHCAI202302Lanarkshire",70,151775,46.120902651951901,35.951800819378803,58.2720582848156]
["ECBHCAI202302Lothian",79,240019,32.914060970173203,26.057353944273601,41.021407973368603]
["ECBHCAI202302Golden Jubilee",1,13181,7.5866777937940997,9.9158898647500299E-2,42.211185262385797]
["ECBHCAI202302Orkney",1,3469,28.826751225136899,0.37676951371366402,160.38790226102799]
["ECBHCAI202302Shetland",1,2043,48.947626040137102,0.63975205240954602,272.33755895423701]
["ECBHCAI202302Tayside",64,116874,54.7598268220477,42.169424714938003,69.928485078878595]
["ECBHCAI202302Western Isles",0,5886,0,0,62.319019579602802]
["SABHCAI202302Ayrshire & Arran",26,115702,22.471521667732599,14.6753016993051,32.927501320458397]
["SABHCAI202302Borders",4,31141,12.844802671719,3.4556385137752801,32.885529114475297]
["SABHCAI202302Dumfries & Galloway",5,45765,10.9253796569431,3.5208343959673898,25.496124920659199]
["SABHCAI202302Fife",13,88821,14.6361783812387,7.7854963277429103,25.03001590981]
["SABHCAI202302Forth Valley",14,75633,18.510438565176599,10.111248596173899,31.0594395137344]
["SABHCAI202302Grampian",19,133105,14.274444987040299,8.5901120596582192,22.2925929021971]
["SABHCAI202302Greater Glasgow & Clyde",91,445421,20.430109940932301,16.4485356573235,25.084000855048401]
["SABHCAI202302Highland",17,75789,22.430695747403998,13.059116193875999,35.915912226860002]
["SABHCAI202302Lanarkshire",25,151775,16.471750947125699,10.65665044807,24.316707391181499]
["SABHCAI202302Lothian",31,240019,12.915644178169201,8.7738831076678192,18.333456818303201]
["SABHCAI202302Golden Jubilee",4,13181,30.346711175176399,8.1641786630358908,77.694276773679903]
["SABHCAI202302Orkney",0,3469,0,0,105.73933388456101]
["SABHCAI202302Shetland",1,2043,48.947626040137102,0.63975205240954602,272.33755895423701]
["SABHCAI202302Tayside",29,116874,24.813046528740401,16.614120116764099,35.637176180838402]
["SABHCAI202302Western Isles",4,5886,67.957866123003697,18.282711341738999,173.98713254398101]
["CDIHCAI202303Ayrshire & Arran",21,115755,18.141764934560101,11.2256720333905,27.7331066511993]
["CDIHCAI202303Borders",4,32766,12.2077763535372,3.2842592613525001,31.254601176642701]
["CDIHCAI202303Dumfries & Galloway",15,45757,32.781869440741303,18.3341769056569,54.072216245189601]
["CDIHCAI202303Fife",4,86915,4.6021975493298104,1.2381296549212,11.782641225955]
["CDIHCAI202303Forth Valley",10,74790,13.3707714935152,6.4010966914475196,24.5910240326922]
["CDIHCAI202303Grampian",12,130580,9.1897687241537795,4.7430154448396697,16.053788191231099]
["CDIHCAI202303Greater Glasgow & Clyde",71,443511,16.008622108583602,12.5022870597909,20.193064825564701]
["CDIHCAI202303Highland",24,76808,31.246745130715599,20.0143081381622,46.494954740796999]
["CDIHCAI202303Lanarkshire",27,151491,17.822840960849199,11.7424947845593,25.932456391982701]
["CDIHCAI202303Lothian",30,237856,12.6126732140455,8.50799953156314,18.006113230200899]
["CDIHCAI202303Golden Jubilee",1,13279,7.5306875517734797,9.8427098657481907E-2,41.899663599932801]
["CDIHCAI202303Orkney",0,3466,0,0,105.83085667788301]
["CDIHCAI202303Shetland",2,2180,91.743119266055004,10.303364911203699,331.23766231674102]
["CDIHCAI202303Tayside",17,116759,14.5599054462611,8.47675431630684,23.313244133312999]
["CDIHCAI202303Western Isles",1,5824,17.1703296703297,0.22441851701110899,95.533247414750505]
["ECBHCAI202303Ayrshire & Arran",48,115755,41.466891278994403,30.571699783109899,54.980552651897199]
["ECBHCAI202303Borders",21,32766,64.090825856070296,39.6578058421875,97.974905707427595]
["ECBHCAI202303Dumfries & Galloway",16,45757,34.967327403457404,19.9737957916774,56.788327983591401]
["ECBHCAI202303Fife",28,86915,32.215382845308604,21.401992207975599,46.562217977352702]
["ECBHCAI202303Forth Valley",36,74790,48.134777376654597,33.708085886441602,66.641152508649199]
["ECBHCAI202303Grampian",43,130580,32.930004594884402,23.8290553320928,44.357817796135599]
["ECBHCAI202303Greater Glasgow & Clyde",177,443511,39.908818496046301,34.245434308316099,46.241138663861797]
["ECBHCAI202303Highland",23,76808,29.9447974169357,18.976204622344099,44.934167107432302]
["ECBHCAI202303Lanarkshire",58,151491,38.286102804787099,29.070366267391901,49.494766264427597]
["ECBHCAI202303Lothian",69,237856,29.009148392304599,22.569753111104902,36.713619485052398]
["ECBHCAI202303Golden Jubilee",2,13279,15.061375103547,1.69149299694436,54.3789520182616]
["ECBHCAI202303Orkney",1,3466,28.851702250432801,0.37709562696846599,160.526726181046]
["ECBHCAI202303Shetland",1,2180,45.871559633027502,0.59954745095078099,255.222767405279]
["ECBHCAI202303Tayside",51,116759,43.679716338783301,32.519814169313101,57.432209038019799]
["ECBHCAI202303Western Isles",6,5824,103.021978021978,37.619174805695103,224.24270722317601]
["SABHCAI202303Ayrshire & Arran",23,115755,19.869552071184799,12.5914588970931,29.815589021533899]
["SABHCAI202303Borders",5,32766,15.2597204419215,4.9176276057940402,35.611003997862703]
["SABHCAI202303Dumfries & Galloway",13,45757,28.4109535153091,15.1127820732664,48.586905678371402]
["SABHCAI202303Fife",8,86915,9.2043950986596101,3.9632198857040999,18.137441744211301]
["SABHCAI202303Forth Valley",12,74790,16.044925792218201,8.2810931513192205,28.029197245767499]
["SABHCAI202303Grampian",25,130580,19.1453515086537,12.3863771002897,28.263656488716201]
["SABHCAI202303Greater Glasgow & Clyde",65,443511,14.655780803632799,11.310416970259499,18.680366219865601]
["SABHCAI202303Highland",13,76808,16.925320279137601,9.0031711452772196,28.944784958926601]
["SABHCAI202303Lanarkshire",43,151491,28.3845244932042,20.5398211462376,38.2349040393118]
["SABHCAI202303Lothian",40,237856,16.8168976187273,12.012779936924799,22.900569258839901]
["SABHCAI202303Golden Jubilee",1,13279,7.5306875517734797,9.8427098657481907E-2,41.899663599932801]
["SABHCAI202303Orkney",0,3466,0,0,105.83085667788301]
["SABHCAI202303Shetland",2,2180,91.743119266055004,10.303364911203699,331.23766231674102]
["SABHCAI202303Tayside",27,116759,23.124555708767598,15.235504564167799,33.646517624147499]
["SABHCAI202303Western Isles",1,5824,17.1703296703297,0.22441851701110899,95.533247414750505]
["CDIHCAI202304Ayrshire & Arran",14,115623,12.108317549276499,6.6141171313183396,20.317052738142699]
["CDIHCAI202304Borders",4,32143,12.444389136048301,3.3479152212760499,31.860382109755601]
["CDIHCAI202304Dumfries & Galloway",5,46695,10.7077845593747,3.4507117706702499,24.988331876945502]
["CDIHCAI202304Fife",2,90334,2.2140058006952001,0.24864763551291999,7.9936469529800096]
["CDIHCAI202304Forth Valley",9,78075,11.527377521613801,5.2600973211939301,21.8840133983161]
["CDIHCAI202304Grampian",16,136406,11.7296893098544,6.7001522956452098,19.0494811338591]
["CDIHCAI202304Greater Glasgow & Clyde",54,447695,12.0617831336066,9.0605237635801696,15.738385982230399]
["CDIHCAI202304Highland",17,77892,21.8250911518513,12.706534139804701,34.946221329038799]
["CDIHCAI202304Lanarkshire",30,154158,19.4605534581403,13.1273027451023,27.782288745849598]
["CDIHCAI202304Lothian",45,240891,18.680648093951199,13.6244433125556,24.9968882115603]
["CDIHCAI202304Golden Jubilee",0,12987,0,0,28.244378936285699]
["CDIHCAI202304Orkney",1,3292,30.3766707168894,0.397027169827674,169.01143163533001]
["CDIHCAI202304Shetland",3,2641,113.59333585763,22.830411471091299,331.90026203858201]
["CDIHCAI202304Tayside",22,120534,18.2521114374367,11.4344243539422,27.635355896824201]
["CDIHCAI202304Western Isles",1,6724,14.8720999405116,0.19438034548969399,82.746227386006396]
["ECBHCAI202304Ayrshire & Arran",61,115623,52.7576693218477,40.3530400262608,67.770865902153105]
["ECBHCAI202304Borders",11,32143,34.222070124132799,17.060060041037801,61.237005380374598]
["ECBHCAI202304Dumfries & Galloway",19,46695,40.689581325623699,24.486280451885801,63.545466928941998]
["ECBHCAI202304Fife",34,90334,37.6380986118184,26.0612689345764,52.597405989977297]
["ECBHCAI202304Forth Valley",30,78075,38.424591738712799,25.919676421126901,54.855742151555198]
["ECBHCAI202304Grampian",41,136406,30.057328856501901,21.567149888054999,40.7774271124186]
["ECBHCAI202304Greater Glasgow & Clyde",140,447695,31.2712896056467,26.305552447320299,36.9016815686781]
["ECBHCAI202304Highland",21,77892,26.9604067169928,16.682427800353299,41.214062553401803]
["ECBHCAI202304Lanarkshire",43,154158,27.893459956667801,20.184473366706101,37.5734236810246]
["ECBHCAI202304Lothian",79,240891,32.7949155427143,25.9630290726951,40.872914805285198]
["ECBHCAI202304Golden Jubilee",1,12987,7.7000077000077001,0.100640135756734,42.841736578386602]
["ECBHCAI202304Orkney",1,3292,30.3766707168894,0.397027169827674,169.01143163533001]
["ECBHCAI202304Shetland",1,2641,37.864445285876599,0.49489339003131499,210.672333564372]
["ECBHCAI202304Tayside",56,120534,46.459920022566301,35.092922544791897,60.3334591258876]
["ECBHCAI202304Western Isles",6,6724,89.232599643069605,32.583889659186198,194.22806764839001]
["SABHCAI202304Ayrshire & Arran",18,115623,15.567836849069799,9.2216833914365601,24.605351340770898]
["SABHCAI202304Borders",4,32143,12.444389136048301,3.3479152212760499,31.860382109755601]
["SABHCAI202304Dumfries & Galloway",9,46695,19.274012206874399,8.7949908630948901,36.5905203142419]
["SABHCAI202304Fife",10,90334,11.070029003476,5.2996437836624102,20.359584291684801]
["SABHCAI202304Forth Valley",15,78075,19.212295869356399,10.7450135468734,31.689816186117699]
["SABHCAI202304Grampian",26,136406,19.0607451285134,12.447852420076799,27.9296933989684]
["SABHCAI202304Greater Glasgow & Clyde",91,447695,20.326338243670399,16.364987772972,24.956590412795599]
["SABHCAI202304Highland",10,77892,12.838288912853701,6.1461770342700204,23.611701938646501]
["SABHCAI202304Lanarkshire",35,154158,22.703979034497099,15.811727620480999,31.576871479303101]
["SABHCAI202304Lothian",48,240891,19.926024633548,14.690574194942499,26.4197245734393]
["SABHCAI202304Golden Jubilee",2,12987,15.4000154000154,1.72952456351922,55.601609598097802]
["SABHCAI202304Orkney",0,3292,0,0,111.42458968576599]
["SABHCAI202304Shetland",2,2641,75.728890571753098,8.5048600933071299,273.418441442823]
["SABHCAI202304Tayside",30,120534,24.8892428692319,16.789277188008999,35.532398065962099]
["SABHCAI202304Western Isles",1,6724,14.8720999405116,0.19438034548969399,82.746227386006396]
["CDIHCAI202401Ayrshire & Arran",18,115754,15.550218566961,9.2112471168864101,24.577505209962101]
["CDIHCAI202401Borders",4,32575,12.279355333845,3.3035161613960402,31.437859160517998]
["CDIHCAI202401Dumfries & Galloway",8,46826,17.0845256908555,7.3562391911752298,33.665394208305699]
["CDIHCAI202401Fife",4,91157,4.3880338317408398,1.1805131691200501,11.234334852549701]
["CDIHCAI202401Forth Valley",10,80573,12.411105457163099,5.9416680718523596,22.826042066263501]
["CDIHCAI202401Grampian",14,138503,10.1080843014231,5.5214981991322896,16.960777663604901]
["CDIHCAI202401Greater Glasgow & Clyde",58,457584,12.675268366026801,9.6242413550593398,16.3860878793061]
["CDIHCAI202401Highland",20,81678,24.4863978060188,14.9505532877587,37.819356297011304]
["CDIHCAI202401Lanarkshire",28,155401,18.017902072702199,11.9700269158898,26.042015016001201]
["CDIHCAI202401Lothian",29,243801,11.8949471085024,7.9645230106795699,17.083848421291599]
["CDIHCAI202401Golden Jubilee",0,13449,0,0,27.274128131871599]
["CDIHCAI202401Orkney",0,2994,0,0,122.514946307796]
["CDIHCAI202401Shetland",3,2362,127.01100762066,25.527145086855299,371.10439967988799]
["CDIHCAI202401Tayside",6,120867,4.9641341309042204,1.81268728493607,10.8051786415463]
["CDIHCAI202401Western Isles",0,7187,0,0,51.037950361143999]
["ECBHCAI202401Ayrshire & Arran",49,115754,42.331150543393697,31.314135531855499,55.965493608682102]
["ECBHCAI202401Borders",11,32575,33.7682271680737,16.8338145786363,60.424898355836802]
["ECBHCAI202401Dumfries & Galloway",13,46826,27.7623542476402,14.7677693872304,47.4777056149412]
["ECBHCAI202401Fife",38,91157,41.686321401538002,29.495806347074399,57.2196391445529]
["ECBHCAI202401Forth Valley",41,80573,50.885532374368601,36.512090248967098,69.034114687259603]
["ECBHCAI202401Grampian",44,138503,31.768264947329701,23.0804937556106,42.648652645993501]
["ECBHCAI202401Greater Glasgow & Clyde",144,457584,31.469631805307898,26.539282853881101,37.0500282917153]
["ECBHCAI202401Highland",13,81678,15.916158573912201,8.46636265979153,27.218970140371201]
["ECBHCAI202401Lanarkshire",62,155401,39.896783160983503,30.586866250647802,51.146939142856503]
["ECBHCAI202401Lothian",79,243801,32.403476605920403,25.653135288003799,40.385057158748197]
["ECBHCAI202401Golden Jubilee",2,13449,14.870994125957299,1.67011194188595,53.691583303628299]
["ECBHCAI202401Orkney",2,2994,66.800267201068806,7.5021160676099301,241.18173141299101]
["ECBHCAI202401Shetland",3,2362,127.01100762066,25.527145086855299,371.10439967988799]
["ECBHCAI202401Tayside",59,120867,48.8139856205581,37.157135729304699,62.967860978200399]
["ECBHCAI202401Western Isles",5,7187,69.570057047446795,22.419783794552298,162.35288117350399]
["SABHCAI202401Ayrshire & Arran",20,115754,17.2780206299566,10.549365822671801,26.685983928220999]
["SABHCAI202401Borders",2,32575,6.1396776669224904,0.68952679989022603,22.1672480076898]
["SABHCAI202401Dumfries & Galloway",10,46826,21.3556571135694,10.223765035522099,39.276527728293097]
["SABHCAI202401Fife",12,91157,13.1641014952225,6.7942446195812103,22.996628476265698]
["SABHCAI202401Forth Valley",16,80573,19.857768731460901,11.3430178104301,32.249804817310903]
["SABHCAI202401Grampian",32,138503,23.104192688967,15.8004085271187,32.617491887003901]
["SABHCAI202401Greater Glasgow & Clyde",67,457584,14.6421203538585,11.346864249120699,18.595332985429099]
["SABHCAI202401Highland",13,81678,15.916158573912201,8.46636265979153,27.218970140371201]
["SABHCAI202401Lanarkshire",32,155401,20.5918880830883,14.0823030883426,29.070729781827001]
["SABHCAI202401Lothian",34,243801,13.945800058244201,9.6563125989476095,19.488574996405301]
["SABHCAI202401Golden Jubilee",1,13449,7.4354970629786603,9.7182946172406998E-2,41.370037396349701]
["SABHCAI202401Orkney",0,2994,0,0,122.514946307796]
["SABHCAI202401Shetland",3,2362,127.01100762066,25.527145086855299,371.10439967988799]
["SABHCAI202401Tayside",28,120867,23.165959277553,15.3900911974004,33.482713854911701]
["SABHCAI202401Western Isles",1,7187,13.914011409489399,0.181857999592695,77.415560448519102]
["CDIHCAI202402Ayrshire & Arran",25,113391,22.0476051891244,14.264034374472701,32.548158710096601]
["CDIHCAI202402Borders",3,32316,9.2833271444485703,1.8657976449793301,27.124291126497599]
["CDIHCAI202402Dumfries & Galloway",8,46741,17.115594445989601,7.3696167468811398,33.726615801932397]
["CDIHCAI202402Fife",8,87541,9.1385750676825701,3.9348791579485201,18.007742077405101]
["CDIHCAI202402Forth Valley",17,79119,21.486621418369801,12.5094775871494,34.404265369399099]
["CDIHCAI202402Grampian",15,138962,10.7943178710727,6.0370240257922498,17.804740855277998]
["CDIHCAI202402Greater Glasgow & Clyde",83,446145,18.6038171446503,14.817301161542201,23.062587150037299]
["CDIHCAI202402Highland",21,79823,26.3082069077835,16.278862811785,40.217052233185598]
["CDIHCAI202402Lanarkshire",36,153774,23.410979749502498,16.394369291602999,32.411797807964099]
["CDIHCAI202402Lothian",39,238465,16.354601304174601,11.628245063328199,22.358005668055402]
["CDIHCAI202402Golden Jubilee",2,15094,13.250298131708,1.48809695948219,47.8400757818005]
["CDIHCAI202402Orkney",0,3134,0,0,117.042038687154]
["CDIHCAI202402Shetland",1,2439,41.000410004099997,0.53588087046851196,228.120390710745]
["CDIHCAI202402Tayside",8,114763,6.9708878297012102,3.001518401976,13.7362717007931]
["CDIHCAI202402Western Isles",0,6569,0,0,55.839511226296501]
["ECBHCAI202402Ayrshire & Arran",55,113391,48.504731416073597,36.5378247825751,63.137054206124198]
["ECBHCAI202402Borders",18,32316,55.699962866691401,32.994142182450503,88.035169515842099]
["ECBHCAI202402Dumfries & Galloway",23,46741,49.207334032220103,31.182994044479301,73.838888923806905]
["ECBHCAI202402Fife",45,87541,51.404484755714499,37.491070172888598,68.785202341428302]
["ECBHCAI202402Forth Valley",32,79119,40.445405022813702,27.659651692153901,57.099059376707203]
["ECBHCAI202402Grampian",59,138962,42.457650292885802,32.318702409247599,54.7684723366974]
["ECBHCAI202402Greater Glasgow & Clyde",157,446145,35.1903529121698,29.900658400516001,41.146017304516597]
["ECBHCAI202402Highland",23,79823,28.8137504228105,18.259453097891701,43.236955604119899]
["ECBHCAI202402Lanarkshire",57,153774,37.067384603378997,28.072609638345501,48.026182256785297]
["ECBHCAI202402Lothian",65,238465,27.257668840291,21.035767684552301,34.7428255825333]
["ECBHCAI202402Golden Jubilee",6,15094,39.7508943951239,14.515309001481899,86.523752939431304]
["ECBHCAI202402Orkney",3,3134,95.724313975749794,19.239028939104099,279.69004213270398]
["ECBHCAI202402Shetland",4,2439,164.00164001639999,44.121377186337,419.88038628695102]
["ECBHCAI202402Tayside",62,114763,54.0243806801844,41.417787982336797,69.258258234265696]
["ECBHCAI202402Western Isles",5,6569,76.115086010047193,24.528997736557699,177.62675551742601]
["SABHCAI202402Ayrshire & Arran",20,113391,17.638084151299498,10.769208239080299,27.242103726285901]
["SABHCAI202402Borders",6,32316,18.566654288897102,6.7797398832890199,40.413093417123903]
["SABHCAI202402Dumfries & Galloway",5,46741,10.6972465287435,3.4473157641352898,24.963739693074]
["SABHCAI202402Fife",18,87541,20.5617939022858,12.179877985950201,32.498424030727897]
["SABHCAI202402Forth Valley",8,79119,10.111351255703401,4.3537362247497002,19.924616706456401]
["SABHCAI202402Grampian",21,138962,15.1120450195017,9.3509568531333507,23.101608788082899]
["SABHCAI202402Greater Glasgow & Clyde",83,446145,18.6038171446503,14.817301161542201,23.062587150037299]
["SABHCAI202402Highland",7,79823,8.7694023025944894,3.5132466840114001,18.0692450274835]
["SABHCAI202402Lanarkshire",32,153774,20.8097597773356,14.2313003643758,29.378311540479501]
["SABHCAI202402Lothian",34,238465,14.2578575472292,9.8723865889586602,19.924660108186099]
["SABHCAI202402Golden Jubilee",5,15094,33.125745329269897,10.675168022488901,77.304237246188606]
["SABHCAI202402Orkney",0,3134,0,0,117.042038687154]
["SABHCAI202402Shetland",0,2439,0,0,150.393501125683]
["SABHCAI202402Tayside",29,114763,25.269468382666901,16.9197273905936,36.292701732782398]
["SABHCAI202402Western Isles",2,6569,30.446034404018899,3.4192929679440001,109.925118564545]
["CDIHCAI202403Ayrshire & Arran",23,115071,19.987659792649801,12.6663044957723,29.992817540367799]
["CDIHCAI202403Borders",4,31520,12.690355329949201,3.4140875303767801,32.490109839907198]
["CDIHCAI202403Dumfries & Galloway",16,45576,35.106196243637001,20.053119493588301,57.013856493443697]
["CDIHCAI202403Fife",13,87254,14.899030416943599,7.9253165393730098,25.479531518615101]
["CDIHCAI202403Forth Valley",17,76661,22.175552106025201,12.910571962505999,35.507377568274499]
["CDIHCAI202403Golden Jubilee",0,13932,0,0,26.328578039444601]
["CDIHCAI202403Grampian",27,136151,19.830923019294801,13.065510186540401,28.854240888997101]
["CDIHCAI202403Greater Glasgow & Clyde",84,445305,18.8634755953784,15.0457134661736,23.354623214241801]
["CDIHCAI202403Highland",24,79723,30.104235916862098,19.2825029097746,44.794908417033199]
["CDIHCAI202403Lanarkshire",26,151820,17.125543406665798,11.1840452984653,25.094043984848401]
["CDIHCAI202403Lothian",35,240671,14.542674439379899,10.127951878365501,20.226065265471998]
["CDIHCAI202403Orkney",0,3015,0,0,121.661608373314]
["CDIHCAI202403Shetland",2,2632,75.987841945288693,8.5339420617113007,274.35338292192102]
["CDIHCAI202403Tayside",13,115907,11.2158886003434,5.9661243007450198,19.180817751518401]
["CDIHCAI202403Western Isles",1,7220,13.8504155124654,0.18102679266934901,77.061722014336198]
["ECBHCAI202403Ayrshire & Arran",45,115071,39.1062908986626,28.521571673183001,52.328783083235301]
["ECBHCAI202403Borders",11,31520,34.898477157360396,17.397256024716999,62.447368779866203]
["ECBHCAI202403Dumfries & Galloway",31,45576,68.018255222046704,46.206307039216298,96.550332896092598]
["ECBHCAI202403Fife",32,87254,36.674536410938202,25.08084422756,51.775511481716599]
["ECBHCAI202403Forth Valley",46,76661,60.004435110421198,43.926597456773301,80.039738016566801]
["ECBHCAI202403Golden Jubilee",1,13932,7.1777203560149303,9.3813769959280896E-2,39.935804833728596]
["ECBHCAI202403Grampian",46,136151,33.786016995835503,24.733251225725098,45.067067859127199]
["ECBHCAI202403Greater Glasgow & Clyde",170,445305,38.176081562075403,32.652522119712003,44.366207247647601]
["ECBHCAI202403Highland",22,79723,27.595549590457001,17.2878203915818,41.782170611590203]
["ECBHCAI202403Lanarkshire",63,151820,41.496509023843998,31.885261044597002,53.093147806598999]
["ECBHCAI202403Lothian",85,240671,35.317923638494001,28.209721310930799,43.671818781396397]
["ECBHCAI202403Orkney",2,3015,66.334991708125997,7.4498625228604096,239.50185865688101]
["ECBHCAI202403Shetland",4,2632,151.97568389057699,40.8860330385547,389.09128501287]
["ECBHCAI202403Tayside",56,115907,48.314597047633001,36.4938297601866,62.741966941424899]
["ECBHCAI202403Western Isles",4,7220,55.4016620498615,14.9047145370465,141.840479522697]
["SABHCAI202403Ayrshire & Arran",38,115071,33.023090092203901,23.3660020264034,45.328281195957302]
["SABHCAI202403Borders",4,31520,12.690355329949201,3.4140875303767801,32.490109839907198]
["SABHCAI202403Dumfries & Galloway",10,45576,21.941372652273099,10.5041693337142,40.353753892510397]
["SABHCAI202403Fife",5,87254,5.7303963142090897,1.84668881806504,13.372798461892501]
["SABHCAI202403Forth Valley",16,76661,20.871107864494299,11.9218504068533,33.895507801165998]
["SABHCAI202403Golden Jubilee",3,13932,21.533161068044802,4.3278148647108896,62.916206721496998]
["SABHCAI202403Grampian",25,136151,18.361965758606299,11.8795537436804,27.107169718155301]
["SABHCAI202403Greater Glasgow & Clyde",87,445305,19.537171152356201,15.647948175222799,24.099383658201699]
["SABHCAI202403Highland",7,79723,8.7804021424181204,3.51765350097013,18.091910061448001]
["SABHCAI202403Lanarkshire",28,151820,18.4428928994862,12.2523656485061,26.656271739570599]
["SABHCAI202403Lothian",51,240671,21.190754183096399,15.776645223540999,27.862631123276799]
["SABHCAI202403Orkney",0,3015,0,0,121.661608373314]
["SABHCAI202403Shetland",2,2632,75.987841945288693,8.5339420617113007,274.35338292192102]
["SABHCAI202403Tayside",33,115907,28.471101831640901,19.594859880158499,39.9855229603995]
["SABHCAI202403Western Isles",4,7220,55.4016620498615,14.9047145370465,141.840479522697]
["CDIHCAI202404Ayrshire & Arran",22,113807,19.330972611526501,12.110299938299701,29.268849786637102]
["CDIHCAI202404Borders",2,32816,6.0945880058507997,0.68446292986421597,22.004452213874199]
["CDIHCAI202404Dumfries & Galloway",13,45999,28.261483945303201,15.033273969574401,48.3312907481736]
["CDIHCAI202404Fife",12,87802,13.667114644313299,7.0538593287984899,23.875352064998001]
["CDIHCAI202404Forth Valley",13,74129,17.536996317230798,9.3285430712197996,29.990840873682899]
["CDIHCAI202404Golden Jubilee",0,14271,0,0,25.703156698587499]
["CDIHCAI202404Grampian",28,138657,20.1937154272774,13.4155084327239,29.186807557509599]
["CDIHCAI202404Greater Glasgow & Clyde",85,447530,18.993140124684398,15.1705178147231,23.485666431160901]
["CDIHCAI202404Highland",21,81004,25.924645696508801,16.0415246929178,39.630706636827497]
["CDIHCAI202404Lanarkshire",28,152943,18.307474026271201,12.162401370158801,26.4605452717784]
["CDIHCAI202404Lothian",45,240748,18.691744064332799,13.632535987858001,25.0117359154426]
["CDIHCAI202404Orkney",0,3121,0,0,117.52955759229199]
["CDIHCAI202404Shetland",2,2570,77.821011673151801,8.7398192632000509,280.97202484455102]
["CDIHCAI202404Tayside",9,118339,7.6052696068075596,3.4703867562867399,14.438134056173601]
["CDIHCAI202404Western Isles",2,6550,30.534351145038201,3.4292115276983401,110.24398532068599]
["ECBHCAI202404Ayrshire & Arran",49,113807,43.055348089309099,31.8498549680987,56.922946279046002]
["ECBHCAI202404Borders",12,32816,36.5675280351048,18.8732007797161,63.880535775565399]
["ECBHCAI202404Dumfries & Galloway",17,45999,36.9573251592426,21.516497254672299,59.175874948618201]
["ECBHCAI202404Fife",30,87802,34.167786610783402,23.048207746742499,48.778639079778102]
["ECBHCAI202404Forth Valley",34,74129,45.865990368142,31.758403161192302,64.095483180652707]
["ECBHCAI202404Golden Jubilee",0,14271,0,0,25.703156698587499]
["ECBHCAI202404Grampian",42,138657,30.290573140916099,21.8283459021611,40.945298811561997]
["ECBHCAI202404Greater Glasgow & Clyde",173,447530,38.656626371416401,33.110343084240299,44.866020858983703]
["ECBHCAI202404Highland",23,81004,28.393659572366801,17.993238909597199,42.606581245218301]
["ECBHCAI202404Lanarkshire",53,152943,34.653432978299101,25.955851430753,45.328644824159802]
["ECBHCAI202404Lothian",86,240748,35.721999767391601,28.572012687318001,44.117037152269098]
["ECBHCAI202404Orkney",1,3121,32.041012495994899,0.41878034061925701,178.271590177349]
["ECBHCAI202404Shetland",1,2570,38.910505836575901,0.50856554205163496,216.49246418035301]
["ECBHCAI202404Tayside",52,118339,43.941557728221497,32.815114350677703,57.624933184425501]
["ECBHCAI202404Western Isles",3,6550,45.801526717557302,9.2053613275041393,133.82421252578601]
["SABHCAI202404Ayrshire & Arran",31,113807,27.239097770787399,18.504122326564499,38.665266390224801]
["SABHCAI202404Borders",9,32816,27.4256460263286,12.5146909541753,52.065893042221099]
["SABHCAI202404Dumfries & Galloway",9,45999,19.565642731363699,8.9280657916958202,37.144162831225202]
["SABHCAI202404Fife",17,87802,19.3617457461106,11.2723782740447,31.001925602622801]
["SABHCAI202404Forth Valley",14,74129,18.885996033940799,10.316395271410901,31.6896031073166]
["SABHCAI202404Golden Jubilee",1,14271,7.0072174339569804,9.1585273847151705E-2,38.987151071649301]
["SABHCAI202404Grampian",30,138657,21.636123672082899,14.594854472399399,30.888177794721301]
["SABHCAI202404Greater Glasgow & Clyde",76,447530,16.982101758541301,13.3794086334469,21.255992489309801]
["SABHCAI202404Highland",7,81004,8.6415485655029407,3.4620252093457302,17.805803982875101]
["SABHCAI202404Lanarkshire",26,152943,16.999797310108999,11.1019252742067,24.909788338006202]
["SABHCAI202404Lothian",40,240748,16.6148836127403,11.868475686930701,22.625474777072299]
["SABHCAI202404Orkney",0,3121,0,0,117.52955759229199]
["SABHCAI202404Shetland",0,2570,0,0,142.72752888931601]
["SABHCAI202404Tayside",25,118339,21.125748907798801,13.667625396157099,31.187252421404299]
["SABHCAI202404Western Isles",2,6550,30.534351145038201,3.4292115276983401,110.24398532068599]
["CDIHCAI202501Ayrshire & Arran",19,116613,16.2932091619288,9.8049691346660097,25.4453240911986]
["CDIHCAI202501Borders",9,30581,29.430038259049699,13.4293220742362,55.871107749044398]
["CDIHCAI202501Dumfries & Galloway",7,46414,15.0816563967768,6.0420969978420702,31.075566549506998]
["CDIHCAI202501Fife",13,88403,14.7053833014717,7.8223088506776097,25.148366493504]
["CDIHCAI202501Forth Valley",11,75436,14.581897237393299,7.2692283511728899,26.092861020486001]
["CDIHCAI202501Golden Jubilee",0,14158,0,0,25.908302673085299]
["CDIHCAI202501Grampian",15,138812,10.8059821917413,6.04354762320364,17.8239806265391]
["CDIHCAI202501Greater Glasgow & Clyde",51,447595,11.394229158055801,8.4830728283265593,14.9816849944038]
["CDIHCAI202501Highland",13,80185,16.212508573922801,8.6240016128509396,27.7257721908741]
["CDIHCAI202501Lanarkshire",26,150120,17.3194777511324,11.3106964908939,25.3782158125479]
["CDIHCAI202501Lothian",29,234752,12.3534623773173,8.2715319764120903,17.742380592963301]
["CDIHCAI202501Orkney",1,3307,30.2388872089507,0.395226320856577,168.24482399259401]
["CDIHCAI202501Shetland",0,2977,0,0,123.214561385805]
["CDIHCAI202501Tayside",13,116400,11.1683848797251,5.9408554065846504,19.099579408292399]
["CDIHCAI202501Western Isles",1,6446,15.5134967421657,0.20276348791075099,86.314867040568899]
["ECBHCAI202501Ayrshire & Arran",49,116613,42.019328891290002,31.0834679182801,55.553238036748802]
["ECBHCAI202501Borders",6,30581,19.620025506033201,7.1643855357368302,42.705913046263198]
["ECBHCAI202501Dumfries & Galloway",15,46414,32.317835135950403,18.074652748570301,53.3068125723088]
["ECBHCAI202501Fife",37,88403,41.853783242650103,29.4648271505338,57.691895893794303]
["ECBHCAI202501Forth Valley",29,75436,38.443183625854999,25.740477683422899,55.213151929573499]
["ECBHCAI202501Golden Jubilee",1,14158,7.0631445119367102,9.23162482746646E-2,39.2983212984537]
["ECBHCAI202501Grampian",45,138812,32.417946575224001,23.643530631392402,43.378997479835803]
["ECBHCAI202501Greater Glasgow & Clyde",170,447595,37.980763860186102,32.485464231098099,44.139219424733803]
["ECBHCAI202501Highland",21,80185,26.189436927106101,16.205370907590101,40.035489934645803]
["ECBHCAI202501Lanarkshire",76,150120,50.6261657340794,39.886002835908002,63.367268310290498]
["ECBHCAI202501Lothian",93,234752,39.6162758996728,31.974480757326901,48.533282404241497]
["ECBHCAI202501Orkney",1,3307,30.2388872089507,0.395226320856577,168.24482399259401]
["ECBHCAI202501Shetland",3,2977,100.772589855559,20.253650216712199,294.44023918169199]
["ECBHCAI202501Tayside",51,116400,43.814432989690701,32.620111534319797,57.609341022939503]
["ECBHCAI202501Western Isles",7,6446,108.59447719516,43.505722937921497,223.75757769606199]
["SABHCAI202501Ayrshire & Arran",32,116613,27.441194377985301,18.766380954366301,38.740281776694701]
["SABHCAI202501Borders",6,30581,19.620025506033201,7.1643855357368302,42.705913046263198]
["SABHCAI202501Dumfries & Galloway",5,46414,10.772611711983499,3.4716030967261502,25.139616430257501]
["SABHCAI202501Fife",10,88403,11.311833308824401,5.4154046984079702,20.804301747735401]
["SABHCAI202501Forth Valley",16,75436,21.2100323452993,12.115448513173799,34.445934614046202]
["SABHCAI202501Golden Jubilee",2,14158,14.126289023873399,1.5864765861296899,51.002832592915397]
["SABHCAI202501Grampian",31,138812,22.332363196265501,15.1708688702657,31.700270668762901]
["SABHCAI202501Greater Glasgow & Clyde",85,447595,18.9903819300931,15.1683147435138,23.482255829349]
["SABHCAI202501Highland",17,80185,21.200972750514399,12.343173376787099,33.946886222628798]
["SABHCAI202501Lanarkshire",27,150120,17.985611510791401,11.8497353944023,26.169289576857501]
["SABHCAI202501Lothian",31,234752,13.2054252998909,8.9707378408674803,18.744794387576299]
["SABHCAI202501Orkney",0,3307,0,0,110.919186345794]
["SABHCAI202501Shetland",4,2977,134.363453140746,36.147812884607298,344.00008805975]
["SABHCAI202501Tayside",16,116400,13.745704467354001,7.8517265810977701,22.323569789907101]
["SABHCAI202501Western Isles",1,6446,15.5134967421657,0.20276348791075099,86.314867040568899]
["CDIHCAI202502Ayrshire & Arran",25,115390,21.6656556027385,14.0169262653248,31.9842990232825]
["CDIHCAI202502Borders",4,27963,14.3046168150771,3.8483724549396001,36.622975437323397]
["CDIHCAI202502Dumfries & Galloway",8,42839,18.674572235579699,8.0408799543866891,36.798612227132402]
["CDIHCAI202502Fife",11,85393,12.881617931212199,6.42162132609322,23.050379585462299]
["CDIHCAI202502Forth Valley",6,76932,7.7990953049446299,2.84789260734633,16.975894645502201]
["CDIHCAI202502Golden Jubilee",3,15068,19.9097425006637,4.0015341581598198,58.172855856377502]
["CDIHCAI202502Grampian",15,142007,10.562859577344801,5.9075745045817696,17.422960831023399]
["CDIHCAI202502Greater Glasgow & Clyde",46,440445,10.443982790132701,7.6455786480348298,13.9311976661968]
["CDIHCAI202502Highland",15,77823,19.274507536332401,10.779807160764101,31.792431527069599]
["CDIHCAI202502Lanarkshire",28,149520,18.726591760299598,12.4408383678183,27.066313372803702]
["CDIHCAI202502Lothian",41,227037,18.058730515290499,12.9577498276934,24.4994680281036]
["CDIHCAI202502Orkney",0,3101,0,0,118.287568282987]
["CDIHCAI202502Shetland",2,2738,73.0460189919649,8.2035556999357695,263.73195903962602]
["CDIHCAI202502Tayside",9,112791,7.9793600553235597,3.64108925669793,15.148321639789801]
["CDIHCAI202502Western Isles",0,6530,0,0,56.1730090728242]
["ECBHCAI202502Ayrshire & Arran",47,115390,40.731432533148499,29.925172640752699,54.165649137817503]
["ECBHCAI202502Borders",16,27963,57.218467260308302,32.683938563093399,92.925062530672307]
["ECBHCAI202502Dumfries & Galloway",22,42839,51.3550736478443,32.172480802027899,77.756249858022102]
["ECBHCAI202502Fife",44,85393,51.526471724848598,37.435359182056303,69.173894082981505]
["ECBHCAI202502Forth Valley",38,76932,49.3942702646493,34.9496856858039,67.799753620080196]
["ECBHCAI202502Golden Jubilee",3,15068,19.9097425006637,4.0015341581598198,58.172855856377502]
["ECBHCAI202502Grampian",68,142007,47.884963417296298,37.182699087934601,60.706751709565097]
["ECBHCAI202502Greater Glasgow & Clyde",191,440445,43.365232889464103,37.432650637286201,49.970804502187796]
["ECBHCAI202502Highland",19,77823,24.414376212687799,14.6921458399292,38.128260003430199]
["ECBHCAI202502Lanarkshire",69,149520,46.147672552166902,35.903900454754996,58.403923730849499]
["ECBHCAI202502Lothian",92,227037,40.522029448944402,32.6654705200447,49.697363554826502]
["ECBHCAI202502Orkney",1,3101,32.247662044501801,0.42148127799829099,179.42135857578401]
["ECBHCAI202502Shetland",6,2738,219.13805697589501,80.019749477124904,476.98667891445399]
["ECBHCAI202502Tayside",49,112791,43.443182523428298,32.1367524390634,57.435697415391203]
["ECBHCAI202502Western Isles",7,6530,107.197549770291,42.9460781099298,220.87922600747601]
["SABHCAI202502Ayrshire & Arran",28,115390,24.2655342750672,16.120583696647898,35.071974828855303]
["SABHCAI202502Borders",8,27963,28.609233630154101,12.3185372229722,56.375058083829501]
["SABHCAI202502Dumfries & Galloway",5,42839,11.6716076472373,3.7613152998773902,27.237567566795899]
["SABHCAI202502Fife",10,85393,11.710561755647401,5.6062911661770896,21.537628229539301]
["SABHCAI202502Forth Valley",16,76932,20.7975874798523,11.8798545993836,33.776107777585302]
["SABHCAI202502Golden Jubilee",2,15068,13.2731616671091,1.49066468717973,47.922624359602899]
["SABHCAI202502Grampian",27,142007,19.013147239220601,12.526722467256301,27.664366906404901]
["SABHCAI202502Greater Glasgow & Clyde",97,440445,22.023181100932,17.858810311048199,26.8667673586714]
["SABHCAI202502Highland",18,77823,23.129409043598901,13.700817223289601,36.556603293036197]
["SABHCAI202502Lanarkshire",37,149520,24.745853397538799,17.4209411088057,34.110063354060301]
["SABHCAI202502Lothian",32,227037,14.094618938763301,9.6389750667579399,19.898168487187998]
["SABHCAI202502Orkney",2,3101,64.495324089003503,7.2432555647933299,232.85975615946401]
["SABHCAI202502Shetland",2,2738,73.0460189919649,8.2035556999357695,263.73195903962602]
["SABHCAI202502Tayside",17,112791,15.072124548944499,8.7749674816046497,24.133406670403598]
["SABHCAI202502Western Isles",2,6530,30.627871362940301,3.43971447265301,110.58163918078]
["CDIHCAI202503Ayrshire & Arran",26,113721,22.862971658708599,14.9309428972046,33.501092654651998]
["CDIHCAI202503Borders",2,27979,7.1482183065870801,0.80279264828707697,25.808574425479701]
["CDIHCAI202503Dumfries & Galloway",10,42682,23.4290801743124,11.2163914894654,43.089890056816699]
["CDIHCAI202503Fife",11,86778,12.6760238770195,6.3191305388356298,22.6824893860354]
["CDIHCAI202503Forth Valley",9,70023,12.8529197549377,5.8649600610116099,24.400473359803598]
["CDIHCAI202503Golden Jubilee",4,15428,25.926886180969699,6.97511271438138,66.378549530326296]
["CDIHCAI202503Grampian",14,140963,9.9316842008186494,5.4251403919781804,16.6647885526151]
["CDIHCAI202503Greater Glasgow & Clyde",72,443010,16.2524547978601,12.7159685504793,20.4676431044239]
["CDIHCAI202503Highland",20,80900,24.721878862793599,15.0943299312429,38.183057894033197]
["CDIHCAI202503Lanarkshire",16,149640,10.692328254477401,6.1075980622813502,17.364765594394498]
["CDIHCAI202503Lothian",44,225602,19.503373197046098,14.1697220176831,26.183129304828999]
["CDIHCAI202503Orkney",0,3585,0,0,102.31792168634399]
["CDIHCAI202503Shetland",1,2865,34.9040139616056,0.45620015465015801,194.20091900296899]
["CDIHCAI202503Tayside",16,113347,14.115944841945501,8.0632127364621997,22.924854857607102]
["CDIHCAI202503Western Isles",1,6800,14.705882352941201,0.19220785927539699,81.821416609339295]
["ECBHCAI202503Ayrshire & Arran",56,113721,49.243323572603103,37.195331785808698,63.9480233402778]
["ECBHCAI202503Borders",12,27979,42.889309839522497,22.135993308808899,74.9241810647612]
["ECBHCAI202503Dumfries & Galloway",23,42682,53.886884400918397,34.148454257837201,80.860866575785096]
["ECBHCAI202503Fife",37,86778,42.637534859065703,30.016583864443,58.772231126542501]
["ECBHCAI202503Forth Valley",25,70023,35.702554874826802,23.098312293900999,52.706514492331998]
["ECBHCAI202503Golden Jubilee",3,15428,19.445164635727199,3.9081615695587302,56.815438945028298]
["ECBHCAI202503Grampian",40,140963,28.3762405737676,20.269941649065299,38.641613768369098]
["ECBHCAI202503Greater Glasgow & Clyde",190,443010,42.888422383241902,37.006222950220497,49.439755262710598]
["ECBHCAI202503Highland",18,80900,22.249690976514199,13.1797119748834,35.166187120815202]
["ECBHCAI202503Lanarkshire",92,149640,61.480887463245097,49.560748666529001,75.401900089529207]
["ECBHCAI202503Lothian",88,225602,39.006746394092303,31.2835202380212,48.058102626838199]
["ECBHCAI202503Orkney",3,3585,83.682008368200798,16.8187215328179,244.50448871517301]
["ECBHCAI202503Shetland",4,2865,139.616055846422,37.560921102085899,357.447910001352]
["ECBHCAI202503Tayside",63,113347,55.5815328151605,42.707970495828903,71.1143806187888]
["ECBHCAI202503Western Isles",4,6800,58.823529411764703,15.825299846687599,150.60121502262899]
["SABHCAI202503Ayrshire & Arran",24,113721,21.1042815311156,13.5178109537901,31.4030344767557]
["SABHCAI202503Borders",1,27979,3.5741091532935401,4.6714087103638502E-2,19.885829834644099]
["SABHCAI202503Dumfries & Galloway",8,42682,18.743264139449899,8.0704572505030594,36.933970976011501]
["SABHCAI202503Fife",7,86778,8.0665606490124198,3.2316703549037999,16.621048489580499]
["SABHCAI202503Forth Valley",10,70023,14.2810219499307,6.8368681940699503,26.265122708325102]
["SABHCAI202503Golden Jubilee",3,15428,19.445164635727199,3.9081615695587302,56.815438945028298]
["SABHCAI202503Grampian",28,140963,19.863368401637299,13.196045435725701,28.709343412821902]
["SABHCAI202503Greater Glasgow & Clyde",97,443010,21.8956682693393,17.755408924064,26.711210467687]
["SABHCAI202503Highland",11,80900,13.597033374536499,6.7782634103717996,24.330544671710499]
["SABHCAI202503Lanarkshire",38,149640,25.3942796043839,17.9681182784032,34.856793942127801]
["SABHCAI202503Lothian",45,225602,19.9466316787972,14.547768964835599,26.690922058186398]
["SABHCAI202503Orkney",1,3585,27.8940027894003,0.36457836626853601,155.198223973084]
["SABHCAI202503Shetland",1,2865,34.9040139616056,0.45620015465015801,194.20091900296899]
["SABHCAI202503Tayside",21,113347,18.527177605053499,11.4641557890823,28.3222825518944]
["SABHCAI202503Western Isles",1,6800,14.705882352941201,0.19220785927539699,81.821416609339295]
["CDIHCAI202504Ayrshire & Arran",19,113518,16.737433710953301,10.0722957213905,26.139075549665701]
["CDIHCAI202504Borders",4,28515,14.0277047168157,3.77387476617485,35.914019363628803]
["CDIHCAI202504Dumfries & Galloway",10,45121,22.162629374348999,10.610093339096199,40.760681000089797]
["CDIHCAI202504Fife",14,87270,16.042167984416199,8.7629662550065301,26.917825011370201]
["CDIHCAI202504Forth Valley",11,71662,15.349836733554699,7.6520542253785599,27.467012697683298]
["CDIHCAI202504Golden Jubilee",3,15298,19.610406589096598,3.94137251242987,57.2982476169366]
["CDIHCAI202504Grampian",14,140772,9.9451595487738995,5.4325012436735998,16.687399402880398]
["CDIHCAI202504Greater Glasgow & Clyde",63,442226,14.246109455346399,10.946485127040701,18.227335570495299]
["CDIHCAI202504Highland",8,81201,9.8520954175441204,4.2421060869443901,19.413747973524]
["CDIHCAI202504Lanarkshire",33,152145,21.689835354431601,14.927742772549401,30.461743795530801]
["CDIHCAI202504Lothian",28,227627,12.300825473252299,8.1719398522855293,17.778889039971599]
["CDIHCAI202504Orkney",1,3608,27.7161862527716,0.36225428023079298,154.208878310285]
["CDIHCAI202504Shetland",1,2775,36.036036036036002,0.47099583534151401,200.499327186849]
["CDIHCAI202504Tayside",11,115561,9.5187822881421909,4.7452125708420496,17.032918233152898]
["CDIHCAI202504Western Isles",1,7033,14.2186833499218,0.185840102811418,79.110711352695404]
["ECBHCAI202504Ayrshire & Arran",50,113518,44.0458781867193,32.688993510310802,58.070492684997703]
["ECBHCAI202504Borders",15,28515,52.603892688058899,29.420197533654001,86.767750262358007]
["ECBHCAI202504Dumfries & Galloway",20,45121,44.325258748697898,27.063480229550599,68.460570103217805]
["ECBHCAI202504Fife",30,87270,34.3760742523204,23.188710170499402,49.075994826202297]
["ECBHCAI202504Forth Valley",28,71662,39.072311685412103,25.957329585501299,56.472819283603698]
["ECBHCAI202504Golden Jubilee",3,15298,19.610406589096598,3.94137251242987,57.2982476169366]
["ECBHCAI202504Grampian",54,140772,38.359901116699298,28.815042667121499,50.052543917218102]
["ECBHCAI202504Greater Glasgow & Clyde",162,442226,36.632852885176398,31.208504601946601,42.728807970201899]
["ECBHCAI202504Highland",27,81201,33.250822034211403,21.9071474169982,48.380361710789799]
["ECBHCAI202504Lanarkshire",80,152145,52.581419041046402,41.692198400617698,65.443178778596405]
["ECBHCAI202504Lothian",93,227627,40.856313179016603,32.975320619891299,50.052432756046002]
["ECBHCAI202504Orkney",0,3608,0,0,101.665673294219]
["ECBHCAI202504Shetland",1,2775,36.036036036036002,0.47099583534151401,200.499327186849]
["ECBHCAI202504Tayside",60,115561,51.920630662593801,39.618492883629798,66.833579802542502]
["ECBHCAI202504Western Isles",2,7033,28.437366699843601,3.1937061718219999,102.672842862292]
["SABHCAI202504Ayrshire & Arran",26,113518,22.903856657094,14.9576433447823,33.5610014075273]
["SABHCAI202504Borders",6,28515,21.041557075223601,7.6834674405880401,45.800088615387601]
["SABHCAI202504Dumfries & Galloway",12,45121,26.595155249218799,13.726268406887399,46.459601117239302]
["SABHCAI202504Fife",16,87270,18.333906267904201,10.4725675952765,29.774991675778502]
["SABHCAI202504Forth Valley",11,71662,15.349836733554699,7.6520542253785599,27.467012697683298]
["SABHCAI202504Golden Jubilee",2,15298,13.073604392731101,1.46825307271696,47.202124712413202]
["SABHCAI202504Grampian",24,140772,17.048844940755298,10.920204156195499,25.368571049151399]
["SABHCAI202504Greater Glasgow & Clyde",79,442226,17.864168999561301,14.142678260325299,22.264446957799802]
["SABHCAI202504Highland",14,81201,17.2411669807022,9.4179143738922004,28.929675604269299]
["SABHCAI202504Lanarkshire",17,152145,11.1735515462224,6.5052243400550198,17.891032053379899]
["SABHCAI202504Lothian",41,227627,18.011923014405099,12.924163862942599,24.4359663954477]
["SABHCAI202504Orkney",0,3608,0,0,101.665673294219]
["SABHCAI202504Shetland",1,2775,36.036036036036002,0.47099583534151401,200.499327186849]
["SABHCAI202504Tayside",33,115561,28.556346864426601,19.653528648328798,40.105243202906102]
["SABHCAI202504Western Isles",0,7033,0,0,52.155516741865803]
["CDIHCAI202601Ayrshire & Arran",9,115764,7.7744376490100597,3.5475804080043498,14.759289123333]
["CDIHCAI202601Borders",4,27575,14.505893019039,3.90252181169451,37.138286932144098]
["CDIHCAI202601Dumfries & Galloway",6,46060,13.0264871906209,4.7567102489875799,28.354093071380301]
["CDIHCAI202601Fife",13,89068,14.5955898863789,7.7639058845651903,24.960603618866902]
["CDIHCAI202601Forth Valley",7,75254,9.3018311318999594,3.72655128043482,19.166308047795699]
["CDIHCAI202601Golden Jubilee",1,14660,6.8212824010914099,8.9155077972217001E-2,37.9526352621765]
["CDIHCAI202601Grampian",11,138666,7.9327304458194501,3.9545491317199502,14.194835532440401]
["CDIHCAI202601Greater Glasgow & Clyde",63,440504,14.301799756642399,10.9892766735165,18.298589116098501]
["CDIHCAI202601Highland",16,82700,19.347037484885099,11.051281427325,31.4203569957097]
["CDIHCAI202601Lanarkshire",39,152359,25.5974376308587,18.1999715082572,34.993678231235599]
["CDIHCAI202601Lothian",38,225358,16.8620594786961,11.9310129623988,23.145265069356299]
["CDIHCAI202601Orkney",0,3779,0,0,97.065294851955997]
["CDIHCAI202601Shetland",0,2654,0,0,138.21015419952599]
["CDIHCAI202601Tayside",7,118768,5.8938434595177096,2.3612243201690801,12.144191582150199]
["CDIHCAI202601Western Isles",0,6944,0,0,52.823984626374099]
["ECBHCAI202601Ayrshire & Arran",54,115764,46.6466258940603,35.039832645174897,60.865180127799903]
["ECBHCAI202601Borders",8,27575,29.011786038078,12.491867864586499,57.168295528490397]
["ECBHCAI202601Dumfries & Galloway",30,46060,65.132435953104604,43.935708566640898,92.984413123809702]
["ECBHCAI202601Fife",36,89068,40.418556608434002,28.304528488873299,55.958276778662103]
["ECBHCAI202601Forth Valley",28,75254,37.207324527599901,24.718342583200901,53.7772766298351]
["ECBHCAI202601Golden Jubilee",1,14660,6.8212824010914099,8.9155077972217001E-2,37.9526352621765]
["ECBHCAI202601Grampian",43,138666,31.009764470021501,22.439516862566698,41.7711901101884]
["ECBHCAI202601Greater Glasgow & Clyde",166,440504,37.68410729528,32.169034141517102,43.873208516548601]
["ECBHCAI202601Highland",17,82700,20.556227327690401,11.9678035939259,32.914523237744703]
["ECBHCAI202601Lanarkshire",62,152359,40.693362387519002,31.197563663563798,52.168138998937003]
["ECBHCAI202601Lothian",85,225358,37.717764623399198,30.1265623480109,46.639304120277302]
["ECBHCAI202601Orkney",0,3779,0,0,97.065294851955997]
["ECBHCAI202601Shetland",4,2654,150.71590052750599,40.547113397692499,385.86596162542401]
["ECBHCAI202601Tayside",69,118768,58.096456958103197,45.200316549870003,73.526157519168606]
["ECBHCAI202601Western Isles",6,6944,86.405529953917096,31.5515659660668,188.074528638793]
["SABHCAI202601Ayrshire & Arran",31,115764,26.778618568812401,18.191308607333202,38.011626862170601]
["SABHCAI202601Borders",6,27575,21.7588395285585,7.9453879988528699,47.361360901823197]
["SABHCAI202601Dumfries & Galloway",9,46060,19.5397307859314,8.9162418226707807,37.094970605156902]
["SABHCAI202601Fife",13,89068,14.5955898863789,7.7639058845651903,24.960603618866902]
["SABHCAI202601Forth Valley",15,75254,19.932495282642801,11.147805202011099,32.877752660737499]
["SABHCAI202601Golden Jubilee",2,14660,13.6425648021828,1.5321511259498,49.256350876568597]
["SABHCAI202601Grampian",29,138666,20.913562084433099,14.0031346871381,30.036629952254401]
["SABHCAI202601Greater Glasgow & Clyde",82,440504,18.615040953090102,14.804549267620301,23.106535996015101]
["SABHCAI202601Highland",11,82700,13.3010882708585,6.6307316795535503,23.800980216945401]
["SABHCAI202601Lanarkshire",20,152359,13.126891092748,8.0148287363237802,20.2745448816761]
["SABHCAI202601Lothian",40,225358,17.749536293364301,12.6789898058964,24.170598787842501]
["SABHCAI202601Orkney",1,3779,26.4620269912675,0.34586225008539301,147.230916365046]
["SABHCAI202601Shetland",0,2654,0,0,138.21015419952599]
["SABHCAI202601Tayside",31,118768,26.1013067492927,17.7311956892372,37.050198471577502]
["SABHCAI202601Western Isles",1,6944,14.400921658986199,0.188221982009318,80.124659122048797]
["SSICSEC201401Ayrshire & Arran",3,245,1.22448979591837,0.41728721193302398,3.5376785172698102]
["SSICSEC201401Borders",1,76,1.31578947368421,0.232642014056747,7.0838446294974897]
["SSICSEC201401Dumfries & Galloway",1,78,1.2820512820512799,0.22666733888537799,6.9110230288493701]
["SSICSEC201401Fife",10,196,5.1020408163265296,2.7945905632825698,9.1356581937329793]
["SSICSEC201401Forth Valley",4,195,2.0512820512820502,0.80051211290779101,5.1547809444806001]
["SSICSEC201401Grampian",4,429,0.93240093240093203,0.36316715369947999,2.3726142499364]
["SSICSEC201401Greater Glasgow & Clyde",15,1219,1.23051681706317,0.74710553167944205,2.02035020420655]
["SSICSEC201401Highland",3,141,2.12765957446809,0.72618123442535398,6.0685517704572201]
["SSICSEC201401Lanarkshire",3,362,0.82872928176795602,0.28222996329250799,2.40789603659378]
["SSICSEC201401Lothian",4,718,0.55710306406685195,0.21684994613967801,1.4236207610071501]
["SSICSEC201401Orkney",0,10,0,0,27.754016876661701]
["SSICSEC201401Shetland",1,6,16.6666666666667,3.00525858717302,56.350943656364599]
["SSICSEC201401Tayside",12,310,3.87096774193548,2.2279693230821498,6.6432574358943501]
["SSICSEC201401Western Isles",0,13,0,0,22.810184305529202]
["SSIHIP201401Ayrshire & Arran",0,113,0,0,3.2878700736723898]
["SSIHIP201401Borders",2,52,3.8461538461538498,1.06114883220776,12.981428744365999]
["SSIHIP201401Dumfries & Galloway",1,39,2.5641025641025599,0.45405860652373697,13.181286478627101]
["SSIHIP201401Fife",2,135,1.4814814814814801,0.40721180990761202,5.2406631785684601]
["SSIHIP201401Forth Valley",0,84,0,0,4.3733265332143301]
["SSIHIP201401Grampian",1,171,0.58479532163742698,0.10330277288595401,3.2377785258438698]
["SSIHIP201401Greater Glasgow & Clyde",2,453,0.44150110375275903,0.12115660502036001,1.5953245560647999]
["SSIHIP201401Highland",0,99,0,0,3.7354533573962301]
["SSIHIP201401Lanarkshire",0,111,0,0,3.3451292911279502]
["SSIHIP201401Lothian",2,289,0.69204152249134998,0.18998437512299901,2.48777725437226]
["SSIHIP201401Golden Jubilee",1,349,0.28653295128939799,5.0596719226339897E-2,1.60499037707976]
["SSIHIP201401Orkney",0,0,0,0,0]
["SSIHIP201401Shetland",0,0,0,0,0]
["SSIHIP201401Tayside",5,196,2.5510204081632701,1.0944401954660601,5.8318454227435597]
["SSIHIP201401Western Isles",0,15,0,0,20.388926630434799]
["SSICSEC201402Ayrshire & Arran",4,270,1.4814814814814801,0.57757844395600499,3.7466732402293101]
["SSICSEC201402Borders",1,74,1.35135135135135,0.238940187493933,7.2655304297595702]
["SSICSEC201402Dumfries & Galloway",2,54,3.7037037037037002,1.0216153585413099,12.5354093434033]
["SSICSEC201402Fife",6,221,2.71493212669683,1.25007267430123,5.7955985893795203]
["SSICSEC201402Forth Valley",3,203,1.47783251231527,0.50383780986007498,4.2541992581185104]
["SSICSEC201402Grampian",7,431,1.6241299303944301,0.78889685019011702,3.3141144532362299]
["SSICSEC201402Greater Glasgow & Clyde",12,1311,0.91533180778031997,0.52437153731209796,1.59311546644562]
["SSICSEC201402Highland",4,156,2.5641025641025599,1.0015304054574601,6.4068038454509404]
["SSICSEC201402Lanarkshire",5,364,1.3736263736263701,0.58811153842226904,3.1748125027954699]
["SSICSEC201402Lothian",3,654,0.45871559633027498,0.15612191580213,1.3399221166822901]
["SSICSEC201402Orkney",0,11,0,0,25.884001724881401]
["SSICSEC201402Shetland",3,13,23.076923076923102,8.1793790924657106,50.256873995126902]
["SSICSEC201402Tayside",8,326,2.4539877300613502,1.2485928555014201,4.7669006419834403]
["SSICSEC201402Western Isles",0,15,0,0,20.388926630434799]
["SSIHIP201402Ayrshire & Arran",0,143,0,0,2.6161523709902399]
["SSIHIP201402Borders",0,72,0,0,5.0652939811396402]
["SSIHIP201402Dumfries & Galloway",0,47,0,0,7.5560171198388701]
["SSIHIP201402Fife",1,135,0.74074074074074103,0.13087545613434901,4.0765090741505201]
["SSIHIP201402Forth Valley",1,70,1.4285714285714299,0.25261814032348701,7.6583697039269101]
["SSIHIP201402Grampian",0,218,0,0,1.73168603183533]
["SSIHIP201402Greater Glasgow & Clyde",4,404,0.99009900990098998,0.38567865538740198,2.51780151926864]
["SSIHIP201402Highland",1,91,1.0989010989011001,0.19424213233478901,5.9650803590613899]
["SSIHIP201402Lanarkshire",2,101,1.98019801980198,0.54472082927216703,6.9347529673887003]
["SSIHIP201402Lothian",1,269,0.37174721189591098,6.5650990890140606E-2,2.0753714924848299]
["SSIHIP201402Golden Jubilee",0,343,0,0,1.10759493670886]
["SSIHIP201402Orkney",0,1,0,0,79.345670852610695]
["SSIHIP201402Shetland",0,0,0,0,0]
["SSIHIP201402Tayside",3,195,1.5384615384615401,0.52456178146258703,4.4249055332240799]
["SSIHIP201402Western Isles",0,9,0,0,29.915275355095901]
["SSICSEC201403Ayrshire & Arran",1,297,0.336700336700337,5.94590937371186E-2,1.8822936425865799]
["SSICSEC201403Borders",1,50,2,0.35391680889764598,10.495686471837001]
["SSICSEC201403Dumfries & Galloway",1,69,1.4492753623188399,0.25628586443303802,7.7633073350573598]
["SSICSEC201403Fife",12,246,4.8780487804878003,2.8121334959833799,8.3315671527476507]
["SSICSEC201403Forth Valley",3,256,1.171875,0.39932148218063901,3.3882167718941498]
["SSICSEC201403Grampian",4,462,0.86580086580086602,0.33718801505305401,2.20479191975741]
["SSICSEC201403Greater Glasgow & Clyde",17,1386,1.2265512265512299,0.76719062554901896,1.9555369140497401]
["SSICSEC201403Highland",2,206,0.970873786407767,0.26664806235500899,3.47026587653985]
["SSICSEC201403Lanarkshire",7,413,1.6949152542372901,0.82337882258794903,3.4568081836993301]
["SSICSEC201403Lothian",6,785,0.76433121019108297,0.35075221935333301,1.65745830098434]
["SSICSEC201403Orkney",0,9,0,0,29.915275355095901]
["SSICSEC201403Shetland",0,10,0,0,27.754016876661701]
["SSICSEC201403Tayside",4,354,1.1299435028248599,0.44025902383201798,2.8689146440702]
["SSICSEC201403Western Isles",0,20,0,0,16.113012549493298]
["SSIHIP201403Ayrshire & Arran",0,122,0,0,3.0527266023318198]
["SSIHIP201403Borders",2,74,2.7027027027027,0.74431965623096896,9.32947122165438]
["SSIHIP201403Dumfries & Galloway",0,44,0,0,8.0298317782013999]
["SSIHIP201403Fife",1,161,0.62111801242235998,0.109724029448312,3.43404162194066]
["SSIHIP201403Forth Valley",1,72,1.3888888888888899,0.245588864043216,7.4567802842869897]
["SSIHIP201403Grampian",0,233,0,0,1.6220123491819001]
["SSIHIP201403Greater Glasgow & Clyde",6,425,1.4117647058823499,0.64857915345717798,3.0454654541555199]
["SSIHIP201403Highland",0,67,0,0,5.42280242117626]
["SSIHIP201403Lanarkshire",1,110,0.90909090909090895,0.16065339495988401,4.9706869937907996]
["SSIHIP201403Lothian",1,245,0.40816326530612201,7.2085356391811295E-2,2.2754321004964302]
["SSIHIP201403Golden Jubilee",0,354,0,0,1.0735476255415799]
["SSIHIP201403Orkney",0,1,0,0,79.345670852610695]
["SSIHIP201403Shetland",0,0,0,0,0]
["SSIHIP201403Tayside",4,202,1.98019801980198,0.77267650330660997,4.98009650273299]
["SSIHIP201403Western Isles",0,15,0,0,20.388926630434799]
["SSICSEC201404Ayrshire & Arran",11,312,3.52564102564103,1.97984531919845,6.20197746792015]
["SSICSEC201404Borders",0,56,0,0,6.4196144488115303]
["SSICSEC201404Dumfries & Galloway",1,67,1.4925373134328399,0.26395037576767799,7.9820519731346602]
["SSICSEC201404Fife",4,249,1.6064257028112401,0.62642498922162304,4.0569815388180697]
["SSICSEC201404Forth Valley",1,257,0.38910505836575898,6.8717882631641802E-2,2.1708021939205602]
["SSICSEC201404Grampian",11,427,2.5761124121779901,1.44441795919298,4.5535172448356001]
["SSICSEC201404Greater Glasgow & Clyde",18,1334,1.3493253373313301,0.85519128864661698,2.12285932661307]
["SSICSEC201404Highland",0,169,0,0,2.2226130746301802]
["SSICSEC201404Lanarkshire",4,386,1.03626943005181,0.40369574891110899,2.6338456525196299]
["SSICSEC201404Lothian",7,684,1.0233918128655,0.49659101092813501,2.09726199243776]
["SSICSEC201404Orkney",0,9,0,0,29.915275355095901]
["SSICSEC201404Shetland",0,11,0,0,25.884001724881401]
["SSICSEC201404Tayside",2,288,0.69444444444444398,0.19064476108571399,2.4962922622858699]
["SSICSEC201404Western Isles",2,12,16.6666666666667,4.69641476148223,44.8036357384673]
["SSIHIP201404Ayrshire & Arran",0,123,0,0,3.0286593672738298]
["SSIHIP201404Borders",1,69,1.4492753623188399,0.25628586443303802,7.7633073350573598]
["SSIHIP201404Dumfries & Galloway",0,32,0,0,10.7182715057364]
["SSIHIP201404Fife",0,156,0,0,2.4033793455521]
["SSIHIP201404Forth Valley",0,54,0,0,6.6415866781001904]
["SSIHIP201404Grampian",1,215,0.46511627906976699,8.2149568140425705E-2,2.5871783841318998]
["SSIHIP201404Greater Glasgow & Clyde",5,398,1.25628140703518,0.53776180001281704,2.9067795316959999]
["SSIHIP201404Highland",1,47,2.12765957446809,0.37656710104649899,11.1132365243311]
["SSIHIP201404Lanarkshire",2,98,2.0408163265306101,0.56144964757722804,7.1383508268850697]
["SSIHIP201404Lothian",1,255,0.39215686274509798,6.9257107940528403E-2,2.1875671428754102]
["SSIHIP201404Golden Jubilee",1,334,0.29940119760479,5.2869868475524398E-2,1.6762244763298499]
["SSIHIP201404Orkney",0,0,0,0,0]
["SSIHIP201404Shetland",0,0,0,0,0]
["SSIHIP201404Tayside",0,180,0,0,2.0896249815058199]
["SSIHIP201404Western Isles",0,13,0,0,22.810184305529202]
["SSICSEC201501Ayrshire & Arran",1,287,0.348432055749129,6.1531732199650899E-2,1.94698424350671]
["SSICSEC201501Borders",1,70,1.4285714285714299,0.25261814032348701,7.6583697039269101]
["SSICSEC201501Dumfries & Galloway",1,56,1.78571428571429,0.31591289644639903,9.4458581791932907]
["SSICSEC201501Fife",4,227,1.7621145374449301,0.68732064944395699,4.4424306605452299]
["SSICSEC201501Forth Valley",3,226,1.3274336283185799,0.452447424360158,3.8294580270463801]
["SSICSEC201501Grampian",8,396,2.0202020202020199,1.02713228654455,3.93523281003369]
["SSICSEC201501Greater Glasgow & Clyde",12,1265,0.94861660079051402,0.54346792533813404,1.65078547871167]
["SSICSEC201501Highland",1,138,0.72463768115941996,0.12802778322552699,3.99036907636996]
["SSICSEC201501Lanarkshire",3,352,0.85227272727272696,0.29025935712663797,2.4754656171315701]
["SSICSEC201501Lothian",6,626,0.95846645367412098,0.43998718910578999,2.0751848795540102]
["SSICSEC201501Orkney",0,13,0,0,22.810184305529202]
["SSICSEC201501Shetland",0,9,0,0,29.915275355095901]
["SSICSEC201501Tayside",7,288,2.4305555555555598,1.1822290962542099,4.9312242291113302]
["SSICSEC201501Western Isles",0,13,0,0,22.810184305529202]
["SSIHIP201501Ayrshire & Arran",0,55,0,0,6.5287143789427899]
["SSIHIP201501Borders",0,80,0,0,4.5819736264575104]
["SSIHIP201501Dumfries & Galloway",0,38,0,0,9.1812932583840006]
["SSIHIP201501Fife",1,134,0.74626865671641796,0.13185304171489001,4.10605481774118]
["SSIHIP201501Forth Valley",2,64,3.125,0.86119577125165903,10.6974938822942]
["SSIHIP201501Grampian",2,221,0.90497737556561098,0.24852407734474999,3.2390867562376502]
["SSIHIP201501Greater Glasgow & Clyde",1,341,0.29325513196480901,5.17841695886418E-2,1.6422109864482199]
["SSIHIP201501Highland",0,94,0,0,3.9263462576245698]
["SSIHIP201501Lanarkshire",2,95,2.1052631578947398,0.57923854515239204,7.3542631383492898]
["SSIHIP201501Lothian",1,212,0.47169811320754701,8.3312740725204906E-2,2.6231164184359601]
["SSIHIP201501Golden Jubilee",0,419,0,0,0.90851988073075096]
["SSIHIP201501Orkney",0,5,0,0,43.449149475208102]
["SSIHIP201501Shetland",0,0,0,0,0]
["SSIHIP201501Tayside",9,187,4.8128342245989302,2.5523878694331001,8.8924962648437091]
["SSIHIP201501Western Isles",0,14,0,0,21.531701192718099]
["SSICSEC201502Ayrshire & Arran",2,304,0.65789473684210498,0.18060048117778901,2.3666835765973802]
["SSICSEC201502Borders",1,74,1.35135135135135,0.238940187493933,7.2655304297595702]
["SSICSEC201502Dumfries & Galloway",0,70,0,0,5.2024874867283497]
["SSICSEC201502Fife",11,236,4.6610169491525397,2.6222520430890301,8.1521924235923109]
["SSICSEC201502Forth Valley",2,237,0.84388185654008396,0.231723870571898,3.02419205093004]
["SSICSEC201502Grampian",2,431,0.46403712296983801,0.12734542542699601,1.67597789966426]
["SSICSEC201502Greater Glasgow & Clyde",13,1353,0.96082779009608299,0.56236232912036099,1.63698061555351]
["SSICSEC201502Highland",3,155,1.93548387096774,0.66037571177800503,5.53548230022892]
["SSICSEC201502Lanarkshire",6,371,1.6172506738544501,0.74324385743815802,3.4829679611006599]
["SSICSEC201502Lothian",6,748,0.80213903743315496,0.36812606778199702,1.73891350012699]
["SSICSEC201502Orkney",0,10,0,0,27.754016876661701]
["SSICSEC201502Shetland",0,6,0,0,39.0343033653064]
["SSICSEC201502Tayside",10,355,2.8169014084507,1.5371278342861801,5.1069178950829901]
["SSICSEC201502Western Isles",0,8,0,0,32.441561951087699]
["SSIHIP201502Ayrshire & Arran",0,151,0,0,2.4809870215755998]
["SSIHIP201502Borders",2,79,2.5316455696202498,0.69702211647619094,8.7687535324731307]
["SSIHIP201502Dumfries & Galloway",0,42,0,0,8.3801612509161991]
["SSIHIP201502Fife",0,129,0,0,2.8918651988533699]
["SSIHIP201502Forth Valley",2,56,3.5714285714285698,0.98492185025776402,12.119005852210099]
["SSIHIP201502Grampian",2,252,0.79365079365079405,0.217913615768799,2.8471078662732099]
["SSIHIP201502Greater Glasgow & Clyde",5,392,1.27551020408163,0.54601098487603295,2.9507412513719999]
["SSIHIP201502Highland",1,88,1.13636363636364,0.20087336004305201,6.1596430072676203]
["SSIHIP201502Lanarkshire",1,116,0.86206896551724099,0.152334856469619,4.7220993967446203]
["SSIHIP201502Lothian",2,248,0.80645161290322598,0.22143279641083399,2.8922704202142202]
["SSIHIP201502Golden Jubilee",1,420,0.238095238095238,4.2040945772280798E-2,1.33620979695802]
["SSIHIP201502Orkney",0,2,0,0,65.7628047110381]
["SSIHIP201502Shetland",0,0,0,0,0]
["SSIHIP201502Tayside",2,164,1.2195121951219501,0.33506679012033402,4.3369573087919697]
["SSIHIP201502Western Isles",0,20,0,0,16.113012549493298]
["SSICSEC201503Ayrshire & Arran",1,297,0.336700336700337,5.94590937371186E-2,1.8822936425865799]
["SSICSEC201503Borders",0,79,0,0,4.63728368355995]
["SSICSEC201503Dumfries & Galloway",0,63,0,0,5.7473190348525502]
["SSICSEC201503Fife",6,249,2.4096385542168699,1.1089167193471401,5.1565079576047603]
["SSICSEC201503Forth Valley",8,253,3.1620553359683798,1.6107829176763,6.11444539424825]
["SSICSEC201503Grampian",6,470,1.27659574468085,0.58634510811342999,2.7568818267947801]
["SSICSEC201503Greater Glasgow & Clyde",15,1421,1.05559465165376,0.64073410153731103,1.7343790338456]
["SSICSEC201503Highland",4,182,2.1978021978022002,0.85790927107843096,5.5139687153358103]
["SSICSEC201503Lanarkshire",3,354,0.84745762711864403,0.28861713548616602,2.4616500218258999]
["SSICSEC201503Lothian",6,759,0.79051383399209496,0.36278369298365198,1.7138728501309299]
["SSICSEC201503Orkney",0,11,0,0,25.884001724881401]
["SSICSEC201503Shetland",0,10,0,0,27.754016876661701]
["SSICSEC201503Tayside",7,347,2.0172910662824202,0.98052467864097204,4.1048471814805199]
["SSICSEC201503Western Isles",0,16,0,0,19.361341827272]
["SSIHIP201503Ayrshire & Arran",0,130,0,0,2.8702585743147102]
["SSIHIP201503Borders",1,60,1.6666666666666701,0.29480838608736798,8.8553382267794802]
["SSIHIP201503Dumfries & Galloway",0,51,0,0,7.0049013887268101]
["SSIHIP201503Fife",0,135,0,0,2.7668940720936699]
["SSIHIP201503Forth Valley",1,58,1.72413793103448,0.30499598845417702,9.1410726772983306]
["SSIHIP201503Grampian",2,239,0.836820083682008,0.22978221357475501,2.9993185665222302]
["SSIHIP201503Greater Glasgow & Clyde",4,388,1.0309278350515501,0.401611150294229,2.6204263260737699]
["SSIHIP201503Highland",0,106,0,0,3.4973998922084202]
["SSIHIP201503Lanarkshire",0,89,0,0,4.1378002964188498]
["SSIHIP201503Lothian",1,263,0.38022813688212898,6.7149436738730903E-2,2.1220144717373102]
["SSIHIP201503Golden Jubilee",0,412,0,0,0.92381329814044599]
["SSIHIP201503Orkney",0,0,0,0,0]
["SSIHIP201503Tayside",0,182,0,0,2.0671367444102899]
["SSIHIP201503Western Isles",0,21,0,0,15.4643823264202]
["SSICSEC201504Ayrshire & Arran",1,331,0.30211480362537801,5.3349230640992298E-2,1.6912368661880799]
["SSICSEC201504Borders",0,63,0,0,5.7473190348525502]
["SSICSEC201504Dumfries & Galloway",1,63,1.5873015873015901,0.28074219075510898,8.4587254461656105]
["SSICSEC201504Fife",6,228,2.6315789473684199,1.21151850701061,5.6214226045069102]
["SSICSEC201504Forth Valley",4,244,1.63934426229508,0.63929791489078602,4.1385924796192599]
["SSICSEC201504Grampian",3,476,0.630252100840336,0.21456545517630801,1.8364447115120299]
["SSICSEC201504Greater Glasgow & Clyde",21,1341,1.5659955257270699,1.0265071214936701,2.3821917170907398]
["SSICSEC201504Highland",4,178,2.2471910112359601,0.87726322523310696,5.6347780238540102]
["SSICSEC201504Lanarkshire",4,352,1.13636363636364,0.44276539143329402,2.88500741534365]
["SSICSEC201504Lothian",6,716,0.83798882681564202,0.38460221766935998,1.81610415995594]
["SSICSEC201504Orkney",0,8,0,0,32.441561951087699]
["SSICSEC201504Shetland",0,10,0,0,27.754016876661701]
["SSICSEC201504Tayside",10,273,3.6630036630036602,2.0016061932134601,6.6103943153806304]
["SSICSEC201504Western Isles",0,17,0,0,18.432366037156498]
["SSIHIP201504Ayrshire & Arran",0,135,0,0,2.7668940720936699]
["SSIHIP201504Borders",2,88,2.2727272727272698,0.62547971441379202,7.9126990629594198]
["SSIHIP201504Dumfries & Galloway",0,55,0,0,6.5287143789427899]
["SSIHIP201504Fife",1,129,0.775193798449612,0.136968533684451,4.2604491427060802]
["SSIHIP201504Forth Valley",1,53,1.88679245283019,0.33383673867494101,9.9431435011494091]
["SSIHIP201504Grampian",0,273,0,0,1.38765272271219]
["SSIHIP201504Greater Glasgow & Clyde",5,407,1.22850122850123,0.525845029001061,2.84323930909907]
["SSIHIP201504Highland",0,56,0,0,6.4196144488115303]
["SSIHIP201504Lanarkshire",2,103,1.94174757281553,0.53411133321984605,6.8053519470005899]
["SSIHIP201504Lothian",1,268,0.37313432835820898,6.5896070366263701E-2,2.0830024058051499]
["SSIHIP201504Golden Jubilee",1,411,0.24330900243309,4.2961827422093798E-2,1.36519010333895]
["SSIHIP201504Orkney",0,2,0,0,65.7628047110381]
["SSIHIP201504Shetland",0,0,0,0,0]
["SSIHIP201504Tayside",2,195,1.02564102564103,0.28171396519349601,3.6619276067914401]
["SSIHIP201504Western Isles",0,16,0,0,19.361341827272]
["SSICSEC201601Ayrshire & Arran",3,272,1.1029411764705901,0.37578832635763199,3.19205640772164]
["SSICSEC201601Borders",0,72,0,0,5.0652939811396402]
["SSICSEC201601Dumfries & Galloway",3,59,5.0847457627118704,1.74424011594533,13.9167233222867]
["SSICSEC201601Fife",7,215,3.2558139534883699,1.5858764177717499,6.5668696780345304]
["SSICSEC201601Forth Valley",2,208,0.96153846153846201,0.26408026954240099,3.4375534039192801]
["SSICSEC201601Grampian",5,438,1.1415525114155201,0.488554334078032,2.6441520475754801]
["SSICSEC201601Greater Glasgow & Clyde",12,1265,0.94861660079051402,0.54346792533813404,1.65078547871167]
["SSICSEC201601Highland",2,162,1.2345679012345701,0.33921144271845999,4.3891558668106301]
["SSICSEC201601Lanarkshire",0,340,0,0,1.11725864467825]
["SSICSEC201601Lothian",15,696,2.1551724137931001,1.3103271466052999,3.52528136823577]
["SSICSEC201601Orkney",0,8,0,0,32.441561951087699]
["SSICSEC201601Shetland",1,8,12.5,2.2416908863296201,47.089480576986098]
["SSICSEC201601Tayside",8,267,2.9962546816479398,1.5258945377770801,5.8000110838113299]
["SSICSEC201601Western Isles",0,13,0,0,22.810184305529202]
["SSIHIP201601Ayrshire & Arran",0,96,0,0,3.8476947484815902]
["SSIHIP201601Borders",1,69,1.4492753623188399,0.25628586443303802,7.7633073350573598]
["SSIHIP201601Dumfries & Galloway",0,45,0,0,7.8654261940640797]
["SSIHIP201601Fife",2,133,1.5037593984962401,0.41334978576213199,5.31707137271599]
["SSIHIP201601Forth Valley",0,58,0,0,6.2119996895293799]
["SSIHIP201601Grampian",0,301,0,0,1.2601954588875]
["SSIHIP201601Greater Glasgow & Clyde",2,365,0.54794520547945202,0.15039202796377499,1.9756154505852801]
["SSIHIP201601Highland",0,122,0,0,3.0527266023318198]
["SSIHIP201601Lanarkshire",0,102,0,0,3.6295747607745898]
["SSIHIP201601Lothian",0,196,0,0,1.9223224794036899]
["SSIHIP201601Golden Jubilee",1,448,0.223214285714286,3.9412661395000999E-2,1.25342978604676]
["SSIHIP201601Orkney",0,2,0,0,65.7628047110381]
["SSIHIP201601Shetland",0,0,0,0,0]
["SSIHIP201601Tayside",1,217,0.460829493087558,8.1391997422022605E-2,2.5637618141786902]
["SSIHIP201601Western Isles",0,19,0,0,16.818436536845098]
["SSICSEC201602Ayrshire & Arran",4,300,1.3333333333333299,0.51968776846794695,3.3776060846449898]
["SSICSEC201602Borders",0,78,0,0,4.6939453774119801]
["SSICSEC201602Dumfries & Galloway",0,67,0,0,5.42280242117626]
["SSICSEC201602Fife",8,243,3.2921810699588501,1.6774396733680199,6.3607516201578704]
["SSICSEC201602Forth Valley",5,235,2.12765957446809,0.91213804718214297,4.8831672932610601]
["SSICSEC201602Grampian",2,475,0.42105263157894701,0.115541442940345,1.5220773437314901]
["SSICSEC201602Greater Glasgow & Clyde",22,1425,1.54385964912281,1.02172204891172,2.3265567246066299]
["SSICSEC201602Highland",6,178,3.3707865168539302,1.5538228306884501,7.1579350948907399]
["SSICSEC201602Lanarkshire",3,396,0.75757575757575801,0.25796722207853001,2.2034074823044101]
["SSICSEC201602Lothian",11,717,1.53417015341702,0.8587689681131,2.7261517689808699]
["SSICSEC201602Orkney",0,7,0,0,35.433884297520699]
["SSICSEC201602Shetland",0,10,0,0,27.754016876661701]
["SSICSEC201602Tayside",17,300,5.6666666666666696,3.5677175913187802,8.8866665351471195]
["SSICSEC201602Western Isles",0,17,0,0,18.432366037156498]
["SSIHIP201602Ayrshire & Arran",0,106,0,0,3.4973998922084202]
["SSIHIP201602Borders",1,58,1.72413793103448,0.30499598845417702,9.1410726772983306]
["SSIHIP201602Dumfries & Galloway",0,57,0,0,6.3141008783463901]
["SSIHIP201602Fife",1,111,0.90090090090090102,0.15920445055909099,4.9274540425305204]
["SSIHIP201602Forth Valley",0,48,0,0,7.4102651152742203]
["SSIHIP201602Grampian",1,313,0.31948881789137401,5.6418449998160702E-2,1.78727884227659]
["SSIHIP201602Greater Glasgow & Clyde",4,426,0.93896713615023497,0.36572880019501902,2.3891464840957499]
["SSIHIP201602Highland",0,105,0,0,3.5295328256843002]
["SSIHIP201602Lanarkshire",1,132,0.75757575757575801,0.13385269033438901,4.1664500151696702]
["SSIHIP201602Lothian",2,259,0.77220077220077199,0.21201692749995699,2.7713768731769499]
["SSIHIP201602Golden Jubilee",1,474,0.21097046413502099,3.7250221486160397E-2,1.1852469407533801]
["SSIHIP201602Orkney",0,0,0,0,0]
["SSIHIP201602Shetland",0,0,0,0,0]
["SSIHIP201602Tayside",6,220,2.7272727272727302,1.2557816447416199,5.8213657666421401]
["SSIHIP201602Western Isles",0,9,0,0,29.915275355095901]
["SSICSEC201603Ayrshire & Arran",5,267,1.87265917602996,0.80246300161914796,4.3081256228757603]
["SSICSEC201603Borders",0,51,0,0,7.0049013887268101]
["SSICSEC201603Dumfries & Galloway",0,71,0,0,5.1329741747904896]
["SSICSEC201603Fife",9,239,3.7656903765690402,1.9935502964405301,7.00062533079962]
["SSICSEC201603Forth Valley",1,240,0.41666666666666702,7.3587908975014604E-2,2.3220656628519398]
["SSICSEC201603Grampian",5,490,1.0204081632653099,0.43661646935717602,2.3662255755414301]
["SSICSEC201603Greater Glasgow & Clyde",25,1378,1.8142235123367201,1.23183127633288,2.6645342694720799]
["SSICSEC201603Highland",5,171,2.9239766081871301,1.2552617212789401,6.6613896934873402]
["SSICSEC201603Lanarkshire",7,405,1.7283950617283901,0.83969089321309398,3.52424858848349]
["SSICSEC201603Lothian",9,749,1.2016021361815801,0.63342575163697701,2.2677954348649401]
["SSICSEC201603Orkney",0,12,0,0,24.2500757499242]
["SSICSEC201603Shetland",1,15,6.6666666666666696,1.1866588606194901,29.817077552423999]
["SSICSEC201603Tayside",4,343,1.1661807580174901,0.45440648001455097,2.9597168546719499]
["SSICSEC201603Western Isles",0,15,0,0,20.388926630434799]
["SSIHIP201603Ayrshire & Arran",0,93,0,0,3.9668902620361499]
["SSIHIP201603Borders",2,75,2.6666666666666701,0.73435350236005503,9.2116648432848791]
["SSIHIP201603Dumfries & Galloway",0,54,0,0,6.6415866781001904]
["SSIHIP201603Fife",0,113,0,0,3.2878700736723898]
["SSIHIP201603Forth Valley",1,64,1.5625,0.27634707504014,8.33429890029063]
["SSIHIP201603Grampian",1,286,0.34965034965035002,6.1746971182093102E-2,1.95369870673302]
["SSIHIP201603Greater Glasgow & Clyde",5,390,1.2820512820512799,0.54881724311043201,2.9656921434043499]
["SSIHIP201603Highland",0,93,0,0,3.9668902620361499]
["SSIHIP201603Lanarkshire",0,91,0,0,4.0505432215399102]
["SSIHIP201603Lothian",2,245,0.81632653061224503,0.22414768957744999,2.9270939034680898]
["SSIHIP201603Golden Jubilee",1,446,0.224215246636771,3.9589448788706003E-2,1.25900098837851]
["SSIHIP201603Orkney",0,0,0,0,0]
["SSIHIP201603Shetland",0,0,0,0,0]
["SSIHIP201603Tayside",2,188,1.0638297872340401,0.292220835550212,3.7953180506976101]
["SSIHIP201603Western Isles",0,15,0,0,20.388926630434799]
["SSICSEC201604Ayrshire & Arran",2,313,0.63897763578274802,0.17540229665585899,2.2995252381123001]
["SSICSEC201604Borders",0,61,0,0,5.9245916201944402]
["SSICSEC201604Dumfries & Galloway",2,88,2.2727272727272698,0.62547971441379202,7.9126990629594198]
["SSICSEC201604Fife",7,243,2.8806584362139902,1.40223940655381,5.8257156869150304]
["SSICSEC201604Forth Valley",1,256,0.390625,6.8986441602360907E-2,2.1791524245376301]
["SSICSEC201604Grampian",3,444,0.67567567567567599,0.2300471942492,1.9675155154231501]
["SSICSEC201604Greater Glasgow & Clyde",14,1269,1.1032308904649299,0.65829200553462297,1.8433232779382001]
["SSICSEC201604Highland",2,165,1.2121212121212099,0.33303221439865399,4.3113208360344197]
["SSICSEC201604Lanarkshire",10,364,2.7472527472527499,1.4989511079679001,4.9825344010120496]
["SSICSEC201604Lothian",6,742,0.80862533692722405,0.371106946233563,1.7528829197111599]
["SSICSEC201604Orkney",0,9,0,0,29.915275355095901]
["SSICSEC201604Shetland",0,5,0,0,43.449149475208102]
["SSICSEC201604Tayside",4,282,1.4184397163120599,0.55294048678998298,3.5897735198486602]
["SSICSEC201604Western Isles",0,17,0,0,18.432366037156498]
["SSIHIP201604Ayrshire & Arran",0,148,0,0,2.5300049525294801]
["SSIHIP201604Borders",1,71,1.40845070422535,0.24905391347781999,7.5562308479382896]
["SSIHIP201604Dumfries & Galloway",3,50,6,2.06145963646305,16.217343370877]
["SSIHIP201604Fife",2,111,1.8018018018018001,0.49550748667772898,6.3326802083735396]
["SSIHIP201604Forth Valley",0,54,0,0,6.6415866781001904]
["SSIHIP201604Grampian",4,297,1.34680134680135,0.52494933121393506,3.4112084342014901]
["SSIHIP201604Greater Glasgow & Clyde",2,456,0.43859649122806998,0.120358974850641,1.5849238877698799]
["SSIHIP201604Highland",1,94,1.0638297872340401,0.188034733905247,5.7824318161102903]
["SSIHIP201604Lanarkshire",2,101,1.98019801980198,0.54472082927216703,6.9347529673887003]
["SSIHIP201604Lothian",0,232,0,0,1.62888989898305]
["SSIHIP201604Golden Jubilee",0,405,0,0,0.93963040942996001]
["SSIHIP201604Orkney",0,0,0,0,0]
["SSIHIP201604Shetland",0,0,0,0,0]
["SSIHIP201604Tayside",2,188,1.0638297872340401,0.292220835550212,3.7953180506976101]
["SSIHIP201604Western Isles",0,19,0,0,16.818436536845098]
["SSICSEC201701Ayrshire & Arran",1,252,0.39682539682539703,7.0082002160106002E-2,2.2132057821564399]
["SSICSEC201701Borders",0,54,0,0,6.6415866781001904]
["SSICSEC201701Dumfries & Galloway",2,55,3.6363636363636398,1.0029330855724901,12.3236929749017]
["SSICSEC201701Fife",4,213,1.8779342723004699,0.73264337100197796,4.7283013923644601]
["SSICSEC201701Forth Valley",3,211,1.4218009478672999,0.48468910696572398,4.0961741895280603]
["SSICSEC201701Grampian",6,406,1.47783251231527,0.67900841627576103,3.1862897867373099]
["SSICSEC201701Greater Glasgow & Clyde",20,1349,1.4825796886582701,0.96176234978499098,2.2789422530303001]
["SSICSEC201701Highland",6,169,3.55029585798817,1.63708166497775,7.5283044457733697]
["SSICSEC201701Lanarkshire",8,380,2.1052631578947398,1.0705329512416899,4.098682683541]
["SSICSEC201701Lothian",5,677,0.73855243722304298,0.31586139645717198,1.71715186242713]
["SSICSEC201701Orkney",0,0,0,0,0]
["SSICSEC201701Shetland",0,7,0,0,35.433884297520699]
["SSICSEC201701Tayside",3,259,1.15830115830116,0.39468710701741,3.3496212520855599]
["SSICSEC201701Western Isles",0,15,0,0,20.388926630434799]
["SSIHIP201701Ayrshire & Arran",0,145,0,0,2.5809988605336098]
["SSIHIP201701Borders",1,64,1.5625,0.27634707504014,8.33429890029063]
["SSIHIP201701Dumfries & Galloway",0,53,0,0,6.7584304453076598]
["SSIHIP201701Fife",0,108,0,0,3.4348578704167299]
["SSIHIP201701Forth Valley",1,52,1.92307692307692,0.340272040906551,10.1207462680244]
["SSIHIP201701Grampian",1,264,0.37878787878787901,6.6894963603423299E-2,2.11409559200855]
["SSIHIP201701Greater Glasgow & Clyde",3,382,0.78534031413612604,0.267434005663087,2.2832500055995699]
["SSIHIP201701Highland",0,86,0,0,4.2759701519118103]
["SSIHIP201701Lanarkshire",1,99,1.0101010101010099,0.17852613200520301,5.5016655414032201]
["SSIHIP201701Lothian",3,258,1.16279069767442,0.39621990008764402,3.3623883577293001]
["SSIHIP201701Golden Jubilee",0,447,0,0,0.85209528135824197]
["SSIHIP201701Orkney",0,0,0,0,0]
["SSIHIP201701Shetland",0,0,0,0,0]
["SSIHIP201701Tayside",2,192,1.0416666666666701,0.28612294459291898,3.71792930988213]
["SSIHIP201701Western Isles",0,14,0,0,21.531701192718099]
["SSICSEC201702Ayrshire & Arran",4,283,1.4134275618374601,0.550981869272826,3.5772896227283399]
["SSICSEC201702Borders",0,68,0,0,5.3473196588049303]
["SSICSEC201702Dumfries & Galloway",1,74,1.35135135135135,0.238940187493933,7.2655304297595702]
["SSICSEC201702Fife",6,201,2.98507462686567,1.37510131622461,6.3584840492480303]
["SSICSEC201702Forth Valley",1,233,0.42918454935622302,7.5799878717434696E-2,2.3906587163942299]
["SSICSEC201702Grampian",7,416,1.6826923076923099,0.81742400887461897,3.4321786984321401]
["SSICSEC201702Greater Glasgow & Clyde",10,1316,0.75987841945288803,0.413266230785033,1.39313235522711]
["SSICSEC201702Highland",3,176,1.7045454545454499,0.58135373431719795,4.8910175079315401]
["SSICSEC201702Lanarkshire",3,373,0.80428954423592502,0.27389556667679898,2.3377057002746202]
["SSICSEC201702Lothian",5,658,0.75987841945288803,0.32499395023750899,1.7663825966583]
["SSICSEC201702Orkney",1,12,8.3333333333333304,1.4864709450773499,35.388592179859501]
["SSICSEC201702Shetland",0,8,0,0,32.441561951087699]
["SSICSEC201702Tayside",10,284,3.52112676056338,1.9236303199462499,6.3592586022943101]
["SSICSEC201702Western Isles",0,13,0,0,22.810184305529202]
["SSIHIP201702Ayrshire & Arran",1,143,0.69930069930069905,0.123547409238715,3.8546168167027099]
["SSIHIP201702Borders",0,62,0,0,5.8346091225000603]
["SSIHIP201702Dumfries & Galloway",1,52,1.92307692307692,0.340272040906551,10.1207462680244]
["SSIHIP201702Fife",0,113,0,0,3.2878700736723898]
["SSIHIP201702Forth Valley",0,51,0,0,7.0049013887268101]
["SSIHIP201702Grampian",0,288,0,0,1.316330502574]
["SSIHIP201702Greater Glasgow & Clyde",7,443,1.58013544018059,0.76746981199132802,3.2253544908488698]
["SSIHIP201702Highland",0,115,0,0,3.2325381011363001]
["SSIHIP201702Lanarkshire",0,113,0,0,3.2878700736723898]
["SSIHIP201702Lothian",4,247,1.6194331983805701,0.63151144344996601,4.0892366302347796]
["SSIHIP201702Golden Jubilee",1,481,0.207900207900208,3.6707979113978599E-2,1.1681391297149699]
["SSIHIP201702Orkney",0,0,0,0,0]
["SSIHIP201702Shetland",0,0,0,0,0]
["SSIHIP201702Tayside",5,175,2.8571428571428599,1.2264270311919501,6.5131592842961696]
["SSIHIP201702Western Isles",0,18,0,0,17.5884550582375]
["SSICSEC201703Ayrshire & Arran",5,314,1.5923566878980899,0.68201786238073903,3.6728557602035901]
["SSICSEC201703Borders",0,80,0,0,4.5819736264575104]
["SSICSEC201703Dumfries & Galloway",0,88,0,0,4.1828539572481302]
["SSICSEC201703Fife",11,244,4.5081967213114797,2.5356453605252698,7.8910142478697702]
["SSICSEC201703Forth Valley",5,259,1.93050193050193,0.82733248399599502,4.4388049919591097]
["SSICSEC201703Grampian",8,490,1.6326530612244901,0.82955102980736695,3.1882554895300101]
["SSICSEC201703Greater Glasgow & Clyde",12,1360,0.88235294117647101,0.50545263519847805,1.5359574523072801]
["SSICSEC201703Highland",2,186,1.0752688172042999,0.29536830046733897,3.8352332115300301]
["SSICSEC201703Lanarkshire",1,379,0.26385224274406299,4.6590394921568301E-2,1.47926259493115]
["SSICSEC201703Lothian",10,765,1.3071895424836599,0.71155590112169897,2.3894209450843298]
["SSICSEC201703Orkney",0,9,0,0,29.915275355095901]
["SSICSEC201703Shetland",0,12,0,0,24.2500757499242]
["SSICSEC201703Tayside",4,314,1.2738853503184699,0.49646609086979798,3.2291632792315399]
["SSICSEC201703Western Isles",0,14,0,0,21.531701192718099]
["SSIHIP201703Ayrshire & Arran",1,122,0.81967213114754101,0.14483536709422801,4.4971907991337901]
["SSIHIP201703Borders",0,70,0,0,5.2024874867283497]
["SSIHIP201703Dumfries & Galloway",0,36,0,0,9.6421830448576404]
["SSIHIP201703Fife",1,99,1.0101010101010099,0.17852613200520301,5.5016655414032201]
["SSIHIP201703Forth Valley",0,51,0,0,7.0049013887268101]
["SSIHIP201703Grampian",2,252,0.79365079365079405,0.217913615768799,2.8471078662732099]
["SSIHIP201703Greater Glasgow & Clyde",2,343,0.58309037900874605,0.16004697401066201,2.1008121616870201]
["SSIHIP201703Highland",0,112,0,0,3.3162525379483698]
["SSIHIP201703Lanarkshire",0,99,0,0,3.7354533573962301]
["SSIHIP201703Lothian",0,262,0,0,1.44507104982817]
["SSIHIP201703Golden Jubilee",1,447,0.223713646532438,3.9500857288371098E-2,1.25620921028303]
["SSIHIP201703Orkney",0,0,0,0,0]
["SSIHIP201703Shetland",0,0,0,0,0]
["SSIHIP201703Tayside",2,170,1.1764705882352899,0.32321904361174703,4.1875539819471497]
["SSIHIP201703Western Isles",0,14,0,0,21.531701192718099]
["SSICSEC201704Ayrshire & Arran",2,299,0.668896321070234,0.183623721835913,2.4057167122391898]
["SSICSEC201704Borders",1,70,1.4285714285714299,0.25261814032348701,7.6583697039269101]
["SSICSEC201704Dumfries & Galloway",0,75,0,0,4.8725545904700098]
["SSICSEC201704Fife",9,227,3.9647577092511002,2.09963562834298,7.3620905076741003]
["SSICSEC201704Forth Valley",4,227,1.7621145374449301,0.68732064944395699,4.4424306605452299]
["SSICSEC201704Grampian",6,467,1.2847965738758,0.59012008171116204,2.7744084561240698]
["SSICSEC201704Greater Glasgow & Clyde",17,1311,1.2967200610221199,0.81116307164889101,2.0668718186375101]
["SSICSEC201704Highland",3,149,2.0134228187919501,0.68705867460202097,5.7520259725097604]
["SSICSEC201704Lanarkshire",7,387,1.80878552971576,0.87886644531786295,3.6860519257050801]
["SSICSEC201704Lothian",10,686,1.45772594752187,0.79369267402364296,2.6624050736332099]
["SSICSEC201704Orkney",0,2,0,0,65.7628047110381]
["SSICSEC201704Shetland",0,6,0,0,39.0343033653064]
["SSICSEC201704Tayside",7,301,2.32558139534884,1.13096665746159,4.72177784984975]
["SSICSEC201704Western Isles",0,17,0,0,18.432366037156498]
["SSIHIP201704Ayrshire & Arran",0,143,0,0,2.6161523709902399]
["SSIHIP201704Borders",1,55,1.8181818181818199,0.32166975922527902,9.6060004604832301]
["SSIHIP201704Dumfries & Galloway",2,36,5.5555555555555598,1.5369663767066899,18.144974107611201]
["SSIHIP201704Fife",0,114,0,0,3.2599693147411402]
["SSIHIP201704Forth Valley",0,60,0,0,6.0173930477932904]
["SSIHIP201704Grampian",2,297,0.673400673400673,0.184861550143499,2.4216928625441101]
["SSIHIP201704Greater Glasgow & Clyde",6,397,1.51133501259446,0.69444151989549396,3.2576432936567898]
["SSIHIP201704Highland",0,101,0,0,3.66419436559534]
["SSIHIP201704Lanarkshire",1,111,0.90090090090090102,0.15920445055909099,4.9274540425305204]
["SSIHIP201704Lothian",0,199,0,0,1.8938915883132501]
["SSIHIP201704Golden Jubilee",3,379,0.79155672823219003,0.26955371592015598,2.30111780984925]
["SSIHIP201704Orkney",0,0,0,0,0]
["SSIHIP201704Shetland",0,0,0,0,0]
["SSIHIP201704Tayside",1,170,0.58823529411764697,0.10391087887323,3.2563895325357799]
["SSIHIP201704Western Isles",0,9,0,0,29.915275355095901]
["SSICSEC201801Ayrshire & Arran",3,319,0.94043887147335403,0.32033371501954899,2.72809622709448]
["SSICSEC201801Borders",0,57,0,0,6.3141008783463901]
["SSICSEC201801Dumfries & Galloway",2,72,2.7777777777777799,0.76508614661404695,9.5743581689067199]
["SSICSEC201801Fife",7,209,3.3492822966507201,1.63166582715798,6.7509060009057098]
["SSICSEC201801Forth Valley",9,231,3.8961038961039001,2.0630411424086699,7.2375257077575696]
["SSICSEC201801Grampian",3,392,0.76530612244898,0.26060292856977801,2.22564409549237]
["SSICSEC201801Greater Glasgow & Clyde",10,1255,0.79681274900398402,0.43337913562098501,1.4605525552287599]
["SSICSEC201801Highland",7,184,3.8043478260869601,1.85481083464146,7.6434046831139302]
["SSICSEC201801Lanarkshire",3,276,1.0869565217391299,0.37033214515708801,3.1465145281037898]
["SSICSEC201801Lothian",12,679,1.7673048600883701,1.0138017809148501,3.0635127822283499]
["SSICSEC201801Orkney",1,3,33.3333333333333,6.1490315276160503,79.234504487351202]
["SSICSEC201801Shetland",0,7,0,0,35.433884297520699]
["SSICSEC201801Tayside",7,279,2.5089605734767,1.2205289798926,5.0874540042229004]
["SSICSEC201801Western Isles",0,12,0,0,24.2500757499242]
["SSIHIP201801Ayrshire & Arran",0,129,0,0,2.8918651988533699]
["SSIHIP201801Borders",1,44,2.2727272727272698,0.40231483856369998,11.8079791315376]
["SSIHIP201801Dumfries & Galloway",1,37,2.7027027027027,0.47868510549077498,13.8243784375634]
["SSIHIP201801Fife",1,113,0.88495575221238898,0.15638358136017899,4.8432056060525204]
["SSIHIP201801Forth Valley",0,48,0,0,7.4102651152742203]
["SSIHIP201801Grampian",4,302,1.32450331125828,0.516238267608506,3.3555698840621599]
["SSIHIP201801Greater Glasgow & Clyde",2,338,0.59171597633136097,0.16241672734965601,2.1315112205653999]
["SSIHIP201801Highland",0,55,0,0,6.5287143789427899]
["SSIHIP201801Lanarkshire",0,98,0,0,3.7721324095458]
["SSIHIP201801Lothian",5,206,2.42718446601942,1.0410876514298799,5.5551258734384001]
["SSIHIP201801Golden Jubilee",1,449,0.22271714922048999,3.9324858464613997E-2,1.25066263385058]
["SSIHIP201801Orkney",0,0,0,0,0]
["SSIHIP201801Shetland",0,0,0,0,0]
["SSIHIP201801Tayside",2,173,1.15606936416185,0.317603909596543,4.1166468549294501]
["SSIHIP201801Western Isles",0,16,0,0,19.361341827272]
["SSICSEC201802Ayrshire & Arran",2,302,0.66225165562913901,0.18179775208326299,2.3821438438278202]
["SSICSEC201802Borders",0,71,0,0,5.1329741747904896]
["SSICSEC201802Dumfries & Galloway",2,78,2.5641025641025599,0.70599454465853695,8.8754408133989795]
["SSICSEC201802Fife",7,223,3.1390134529148002,1.5286775668413,6.3365464485068497]
["SSICSEC201802Forth Valley",4,255,1.5686274509803899,0.61164565265361603,3.9631985764038502]
["SSICSEC201802Grampian",6,498,1.2048192771084301,0.55330979020214199,2.6033834771555302]
["SSICSEC201802Greater Glasgow & Clyde",15,1259,1.1914217633042099,0.72332669879570299,1.95647098921204]
["SSICSEC201802Highland",2,154,1.2987012987013,0.35686878843140901,4.6111497820848601]
["SSICSEC201802Lanarkshire",4,341,1.17302052785924,0.45707700627074399,2.9768474390397999]
["SSICSEC201802Lothian",11,701,1.5691868758915799,0.87841911385432103,2.7878798106132501]
["SSICSEC201802Orkney",0,10,0,0,27.754016876661701]
["SSICSEC201802Shetland",0,10,0,0,27.754016876661701]
["SSICSEC201802Tayside",8,268,2.98507462686567,1.5201721789723099,5.77878427213746]
["SSICSEC201802Western Isles",0,21,0,0,15.4643823264202]
["SSIHIP201802Ayrshire & Arran",0,133,0,0,2.8073334424619398]
["SSIHIP201802Borders",0,74,0,0,4.9351503566216497]
["SSIHIP201802Dumfries & Galloway",0,45,0,0,7.8654261940640797]
["SSIHIP201802Fife",0,143,0,0,2.6161523709902399]
["SSIHIP201802Forth Valley",0,48,0,0,7.4102651152742203]
["SSIHIP201802Grampian",1,296,0.337837837837838,5.9660053007111601E-2,1.8885686117278699]
["SSIHIP201802Greater Glasgow & Clyde",12,381,3.1496062992125999,1.81070286948614,5.4238580511627701]
["SSIHIP201802Highland",0,102,0,0,3.6295747607745898]
["SSIHIP201802Lanarkshire",1,107,0.934579439252336,0.16516291511190101,5.10506053889815]
["SSIHIP201802Lothian",2,297,0.673400673400673,0.184861550143499,2.4216928625441101]
["SSIHIP201802Golden Jubilee",1,478,0.209205020920502,3.6938423516124697E-2,1.1754101989357399]
["SSIHIP201802Orkney",0,0,0,0,0]
["SSIHIP201802Shetland",0,0,0,0,0]
["SSIHIP201802Tayside",1,151,0.66225165562913901,0.11699648169822099,3.6556330958830001]
["SSIHIP201802Western Isles",0,15,0,0,20.388926630434799]
["SSICSEC201803Ayrshire & Arran",0,294,0,0,1.28981310871282]
["SSICSEC201803Borders",0,60,0,0,6.0173930477932904]
["SSICSEC201803Dumfries & Galloway",0,64,0,0,5.6626022971156296]
["SSICSEC201803Fife",5,220,2.2727272727272698,0.97457484920653004,5.209083594979]
["SSICSEC201803Forth Valley",6,228,2.6315789473684199,1.21151850701061,5.6214226045069102]
["SSICSEC201803Grampian",3,493,0.60851926977687598,0.207159080774131,1.7736734421064]
["SSICSEC201803Greater Glasgow & Clyde",18,1394,1.29124820659971,0.81831426116327699,2.03190853947451]
["SSICSEC201803Highland",5,185,2.7027027027027,1.1598213771871,6.1699195273593599]
["SSICSEC201803Lanarkshire",11,380,2.8947368421052602,1.6239022863567201,5.1084581456548204]
["SSICSEC201803Lothian",12,667,1.79910044977511,1.0320927657865799,3.11815671188445]
["SSICSEC201803Orkney",0,2,0,0,65.7628047110381]
["SSICSEC201803Shetland",0,8,0,0,32.441561951087699]
["SSICSEC201803Tayside",6,279,2.1505376344085998,0.98923583992587805,4.6116375818055797]
["SSICSEC201803Western Isles",0,19,0,0,16.818436536845098]
["SSIHIP201803Ayrshire & Arran",2,99,2.0202020202020199,0.55576036255231098,7.0691696268683097]
["SSIHIP201803Borders",0,74,0,0,4.9351503566216497]
["SSIHIP201803Dumfries & Galloway",1,38,2.6315789473684199,0.46604675535300499,13.4951784368003]
["SSIHIP201803Fife",1,135,0.74074074074074103,0.13087545613434901,4.0765090741505201]
["SSIHIP201803Forth Valley",0,58,0,0,6.2119996895293799]
["SSIHIP201803Grampian",1,274,0.36496350364963498,6.4452439151137103E-2,2.0380404920729802]
["SSIHIP201803Greater Glasgow & Clyde",3,346,0.86705202312138696,0.29530009983410399,2.5178587697800299]
["SSIHIP201803Highland",1,121,0.826446280991736,0.146033579652323,4.5331759146188197]
["SSIHIP201803Lanarkshire",0,105,0,0,3.5295328256843002]
["SSIHIP201803Lothian",2,263,0.76045627376425895,0.208788490774269,2.7298837402421801]
["SSIHIP201803Golden Jubilee",1,489,0.20449897750511301,3.6107287726999497E-2,1.1491822657522499]
["SSIHIP201803Orkney",0,0,0,0,0]
["SSIHIP201803Shetland",0,0,0,0,0]
["SSIHIP201803Tayside",1,142,0.70422535211267601,0.124418220451322,3.8810232996636498]
["SSIHIP201803Western Isles",0,11,0,0,25.884001724881401]
["SSICSEC201804Ayrshire & Arran",4,294,1.3605442176870699,0.53031852542000602,3.4454860633278401]
["SSICSEC201804Borders",0,67,0,0,5.42280242117626]
["SSICSEC201804Dumfries & Galloway",1,83,1.2048192771084301,0.212992258770482,6.5137377876588802]
["SSICSEC201804Fife",4,238,1.6806722689075599,0.65546146613853096,4.24096660909749]
["SSICSEC201804Forth Valley",5,253,1.97628458498024,0.84702028091023496,4.5421378616959496]
["SSICSEC201804Grampian",7,462,1.51515151515152,0.73582597708559205,3.0941454123308998]
["SSICSEC201804Greater Glasgow & Clyde",16,1365,1.17216117216117,0.72277783343117197,1.8956113213110599]
["SSICSEC201804Highland",2,167,1.19760479041916,0.32903629932488299,4.2609464683382603]
["SSICSEC201804Lanarkshire",7,387,1.80878552971576,0.87886644531786295,3.6860519257050801]
["SSICSEC201804Lothian",8,705,1.1347517730496499,0.57608727025294504,2.2230712441457601]
["SSICSEC201804Orkney",0,13,0,0,22.810184305529202]
["SSICSEC201804Shetland",0,5,0,0,43.449149475208102]
["SSICSEC201804Tayside",5,299,1.6722408026755899,0.71633186851657404,3.8542423194417501]
["SSICSEC201804Western Isles",0,8,0,0,32.441561951087699]
["SSIHIP201804Ayrshire & Arran",0,143,0,0,2.6161523709902399]
["SSIHIP201804Borders",1,87,1.14942528735632,0.20318554244781001,6.22734848601492]
["SSIHIP201804Dumfries & Galloway",0,51,0,0,7.0049013887268101]
["SSIHIP201804Fife",1,144,0.69444444444444398,0.12268870304019799,3.82856723574834]
["SSIHIP201804Forth Valley",0,64,0,0,5.6626022971156296]
["SSIHIP201804Grampian",3,288,1.0416666666666701,0.35487456405297801,3.0173657197174002]
["SSIHIP201804Greater Glasgow & Clyde",3,378,0.79365079365079405,0.27026777293406501,2.3071360510599699]
["SSIHIP201804Highland",0,86,0,0,4.2759701519118103]
["SSIHIP201804Lanarkshire",2,130,1.5384615384615401,0.42291172310416097,5.4359542796931803]
["SSIHIP201804Lothian",1,264,0.37878787878787901,6.6894963603423299E-2,2.11409559200855]
["SSIHIP201804Golden Jubilee",0,473,0,0,0.80563440773623796]
["SSIHIP201804Orkney",0,0,0,0,0]
["SSIHIP201804Shetland",0,0,0,0,0]
["SSIHIP201804Tayside",5,156,3.2051282051282,1.37663567902672,7.2829372982207499]
["SSIHIP201804Western Isles",0,12,0,0,24.2500757499242]
["SSICSEC201901Ayrshire & Arran",3,255,1.1764705882352899,0.40089055408692098,3.4012803488900398]
["SSICSEC201901Borders",0,68,0,0,5.3473196588049303]
["SSICSEC201901Dumfries & Galloway",0,72,0,0,5.0652939811396402]
["SSICSEC201901Fife",12,185,6.4864864864864904,3.74909999996015,10.994261632222599]
["SSICSEC201901Forth Valley",7,203,3.4482758620689702,1.68017815534496,6.9455528388070897]
["SSICSEC201901Grampian",9,456,1.9736842105263199,1.0417557220878599,3.7080537775311302]
["SSICSEC201901Greater Glasgow & Clyde",9,1306,0.68912710566615598,0.36296824090774799,1.3045310964167001]
["SSICSEC201901Highland",5,159,3.1446540880503102,1.3505186979646999,7.1495206040318502]
["SSICSEC201901Lanarkshire",7,367,1.9073569482288799,0.92691655049320099,3.8841941771058601]
["SSICSEC201901Lothian",10,686,1.45772594752187,0.79369267402364296,2.6624050736332099]
["SSICSEC201901Orkney",0,4,0,0,48.990002040399901]
["SSICSEC201901Shetland",0,6,0,0,39.0343033653064]
["SSICSEC201901Tayside",2,269,0.74349442379182196,0.20412607015241499,2.6699224620362201]
["SSICSEC201901Western Isles",0,15,0,0,20.388926630434799]
["SSIHIP201901Ayrshire & Arran",0,147,0,0,2.54677754677755]
["SSIHIP201901Borders",1,61,1.63934426229508,0.28996561143639799,8.7190656277680603]
["SSIHIP201901Dumfries & Galloway",1,28,3.5714285714285698,0.633235649754187,17.712576118498699]
["SSIHIP201901Fife",0,151,0,0,2.4809870215755998]
["SSIHIP201901Forth Valley",0,65,0,0,5.5803467670710702]
["SSIHIP201901Grampian",0,299,0,0,1.2685179314863]
["SSIHIP201901Greater Glasgow & Clyde",2,391,0.51150895140664998,0.14038352442082899,1.8456280812458501]
["SSIHIP201901Highland",0,69,0,0,5.2739094144005598]
["SSIHIP201901Lanarkshire",0,109,0,0,3.40441822873834]
["SSIHIP201901Lothian",2,241,0.829875518672199,0.22787282525526101,2.9748508948968699]
["SSIHIP201901Golden Jubilee",0,395,0,0,0.963189396492242]
["SSIHIP201901Orkney",0,0,0,0,0]
["SSIHIP201901Shetland",0,0,0,0,0]
["SSIHIP201901Tayside",2,174,1.14942528735632,0.315775303952331,4.0935417512248602]
["SSIHIP201901Western Isles",0,16,0,0,19.361341827272]
["SSICSEC201902Ayrshire & Arran",2,279,0.71684587813620104,0.19680150212168801,2.5756336700736302]
["SSICSEC201902Borders",0,74,0,0,4.9351503566216497]
["SSICSEC201902Dumfries & Galloway",0,81,0,0,4.5279674122128801]
["SSICSEC201902Fife",4,204,1.9607843137254899,0.76507553668887296,4.9323401875934598]
["SSICSEC201902Forth Valley",2,222,0.90090090090090102,0.247403017178004,3.2247650864840298]
["SSICSEC201902Grampian",8,472,1.6949152542372901,0.86127632324664605,3.3085146323990999]
["SSICSEC201902Greater Glasgow & Clyde",4,1219,0.32813781788351098,0.12767606051480501,0.84069138789388498]
["SSICSEC201902Highland",1,182,0.54945054945054905,9.7054951196549805E-2,3.04626710371473]
["SSICSEC201902Lanarkshire",6,376,1.59574468085106,0.73333318410419202,3.4372473947476201]
["SSICSEC201902Lothian",13,693,1.87590187590188,1.0995003465498501,3.1829075923561998]
["SSICSEC201902Orkney",1,8,12.5,2.2416908863296201,47.089480576986098]
["SSICSEC201902Shetland",0,8,0,0,32.441561951087699]
["SSICSEC201902Tayside",2,284,0.70422535211267601,0.19333286238323999,2.5309432672658501]
["SSICSEC201902Western Isles",0,16,0,0,19.361341827272]
["SSIHIP201902Ayrshire & Arran",0,158,0,0,2.3736789552253601]
["SSIHIP201902Borders",2,97,2.0618556701030899,0.56725662042430802,7.2088992517554296]
["SSIHIP201902Dumfries & Galloway",0,45,0,0,7.8654261940640797]
["SSIHIP201902Fife",1,130,0.76923076923076905,0.13591392530527099,4.2286483632507501]
["SSIHIP201902Forth Valley",0,71,0,0,5.1329741747904896]
["SSIHIP201902Grampian",1,308,0.32467532467532501,5.7334701775023499E-2,1.8159240295809]
["SSIHIP201902Greater Glasgow & Clyde",0,397,0,0,0.95838356098768196]
["SSIHIP201902Highland",0,120,0,0,3.10202710559295]
["SSIHIP201902Lanarkshire",1,107,0.934579439252336,0.16516291511190101,5.10506053889815]
["SSIHIP201902Lothian",0,231,0,0,1.6358260206028199]
["SSIHIP201902Golden Jubilee",4,424,0.94339622641509402,0.36745673600339002,2.4002965633485198]
["SSIHIP201902Orkney",0,0,0,0,0]
["SSIHIP201902Shetland",0,0,0,0,0]
["SSIHIP201902Tayside",1,161,0.62111801242235998,0.109724029448312,3.43404162194066]
["SSIHIP201902Western Isles",0,8,0,0,32.441561951087699]
["SSICSEC201903Ayrshire & Arran",5,303,1.6501650165016499,0.70684832168959699,3.8041436689661698]
["SSICSEC201903Borders",1,57,1.7543859649122799,0.31035847066800898,9.29096693826272]
["SSICSEC201903Dumfries & Galloway",1,86,1.16279069767442,0.20555157424055501,6.2965588066965603]
["SSICSEC201903Fife",6,236,2.5423728813559299,1.1702695319334,5.4347564518825902]
["SSICSEC201903Forth Valley",2,219,0.91324200913242004,0.25079695573225103,3.2681151324954398]
["SSICSEC201903Grampian",10,463,2.15982721382289,1.17731134557443,3.9296885447524001]
["SSICSEC201903Greater Glasgow & Clyde",3,1367,0.21945866861741001,7.4661853240225604E-2,0.64326208487195302]
["SSICSEC201903Highland",4,216,1.8518518518518501,0.72243517617336495,4.6639885034214004]
["SSICSEC201903Lanarkshire",4,398,1.0050251256281399,0.391502963055743,2.5553298188165199]
["SSICSEC201903Lothian",12,718,1.6713091922005601,0.95858970028024404,2.89843377966328]
["SSICSEC201903Orkney",0,8,0,0,32.441561951087699]
["SSICSEC201903Shetland",0,10,0,0,27.754016876661701]
["SSICSEC201903Tayside",3,311,0.96463022508038598,0.328587192302288,2.7973021437956098]
["SSICSEC201903Western Isles",0,16,0,0,19.361341827272]
["SSIHIP201903Ayrshire & Arran",0,129,0,0,2.8918651988533699]
["SSIHIP201903Borders",1,74,1.35135135135135,0.238940187493933,7.2655304297595702]
["SSIHIP201903Dumfries & Galloway",0,49,0,0,7.2700296735904999]
["SSIHIP201903Fife",2,142,1.40845070422535,0.38709351215819499,4.9896988433837102]
["SSIHIP201903Forth Valley",0,67,0,0,5.42280242117626]
["SSIHIP201903Grampian",2,268,0.74626865671641796,0.204888625696307,2.6797324183234501]
["SSIHIP201903Greater Glasgow & Clyde",4,348,1.14942528735632,0.44786472460608601,2.9177407069290102]
["SSIHIP201903Highland",2,105,1.9047619047619,0.52390722652503796,6.6806910153236698]
["SSIHIP201903Lanarkshire",1,93,1.0752688172042999,0.19005930979555999,5.8420591186484101]
["SSIHIP201903Lothian",1,241,0.4149377593361,7.3282408169576999E-2,2.3125866598319398]
["SSIHIP201903Golden Jubilee",3,439,0.68337129840546695,0.232670331566945,1.98970444081216]
["SSIHIP201903Orkney",0,0,0,0,0]
["SSIHIP201903Shetland",0,0,0,0,0]
["SSIHIP201903Tayside",1,145,0.68965517241379304,0.121841851192856,3.8028673698851199]
["SSIHIP201903Western Isles",0,21,0,0,15.4643823264202]
["SSICSEC201904Ayrshire & Arran",2,251,0.79681274900398402,0.218782882292307,2.8582657628268602]
["SSICSEC201904Borders",0,63,0,0,5.7473190348525502]
["SSICSEC201904Dumfries & Galloway",0,72,0,0,5.0652939811396402]
["SSICSEC201904Fife",5,216,2.31481481481481,0.99269514967384498,5.3034744560786597]
["SSICSEC201904Forth Valley",2,205,0.97560975609756095,0.26795077630589498,3.4868566950025]
["SSICSEC201904Grampian",6,469,1.2793176972281499,0.58759805484635996,2.7626993809122502]
["SSICSEC201904Greater Glasgow & Clyde",4,1306,0.30627871362940301,0.119166375128341,0.78488187009459298]
["SSICSEC201904Highland",3,178,1.68539325842697,0.57480306049524699,4.8373798503458403]
["SSICSEC201904Lanarkshire",5,349,1.4326647564469901,0.61345115171149101,3.30944229395931]
["SSICSEC201904Lothian",6,685,0.87591240875912402,0.40203366292051901,1.8977113002176]
["SSICSEC201904Orkney",0,8,0,0,32.441561951087699]
["SSICSEC201904Shetland",0,9,0,0,29.915275355095901]
["SSICSEC201904Tayside",2,290,0.68965517241379304,0.18932854847483299,2.47932013843675]
["SSICSEC201904Western Isles",0,11,0,0,25.884001724881401]
["SSIHIP201904Ayrshire & Arran",0,150,0,0,2.4971139145718699]
["SSIHIP201904Borders",2,90,2.2222222222222201,0.61153137948636005,7.7446773808075804]
["SSIHIP201904Dumfries & Galloway",0,46,0,0,7.7076177329780702]
["SSIHIP201904Fife",1,127,0.78740157480314998,0.13912762312385901,4.3255074776392002]
["SSIHIP201904Forth Valley",0,55,0,0,6.5287143789427899]
["SSIHIP201904Grampian",1,275,0.36363636363636398,6.4217961201392004E-2,2.0307348722352301]
["SSIHIP201904Greater Glasgow & Clyde",4,319,1.25391849529781,0.48866767268368,3.1792611196404801]
["SSIHIP201904Highland",2,101,1.98019801980198,0.54472082927216703,6.9347529673887003]
["SSIHIP201904Lanarkshire",1,125,0.8,0.14135587198986699,4.3925834767918897]
["SSIHIP201904Lothian",1,236,0.42372881355932202,7.4835815678341605E-2,2.3607716852722902]
["SSIHIP201904Golden Jubilee",1,434,0.230414746543779,4.0684399817946602E-2,1.2934967286997601]
["SSIHIP201904Orkney",0,0,0,0,0]
["SSIHIP201904Shetland",0,0,0,0,0]
["SSIHIP201904Tayside",3,170,1.76470588235294,0.60193332515890796,5.0593123145498797]
["SSIHIP201904Western Isles",1,17,5.8823529411764701,1.0460130645164201,26.9825452035628]
["CDICA201404Scotland",121,1343804.9315068501,9.0042830743535802,7.4713638542387102,10.7590822090151]
["CDICA201501Scotland",92,1319326.0273972601,6.97325741246049,5.6212568208709301,8.5522002106305006]
["CDICA201502Scotland",98,1333985.2054794501,7.3464083107861402,5.9640030525705496,8.9530354090154702]
["CDICA201503Scotland",131,1348644.38356164,9.7134575724136596,8.1212546388577405,11.526497901206101]
["CDICA201504Scotland",116,1348644.38356164,8.6012296061067506,7.1072089948369301,10.3164686898323]
["CDICA201601Scotland",97,1336059.0163934401,7.2601583320654299,5.8873325286802096,8.8568941971088506]
["CDICA201602Scotland",91,1336059.0163934401,6.8110763733809696,5.4836823157691903,8.3626101899426093]
["CDICA201603Scotland",119,1350740.9836065599,8.8099792220906092,7.2981856249808299,10.5425661947433]
["CDICA201604Scotland",94,1350740.9836065599,6.9591432510631703,5.6235288821688902,8.51634480869882]
["CDICA201701Scotland",74,1328597.26027397,5.5697841785960298,4.3732888706588202,6.9924756094724998]
["CDICA201702Scotland",101,1343359.45205479,7.5184642387047598,6.1237495508008699,9.1357310977034594]
["CDICA201703Scotland",107,1358121.64383562,7.87852844299056,6.4564867495037204,9.5205085736872697]
["CDICA201704Scotland",75,1358121.64383562,5.5223330207877801,4.3434808574564903,6.9224110302516504]
["CDICA201801Scotland",86,1329558.90410959,6.4683106355182201,5.1736368273604896,7.9884301684606296]
["CDICA201802Scotland",102,1344331.7808219199,7.5874126800481996,6.1864660265333304,9.2107165763262593]
["CDICA201803Scotland",92,1359104.6575342501,6.7691622929841797,5.4567324078738304,8.3018921808917696]
["CDICA201804Scotland",86,1359104.6575342501,6.3276951869199998,5.0611664615483098,7.8147686430593097]
["CDICA201901Scotland",50,1334268.4931506801,3.7473717064196101,2.7811412653093299,4.94056947492584]
["CDICA201902Scotland",66,1349093.6986301399,4.8921731727763698,3.7834089041430499,6.2241653447200598]
["CDICA201903Scotland",72,1363918.90410959,5.27890622991284,4.1302317979274799,6.64802763886488]
["CDICA201904Scotland",63,1363918.90410959,4.6190429511737303,3.5491995288026001,5.9098834070784303]
["CDICA202001Scotland",46,1344835.7923497299,3.4204919486584902,2.5039911242620998,4.5625840649044598]
["CDICA202002Scotland",80,1344835.7923497299,5.9486816498408501,4.7167539425604499,7.4037681714826498]
["CDICA202003Scotland",90,1359614.2076502701,6.6195248250267102,5.3227102943322304,8.1366356699794995]
["CDICA202004Scotland",56,1359614.2076502701,4.1188154466832803,3.1110960022432899,5.3487475501214599]
["CDICA202101Scotland",49,1334687.6712328801,3.6712708940165601,2.7157937564570198,4.8537421052187604]
["CDICA202102Scotland",74,1349517.53424658,5.4834411648688697,4.3054939743245599,6.8840779771449103]
["CDICA202103Scotland",87,1364347.3972602701,6.3766750443987696,5.1072839484724701,7.8657210483674698]
["CDICA202104Scotland",67,1364347.3972602701,4.9107727353415802,3.80558759520919,6.2366277576306803]
["CDICA202201Scotland",43,1343095.89041096,3.2015584521551101,2.3167355864014998,4.3126063367278196]
["CDICA202202Scotland",66,1358019.17808219,4.8600197305906896,3.7585427321642801,6.1832574836330503]
["CDICA202203Scotland",82,1372942.46575342,5.97257365442485,4.7499901366988899,7.4136548226025099]
["CDICA202204Scotland",44,1372942.46575342,3.2047956194474798,2.3283696923738799,4.3024136005484301]
["CDICA202301Scotland",57,1353723.28767123,4.2106093999502097,3.1888625347895601,5.4554562351212796]
["CDICA202302Scotland",70,1368764.6575342501,5.1141004857694901,3.9865031138303602,6.4614772141401602]
["CDICA202303Scotland",86,1383806.0273972601,6.2147438511850996,4.9708230592001303,7.6752725815996197]
["CDICA202304Scotland",79,1383806.0273972601,5.7088926074839801,4.5196074540258797,7.11509931697488]
["CDICA202401Scotland",93,1379147.2677595599,6.7432972659315302,5.4425466244353196,8.26110842351809]
["CDICA202402Scotland",94,1379147.2677595599,6.8158058386834801,5.5077011072068798,8.3409337295224297]
["CDICA202403Scotland",105,1394302.7322404401,7.5306457896184904,6.1591676146707703,9.1164166026731994]
["CDICA202404Scotland",85,1394302.7322404401,6.0962370677863902,4.8692881973441304,7.5382053372645696]
["CDICA202501Scotland",64,1367728.7671232901,4.6792903343408998,3.6034259588614801,5.9754696702757597]
["CDICA202502Scotland",73,1382925.7534246601,5.2786637185130001,4.1374462958072602,6.6372441693136102]
["CDICA202503Scotland",84,1398122.73972603,6.0080562037393399,4.7920910265484702,7.4384960596920697]
["CDICA202504Scotland",70,1398122.73972603,5.0067135031161198,3.9027936634736902,6.3257977249629596]
["CDICA202601Scotland",73,1367728.7671232901,5.3373155376075898,4.1834179213162299,6.7109913267504302]
["ECBCOM201603Scotland",720,1350740.9836065599,53.304075965590201,49.481031605265201,57.344084326163099]
["ECBCOM201604Scotland",631,1350740.9836065599,46.715099908732498,43.140664126176802,50.506680901597001]
["ECBCOM201701Scotland",570,1328597.26027397,42.902391645942402,39.4520772683384,46.573620710331902]
["ECBCOM201702Scotland",657,1343359.45205479,48.907237671574599,45.238406462079297,52.7943502503093]
["ECBCOM201703Scotland",677,1358121.64383562,49.848259400977703,46.163419122506902,53.748967258267903]
["ECBCOM201704Scotland",656,1358121.64383562,48.302006155157102,44.6758701131224,52.144053050171699]
["ECBCOM201801Scotland",578,1329558.90410959,43.473064503831701,40.0006299696608,47.166232904402101]
["ECBCOM201802Scotland",598,1344331.7808219199,44.483066496753203,40.988654883097098,48.195736142142898]
["ECBCOM201803Scotland",667,1359104.6575342501,49.076426624135301,45.422070452797101,52.946514580180597]
["ECBCOM201804Scotland",603,1359104.6575342501,44.367444159450699,40.896300892444202,48.054461062737197]
["ECBCOM201901Scotland",598,1334268.4931506801,44.818565608778499,41.297798528070302,48.559236861686898]
["ECBCOM201902Scotland",604,1349093.6986301399,44.770796914498902,41.270938676064802,48.488128275985801]
["ECBCOM201903Scotland",606,1363918.90410959,44.430794101766402,40.963134689030802,48.113558059099297]
["ECBCOM201904Scotland",568,1363918.90410959,41.644704702645697,38.289768880343601,45.214839339782799]
["ECBCOM202001Scotland",515,1344835.7923497299,38.2946381208505,35.058140343195198,41.749538873089101]
["ECBCOM202002Scotland",488,1344835.7923497299,36.2869580640292,33.1383401733722,39.654064797547299]
["ECBCOM202003Scotland",614,1359614.2076502701,45.159869361848898,41.657880685473103,48.877624839525801]
["ECBCOM202004Scotland",521,1359614.2076502701,38.319693709321299,35.099370530938799,41.756027938537002]
["ECBCOM202101Scotland",493,1334687.6712328801,36.937480627554301,33.7483433922812,40.346751403385703]
["ECBCOM202102Scotland",570,1349517.53424658,42.237317080746699,38.840489612530199,45.8516346075725]
["ECBCOM202103Scotland",566,1364347.3972602701,41.485035346318398,38.137187081504599,45.048020059243299]
["ECBCOM202104Scotland",549,1364347.3972602701,40.239018383619801,36.942894927927199,43.750323791500797]
["ECBCOM202201Scotland",528,1343095.89041096,39.312159598555802,36.029925321752799,42.813040736559202]
["ECBCOM202202Scotland",529,1358019.17808219,38.953794507310199,35.7044892460681,42.4193410054773]
["ECBCOM202203Scotland",577,1372942.46575342,42.026524373209,38.666785848707804,45.600024325786002]
["ECBCOM202204Scotland",495,1372942.46575342,36.053950718784201,32.947249559016598,39.374645389373001]
["ECBCOM202301Scotland",497,1353723.28767123,36.713559153951898,33.556249247731301,40.087894274502702]
["ECBCOM202302Scotland",502,1368764.6575342501,36.675406340804102,33.536772012922903,40.028665280540899]
["ECBCOM202303Scotland",575,1383806.0273972601,41.552066446877099,38.224605903892503,45.0916153118661]
["ECBCOM202304Scotland",442,1383806.0273972601,31.940892816556001,29.0320871404396,35.0621936086443]
["ECBCOM202401Scotland",504,1379147.2677595599,36.544320666983801,33.422977240966503,39.878666778051198]
["ECBCOM202402Scotland",490,1379147.2677595599,35.529200648456502,32.452488736993999,38.818959233975498]
["ECBCOM202403Scotland",514,1394302.7322404401,36.864304151084802,33.745729664021702,40.193536084187997]
["ECBCOM202404Scotland",494,1394302.7322404401,35.429895429252703,32.373949124276997,38.696560064703903]
["ECBCOM202501Scotland",446,1367728.7671232901,32.608804517438202,29.652202594071401,35.780384387763199]
["ECBCOM202502Scotland",565,1382925.7534246601,40.855410972052702,37.555518380037903,44.367552433578901]
["ECBCOM202503Scotland",575,1398122.73972603,41.126575204168098,37.833187703575,44.629879252136497]
["ECBCOM202504Scotland",447,1398122.73972603,31.9714419413272,29.075796229080201,35.077388531838203]
["ECBCOM202601Scotland",462,1367728.7671232901,33.778627101023403,30.768209776170199,37.003964364371001]
["SABCAUN201404Scotland",119,1343804.9315068501,8.8554519491576595,7.3358552260824199,10.596981673267701]
["SABCAUN201501Scotland",126,1319326.0273972601,9.5503308040219803,7.9555286884905403,11.371000025691499]
["SABCAUN201502Scotland",131,1333985.2054794501,9.8201988644182006,8.2104991953287101,11.653162713307299]
["SABCAUN201503Scotland",113,1348644.38356164,8.3787840128453706,6.9051488517286099,10.073722681837401]
["SABCAUN201504Scotland",104,1348644.38356164,7.7114472330612296,6.3006507683199802,9.3438236422011194]
["SABCAUN201601Scotland",139,1336059.0163934401,10.403732042856699,8.7459952835983703,12.284206859512]
["SABCAUN201602Scotland",121,1336059.0163934401,9.0564861668032695,7.5146797178990798,10.821458897818999]
["SABCAUN201603Scotland",127,1350740.9836065599,9.4022467328193908,7.8380815276735198,11.1870014953604]
["SABCAUN201604Scotland",135,1350740.9836065599,9.9945142435481706,8.3796041881099601,11.8298281583261]
["SABCAUN201701Scotland",142,1328597.26027397,10.6879642346032,9.0022387598341105,12.597614913654899]
["SABCAUN201702Scotland",126,1343359.45205479,9.3794702383841599,7.8131999922854902,11.167566706351501]
["SABCAUN201703Scotland",127,1358121.64383562,9.3511505818672997,7.7954857728190099,11.1262061627818]
["SABCAUN201704Scotland",132,1358121.64383562,9.7193061165864894,8.1319180181736304,11.525967616360401]
["SABCAUN201801Scotland",135,1329558.90410959,10.153743439476299,8.5131051872135206,12.018296950277101]
["SABCAUN201802Scotland",123,1344331.7808219199,9.1495270553522392,7.6040010463167302,10.9167942363737]
["SABCAUN201803Scotland",132,1359104.6575342501,9.7122763334120901,8.1260363616259195,11.517631110415801]
["SABCAUN201804Scotland",113,1359104.6575342501,8.3142971642088295,6.8520037547632802,9.9961908312974597]
["SABCAUN201901Scotland",144,1334268.4931506801,10.792430514488499,9.1015798302590003,12.7062133542575]
["SABCAUN201902Scotland",133,1349093.6986301399,9.8584701815038898,8.2541454663583504,11.683512804425201]
["SABCAUN201903Scotland",102,1363918.90410959,7.4784504923765196,6.0976227145067998,9.0784422595727499]
["SABCAUN201904Scotland",132,1363918.90410959,9.6779947548401992,8.0973537598911793,11.476977141941299]
["SABCAUN202001Scotland",149,1344835.7923497299,11.0794195728286,9.3717365381545399,13.0081842536]
["SABCAUN202002Scotland",132,1344835.7923497299,9.8153247222373992,8.2122545586639095,11.6398345247615]
["SABCAUN202003Scotland",149,1359614.2076502701,10.9589910992109,9.2698698366528607,12.8667909464957]
["SABCAUN202004Scotland",131,1359614.2076502701,9.6350861342055403,8.0557296286997495,11.433498244669201]
["SABCAUN202101Scotland",140,1334687.6712328801,10.489345411475901,8.8236855383735797,12.3779508015002]
["SABCAUN202102Scotland",148,1349517.53424658,10.9668823297377,9.2710855862480095,12.883013036697101]
["SABCAUN202103Scotland",132,1364347.3972602701,9.6749552397774394,8.0948106681304193,11.473372630285599]
["SABCAUN202104Scotland",136,1364347.3972602701,9.9681357015888796,8.36315700412087,11.7912983564536]
["SABCAUN202201Scotland",130,1343095.89041096,9.6791302041898692,8.0867403844691808,11.493293188902101]
["SABCAUN202202Scotland",139,1358019.17808219,10.2354960992743,8.6045661538359397,12.085562265086001]
["SABCAUN202203Scotland",121,1372942.46575342,8.8131879534805808,7.3128014048996199,10.530745527656199]
["SABCAUN202204Scotland",131,1372942.46575342,9.5415505942640895,7.9775261741641703,11.322504070165801]
["SABCAUN202301Scotland",133,1353723.28767123,9.8247552665505005,8.2259171705591392,11.643556438649799]
["SABCAUN202302Scotland",140,1368764.6575342501,10.228200971539,8.6040096360454097,12.069787336305501]
["SABCAUN202303Scotland",140,1383806.0273972601,10.117024874022301,8.5104877921753506,11.9385939956935]
["SABCAUN202304Scotland",137,1383806.0273972601,9.9002314838646299,8.3117567731257296,11.703800809911501]
["SABCAUN202401Scotland",148,1379147.2677595599,10.731268767288899,9.0719046853258902,12.606233136504301]
["SABCAUN202402Scotland",136,1379147.2677595599,9.8611658942654596,8.2734105038596795,11.6647638718677]
["SABCAUN202403Scotland",143,1394302.7322404401,10.2560223610995,8.6438445917136697,12.081553179955201]
["SABCAUN202404Scotland",147,1394302.7322404401,10.542904105465899,8.9073666375217808,12.3917172401631]
["SABCAUN202501Scotland",123,1367728.7671232901,8.9930111113114197,7.4739235685354704,10.7300466213911]
["SABCAUN202502Scotland",156,1382925.7534246601,11.2804320560004,9.5795934920586596,13.196136258380699]
["SABCAUN202503Scotland",126,1398122.73972603,9.0120843056090099,7.50716354308629,10.7301425441156]
["SABCAUN202504Scotland",132,1398122.73972603,9.4412311773046795,7.8992591655741302,11.1962030522405]
["SABCAUN202601Scotland",137,1367728.7671232901,10.016605871948499,8.4094590955361603,11.8413756393211]
["CDIHCAI201404Scotland",321,1711840,18.7517525002337,16.7561995475711,20.9195420267576]
["CDIHCAI201501Scotland",251,1723684,14.5618338396133,12.8158307749499,16.479293980435699]
["CDIHCAI201502Scotland",308,1661417,18.5383922278392,16.525527384076,20.728787910555599]
["CDIHCAI201503Scotland",313,1620901,19.310247818960001,17.229909530660699,21.5725275922305]
["CDIHCAI201504Scotland",367,1642161,22.3486004112873,20.120249491377699,24.756285702777401]
["CDIHCAI201601Scotland",252,1674447,15.0497447814114,13.248709038249499,17.027272160217201]
["CDIHCAI201602Scotland",250,1605104,15.5753147459604,13.7041812471944,17.6305795026624]
["CDIHCAI201603Scotland",263,1587890,16.562860147743201,14.6213274966913,18.690425299607799]
["CDIHCAI201604Scotland",233,1591683,14.638593237472501,12.8190666504976,16.643939086393299]
["CDIHCAI201701Scotland",257,1581339,16.252049687005801,14.3255410739051,18.3654045625855]
["CDIHCAI201702Scotland",237,1550567,15.2847313273145,13.400459994315201,17.3597152108347]
["CDIHCAI201703Scotland",284,1538826,18.455627861759499,16.371286598572201,20.731789227297799]
["CDIHCAI201704Scotland",234,1574967,14.8574541561823,13.0145426193852,16.888148701572302]
["CDIHCAI201801Scotland",228,1585233,14.382743735463499,12.576180094780501,16.375925524902801]
["CDIHCAI201802Scotland",244,1525345,15.996381146560299,14.051943280028899,18.134626540557601]
["CDIHCAI201803Scotland",255,1511620,16.869319008745599,14.8620621034504,19.072055280746302]
["CDIHCAI201804Scotland",220,1522217,14.4526043264528,12.6056784102464,16.493948377017201]
["CDIHCAI201901Scotland",186,1538510,12.0896191769959,10.4144449553373,13.9575164054772]
["CDIHCAI201902Scotland",184,1506284,12.215491899270001,10.5140488537913,14.113806112172799]
["CDIHCAI201903Scotland",207,1506970,13.736172584723001,11.928444782531001,15.7404168617116]
["CDIHCAI201904Scotland",231,1531462,15.0836259730898,13.200956052328101,17.159439604667199]
["CDIHCAI202001Scotland",201,1475950,13.6183475049968,11.800530073168,15.6368777489938]
["CDIHCAI202002Scotland",166,1080949,15.356876226353,13.109395739738799,17.879033927015701]
["CDIHCAI202003Scotland",227,1303983,17.4082024075467,15.216973776434701,19.826310599789402]
["CDIHCAI202004Scotland",222,1357793,16.350062196520401,14.2697666168373,18.648297982754201]
["CDIHCAI202101Scotland",213,1351847,15.7562209332861,13.7110320637737,18.0204071421226]
["CDIHCAI202102Scotland",203,1394168,14.560655530753801,12.626309654355,16.707464361802899]
["CDIHCAI202103Scotland",245,1456339,16.8230061819398,14.782129820797399,19.066864749579601]
["CDIHCAI202104Scotland",197,1493807,13.187781286337501,11.410303292092401,15.163617973657701]
["CDIHCAI202201Scotland",187,1481054,12.626143273641601,10.8811352362983,14.5713382649578]
["CDIHCAI202202Scotland",217,1516331,14.310859568260501,12.4698855900066,16.347035439145198]
["CDIHCAI202203Scotland",202,1545737,13.0681998295958,11.3279853411213,15.000054618632999]
["CDIHCAI202204Scotland",212,1569052,13.5113431549751,11.7535573084542,15.4578201427117]
["CDIHCAI202301Scotland",211,1568908,13.448844674129999,11.695194065925101,15.3912135732237]
["CDIHCAI202302Scotland",244,1544624,15.7967246397829,13.8765559919279,17.908281834612801]
["CDIHCAI202303Scotland",239,1537737,15.5423196554417,13.634062485027499,17.642863734233199]
["CDIHCAI202304Scotland",223,1566090,14.2392838214917,12.431480401477,16.236031286911601]
["CDIHCAI202401Scotland",202,1590711,12.698724029694899,11.007710437174801,14.575959697293801]
["CDIHCAI202402Scotland",266,1558276,17.0701467519233,15.080112447804201,19.249727670085999]
["CDIHCAI202403Scotland",285,1552458,18.3579845638336,16.2882022260094,20.617896249543801]
["CDIHCAI202404Scotland",282,1560286,18.0736095818331,16.025405280239202,20.311008547002601]
["CDIHCAI202501Scotland",208,1552199,13.400343641504699,11.640906094504601,15.3505612144011]
["CDIHCAI202502Scotland",213,1525577,13.961930469586299,12.1496440771697,15.9682751731686]
["CDIHCAI202503Scotland",246,1523323,16.148906042907502,14.193664566437601,18.298196016897698]
["CDIHCAI202504Scotland",221,1534332,14.4036623103735,12.567016873742901,16.433181316457699]
["CDIHCAI202601Scotland",214,1540113,13.895084321734799,12.0955464312414,15.886839072988799]
["ECBHCAI201603Scotland",581,1587890,36.5894362959651,33.6742338547785,39.689455277952]
["ECBHCAI201604Scotland",564,1591683,35.434191355942097,32.569688071346903,38.483108253026799]
["ECBHCAI201701Scotland",547,1581339,34.590938438880002,31.752405019397901,37.615131244936599]
["ECBHCAI201702Scotland",539,1550567,34.761477575622301,31.888313083566299,37.824005578505798]
["ECBHCAI201703Scotland",585,1538826,38.015994011018797,34.997291500195203,41.225396882181002]
["ECBHCAI201704Scotland",531,1574967,33.7149921236445,30.907864248562799,36.708569538526497]
["ECBHCAI201801Scotland",524,1585233,33.055077707819599,30.2849733242812,36.0104416894943]
["ECBHCAI201802Scotland",580,1525345,38.024184692643303,34.992114702026498,41.2486516655567]
["ECBHCAI201803Scotland",606,1511620,40.089440467842401,36.960607675180597,43.412359839628898]
["ECBHCAI201804Scotland",582,1522217,38.233707809070602,35.190064682898097,41.470138762331999]
["ECBHCAI201901Scotland",573,1538510,37.243826819455201,34.256275230108201,40.422144858588503]
["ECBHCAI201902Scotland",584,1506284,38.770909071596101,35.689681459523101,42.0469592242315]
["ECBHCAI201903Scotland",608,1506970,40.3458595725197,37.202092534611197,43.684307805980303]
["ECBHCAI201904Scotland",626,1531462,40.875973416251902,37.736104999217702,44.207372674843498]
["ECBHCAI202001Scotland",538,1475950,36.4510992919814,33.435542980213,39.665595036598503]
["ECBHCAI202002Scotland",429,1080949,39.687348801839903,36.020050803931603,43.6267415981727]
["ECBHCAI202003Scotland",547,1303983,41.9483996340443,38.506112733808401,45.615835503788603]
["ECBHCAI202004Scotland",555,1357793,40.875155491301001,37.544686188243602,44.421829106326001]
["ECBHCAI202101Scotland",468,1351847,34.619302332290601,31.553343864844098,37.902684425723002]
["ECBHCAI202102Scotland",532,1394168,38.158959321975502,34.984747026947701,41.543797561405]
["ECBHCAI202103Scotland",604,1456339,41.473860138333201,38.231732655947503,44.917445948712697]
["ECBHCAI202104Scotland",509,1493807,34.074013577389799,31.177676932375601,37.166989419365301]
["ECBHCAI202201Scotland",452,1481054,30.5188062015295,27.769693936621401,33.466426610186303]
["ECBHCAI202202Scotland",528,1516331,34.820893327380404,31.913641963041002,37.9218119719703]
["ECBHCAI202203Scotland",560,1545737,36.228672794919198,33.289723014643997,39.3575270957814]
["ECBHCAI202204Scotland",549,1569052,34.989280151327002,32.123181731502399,38.042487052199903]
["ECBHCAI202301Scotland",588,1568908,37.478297006580398,34.509735859926003,40.6338955802374]
["ECBHCAI202302Scotland",581,1544624,37.614332031614197,34.6174727284208,40.801184716349901]
["ECBHCAI202303Scotland",580,1537737,37.717763180569897,34.710127414611598,40.916245479427602]
["ECBHCAI202304Scotland",544,1566090,34.736190129558302,31.878056786861301,37.7817978472929]
["ECBHCAI202401Scotland",565,1590711,35.518708300879297,32.649861320483403,38.572079326046698]
["ECBHCAI202402Scotland",614,1558276,39.402519194289098,36.346992728225999,42.646304741919401]
["ECBHCAI202403Scotland",618,1552458,39.807840212102398,36.730687949350397,43.073948968842103]
["ECBHCAI202404Scotland",576,1560286,36.916308933105903,33.962590449651103,40.058124737012797]
["ECBHCAI202501Scotland",604,1552199,38.912536343600301,35.870634695957101,42.143454747427498]
["ECBHCAI202502Scotland",672,1525577,44.048907397004498,40.780903168404301,47.509093452893197]
["ECBHCAI202503Scotland",658,1523323,43.195041366801398,39.957132260412997,46.625442469349501]
["ECBHCAI202504Scotland",625,1534332,40.734339113047199,37.6028980305963,44.056954779385997]
["ECBHCAI202601Scotland",609,1540113,39.542553046432303,36.463859536180898,42.811736161237498]
["SABHCAI201404Scotland",275,1711840,16.064585475278101,14.221734356891901,18.079923253449099]
["SABHCAI201501Scotland",263,1723684,15.258017130750201,13.4694408712509,17.217970015962401]
["SABHCAI201502Scotland",284,1661417,17.093842184111502,15.1632982395958,19.202052398335699]
["SABHCAI201503Scotland",275,1620901,16.965872684389701,15.019630280629,19.094278936334899]
["SABHCAI201504Scotland",303,1642161,18.451296797329899,16.431904955987498,20.6503284168653]
["SABHCAI201601Scotland",279,1674447,16.662217436562599,14.764142641313301,18.7366060952107]
["SABHCAI201602Scotland",260,1605104,16.198327335798801,14.288946770318001,18.291766331782899]
["SABHCAI201603Scotland",273,1587890,17.192626693284801,15.213382364420699,19.357835145734001]
["SABHCAI201604Scotland",265,1591683,16.6490438108593,14.7045569919736,18.779105864827802]
["SABHCAI201701Scotland",259,1581339,16.378524781846298,14.4442974520099,18.499583847519101]
["SABHCAI201702Scotland",248,1550567,15.994149237021,14.065216658010099,18.113705009510799]
["SABHCAI201703Scotland",278,1538826,18.0657202308773,16.004179987641201,20.319120029886498]
["SABHCAI201704Scotland",262,1574967,16.635269183417801,14.6816473607572,18.776457058157]
["SABHCAI201801Scotland",296,1585233,18.6723339723561,16.605434765384899,20.925364725313401]
["SABHCAI201802Scotland",264,1525345,17.307559929065199,15.2824579596286,19.526315148158901]
["SABHCAI201803Scotland",253,1511620,16.7370106243633,14.7378918059204,18.9316243627235]
["SABHCAI201804Scotland",269,1522217,17.671593471889999,15.6226061252238,19.914596049499899]
["SABHCAI201901Scotland",240,1538510,15.5995086154786,13.68809298701,17.7031062037689]
["SABHCAI201902Scotland",251,1506284,16.6635242756346,14.6655228718414,18.8577289311798]
["SABHCAI201903Scotland",264,1506970,17.518596919646701,15.4688021901098,19.764406179066899]
["SABHCAI201904Scotland",233,1531462,15.2142201373589,13.3231451145794,17.2984213103869]
["SABHCAI202001Scotland",241,1475950,16.328466411463801,14.331750215066901,18.5255018052822]
["SABHCAI202002Scotland",219,1080949,20.259975262477699,17.665213476304402,23.1285345977969]
["SABHCAI202003Scotland",224,1303983,17.178138058548299,15.0019285436688,19.581259402870501]
["SABHCAI202004Scotland",256,1357793,18.854125776167599,16.614946144301701,21.310922428740501]
["SABHCAI202101Scotland",248,1351847,18.345271321384701,16.132787806431299,20.776399426475098]
["SABHCAI202102Scotland",260,1394168,18.649115458108302,16.450847829547499,21.059289344046]
["SABHCAI202103Scotland",268,1456339,18.402308803101501,16.264742610496199,20.742674006142298]
["SABHCAI202104Scotland",259,1493807,17.338250523662001,15.2906840632451,19.583596422999801]
["SABHCAI202201Scotland",241,1481054,16.272195341965901,14.2823602177422,18.461659324714802]
["SABHCAI202202Scotland",262,1516331,17.278549340480399,15.2493816316027,19.502536216376502]
["SABHCAI202203Scotland",264,1545737,17.079231460461902,15.0808454714028,19.268715945641699]
["SABHCAI202204Scotland",302,1569052,19.247290720766401,17.137398538685801,21.5451986640992]
["SABHCAI202301Scotland",300,1568908,19.121580105398198,17.018696751573799,21.412508123163999]
["SABHCAI202302Scotland",283,1544624,18.321610955158,16.248862724589699,20.5854657246412]
["SABHCAI202303Scotland",278,1537737,18.0785140762042,16.015513884143999,20.3335096958129]
["SABHCAI202304Scotland",301,1566090,19.2198404944799,17.1095625236171,21.518495646330798]
["SABHCAI202401Scotland",271,1590711,17.036406990333301,15.0681457478236,19.190315915228801]
["SABHCAI202402Scotland",270,1558276,17.326840688042399,15.3214356010792,19.521764523371701]
["SABHCAI202403Scotland",313,1552458,20.161576029754102,17.989522156578499,22.523592616852699]
["SABHCAI202404Scotland",287,1560286,18.394063652433001,16.327235605406901,20.650054528768798]
["SABHCAI202501Scotland",283,1552199,18.2321983199319,16.169565459781101,20.4850050859833]
["SABHCAI202502Scotland",303,1525577,19.8613377102565,17.687624731121002,22.228418469449899]
["SABHCAI202503Scotland",296,1523323,19.4312040191082,17.2803031067183,21.7758011266178]
["SABHCAI202504Scotland",282,1534332,18.379333807806901,16.296483096932899,20.654579505458099]
["SABHCAI202601Scotland",291,1540113,18.894717465536601,16.785841238954099,21.195209043751401]
["SSICSEC201401Scotland",61,3998,1.52576288144072,1.18967693208673,1.9549152976507]
["SSICSEC201402Scotland",58,4103,1.4135998050207199,1.09514363808799,1.82295283780238]
["SSICSEC201403Scotland",58,4563,1.2710935787858899,0.98460159532845903,1.63956649493331]
["SSICSEC201404Scotland",61,4261,1.4315888289134,1.1161441892242401,1.83453046185776]
["SSICSEC201501Scotland",47,3966,1.1850731215330299,0.89238252895644499,1.5722397370805701]
["SSICSEC201502Scotland",56,4358,1.2849931161083099,0.99091176714745399,1.6648838949417]
["SSICSEC201503Scotland",56,4511,1.2414098869430299,0.95726088449706703,1.60853455780594]
["SSICSEC201504Scotland",60,4300,1.3953488372092999,1.0856144775655301,1.79185201655451]
["SSICSEC201601Scotland",58,4023,1.4417101665423799,1.11695255467395,1.85911682933161]
["SSICSEC201602Scotland",78,4448,1.75359712230216,1.4074133929905199,2.1830467887014802]
["SSICSEC201603Scotland",71,4446,1.59694107062528,1.2680390526762499,2.0094169358695]
["SSICSEC201604Scotland",51,4258,1.1977454203851601,0.91218111812317704,1.5712898771385899]
["SSICSEC201701Scotland",58,4047,1.4331603657029901,1.1103192163542499,1.84811786496732]
["SSICSEC201702Scotland",51,4115,1.23936816524909,0.94392116796221404,1.6257722137886199]
["SSICSEC201703Scotland",58,4514,1.28489144882588,0.99530322417147798,1.65732629696977]
["SSICSEC201704Scotland",66,4224,1.5625,1.2300894535240701,1.98293536746261]
["SSICSEC201801Scotland",64,3975,1.61006289308176,1.2629148714924201,2.05065257487187]
["SSICSEC201802Scotland",61,4191,1.4554998806967301,1.1348130681289099,1.86509996791994]
["SSICSEC201803Scotland",66,4293,1.53738644304682,1.21028974525536,1.9511393379112101]
["SSICSEC201804Scotland",59,4346,1.3575701794753801,1.05395623374655,1.7471020852506201]
["SSICSEC201901Scotland",64,4051,1.5798568254751899,1.2391855949695001,2.01227557184896]
["SSICSEC201902Scotland",43,4118,1.0441962117532799,0.77615838092823297,1.40348869721276]
["SSICSEC201903Scotland",51,4408,1.1569872958257701,0.88110307211698902,1.51793138097852]
["SSICSEC201904Scotland",35,4112,0.85116731517509703,0.61265856813335096,1.1814240807227201]
["SSIHIP201401Scotland",16,2106,0.75973409306742601,0.46818248739216201,1.2305990704271501]
["SSIHIP201402Scotland",13,2098,0.61963775023832202,0.36247685390728701,1.05730663501024]
["SSIHIP201403Scotland",16,2125,0.752941176470588,0.46399174659346498,1.21962811502517]
["SSIHIP201404Scotland",12,1974,0.60790273556231,0.34808535644114802,1.05959056664592]
["SSIHIP201501Scotland",18,1959,0.91883614088820798,0.58199146284918302,1.44780044700233]
["SSIHIP201502Scotland",18,2159,0.83371931449745296,0.52801406843203702,1.3140810715911599]
["SSIHIP201503Scotland",10,2135,0.46838407494145201,0.254614773793572,0.86008207893268895]
["SSIHIP201504Scotland",15,2191,0.684618895481515,0.415325625320695,1.1265441843275299]
["SSIHIP201601Scotland",7,2173,0.32213529682466602,0.156127966033444,0.66348150853742005]
["SSIHIP201602Scotland",17,2318,0.733390854184642,0.45839721157295699,1.17141250498996]
["SSIHIP201603Scotland",14,2153,0.65025545750116098,0.38773734408270299,1.0885694927290499]
["SSIHIP201604Scotland",17,2226,0.76370170709793395,0.47736363664666198,1.21968964283292]
["SSIHIP201701Scotland",12,2164,0.55452865064695001,0.31749684784504001,0.966803628721145]
["SSIHIP201702Scotland",19,2301,0.82572794437201202,0.52925880909014,1.2861197401342399]
["SSIHIP201703Scotland",9,2077,0.433317284545017,0.22813566310460101,0.82151655453656802]
["SSIHIP201704Scotland",16,2071,0.77257363592467398,0.47610379083335003,1.25133410129297]
["SSIHIP201801Scotland",17,2008,0.84661354581673298,0.52925264164365005,1.3516906692015001]
["SSIHIP201802Scotland",18,2270,0.79295154185021999,0.50216558454474902,1.2500057188565099]
["SSIHIP201803Scotland",13,2155,0.603248259860789,0.352880399840029,1.0294164764106399]
["SSIHIP201804Scotland",16,2276,0.70298769771529002,0.43317662204866297,1.13893259817085]
["SSIHIP201901Scotland",8,2146,0.372786579683131,0.18901495153524001,0.73391816130432896]
["SSIHIP201902Scotland",10,2257,0.44306601683650898,0.240841980599039,0.81370337100807899]
["SSIHIP201903Scotland",17,2121,0.80150872230080195,0.50102298120602595,1.2798909466839401]
["SSIHIP201904Scotland",17,2145,0.79254079254079302,0.49541068323593801,1.26561255830965]